BEGIN:VCALENDAR
PRODID:-//gdesolutions.com//MV Framework 1.0.0.1607 Calendar//EN
VERSION:2.0
METHOD:PUBLISH
CALSCALE:GREGORIAN
BEGIN:VEVENT
UID:gba6f@games.golnetwork.com
LOCATION:Rutherford Reservoir
GEO:45.509174009003;-73.555226325989
CREATED:20170919T173437Z
DTSTART:20171028T180000Z
DTEND:20171028T184400Z
DTSTAMP:20260421T052639Z
SUMMARY:Pink Pandas vs. Danger Poodles
DESCRIPTION:Danger Poodles vs. Pink PandasMore info: #210
X-ALT-DESC;FMTTYPE=text/html:<!DOCTYPE HTML PUBLIC "-//W3C//DTD HTML 3.2//E
	N">\n<HTML>\n<HEAD>\n<TITLE></TITLE>\n</HEAD>\n<BODY>\n<h3>Danger Poodles v
	s. Pink Pandas</h3>More info: <a href="https://www.golnetwork.com/game/v/11
	0991/">#210</a>\n\n</BODY>\n</HTML>
STATUS:CONFIRMED
CLASS:PUBLIC
URL:https://www.golnetwork.com/game/v/110991/
X-MICROSOFT-CDO-BUSYSTATUS:BUSY
X-MICROSOFT-CDO-IMPORTANCE:1
END:VEVENT
BEGIN:VEVENT
UID:gba4h@games.golnetwork.com
LOCATION:Rutherford Reservoir
GEO:45.509174009003;-73.555226325989
CREATED:20170919T173436Z
DTSTART:20171025T230000Z
DTEND:20171025T234400Z
DTSTAMP:20260421T052639Z
SUMMARY:4Loko FC vs. Danger Poodles
DESCRIPTION:Danger Poodles vs. 4Loko FCMore info: #180
X-ALT-DESC;FMTTYPE=text/html:<!DOCTYPE HTML PUBLIC "-//W3C//DTD HTML 3.2//E
	N">\n<HTML>\n<HEAD>\n<TITLE></TITLE>\n</HEAD>\n<BODY>\n<h3>Danger Poodles v
	s. 4Loko FC</h3>More info: <a href="https://www.golnetwork.com/game/v/11096
	5/">#180</a>\n\n</BODY>\n</HTML>
STATUS:CONFIRMED
CLASS:PUBLIC
URL:https://www.golnetwork.com/game/v/110965/
X-MICROSOFT-CDO-BUSYSTATUS:BUSY
X-MICROSOFT-CDO-IMPORTANCE:1
END:VEVENT
BEGIN:VEVENT
UID:gb9qi@games.golnetwork.com
LOCATION:Rutherford Reservoir
GEO:45.509174009003;-73.555226325989
CREATED:20170919T173436Z
DTSTART:20171014T010000Z
DTEND:20171014T014400Z
DTSTAMP:20260421T052639Z
SUMMARY:Danger Poodles vs. Old Chancellor FC (CRB 2)
DESCRIPTION:Old Chancellor FC (CRB 2) vs. Danger PoodlesMore info: #112
X-ALT-DESC;FMTTYPE=text/html:<!DOCTYPE HTML PUBLIC "-//W3C//DTD HTML 3.2//E
	N">\n<HTML>\n<HEAD>\n<TITLE></TITLE>\n</HEAD>\n<BODY>\n<h3>Old Chancellor F
	C (CRB 2) vs. Danger Poodles</h3>More info: <a href="https://www.golnetwork
	.com/game/v/110898/">#112</a>\n\n</BODY>\n</HTML>
STATUS:CONFIRMED
CLASS:PUBLIC
URL:https://www.golnetwork.com/game/v/110898/
X-MICROSOFT-CDO-BUSYSTATUS:BUSY
X-MICROSOFT-CDO-IMPORTANCE:1
END:VEVENT
BEGIN:VEVENT
UID:gb9o0@games.golnetwork.com
LOCATION:Rutherford Reservoir
GEO:45.509174009003;-73.555226325989
CREATED:20170919T173436Z
DTSTART:20170930T170000Z
DTEND:20170930T174400Z
DTSTAMP:20260421T052639Z
SUMMARY:Danger Poodles vs. Super Soccer Squad
DESCRIPTION:Super Soccer Squad vs. Danger PoodlesMore info: #76
X-ALT-DESC;FMTTYPE=text/html:<!DOCTYPE HTML PUBLIC "-//W3C//DTD HTML 3.2//E
	N">\n<HTML>\n<HEAD>\n<TITLE></TITLE>\n</HEAD>\n<BODY>\n<h3>Super Soccer Squ
	ad vs. Danger Poodles</h3>More info: <a href="https://www.golnetwork.com/ga
	me/v/110862/">#76</a>\n\n</BODY>\n</HTML>
STATUS:CONFIRMED
CLASS:PUBLIC
URL:https://www.golnetwork.com/game/v/110862/
X-MICROSOFT-CDO-BUSYSTATUS:BUSY
X-MICROSOFT-CDO-IMPORTANCE:1
END:VEVENT
BEGIN:VEVENT
UID:gb9ll@games.golnetwork.com
LOCATION:Rutherford Reservoir
GEO:45.509174009003;-73.555226325989
CREATED:20170919T173436Z
DTSTART:20170927T010000Z
DTEND:20170927T014400Z
DTSTAMP:20260421T052639Z
SUMMARY:Danger Poodles vs. Ball Busters (CRB)
DESCRIPTION:Ball Busters (CRB) vs. Danger PoodlesMore info: #46
X-ALT-DESC;FMTTYPE=text/html:<!DOCTYPE HTML PUBLIC "-//W3C//DTD HTML 3.2//E
	N">\n<HTML>\n<HEAD>\n<TITLE></TITLE>\n</HEAD>\n<BODY>\n<h3>Ball Busters (CR
	B) vs. Danger Poodles</h3>More info: <a href="https://www.golnetwork.com/ga
	me/v/110832/">#46</a>\n\n</BODY>\n</HTML>
STATUS:CONFIRMED
CLASS:PUBLIC
URL:https://www.golnetwork.com/game/v/110832/
X-MICROSOFT-CDO-BUSYSTATUS:BUSY
X-MICROSOFT-CDO-IMPORTANCE:1
END:VEVENT
BEGIN:VEVENT
UID:gb9j7@games.golnetwork.com
LOCATION:Molson Stadium
GEO:45.10662;-94.578209
CREATED:20170919T173433Z
DTSTART:20170924T140000Z
DTEND:20170924T144400Z
DTSTAMP:20260421T052639Z
SUMMARY:Going for Bronze vs. Danger Poodles
DESCRIPTION:Danger Poodles vs. Going for BronzeMore info: #12
X-ALT-DESC;FMTTYPE=text/html:<!DOCTYPE HTML PUBLIC "-//W3C//DTD HTML 3.2//E
	N">\n<HTML>\n<HEAD>\n<TITLE></TITLE>\n</HEAD>\n<BODY>\n<h3>Danger Poodles v
	s. Going for Bronze</h3>More info: <a href="https://www.golnetwork.com/game
	/v/110798/">#12</a>\n\n</BODY>\n</HTML>
STATUS:CONFIRMED
CLASS:PUBLIC
URL:https://www.golnetwork.com/game/v/110798/
X-MICROSOFT-CDO-BUSYSTATUS:BUSY
X-MICROSOFT-CDO-IMPORTANCE:1
END:VEVENT
END:VCALENDAR
