BEGIN:VCALENDAR
PRODID:-//gdesolutions.com//MV Framework 1.0.0.1607 Calendar//EN
VERSION:2.0
METHOD:PUBLISH
CALSCALE:GREGORIAN
BEGIN:VEVENT
UID:g9ehe@games.golnetwork.com
LOCATION:Forbes Field
GEO:45.10662;-94.578209
CREATED:20160912T155344Z
DTSTART:20161022T020000Z
DTEND:20161022T024400Z
DTSTAMP:20260420T051600Z
SUMMARY:Rolin Solin FC vs. Danger Noodles
DESCRIPTION:Danger Noodles vs. Rolin Solin FCMore info: #204
X-ALT-DESC;FMTTYPE=text/html:<!DOCTYPE HTML PUBLIC "-//W3C//DTD HTML 3.2//E
	N">\n<HTML>\n<HEAD>\n<TITLE></TITLE>\n</HEAD>\n<BODY>\n<h3>Danger Noodles v
	s. Rolin Solin FC</h3>More info: <a href="https://www.golnetwork.com/game/v
	/92914/">#204</a>\n\n</BODY>\n</HTML>
STATUS:CONFIRMED
CLASS:PUBLIC
URL:https://www.golnetwork.com/game/v/92914/
X-MICROSOFT-CDO-BUSYSTATUS:BUSY
X-MICROSOFT-CDO-IMPORTANCE:1
END:VEVENT
BEGIN:VEVENT
UID:g9ef8@games.golnetwork.com
LOCATION:Molson Stadium
GEO:45.10662;-94.578209
CREATED:20160912T155343Z
DTSTART:20161016T143000Z
DTEND:20161016T151400Z
DTSTAMP:20260420T051600Z
SUMMARY:Rolin Solin FC vs. Old Chancellor FC (CRB 1)
DESCRIPTION:Old Chancellor FC (CRB 1) vs. Rolin Solin FCMore info: #174
X-ALT-DESC;FMTTYPE=text/html:<!DOCTYPE HTML PUBLIC "-//W3C//DTD HTML 3.2//E
	N">\n<HTML>\n<HEAD>\n<TITLE></TITLE>\n</HEAD>\n<BODY>\n<h3>Old Chancellor F
	C (CRB 1) vs. Rolin Solin FC</h3>More info: <a href="https://www.golnetwork
	.com/game/v/92884/">#174</a>\n\n</BODY>\n</HTML>
STATUS:CONFIRMED
CLASS:PUBLIC
URL:https://www.golnetwork.com/game/v/92884/
X-MICROSOFT-CDO-BUSYSTATUS:BUSY
X-MICROSOFT-CDO-IMPORTANCE:1
END:VEVENT
BEGIN:VEVENT
UID:g9e94@games.golnetwork.com
LOCATION:Molson Stadium
GEO:45.10662;-94.578209
CREATED:20160912T155340Z
DTSTART:20160925T210000Z
DTEND:20160925T214400Z
DTSTAMP:20260420T051600Z
SUMMARY:Ball Busters (CRB) vs. Rolin Solin FC
DESCRIPTION:Rolin Solin FC vs. Ball Busters (CRB)More info: #91
X-ALT-DESC;FMTTYPE=text/html:<!DOCTYPE HTML PUBLIC "-//W3C//DTD HTML 3.2//E
	N">\n<HTML>\n<HEAD>\n<TITLE></TITLE>\n</HEAD>\n<BODY>\n<h3>Rolin Solin FC v
	s. Ball Busters (CRB)</h3>More info: <a href="https://www.golnetwork.com/ga
	me/v/92801/">#91</a>\n\n</BODY>\n</HTML>
STATUS:CONFIRMED
CLASS:PUBLIC
URL:https://www.golnetwork.com/game/v/92801/
X-MICROSOFT-CDO-BUSYSTATUS:BUSY
X-MICROSOFT-CDO-IMPORTANCE:1
END:VEVENT
BEGIN:VEVENT
UID:g9e63@games.golnetwork.com
LOCATION:Molson Stadium
GEO:45.10662;-94.578209
CREATED:20160912T155338Z
DTSTART:20160922T220000Z
DTEND:20160922T224400Z
DTSTAMP:20260420T051600Z
SUMMARY:Going for Bronze vs. Rolin Solin FC
DESCRIPTION:Rolin Solin FC vs. Going for BronzeMore info: #50
X-ALT-DESC;FMTTYPE=text/html:<!DOCTYPE HTML PUBLIC "-//W3C//DTD HTML 3.2//E
	N">\n<HTML>\n<HEAD>\n<TITLE></TITLE>\n</HEAD>\n<BODY>\n<h3>Rolin Solin FC v
	s. Going for Bronze</h3>More info: <a href="https://www.golnetwork.com/game
	/v/92760/">#50</a>\n\n</BODY>\n</HTML>
STATUS:CONFIRMED
CLASS:PUBLIC
URL:https://www.golnetwork.com/game/v/92760/
X-MICROSOFT-CDO-BUSYSTATUS:BUSY
X-MICROSOFT-CDO-IMPORTANCE:1
END:VEVENT
BEGIN:VEVENT
UID:g9e3a@games.golnetwork.com
LOCATION:Molson Stadium
GEO:45.10662;-94.578209
CREATED:20160912T155334Z
DTSTART:20160917T170000Z
DTEND:20160917T174400Z
DTSTAMP:20260420T051600Z
SUMMARY:Rolin Solin FC vs. Cuddles Corp.
DESCRIPTION:Cuddles Corp. vs. Rolin Solin FCMore info: #13
X-ALT-DESC;FMTTYPE=text/html:<!DOCTYPE HTML PUBLIC "-//W3C//DTD HTML 3.2//E
	N">\n<HTML>\n<HEAD>\n<TITLE></TITLE>\n</HEAD>\n<BODY>\n<h3>Cuddles Corp. vs
	. Rolin Solin FC</h3>More info: <a href="https://www.golnetwork.com/game/v/
	92723/">#13</a>\n\n</BODY>\n</HTML>
STATUS:CONFIRMED
CLASS:PUBLIC
URL:https://www.golnetwork.com/game/v/92723/
X-MICROSOFT-CDO-BUSYSTATUS:BUSY
X-MICROSOFT-CDO-IMPORTANCE:1
END:VEVENT
END:VCALENDAR
