BEGIN:VCALENDAR
PRODID:-//gdesolutions.com//MV Framework 1.0.0.1607 Calendar//EN
VERSION:2.0
METHOD:PUBLISH
CALSCALE:GREGORIAN
BEGIN:VEVENT
UID:g1mdo@games.golnetwork.com
LOCATION:ArÃ©na BrÃ©beuf
GEO:45.500701904297;-73.624000549316
CREATED:20120616T181342Z
DTSTART:20120521T230000Z
DTEND:20120522T000000Z
DTSTAMP:20260420T145500Z
SUMMARY:Blues vs. Capitals
DESCRIPTION:Capitals vs. BluesPlus d'info : #1
X-ALT-DESC;FMTTYPE=text/html:<!DOCTYPE HTML PUBLIC "-//W3C//DTD HTML 3.2//E
	N">\n<HTML>\n<HEAD>\n<TITLE></TITLE>\n</HEAD>\n<BODY>\n<h3>Capitals vs. Blu
	es</h3>Plus d'info : <a href="https://www.golnetwork.com/game/v/17049/">#1<
	/a>\n\n</BODY>\n</HTML>
STATUS:CONFIRMED
CLASS:PUBLIC
URL:https://www.golnetwork.com/game/v/17049/
X-MICROSOFT-CDO-BUSYSTATUS:BUSY
X-MICROSOFT-CDO-IMPORTANCE:1
END:VEVENT
BEGIN:VEVENT
UID:g1mdq@games.golnetwork.com
LOCATION:ArÃ©na BrÃ©beuf
GEO:45.500701904297;-73.624000549316
CREATED:20120616T181351Z
DTSTART:20120522T230000Z
DTEND:20120523T000000Z
DTSTAMP:20260420T145500Z
SUMMARY:SÃ©nateurs vs. Flyers
DESCRIPTION:Flyers vs. SÃ©nateursPlus d'info : #2
X-ALT-DESC;FMTTYPE=text/html:<!DOCTYPE HTML PUBLIC "-//W3C//DTD HTML 3.2//E
	N">\n<HTML>\n<HEAD>\n<TITLE></TITLE>\n</HEAD>\n<BODY>\n<h3>Flyers vs. SÃ©na
	teurs</h3>Plus d'info : <a href="https://www.golnetwork.com/game/v/17050/">
	#2</a>\n\n</BODY>\n</HTML>
STATUS:CONFIRMED
CLASS:PUBLIC
URL:https://www.golnetwork.com/game/v/17050/
X-MICROSOFT-CDO-BUSYSTATUS:BUSY
X-MICROSOFT-CDO-IMPORTANCE:1
END:VEVENT
BEGIN:VEVENT
UID:g1me1@games.golnetwork.com
LOCATION:ArÃ©na BrÃ©beuf
GEO:45.500701904297;-73.624000549316
CREATED:20120616T181400Z
DTSTART:20120523T230000Z
DTEND:20120524T000000Z
DTSTAMP:20260420T145500Z
SUMMARY:Predators vs. Canadiens
DESCRIPTION:Canadiens vs. PredatorsPlus d'info : #3
X-ALT-DESC;FMTTYPE=text/html:<!DOCTYPE HTML PUBLIC "-//W3C//DTD HTML 3.2//E
	N">\n<HTML>\n<HEAD>\n<TITLE></TITLE>\n</HEAD>\n<BODY>\n<h3>Canadiens vs. Pr
	edators</h3>Plus d'info : <a href="https://www.golnetwork.com/game/v/17051/
	">#3</a>\n\n</BODY>\n</HTML>
STATUS:CONFIRMED
CLASS:PUBLIC
URL:https://www.golnetwork.com/game/v/17051/
X-MICROSOFT-CDO-BUSYSTATUS:BUSY
X-MICROSOFT-CDO-IMPORTANCE:1
END:VEVENT
BEGIN:VEVENT
UID:g1me3@games.golnetwork.com
LOCATION:ArÃ©na BrÃ©beuf
GEO:45.500701904297;-73.624000549316
CREATED:20120616T181411Z
DTSTART:20120524T230000Z
DTEND:20120525T000000Z
DTSTAMP:20260420T145500Z
SUMMARY:Sharks vs. Kings
DESCRIPTION:Kings vs. SharksPlus d'info : #4
X-ALT-DESC;FMTTYPE=text/html:<!DOCTYPE HTML PUBLIC "-//W3C//DTD HTML 3.2//E
	N">\n<HTML>\n<HEAD>\n<TITLE></TITLE>\n</HEAD>\n<BODY>\n<h3>Kings vs. Sharks
	</h3>Plus d'info : <a href="https://www.golnetwork.com/game/v/17052/">#4</a
	>\n\n</BODY>\n</HTML>
STATUS:CONFIRMED
CLASS:PUBLIC
URL:https://www.golnetwork.com/game/v/17052/
X-MICROSOFT-CDO-BUSYSTATUS:BUSY
X-MICROSOFT-CDO-IMPORTANCE:1
END:VEVENT
BEGIN:VEVENT
UID:g1mc7@games.golnetwork.com
LOCATION:ArÃ©na BrÃ©beuf
GEO:45.500701904297;-73.624000549316
CREATED:20120616T013130Z
DTSTART:20120528T230000Z
DTEND:20120529T000000Z
DTSTAMP:20260420T145500Z
SUMMARY:Blues vs. Sharks
DESCRIPTION:Sharks vs. BluesPlus d'info : #5
X-ALT-DESC;FMTTYPE=text/html:<!DOCTYPE HTML PUBLIC "-//W3C//DTD HTML 3.2//E
	N">\n<HTML>\n<HEAD>\n<TITLE></TITLE>\n</HEAD>\n<BODY>\n<h3>Sharks vs. Blues
	</h3>Plus d'info : <a href="https://www.golnetwork.com/game/v/17027/">#5</a
	>\n\n</BODY>\n</HTML>
STATUS:CONFIRMED
CLASS:PUBLIC
URL:https://www.golnetwork.com/game/v/17027/
X-MICROSOFT-CDO-BUSYSTATUS:BUSY
X-MICROSOFT-CDO-IMPORTANCE:1
END:VEVENT
BEGIN:VEVENT
UID:g1mc9@games.golnetwork.com
LOCATION:ArÃ©na BrÃ©beuf
GEO:45.500701904297;-73.624000549316
CREATED:20120616T013153Z
DTSTART:20120529T230000Z
DTEND:20120530T000000Z
DTSTAMP:20260420T145500Z
SUMMARY:Flyers vs. Capitals
DESCRIPTION:Capitals vs. FlyersPlus d'info : #6
X-ALT-DESC;FMTTYPE=text/html:<!DOCTYPE HTML PUBLIC "-//W3C//DTD HTML 3.2//E
	N">\n<HTML>\n<HEAD>\n<TITLE></TITLE>\n</HEAD>\n<BODY>\n<h3>Capitals vs. Fly
	ers</h3>Plus d'info : <a href="https://www.golnetwork.com/game/v/17028/">#6
	</a>\n\n</BODY>\n</HTML>
STATUS:CONFIRMED
CLASS:PUBLIC
URL:https://www.golnetwork.com/game/v/17028/
X-MICROSOFT-CDO-BUSYSTATUS:BUSY
X-MICROSOFT-CDO-IMPORTANCE:1
END:VEVENT
BEGIN:VEVENT
UID:g1mcd@games.golnetwork.com
LOCATION:ArÃ©na BrÃ©beuf
GEO:45.500701904297;-73.624000549316
CREATED:20120616T013215Z
DTSTART:20120530T230000Z
DTEND:20120531T000000Z
DTSTAMP:20260420T145500Z
SUMMARY:SÃ©nateurs vs. Canadiens
DESCRIPTION:Canadiens vs. SÃ©nateursPlus d'info : #7
X-ALT-DESC;FMTTYPE=text/html:<!DOCTYPE HTML PUBLIC "-//W3C//DTD HTML 3.2//E
	N">\n<HTML>\n<HEAD>\n<TITLE></TITLE>\n</HEAD>\n<BODY>\n<h3>Canadiens vs. SÃ
	©nateurs</h3>Plus d'info : <a href="https://www.golnetwork.com/game/v/17030
	/">#7</a>\n\n</BODY>\n</HTML>
STATUS:CONFIRMED
CLASS:PUBLIC
URL:https://www.golnetwork.com/game/v/17030/
X-MICROSOFT-CDO-BUSYSTATUS:BUSY
X-MICROSOFT-CDO-IMPORTANCE:1
END:VEVENT
BEGIN:VEVENT
UID:g1mcf@games.golnetwork.com
LOCATION:ArÃ©na BrÃ©beuf
GEO:45.500701904297;-73.624000549316
CREATED:20120616T013310Z
DTSTART:20120531T230000Z
DTEND:20120601T000000Z
DTSTAMP:20260420T145500Z
SUMMARY:Predators vs. Kings
DESCRIPTION:Kings vs. PredatorsPlus d'info : #8
X-ALT-DESC;FMTTYPE=text/html:<!DOCTYPE HTML PUBLIC "-//W3C//DTD HTML 3.2//E
	N">\n<HTML>\n<HEAD>\n<TITLE></TITLE>\n</HEAD>\n<BODY>\n<h3>Kings vs. Predat
	ors</h3>Plus d'info : <a href="https://www.golnetwork.com/game/v/17031/">#8
	</a>\n\n</BODY>\n</HTML>
STATUS:CONFIRMED
CLASS:PUBLIC
URL:https://www.golnetwork.com/game/v/17031/
X-MICROSOFT-CDO-BUSYSTATUS:BUSY
X-MICROSOFT-CDO-IMPORTANCE:1
END:VEVENT
BEGIN:VEVENT
UID:g1mch@games.golnetwork.com
LOCATION:ArÃ©na BrÃ©beuf
GEO:45.500701904297;-73.624000549316
CREATED:20120616T013335Z
DTSTART:20120604T230000Z
DTEND:20120605T000000Z
DTSTAMP:20260420T145500Z
SUMMARY:Predators vs. Sharks
DESCRIPTION:Sharks vs. PredatorsPlus d'info : #9
X-ALT-DESC;FMTTYPE=text/html:<!DOCTYPE HTML PUBLIC "-//W3C//DTD HTML 3.2//E
	N">\n<HTML>\n<HEAD>\n<TITLE></TITLE>\n</HEAD>\n<BODY>\n<h3>Sharks vs. Preda
	tors</h3>Plus d'info : <a href="https://www.golnetwork.com/game/v/17032/">#
	9</a>\n\n</BODY>\n</HTML>
STATUS:CONFIRMED
CLASS:PUBLIC
URL:https://www.golnetwork.com/game/v/17032/
X-MICROSOFT-CDO-BUSYSTATUS:BUSY
X-MICROSOFT-CDO-IMPORTANCE:1
END:VEVENT
BEGIN:VEVENT
UID:g1mcj@games.golnetwork.com
LOCATION:ArÃ©na BrÃ©beuf
GEO:45.500701904297;-73.624000549316
CREATED:20120616T013342Z
DTSTART:20120605T230000Z
DTEND:20120606T000000Z
DTSTAMP:20260420T145500Z
SUMMARY:Blues vs. Flyers
DESCRIPTION:Flyers vs. BluesPlus d'info : #10
X-ALT-DESC;FMTTYPE=text/html:<!DOCTYPE HTML PUBLIC "-//W3C//DTD HTML 3.2//E
	N">\n<HTML>\n<HEAD>\n<TITLE></TITLE>\n</HEAD>\n<BODY>\n<h3>Flyers vs. Blues
	</h3>Plus d'info : <a href="https://www.golnetwork.com/game/v/17033/">#10</
	a>\n\n</BODY>\n</HTML>
STATUS:CONFIRMED
CLASS:PUBLIC
URL:https://www.golnetwork.com/game/v/17033/
X-MICROSOFT-CDO-BUSYSTATUS:BUSY
X-MICROSOFT-CDO-IMPORTANCE:1
END:VEVENT
BEGIN:VEVENT
UID:g1mcl@games.golnetwork.com
LOCATION:ArÃ©na BrÃ©beuf
GEO:45.500701904297;-73.624000549316
CREATED:20120616T013353Z
DTSTART:20120606T230000Z
DTEND:20120607T000000Z
DTSTAMP:20260420T145500Z
SUMMARY:Capitals vs. Canadiens
DESCRIPTION:Canadiens vs. CapitalsPlus d'info : #11
X-ALT-DESC;FMTTYPE=text/html:<!DOCTYPE HTML PUBLIC "-//W3C//DTD HTML 3.2//E
	N">\n<HTML>\n<HEAD>\n<TITLE></TITLE>\n</HEAD>\n<BODY>\n<h3>Canadiens vs. Ca
	pitals</h3>Plus d'info : <a href="https://www.golnetwork.com/game/v/17034/"
	>#11</a>\n\n</BODY>\n</HTML>
STATUS:CONFIRMED
CLASS:PUBLIC
URL:https://www.golnetwork.com/game/v/17034/
X-MICROSOFT-CDO-BUSYSTATUS:BUSY
X-MICROSOFT-CDO-IMPORTANCE:1
END:VEVENT
BEGIN:VEVENT
UID:g1mcn@games.golnetwork.com
LOCATION:ArÃ©na BrÃ©beuf
GEO:45.500701904297;-73.624000549316
CREATED:20120616T013414Z
DTSTART:20120607T230000Z
DTEND:20120608T000000Z
DTSTAMP:20260420T145500Z
SUMMARY:SÃ©nateurs vs. Kings
DESCRIPTION:Kings vs. SÃ©nateursPlus d'info : #12
X-ALT-DESC;FMTTYPE=text/html:<!DOCTYPE HTML PUBLIC "-//W3C//DTD HTML 3.2//E
	N">\n<HTML>\n<HEAD>\n<TITLE></TITLE>\n</HEAD>\n<BODY>\n<h3>Kings vs. SÃ©nat
	eurs</h3>Plus d'info : <a href="https://www.golnetwork.com/game/v/17035/">#
	12</a>\n\n</BODY>\n</HTML>
STATUS:CONFIRMED
CLASS:PUBLIC
URL:https://www.golnetwork.com/game/v/17035/
X-MICROSOFT-CDO-BUSYSTATUS:BUSY
X-MICROSOFT-CDO-IMPORTANCE:1
END:VEVENT
BEGIN:VEVENT
UID:g1mcp@games.golnetwork.com
LOCATION:ArÃ©na BrÃ©beuf
GEO:45.500701904297;-73.624000549316
CREATED:20120616T013450Z
DTSTART:20120611T230000Z
DTEND:20120612T000000Z
DTSTAMP:20260420T145500Z
SUMMARY:SÃ©nateurs vs. Capitals
DESCRIPTION:Capitals vs. SÃ©nateursPlus d'info : #13
X-ALT-DESC;FMTTYPE=text/html:<!DOCTYPE HTML PUBLIC "-//W3C//DTD HTML 3.2//E
	N">\n<HTML>\n<HEAD>\n<TITLE></TITLE>\n</HEAD>\n<BODY>\n<h3>Capitals vs. SÃ©
	nateurs</h3>Plus d'info : <a href="https://www.golnetwork.com/game/v/17036/
	">#13</a>\n\n</BODY>\n</HTML>
STATUS:CONFIRMED
CLASS:PUBLIC
URL:https://www.golnetwork.com/game/v/17036/
X-MICROSOFT-CDO-BUSYSTATUS:BUSY
X-MICROSOFT-CDO-IMPORTANCE:1
END:VEVENT
BEGIN:VEVENT
UID:g1md0@games.golnetwork.com
LOCATION:ArÃ©na BrÃ©beuf
GEO:45.500701904297;-73.624000549316
CREATED:20120616T013502Z
DTSTART:20120612T230000Z
DTEND:20120613T000000Z
DTSTAMP:20260420T145500Z
SUMMARY:Blues vs. Predators
DESCRIPTION:Predators vs. BluesPlus d'info : #14
X-ALT-DESC;FMTTYPE=text/html:<!DOCTYPE HTML PUBLIC "-//W3C//DTD HTML 3.2//E
	N">\n<HTML>\n<HEAD>\n<TITLE></TITLE>\n</HEAD>\n<BODY>\n<h3>Predators vs. Bl
	ues</h3>Plus d'info : <a href="https://www.golnetwork.com/game/v/17037/">#1
	4</a>\n\n</BODY>\n</HTML>
STATUS:CONFIRMED
CLASS:PUBLIC
URL:https://www.golnetwork.com/game/v/17037/
X-MICROSOFT-CDO-BUSYSTATUS:BUSY
X-MICROSOFT-CDO-IMPORTANCE:1
END:VEVENT
BEGIN:VEVENT
UID:g1md2@games.golnetwork.com
LOCATION:ArÃ©na BrÃ©beuf
GEO:45.500701904297;-73.624000549316
CREATED:20120616T013516Z
DTSTART:20120613T230000Z
DTEND:20120614T000000Z
DTSTAMP:20260420T145500Z
SUMMARY:Sharks vs. Canadiens
DESCRIPTION:Canadiens vs. SharksPlus d'info : #15
X-ALT-DESC;FMTTYPE=text/html:<!DOCTYPE HTML PUBLIC "-//W3C//DTD HTML 3.2//E
	N">\n<HTML>\n<HEAD>\n<TITLE></TITLE>\n</HEAD>\n<BODY>\n<h3>Canadiens vs. Sh
	arks</h3>Plus d'info : <a href="https://www.golnetwork.com/game/v/17038/">#
	15</a>\n\n</BODY>\n</HTML>
STATUS:CONFIRMED
CLASS:PUBLIC
URL:https://www.golnetwork.com/game/v/17038/
X-MICROSOFT-CDO-BUSYSTATUS:BUSY
X-MICROSOFT-CDO-IMPORTANCE:1
END:VEVENT
BEGIN:VEVENT
UID:g1md4@games.golnetwork.com
LOCATION:ArÃ©na BrÃ©beuf
GEO:45.500701904297;-73.624000549316
CREATED:20120616T013537Z
DTSTART:20120614T230000Z
DTEND:20120615T000000Z
DTSTAMP:20260420T145500Z
SUMMARY:Flyers vs. Kings
DESCRIPTION:Kings vs. FlyersPlus d'info : #16
X-ALT-DESC;FMTTYPE=text/html:<!DOCTYPE HTML PUBLIC "-//W3C//DTD HTML 3.2//E
	N">\n<HTML>\n<HEAD>\n<TITLE></TITLE>\n</HEAD>\n<BODY>\n<h3>Kings vs. Flyers
	</h3>Plus d'info : <a href="https://www.golnetwork.com/game/v/17039/">#16</
	a>\n\n</BODY>\n</HTML>
STATUS:CONFIRMED
CLASS:PUBLIC
URL:https://www.golnetwork.com/game/v/17039/
X-MICROSOFT-CDO-BUSYSTATUS:BUSY
X-MICROSOFT-CDO-IMPORTANCE:1
END:VEVENT
BEGIN:VEVENT
UID:g1md6@games.golnetwork.com
LOCATION:ArÃ©na BrÃ©beuf
GEO:45.500701904297;-73.624000549316
CREATED:20120616T013611Z
DTSTART:20120618T230000Z
DTEND:20120619T000000Z
DTSTAMP:20260420T145500Z
SUMMARY:Predators vs. Capitals
DESCRIPTION:Capitals vs. PredatorsPlus d'info : #17
X-ALT-DESC;FMTTYPE=text/html:<!DOCTYPE HTML PUBLIC "-//W3C//DTD HTML 3.2//E
	N">\n<HTML>\n<HEAD>\n<TITLE></TITLE>\n</HEAD>\n<BODY>\n<h3>Capitals vs. Pre
	dators</h3>Plus d'info : <a href="https://www.golnetwork.com/game/v/17040/"
	>#17</a>\n\n</BODY>\n</HTML>
STATUS:CONFIRMED
CLASS:PUBLIC
URL:https://www.golnetwork.com/game/v/17040/
X-MICROSOFT-CDO-BUSYSTATUS:BUSY
X-MICROSOFT-CDO-IMPORTANCE:1
END:VEVENT
BEGIN:VEVENT
UID:g1md8@games.golnetwork.com
LOCATION:ArÃ©na BrÃ©beuf
GEO:45.500701904297;-73.624000549316
CREATED:20120616T013622Z
DTSTART:20120619T210000Z
DTEND:20120619T220000Z
DTSTAMP:20260420T145500Z
SUMMARY:Canadiens vs. Flyers
DESCRIPTION:Flyers vs. CanadiensPlus d'info : #18
X-ALT-DESC;FMTTYPE=text/html:<!DOCTYPE HTML PUBLIC "-//W3C//DTD HTML 3.2//E
	N">\n<HTML>\n<HEAD>\n<TITLE></TITLE>\n</HEAD>\n<BODY>\n<h3>Flyers vs. Canad
	iens</h3>Plus d'info : <a href="https://www.golnetwork.com/game/v/17041/">#
	18</a>\n\n</BODY>\n</HTML>
STATUS:CONFIRMED
CLASS:PUBLIC
URL:https://www.golnetwork.com/game/v/17041/
X-MICROSOFT-CDO-BUSYSTATUS:BUSY
X-MICROSOFT-CDO-IMPORTANCE:1
END:VEVENT
BEGIN:VEVENT
UID:g1mda@games.golnetwork.com
LOCATION:ArÃ©na BrÃ©beuf
GEO:45.500701904297;-73.624000549316
CREATED:20120616T013632Z
DTSTART:20120620T230000Z
DTEND:20120621T000000Z
DTSTAMP:20260420T145500Z
SUMMARY:SÃ©nateurs vs. Sharks
DESCRIPTION:Sharks vs. SÃ©nateursPlus d'info : #19
X-ALT-DESC;FMTTYPE=text/html:<!DOCTYPE HTML PUBLIC "-//W3C//DTD HTML 3.2//E
	N">\n<HTML>\n<HEAD>\n<TITLE></TITLE>\n</HEAD>\n<BODY>\n<h3>Sharks vs. SÃ©na
	teurs</h3>Plus d'info : <a href="https://www.golnetwork.com/game/v/17042/">
	#19</a>\n\n</BODY>\n</HTML>
STATUS:CONFIRMED
CLASS:PUBLIC
URL:https://www.golnetwork.com/game/v/17042/
X-MICROSOFT-CDO-BUSYSTATUS:BUSY
X-MICROSOFT-CDO-IMPORTANCE:1
END:VEVENT
BEGIN:VEVENT
UID:g1mdc@games.golnetwork.com
LOCATION:ArÃ©na BrÃ©beuf
GEO:45.500701904297;-73.624000549316
CREATED:20120616T013642Z
DTSTART:20120621T230000Z
DTEND:20120622T000000Z
DTSTAMP:20260420T145500Z
SUMMARY:Blues vs. Kings
DESCRIPTION:Kings vs. BluesPlus d'info : #20
X-ALT-DESC;FMTTYPE=text/html:<!DOCTYPE HTML PUBLIC "-//W3C//DTD HTML 3.2//E
	N">\n<HTML>\n<HEAD>\n<TITLE></TITLE>\n</HEAD>\n<BODY>\n<h3>Kings vs. Blues<
	/h3>Plus d'info : <a href="https://www.golnetwork.com/game/v/17043/">#20</a
	>\n\n</BODY>\n</HTML>
STATUS:CONFIRMED
CLASS:PUBLIC
URL:https://www.golnetwork.com/game/v/17043/
X-MICROSOFT-CDO-BUSYSTATUS:BUSY
X-MICROSOFT-CDO-IMPORTANCE:1
END:VEVENT
BEGIN:VEVENT
UID:g1mde@games.golnetwork.com
LOCATION:ArÃ©na BrÃ©beuf
GEO:45.500701904297;-73.624000549316
CREATED:20120616T013656Z
DTSTART:20120625T230000Z
DTEND:20120626T000000Z
DTSTAMP:20260420T145500Z
SUMMARY:Capitals vs. Sharks
DESCRIPTION:Sharks vs. CapitalsPlus d'info : #21
X-ALT-DESC;FMTTYPE=text/html:<!DOCTYPE HTML PUBLIC "-//W3C//DTD HTML 3.2//E
	N">\n<HTML>\n<HEAD>\n<TITLE></TITLE>\n</HEAD>\n<BODY>\n<h3>Sharks vs. Capit
	als</h3>Plus d'info : <a href="https://www.golnetwork.com/game/v/17044/">#2
	1</a>\n\n</BODY>\n</HTML>
STATUS:CONFIRMED
CLASS:PUBLIC
URL:https://www.golnetwork.com/game/v/17044/
X-MICROSOFT-CDO-BUSYSTATUS:BUSY
X-MICROSOFT-CDO-IMPORTANCE:1
END:VEVENT
BEGIN:VEVENT
UID:g1mdi@games.golnetwork.com
LOCATION:ArÃ©na BrÃ©beuf
GEO:45.500701904297;-73.624000549316
CREATED:20120616T013802Z
DTSTART:20120626T230000Z
DTEND:20120627T000000Z
DTSTAMP:20260420T145500Z
SUMMARY:Blues vs. SÃ©nateurs
DESCRIPTION:SÃ©nateurs vs. BluesPlus d'info : #22
X-ALT-DESC;FMTTYPE=text/html:<!DOCTYPE HTML PUBLIC "-//W3C//DTD HTML 3.2//E
	N">\n<HTML>\n<HEAD>\n<TITLE></TITLE>\n</HEAD>\n<BODY>\n<h3>SÃ©nateurs vs. B
	lues</h3>Plus d'info : <a href="https://www.golnetwork.com/game/v/17046/">#
	22</a>\n\n</BODY>\n</HTML>
STATUS:CONFIRMED
CLASS:PUBLIC
URL:https://www.golnetwork.com/game/v/17046/
X-MICROSOFT-CDO-BUSYSTATUS:BUSY
X-MICROSOFT-CDO-IMPORTANCE:1
END:VEVENT
BEGIN:VEVENT
UID:g1mdk@games.golnetwork.com
LOCATION:ArÃ©na BrÃ©beuf
GEO:45.500701904297;-73.624000549316
CREATED:20120616T013810Z
DTSTART:20120627T230000Z
DTEND:20120628T000000Z
DTSTAMP:20260420T145500Z
SUMMARY:Flyers vs. Predators
DESCRIPTION:Predators vs. FlyersPlus d'info : #23
X-ALT-DESC;FMTTYPE=text/html:<!DOCTYPE HTML PUBLIC "-//W3C//DTD HTML 3.2//E
	N">\n<HTML>\n<HEAD>\n<TITLE></TITLE>\n</HEAD>\n<BODY>\n<h3>Predators vs. Fl
	yers</h3>Plus d'info : <a href="https://www.golnetwork.com/game/v/17047/">#
	23</a>\n\n</BODY>\n</HTML>
STATUS:CONFIRMED
CLASS:PUBLIC
URL:https://www.golnetwork.com/game/v/17047/
X-MICROSOFT-CDO-BUSYSTATUS:BUSY
X-MICROSOFT-CDO-IMPORTANCE:1
END:VEVENT
BEGIN:VEVENT
UID:g1mdm@games.golnetwork.com
LOCATION:ArÃ©na BrÃ©beuf
GEO:45.500701904297;-73.624000549316
CREATED:20120616T013820Z
DTSTART:20120628T230000Z
DTEND:20120629T000000Z
DTSTAMP:20260420T145500Z
SUMMARY:Canadiens vs. Kings
DESCRIPTION:Kings vs. CanadiensPlus d'info : #24
X-ALT-DESC;FMTTYPE=text/html:<!DOCTYPE HTML PUBLIC "-//W3C//DTD HTML 3.2//E
	N">\n<HTML>\n<HEAD>\n<TITLE></TITLE>\n</HEAD>\n<BODY>\n<h3>Kings vs. Canadi
	ens</h3>Plus d'info : <a href="https://www.golnetwork.com/game/v/17048/">#2
	4</a>\n\n</BODY>\n</HTML>
STATUS:CONFIRMED
CLASS:PUBLIC
URL:https://www.golnetwork.com/game/v/17048/
X-MICROSOFT-CDO-BUSYSTATUS:BUSY
X-MICROSOFT-CDO-IMPORTANCE:1
END:VEVENT
END:VCALENDAR
