BEGIN:VCALENDAR
PRODID:-//gdesolutions.com//MV Framework 1.0.0.1607 Calendar//EN
VERSION:2.0
METHOD:PUBLISH
CALSCALE:GREGORIAN
BEGIN:VEVENT
UID:g1mfc@games.golnetwork.com
LOCATION:TBD
CREATED:20120621T204449Z
DTSTART:20120428T140000Z
DTEND:20120428T150000Z
DTSTAMP:20260420T165625Z
SUMMARY:Brokebat Mountain vs. Sons of Pitches
DESCRIPTION:Sons of Pitches vs. Brokebat MountainPlus d'info : #1
X-ALT-DESC;FMTTYPE=text/html:<!DOCTYPE HTML PUBLIC "-//W3C//DTD HTML 3.2//E
	N">\n<HTML>\n<HEAD>\n<TITLE></TITLE>\n</HEAD>\n<BODY>\n<h3>Sons of Pitches 
	vs. Brokebat Mountain</h3>Plus d'info : <a href="https://www.golnetwork.com
	/game/v/17070/">#1</a>\n\n</BODY>\n</HTML>
STATUS:CONFIRMED
CLASS:PUBLIC
URL:https://www.golnetwork.com/game/v/17070/
X-MICROSOFT-CDO-BUSYSTATUS:BUSY
X-MICROSOFT-CDO-IMPORTANCE:1
END:VEVENT
BEGIN:VEVENT
UID:g1mfe@games.golnetwork.com
LOCATION:TBD
CREATED:20120621T204449Z
DTSTART:20120428T150000Z
DTEND:20120428T160000Z
DTSTAMP:20260420T165625Z
SUMMARY:Ball Busters vs. STAT CITY
DESCRIPTION:STAT CITY vs. Ball BustersPlus d'info : #2
X-ALT-DESC;FMTTYPE=text/html:<!DOCTYPE HTML PUBLIC "-//W3C//DTD HTML 3.2//E
	N">\n<HTML>\n<HEAD>\n<TITLE></TITLE>\n</HEAD>\n<BODY>\n<h3>STAT CITY vs. Ba
	ll Busters</h3>Plus d'info : <a href="https://www.golnetwork.com/game/v/170
	71/">#2</a>\n\n</BODY>\n</HTML>
STATUS:CONFIRMED
CLASS:PUBLIC
URL:https://www.golnetwork.com/game/v/17071/
X-MICROSOFT-CDO-BUSYSTATUS:BUSY
X-MICROSOFT-CDO-IMPORTANCE:1
END:VEVENT
BEGIN:VEVENT
UID:g1mfg@games.golnetwork.com
LOCATION:TBD
CREATED:20120621T204449Z
DTSTART:20120428T170000Z
DTEND:20120428T180000Z
DTSTAMP:20260420T165625Z
SUMMARY:Irates with a P vs. Medemerge
DESCRIPTION:Medemerge vs. Irates with a PPlus d'info : #3
X-ALT-DESC;FMTTYPE=text/html:<!DOCTYPE HTML PUBLIC "-//W3C//DTD HTML 3.2//E
	N">\n<HTML>\n<HEAD>\n<TITLE></TITLE>\n</HEAD>\n<BODY>\n<h3>Medemerge vs. Ir
	ates with a P</h3>Plus d'info : <a href="https://www.golnetwork.com/game/v/
	17072/">#3</a>\n\n</BODY>\n</HTML>
STATUS:CONFIRMED
CLASS:PUBLIC
URL:https://www.golnetwork.com/game/v/17072/
X-MICROSOFT-CDO-BUSYSTATUS:BUSY
X-MICROSOFT-CDO-IMPORTANCE:1
END:VEVENT
BEGIN:VEVENT
UID:g1mfi@games.golnetwork.com
LOCATION:TBD
CREATED:20120621T204449Z
DTSTART:20120505T140000Z
DTEND:20120505T150000Z
DTSTAMP:20260420T165625Z
SUMMARY:Brokebat Mountain vs. Irates with a P
DESCRIPTION:Irates with a P vs. Brokebat MountainPlus d'info : #4
X-ALT-DESC;FMTTYPE=text/html:<!DOCTYPE HTML PUBLIC "-//W3C//DTD HTML 3.2//E
	N">\n<HTML>\n<HEAD>\n<TITLE></TITLE>\n</HEAD>\n<BODY>\n<h3>Irates with a P 
	vs. Brokebat Mountain</h3>Plus d'info : <a href="https://www.golnetwork.com
	/game/v/17073/">#4</a>\n\n</BODY>\n</HTML>
STATUS:CONFIRMED
CLASS:PUBLIC
URL:https://www.golnetwork.com/game/v/17073/
X-MICROSOFT-CDO-BUSYSTATUS:BUSY
X-MICROSOFT-CDO-IMPORTANCE:1
END:VEVENT
BEGIN:VEVENT
UID:g1mfk@games.golnetwork.com
LOCATION:TBD
CREATED:20120621T204449Z
DTSTART:20120505T150000Z
DTEND:20120505T160000Z
DTSTAMP:20260420T165625Z
SUMMARY:Ball Busters vs. Sons of Pitches
DESCRIPTION:Sons of Pitches vs. Ball BustersPlus d'info : #5
X-ALT-DESC;FMTTYPE=text/html:<!DOCTYPE HTML PUBLIC "-//W3C//DTD HTML 3.2//E
	N">\n<HTML>\n<HEAD>\n<TITLE></TITLE>\n</HEAD>\n<BODY>\n<h3>Sons of Pitches 
	vs. Ball Busters</h3>Plus d'info : <a href="https://www.golnetwork.com/game
	/v/17074/">#5</a>\n\n</BODY>\n</HTML>
STATUS:CONFIRMED
CLASS:PUBLIC
URL:https://www.golnetwork.com/game/v/17074/
X-MICROSOFT-CDO-BUSYSTATUS:BUSY
X-MICROSOFT-CDO-IMPORTANCE:1
END:VEVENT
BEGIN:VEVENT
UID:g1mfm@games.golnetwork.com
LOCATION:TBD
CREATED:20120621T204449Z
DTSTART:20120512T140000Z
DTEND:20120512T150000Z
DTSTAMP:20260420T165625Z
SUMMARY:STAT CITY vs. Brokebat Mountain
DESCRIPTION:Brokebat Mountain vs. STAT CITYPlus d'info : #6
X-ALT-DESC;FMTTYPE=text/html:<!DOCTYPE HTML PUBLIC "-//W3C//DTD HTML 3.2//E
	N">\n<HTML>\n<HEAD>\n<TITLE></TITLE>\n</HEAD>\n<BODY>\n<h3>Brokebat Mountai
	n vs. STAT CITY</h3>Plus d'info : <a href="https://www.golnetwork.com/game/
	v/17075/">#6</a>\n\n</BODY>\n</HTML>
STATUS:CONFIRMED
CLASS:PUBLIC
URL:https://www.golnetwork.com/game/v/17075/
X-MICROSOFT-CDO-BUSYSTATUS:BUSY
X-MICROSOFT-CDO-IMPORTANCE:1
END:VEVENT
BEGIN:VEVENT
UID:g1mfo@games.golnetwork.com
LOCATION:TBD
CREATED:20120621T204449Z
DTSTART:20120512T150000Z
DTEND:20120512T160000Z
DTSTAMP:20260420T165625Z
SUMMARY:STAT CITY vs. Medemerge
DESCRIPTION:Medemerge vs. STAT CITYPlus d'info : #7
X-ALT-DESC;FMTTYPE=text/html:<!DOCTYPE HTML PUBLIC "-//W3C//DTD HTML 3.2//E
	N">\n<HTML>\n<HEAD>\n<TITLE></TITLE>\n</HEAD>\n<BODY>\n<h3>Medemerge vs. ST
	AT CITY</h3>Plus d'info : <a href="https://www.golnetwork.com/game/v/17076/
	">#7</a>\n\n</BODY>\n</HTML>
STATUS:CONFIRMED
CLASS:PUBLIC
URL:https://www.golnetwork.com/game/v/17076/
X-MICROSOFT-CDO-BUSYSTATUS:BUSY
X-MICROSOFT-CDO-IMPORTANCE:1
END:VEVENT
BEGIN:VEVENT
UID:g1mfq@games.golnetwork.com
LOCATION:TBD
CREATED:20120621T204449Z
DTSTART:20120512T170000Z
DTEND:20120512T180000Z
DTSTAMP:20260420T165625Z
SUMMARY:Ball Busters vs. Medemerge
DESCRIPTION:Medemerge vs. Ball BustersPlus d'info : #8
X-ALT-DESC;FMTTYPE=text/html:<!DOCTYPE HTML PUBLIC "-//W3C//DTD HTML 3.2//E
	N">\n<HTML>\n<HEAD>\n<TITLE></TITLE>\n</HEAD>\n<BODY>\n<h3>Medemerge vs. Ba
	ll Busters</h3>Plus d'info : <a href="https://www.golnetwork.com/game/v/170
	77/">#8</a>\n\n</BODY>\n</HTML>
STATUS:CONFIRMED
CLASS:PUBLIC
URL:https://www.golnetwork.com/game/v/17077/
X-MICROSOFT-CDO-BUSYSTATUS:BUSY
X-MICROSOFT-CDO-IMPORTANCE:1
END:VEVENT
BEGIN:VEVENT
UID:g1mgp@games.golnetwork.com
LOCATION:TBD
CREATED:20120621T204917Z
DTSTART:20120512T180000Z
DTEND:20120512T185600Z
DTSTAMP:20260420T165625Z
SUMMARY:Irates with a P vs. Sons of Pitches
DESCRIPTION:Sons of Pitches vs. Irates with a PPlus d'info : #9
X-ALT-DESC;FMTTYPE=text/html:<!DOCTYPE HTML PUBLIC "-//W3C//DTD HTML 3.2//E
	N">\n<HTML>\n<HEAD>\n<TITLE></TITLE>\n</HEAD>\n<BODY>\n<h3>Sons of Pitches 
	vs. Irates with a P</h3>Plus d'info : <a href="https://www.golnetwork.com/g
	ame/v/17090/">#9</a>\n\n</BODY>\n</HTML>
STATUS:CONFIRMED
CLASS:PUBLIC
URL:https://www.golnetwork.com/game/v/17090/
X-MICROSOFT-CDO-BUSYSTATUS:BUSY
X-MICROSOFT-CDO-IMPORTANCE:1
END:VEVENT
BEGIN:VEVENT
UID:g1mg1@games.golnetwork.com
LOCATION:TBD
CREATED:20120621T204449Z
DTSTART:20120519T140000Z
DTEND:20120519T150000Z
DTSTAMP:20260420T165625Z
SUMMARY:Ball Busters vs. Irates with a P
DESCRIPTION:Irates with a P vs. Ball BustersPlus d'info : #10
X-ALT-DESC;FMTTYPE=text/html:<!DOCTYPE HTML PUBLIC "-//W3C//DTD HTML 3.2//E
	N">\n<HTML>\n<HEAD>\n<TITLE></TITLE>\n</HEAD>\n<BODY>\n<h3>Irates with a P 
	vs. Ball Busters</h3>Plus d'info : <a href="https://www.golnetwork.com/game
	/v/17078/">#10</a>\n\n</BODY>\n</HTML>
STATUS:CONFIRMED
CLASS:PUBLIC
URL:https://www.golnetwork.com/game/v/17078/
X-MICROSOFT-CDO-BUSYSTATUS:BUSY
X-MICROSOFT-CDO-IMPORTANCE:1
END:VEVENT
BEGIN:VEVENT
UID:g1mg3@games.golnetwork.com
LOCATION:TBD
CREATED:20120621T204449Z
DTSTART:20120519T150000Z
DTEND:20120519T160000Z
DTSTAMP:20260420T165625Z
SUMMARY:Medemerge vs. Brokebat Mountain
DESCRIPTION:Brokebat Mountain vs. MedemergePlus d'info : #11
X-ALT-DESC;FMTTYPE=text/html:<!DOCTYPE HTML PUBLIC "-//W3C//DTD HTML 3.2//E
	N">\n<HTML>\n<HEAD>\n<TITLE></TITLE>\n</HEAD>\n<BODY>\n<h3>Brokebat Mountai
	n vs. Medemerge</h3>Plus d'info : <a href="https://www.golnetwork.com/game/
	v/17079/">#11</a>\n\n</BODY>\n</HTML>
STATUS:CONFIRMED
CLASS:PUBLIC
URL:https://www.golnetwork.com/game/v/17079/
X-MICROSOFT-CDO-BUSYSTATUS:BUSY
X-MICROSOFT-CDO-IMPORTANCE:1
END:VEVENT
BEGIN:VEVENT
UID:g1mg5@games.golnetwork.com
LOCATION:TBD
CREATED:20120621T204449Z
DTSTART:20120519T170000Z
DTEND:20120519T180000Z
DTSTAMP:20260420T165625Z
SUMMARY:Sons of Pitches vs. STAT CITY
DESCRIPTION:STAT CITY vs. Sons of PitchesPlus d'info : #12
X-ALT-DESC;FMTTYPE=text/html:<!DOCTYPE HTML PUBLIC "-//W3C//DTD HTML 3.2//E
	N">\n<HTML>\n<HEAD>\n<TITLE></TITLE>\n</HEAD>\n<BODY>\n<h3>STAT CITY vs. So
	ns of Pitches</h3>Plus d'info : <a href="https://www.golnetwork.com/game/v/
	17080/">#12</a>\n\n</BODY>\n</HTML>
STATUS:CONFIRMED
CLASS:PUBLIC
URL:https://www.golnetwork.com/game/v/17080/
X-MICROSOFT-CDO-BUSYSTATUS:BUSY
X-MICROSOFT-CDO-IMPORTANCE:1
END:VEVENT
BEGIN:VEVENT
UID:g1mgd@games.golnetwork.com
LOCATION:TBD
CREATED:20120621T204449Z
DTSTART:20120609T140000Z
DTEND:20120609T150000Z
DTSTAMP:20260420T165625Z
SUMMARY:Irates with a P vs. STAT CITY
DESCRIPTION:STAT CITY vs. Irates with a PPlus d'info : #13
X-ALT-DESC;FMTTYPE=text/html:<!DOCTYPE HTML PUBLIC "-//W3C//DTD HTML 3.2//E
	N">\n<HTML>\n<HEAD>\n<TITLE></TITLE>\n</HEAD>\n<BODY>\n<h3>STAT CITY vs. Ir
	ates with a P</h3>Plus d'info : <a href="https://www.golnetwork.com/game/v/
	17084/">#13</a>\n\n</BODY>\n</HTML>
STATUS:CONFIRMED
CLASS:PUBLIC
URL:https://www.golnetwork.com/game/v/17084/
X-MICROSOFT-CDO-BUSYSTATUS:BUSY
X-MICROSOFT-CDO-IMPORTANCE:1
END:VEVENT
BEGIN:VEVENT
UID:g1mgf@games.golnetwork.com
LOCATION:TBD
CREATED:20120621T204449Z
DTSTART:20120609T150000Z
DTEND:20120609T160000Z
DTSTAMP:20260420T165625Z
SUMMARY:Medemerge vs. Sons of Pitches
DESCRIPTION:Sons of Pitches vs. MedemergePlus d'info : #14
X-ALT-DESC;FMTTYPE=text/html:<!DOCTYPE HTML PUBLIC "-//W3C//DTD HTML 3.2//E
	N">\n<HTML>\n<HEAD>\n<TITLE></TITLE>\n</HEAD>\n<BODY>\n<h3>Sons of Pitches 
	vs. Medemerge</h3>Plus d'info : <a href="https://www.golnetwork.com/game/v/
	17085/">#14</a>\n\n</BODY>\n</HTML>
STATUS:CONFIRMED
CLASS:PUBLIC
URL:https://www.golnetwork.com/game/v/17085/
X-MICROSOFT-CDO-BUSYSTATUS:BUSY
X-MICROSOFT-CDO-IMPORTANCE:1
END:VEVENT
BEGIN:VEVENT
UID:g1mgh@games.golnetwork.com
LOCATION:TBD
CREATED:20120621T204449Z
DTSTART:20120609T170000Z
DTEND:20120609T180000Z
DTSTAMP:20260420T165625Z
SUMMARY:Ball Busters vs. Brokebat Mountain
DESCRIPTION:Brokebat Mountain vs. Ball BustersPlus d'info : #15
X-ALT-DESC;FMTTYPE=text/html:<!DOCTYPE HTML PUBLIC "-//W3C//DTD HTML 3.2//E
	N">\n<HTML>\n<HEAD>\n<TITLE></TITLE>\n</HEAD>\n<BODY>\n<h3>Brokebat Mountai
	n vs. Ball Busters</h3>Plus d'info : <a href="https://www.golnetwork.com/ga
	me/v/17086/">#15</a>\n\n</BODY>\n</HTML>
STATUS:CONFIRMED
CLASS:PUBLIC
URL:https://www.golnetwork.com/game/v/17086/
X-MICROSOFT-CDO-BUSYSTATUS:BUSY
X-MICROSOFT-CDO-IMPORTANCE:1
END:VEVENT
BEGIN:VEVENT
UID:g1mgj@games.golnetwork.com
LOCATION:TBD
CREATED:20120621T204449Z
DTSTART:20120616T140000Z
DTEND:20120616T150000Z
DTSTAMP:20260420T165625Z
SUMMARY:Ball Busters vs. Medemerge
DESCRIPTION:Medemerge vs. Ball BustersPlus d'info : #16
X-ALT-DESC;FMTTYPE=text/html:<!DOCTYPE HTML PUBLIC "-//W3C//DTD HTML 3.2//E
	N">\n<HTML>\n<HEAD>\n<TITLE></TITLE>\n</HEAD>\n<BODY>\n<h3>Medemerge vs. Ba
	ll Busters</h3>Plus d'info : <a href="https://www.golnetwork.com/game/v/170
	87/">#16</a>\n\n</BODY>\n</HTML>
STATUS:CONFIRMED
CLASS:PUBLIC
URL:https://www.golnetwork.com/game/v/17087/
X-MICROSOFT-CDO-BUSYSTATUS:BUSY
X-MICROSOFT-CDO-IMPORTANCE:1
END:VEVENT
BEGIN:VEVENT
UID:g1mgl@games.golnetwork.com
LOCATION:TBD
CREATED:20120621T204449Z
DTSTART:20120616T150000Z
DTEND:20120616T160000Z
DTSTAMP:20260420T165625Z
SUMMARY:Brokebat Mountain vs. STAT CITY
DESCRIPTION:STAT CITY vs. Brokebat MountainPlus d'info : #17
X-ALT-DESC;FMTTYPE=text/html:<!DOCTYPE HTML PUBLIC "-//W3C//DTD HTML 3.2//E
	N">\n<HTML>\n<HEAD>\n<TITLE></TITLE>\n</HEAD>\n<BODY>\n<h3>STAT CITY vs. Br
	okebat Mountain</h3>Plus d'info : <a href="https://www.golnetwork.com/game/
	v/17088/">#17</a>\n\n</BODY>\n</HTML>
STATUS:CONFIRMED
CLASS:PUBLIC
URL:https://www.golnetwork.com/game/v/17088/
X-MICROSOFT-CDO-BUSYSTATUS:BUSY
X-MICROSOFT-CDO-IMPORTANCE:1
END:VEVENT
BEGIN:VEVENT
UID:g1mgn@games.golnetwork.com
LOCATION:TBD
CREATED:20120621T204449Z
DTSTART:20120616T170000Z
DTEND:20120616T180000Z
DTSTAMP:20260420T165625Z
SUMMARY:Sons of Pitches vs. Irates with a P
DESCRIPTION:Irates with a P vs. Sons of PitchesPlus d'info : #18
X-ALT-DESC;FMTTYPE=text/html:<!DOCTYPE HTML PUBLIC "-//W3C//DTD HTML 3.2//E
	N">\n<HTML>\n<HEAD>\n<TITLE></TITLE>\n</HEAD>\n<BODY>\n<h3>Irates with a P 
	vs. Sons of Pitches</h3>Plus d'info : <a href="https://www.golnetwork.com/g
	ame/v/17089/">#18</a>\n\n</BODY>\n</HTML>
STATUS:CONFIRMED
CLASS:PUBLIC
URL:https://www.golnetwork.com/game/v/17089/
X-MICROSOFT-CDO-BUSYSTATUS:BUSY
X-MICROSOFT-CDO-IMPORTANCE:1
END:VEVENT
END:VCALENDAR
