BEGIN:VCALENDAR
PRODID:-//gdesolutions.com//MV Framework 1.0.0.1607 Calendar//EN
VERSION:2.0
METHOD:PUBLISH
CALSCALE:GREGORIAN
BEGIN:VEVENT
UID:g1nkk@games.golnetwork.com
LOCATION:Cherry Beach West 1
CREATED:20120710T211816Z
DTSTART:20120715T200000Z
DTEND:20120715T210000Z
DTSTAMP:20260426T035755Z
SUMMARY:Desperados vs. Flying Diegos
DESCRIPTION:Flying Diegos vs. DesperadosPlus d'info : #1
X-ALT-DESC;FMTTYPE=text/html:<!DOCTYPE HTML PUBLIC "-//W3C//DTD HTML 3.2//E
	N">\n<HTML>\n<HEAD>\n<TITLE></TITLE>\n</HEAD>\n<BODY>\n<h3>Flying Diegos vs
	. Desperados</h3>Plus d'info : <a href="https://www.golnetwork.com/game/v/1
	7506/">#1</a>\n\n</BODY>\n</HTML>
STATUS:RESCHEDULED
CLASS:PUBLIC
URL:https://www.golnetwork.com/game/v/17506/
X-MICROSOFT-CDO-BUSYSTATUS:BUSY
X-MICROSOFT-CDO-IMPORTANCE:1
END:VEVENT
BEGIN:VEVENT
UID:g1nkg@games.golnetwork.com
LOCATION:Cherry Beach West 2
CREATED:20120710T211816Z
DTSTART:20120715T200000Z
DTEND:20120715T210000Z
DTSTAMP:20260426T035755Z
SUMMARY:Boro FC vs. Shot In The Dark
DESCRIPTION:Shot In The Dark vs. Boro FCPlus d'info : #2
X-ALT-DESC;FMTTYPE=text/html:<!DOCTYPE HTML PUBLIC "-//W3C//DTD HTML 3.2//E
	N">\n<HTML>\n<HEAD>\n<TITLE></TITLE>\n</HEAD>\n<BODY>\n<h3>Shot In The Dark
	 vs. Boro FC</h3>Plus d'info : <a href="https://www.golnetwork.com/game/v/1
	7504/">#2</a>\n\n</BODY>\n</HTML>
STATUS:RESCHEDULED
CLASS:PUBLIC
URL:https://www.golnetwork.com/game/v/17504/
X-MICROSOFT-CDO-BUSYSTATUS:BUSY
X-MICROSOFT-CDO-IMPORTANCE:1
END:VEVENT
BEGIN:VEVENT
UID:g1nki@games.golnetwork.com
LOCATION:Cherry Beach West 3
CREATED:20120710T211816Z
DTSTART:20120715T200000Z
DTEND:20120715T210000Z
DTSTAMP:20260426T035755Z
SUMMARY:Jerome United vs. Nuno's United FC
DESCRIPTION:Nuno's United FC vs. Jerome UnitedPlus d'info : #3
X-ALT-DESC;FMTTYPE=text/html:<!DOCTYPE HTML PUBLIC "-//W3C//DTD HTML 3.2//E
	N">\n<HTML>\n<HEAD>\n<TITLE></TITLE>\n</HEAD>\n<BODY>\n<h3>Nuno's United FC
	 vs. Jerome United</h3>Plus d'info : <a href="https://www.golnetwork.com/ga
	me/v/17505/">#3</a>\n\n</BODY>\n</HTML>
STATUS:RESCHEDULED
CLASS:PUBLIC
URL:https://www.golnetwork.com/game/v/17505/
X-MICROSOFT-CDO-BUSYSTATUS:BUSY
X-MICROSOFT-CDO-IMPORTANCE:1
END:VEVENT
BEGIN:VEVENT
UID:g1nkm@games.golnetwork.com
LOCATION:Cherry Beach West 1
CREATED:20120710T211816Z
DTSTART:20120722T200000Z
DTEND:20120722T210000Z
DTSTAMP:20260426T035755Z
SUMMARY:Jerome United vs. Boro FC
DESCRIPTION:Boro FC vs. Jerome UnitedPlus d'info : #24
X-ALT-DESC;FMTTYPE=text/html:<!DOCTYPE HTML PUBLIC "-//W3C//DTD HTML 3.2//E
	N">\n<HTML>\n<HEAD>\n<TITLE></TITLE>\n</HEAD>\n<BODY>\n<h3>Boro FC vs. Jero
	me United</h3>Plus d'info : <a href="https://www.golnetwork.com/game/v/1750
	7/">#24</a>\n\n</BODY>\n</HTML>
STATUS:CONFIRMED
CLASS:PUBLIC
URL:https://www.golnetwork.com/game/v/17507/
X-MICROSOFT-CDO-BUSYSTATUS:BUSY
X-MICROSOFT-CDO-IMPORTANCE:1
END:VEVENT
BEGIN:VEVENT
UID:g1nko@games.golnetwork.com
LOCATION:Cherry Beach West 2
CREATED:20120710T211816Z
DTSTART:20120722T200000Z
DTEND:20120722T210000Z
DTSTAMP:20260426T035755Z
SUMMARY:Desperados vs. Shot In The Dark
DESCRIPTION:Shot In The Dark vs. DesperadosPlus d'info : #25
X-ALT-DESC;FMTTYPE=text/html:<!DOCTYPE HTML PUBLIC "-//W3C//DTD HTML 3.2//E
	N">\n<HTML>\n<HEAD>\n<TITLE></TITLE>\n</HEAD>\n<BODY>\n<h3>Shot In The Dark
	 vs. Desperados</h3>Plus d'info : <a href="https://www.golnetwork.com/game/
	v/17508/">#25</a>\n\n</BODY>\n</HTML>
STATUS:CONFIRMED
CLASS:PUBLIC
URL:https://www.golnetwork.com/game/v/17508/
X-MICROSOFT-CDO-BUSYSTATUS:BUSY
X-MICROSOFT-CDO-IMPORTANCE:1
END:VEVENT
BEGIN:VEVENT
UID:g1nkq@games.golnetwork.com
LOCATION:Cherry Beach West 3
CREATED:20120710T211816Z
DTSTART:20120722T200000Z
DTEND:20120722T210000Z
DTSTAMP:20260426T035755Z
SUMMARY:Flying Diegos vs. Nuno's United FC
DESCRIPTION:Nuno's United FC vs. Flying DiegosPlus d'info : #26
X-ALT-DESC;FMTTYPE=text/html:<!DOCTYPE HTML PUBLIC "-//W3C//DTD HTML 3.2//E
	N">\n<HTML>\n<HEAD>\n<TITLE></TITLE>\n</HEAD>\n<BODY>\n<h3>Nuno's United FC
	 vs. Flying Diegos</h3>Plus d'info : <a href="https://www.golnetwork.com/ga
	me/v/17509/">#26</a>\n\n</BODY>\n</HTML>
STATUS:CONFIRMED
CLASS:PUBLIC
URL:https://www.golnetwork.com/game/v/17509/
X-MICROSOFT-CDO-BUSYSTATUS:BUSY
X-MICROSOFT-CDO-IMPORTANCE:1
END:VEVENT
BEGIN:VEVENT
UID:g1nl5@games.golnetwork.com
LOCATION:Cherry Beach West 1
CREATED:20120710T211816Z
DTSTART:20120729T200000Z
DTEND:20120729T210000Z
DTSTAMP:20260426T035755Z
SUMMARY:Nuno's United FC vs. Shot In The Dark
DESCRIPTION:Shot In The Dark vs. Nuno's United FCPlus d'info : #59
X-ALT-DESC;FMTTYPE=text/html:<!DOCTYPE HTML PUBLIC "-//W3C//DTD HTML 3.2//E
	N">\n<HTML>\n<HEAD>\n<TITLE></TITLE>\n</HEAD>\n<BODY>\n<h3>Shot In The Dark
	 vs. Nuno's United FC</h3>Plus d'info : <a href="https://www.golnetwork.com
	/game/v/17512/">#59</a>\n\n</BODY>\n</HTML>
STATUS:CONFIRMED
CLASS:PUBLIC
URL:https://www.golnetwork.com/game/v/17512/
X-MICROSOFT-CDO-BUSYSTATUS:BUSY
X-MICROSOFT-CDO-IMPORTANCE:1
END:VEVENT
BEGIN:VEVENT
UID:g1nl3@games.golnetwork.com
LOCATION:Cherry Beach West 2
CREATED:20120710T211816Z
DTSTART:20120729T200000Z
DTEND:20120729T210000Z
DTSTAMP:20260426T035755Z
SUMMARY:Flying Diegos vs. Jerome United
DESCRIPTION:Jerome United vs. Flying DiegosPlus d'info : #60
X-ALT-DESC;FMTTYPE=text/html:<!DOCTYPE HTML PUBLIC "-//W3C//DTD HTML 3.2//E
	N">\n<HTML>\n<HEAD>\n<TITLE></TITLE>\n</HEAD>\n<BODY>\n<h3>Jerome United vs
	. Flying Diegos</h3>Plus d'info : <a href="https://www.golnetwork.com/game/
	v/17511/">#60</a>\n\n</BODY>\n</HTML>
STATUS:CONFIRMED
CLASS:PUBLIC
URL:https://www.golnetwork.com/game/v/17511/
X-MICROSOFT-CDO-BUSYSTATUS:BUSY
X-MICROSOFT-CDO-IMPORTANCE:1
END:VEVENT
BEGIN:VEVENT
UID:g1nl1@games.golnetwork.com
LOCATION:Cherry Beach West 3
CREATED:20120710T211816Z
DTSTART:20120729T200000Z
DTEND:20120729T210000Z
DTSTAMP:20260426T035755Z
SUMMARY:Boro FC vs. Desperados
DESCRIPTION:Desperados vs. Boro FCPlus d'info : #61
X-ALT-DESC;FMTTYPE=text/html:<!DOCTYPE HTML PUBLIC "-//W3C//DTD HTML 3.2//E
	N">\n<HTML>\n<HEAD>\n<TITLE></TITLE>\n</HEAD>\n<BODY>\n<h3>Desperados vs. B
	oro FC</h3>Plus d'info : <a href="https://www.golnetwork.com/game/v/17510/"
	>#61</a>\n\n</BODY>\n</HTML>
STATUS:CONFIRMED
CLASS:PUBLIC
URL:https://www.golnetwork.com/game/v/17510/
X-MICROSOFT-CDO-BUSYSTATUS:BUSY
X-MICROSOFT-CDO-IMPORTANCE:1
END:VEVENT
BEGIN:VEVENT
UID:g1nl9@games.golnetwork.com
LOCATION:Cherry Beach West 1
CREATED:20120710T211816Z
DTSTART:20120805T200000Z
DTEND:20120805T210000Z
DTSTAMP:20260426T035755Z
SUMMARY:Nuno's United FC vs. Desperados
DESCRIPTION:Desperados vs. Nuno's United FCPlus d'info : #82
X-ALT-DESC;FMTTYPE=text/html:<!DOCTYPE HTML PUBLIC "-//W3C//DTD HTML 3.2//E
	N">\n<HTML>\n<HEAD>\n<TITLE></TITLE>\n</HEAD>\n<BODY>\n<h3>Desperados vs. N
	uno's United FC</h3>Plus d'info : <a href="https://www.golnetwork.com/game/
	v/17514/">#82</a>\n\n</BODY>\n</HTML>
STATUS:CONFIRMED
CLASS:PUBLIC
URL:https://www.golnetwork.com/game/v/17514/
X-MICROSOFT-CDO-BUSYSTATUS:BUSY
X-MICROSOFT-CDO-IMPORTANCE:1
END:VEVENT
BEGIN:VEVENT
UID:g1nlb@games.golnetwork.com
LOCATION:Cherry Beach West 2
CREATED:20120710T211816Z
DTSTART:20120805T200000Z
DTEND:20120805T210000Z
DTSTAMP:20260426T035755Z
SUMMARY:Shot In The Dark vs. Jerome United
DESCRIPTION:Jerome United vs. Shot In The DarkPlus d'info : #83
X-ALT-DESC;FMTTYPE=text/html:<!DOCTYPE HTML PUBLIC "-//W3C//DTD HTML 3.2//E
	N">\n<HTML>\n<HEAD>\n<TITLE></TITLE>\n</HEAD>\n<BODY>\n<h3>Jerome United vs
	. Shot In The Dark</h3>Plus d'info : <a href="https://www.golnetwork.com/ga
	me/v/17515/">#83</a>\n\n</BODY>\n</HTML>
STATUS:CONFIRMED
CLASS:PUBLIC
URL:https://www.golnetwork.com/game/v/17515/
X-MICROSOFT-CDO-BUSYSTATUS:BUSY
X-MICROSOFT-CDO-IMPORTANCE:1
END:VEVENT
BEGIN:VEVENT
UID:g1nl7@games.golnetwork.com
LOCATION:Cherry Beach West 3
CREATED:20120710T211816Z
DTSTART:20120805T200000Z
DTEND:20120805T210000Z
DTSTAMP:20260426T035755Z
SUMMARY:Flying Diegos vs. Boro FC
DESCRIPTION:Boro FC vs. Flying DiegosPlus d'info : #84
X-ALT-DESC;FMTTYPE=text/html:<!DOCTYPE HTML PUBLIC "-//W3C//DTD HTML 3.2//E
	N">\n<HTML>\n<HEAD>\n<TITLE></TITLE>\n</HEAD>\n<BODY>\n<h3>Boro FC vs. Flyi
	ng Diegos</h3>Plus d'info : <a href="https://www.golnetwork.com/game/v/1751
	3/">#84</a>\n\n</BODY>\n</HTML>
STATUS:CONFIRMED
CLASS:PUBLIC
URL:https://www.golnetwork.com/game/v/17513/
X-MICROSOFT-CDO-BUSYSTATUS:BUSY
X-MICROSOFT-CDO-IMPORTANCE:1
END:VEVENT
BEGIN:VEVENT
UID:g1nlh@games.golnetwork.com
LOCATION:Cherry Beach West 1
CREATED:20120710T211816Z
DTSTART:20120812T200000Z
DTEND:20120812T210000Z
DTSTAMP:20260426T035755Z
SUMMARY:Jerome United vs. Desperados
DESCRIPTION:Desperados vs. Jerome UnitedPlus d'info : #105
X-ALT-DESC;FMTTYPE=text/html:<!DOCTYPE HTML PUBLIC "-//W3C//DTD HTML 3.2//E
	N">\n<HTML>\n<HEAD>\n<TITLE></TITLE>\n</HEAD>\n<BODY>\n<h3>Desperados vs. J
	erome United</h3>Plus d'info : <a href="https://www.golnetwork.com/game/v/1
	7518/">#105</a>\n\n</BODY>\n</HTML>
STATUS:CONFIRMED
CLASS:PUBLIC
URL:https://www.golnetwork.com/game/v/17518/
X-MICROSOFT-CDO-BUSYSTATUS:BUSY
X-MICROSOFT-CDO-IMPORTANCE:1
END:VEVENT
BEGIN:VEVENT
UID:g1nld@games.golnetwork.com
LOCATION:Cherry Beach West 2
CREATED:20120710T211816Z
DTSTART:20120812T200000Z
DTEND:20120812T210000Z
DTSTAMP:20260426T035755Z
SUMMARY:Boro FC vs. Nuno's United FC
DESCRIPTION:Nuno's United FC vs. Boro FCPlus d'info : #106
X-ALT-DESC;FMTTYPE=text/html:<!DOCTYPE HTML PUBLIC "-//W3C//DTD HTML 3.2//E
	N">\n<HTML>\n<HEAD>\n<TITLE></TITLE>\n</HEAD>\n<BODY>\n<h3>Nuno's United FC
	 vs. Boro FC</h3>Plus d'info : <a href="https://www.golnetwork.com/game/v/1
	7516/">#106</a>\n\n</BODY>\n</HTML>
STATUS:CONFIRMED
CLASS:PUBLIC
URL:https://www.golnetwork.com/game/v/17516/
X-MICROSOFT-CDO-BUSYSTATUS:BUSY
X-MICROSOFT-CDO-IMPORTANCE:1
END:VEVENT
BEGIN:VEVENT
UID:g1nlf@games.golnetwork.com
LOCATION:Cherry Beach West 3
CREATED:20120710T211816Z
DTSTART:20120812T200000Z
DTEND:20120812T210000Z
DTSTAMP:20260426T035755Z
SUMMARY:Shot In The Dark vs. Flying Diegos
DESCRIPTION:Flying Diegos vs. Shot In The DarkPlus d'info : #107
X-ALT-DESC;FMTTYPE=text/html:<!DOCTYPE HTML PUBLIC "-//W3C//DTD HTML 3.2//E
	N">\n<HTML>\n<HEAD>\n<TITLE></TITLE>\n</HEAD>\n<BODY>\n<h3>Flying Diegos vs
	. Shot In The Dark</h3>Plus d'info : <a href="https://www.golnetwork.com/ga
	me/v/17517/">#107</a>\n\n</BODY>\n</HTML>
STATUS:CONFIRMED
CLASS:PUBLIC
URL:https://www.golnetwork.com/game/v/17517/
X-MICROSOFT-CDO-BUSYSTATUS:BUSY
X-MICROSOFT-CDO-IMPORTANCE:1
END:VEVENT
BEGIN:VEVENT
UID:g1nll@games.golnetwork.com
LOCATION:Cherry Beach West 1
CREATED:20120710T211816Z
DTSTART:20120826T200000Z
DTEND:20120826T210000Z
DTSTAMP:20260426T035755Z
SUMMARY:Shot In The Dark vs. Boro FC
DESCRIPTION:Boro FC vs. Shot In The DarkPlus d'info : #149
X-ALT-DESC;FMTTYPE=text/html:<!DOCTYPE HTML PUBLIC "-//W3C//DTD HTML 3.2//E
	N">\n<HTML>\n<HEAD>\n<TITLE></TITLE>\n</HEAD>\n<BODY>\n<h3>Boro FC vs. Shot
	 In The Dark</h3>Plus d'info : <a href="https://www.golnetwork.com/game/v/1
	7520/">#149</a>\n\n</BODY>\n</HTML>
STATUS:CONFIRMED
CLASS:PUBLIC
URL:https://www.golnetwork.com/game/v/17520/
X-MICROSOFT-CDO-BUSYSTATUS:BUSY
X-MICROSOFT-CDO-IMPORTANCE:1
END:VEVENT
BEGIN:VEVENT
UID:g1nlj@games.golnetwork.com
LOCATION:Cherry Beach West 2
CREATED:20120710T211816Z
DTSTART:20120826T200000Z
DTEND:20120826T210000Z
DTSTAMP:20260426T035755Z
SUMMARY:Desperados vs. Flying Diegos
DESCRIPTION:Flying Diegos vs. DesperadosPlus d'info : #150
X-ALT-DESC;FMTTYPE=text/html:<!DOCTYPE HTML PUBLIC "-//W3C//DTD HTML 3.2//E
	N">\n<HTML>\n<HEAD>\n<TITLE></TITLE>\n</HEAD>\n<BODY>\n<h3>Flying Diegos vs
	. Desperados</h3>Plus d'info : <a href="https://www.golnetwork.com/game/v/1
	7519/">#150</a>\n\n</BODY>\n</HTML>
STATUS:CONFIRMED
CLASS:PUBLIC
URL:https://www.golnetwork.com/game/v/17519/
X-MICROSOFT-CDO-BUSYSTATUS:BUSY
X-MICROSOFT-CDO-IMPORTANCE:1
END:VEVENT
BEGIN:VEVENT
UID:g1nln@games.golnetwork.com
LOCATION:Cherry Beach West 3
CREATED:20120710T211816Z
DTSTART:20120826T200000Z
DTEND:20120826T210000Z
DTSTAMP:20260426T035755Z
SUMMARY:Nuno's United FC vs. Jerome United
DESCRIPTION:Jerome United vs. Nuno's United FCPlus d'info : #151
X-ALT-DESC;FMTTYPE=text/html:<!DOCTYPE HTML PUBLIC "-//W3C//DTD HTML 3.2//E
	N">\n<HTML>\n<HEAD>\n<TITLE></TITLE>\n</HEAD>\n<BODY>\n<h3>Jerome United vs
	. Nuno's United FC</h3>Plus d'info : <a href="https://www.golnetwork.com/ga
	me/v/17521/">#151</a>\n\n</BODY>\n</HTML>
STATUS:CONFIRMED
CLASS:PUBLIC
URL:https://www.golnetwork.com/game/v/17521/
X-MICROSOFT-CDO-BUSYSTATUS:BUSY
X-MICROSOFT-CDO-IMPORTANCE:1
END:VEVENT
BEGIN:VEVENT
UID:g1q30@games.golnetwork.com
LOCATION:Cherry Beach West 1
CREATED:20120827T135759Z
DTSTART:20120902T204500Z
DTEND:20120902T214500Z
DTSTAMP:20260426T035755Z
SUMMARY:Jerome United vs. Boro FC
DESCRIPTION:Boro FC vs. Jerome UnitedPlus d'info : #173
X-ALT-DESC;FMTTYPE=text/html:<!DOCTYPE HTML PUBLIC "-//W3C//DTD HTML 3.2//E
	N">\n<HTML>\n<HEAD>\n<TITLE></TITLE>\n</HEAD>\n<BODY>\n<h3>Boro FC vs. Jero
	me United</h3>Plus d'info : <a href="https://www.golnetwork.com/game/v/1836
	0/">#173</a>\n\n</BODY>\n</HTML>
STATUS:CONFIRMED
CLASS:PUBLIC
URL:https://www.golnetwork.com/game/v/18360/
X-MICROSOFT-CDO-BUSYSTATUS:BUSY
X-MICROSOFT-CDO-IMPORTANCE:1
END:VEVENT
BEGIN:VEVENT
UID:g1q32@games.golnetwork.com
LOCATION:Cherry Beach West 2
CREATED:20120827T135830Z
DTSTART:20120902T204500Z
DTEND:20120902T214500Z
DTSTAMP:20260426T035755Z
SUMMARY:Nuno's United FC vs. Desperados
DESCRIPTION:Desperados vs. Nuno's United FCPlus d'info : #174
X-ALT-DESC;FMTTYPE=text/html:<!DOCTYPE HTML PUBLIC "-//W3C//DTD HTML 3.2//E
	N">\n<HTML>\n<HEAD>\n<TITLE></TITLE>\n</HEAD>\n<BODY>\n<h3>Desperados vs. N
	uno's United FC</h3>Plus d'info : <a href="https://www.golnetwork.com/game/
	v/18361/">#174</a>\n\n</BODY>\n</HTML>
STATUS:CONFIRMED
CLASS:PUBLIC
URL:https://www.golnetwork.com/game/v/18361/
X-MICROSOFT-CDO-BUSYSTATUS:BUSY
X-MICROSOFT-CDO-IMPORTANCE:1
END:VEVENT
BEGIN:VEVENT
UID:g1q34@games.golnetwork.com
LOCATION:Cherry Beach West 3
CREATED:20120827T135846Z
DTSTART:20120902T204500Z
DTEND:20120902T214500Z
DTSTAMP:20260426T035755Z
SUMMARY:Flying Diegos vs. Shot In The Dark
DESCRIPTION:Shot In The Dark vs. Flying DiegosPlus d'info : #175
X-ALT-DESC;FMTTYPE=text/html:<!DOCTYPE HTML PUBLIC "-//W3C//DTD HTML 3.2//E
	N">\n<HTML>\n<HEAD>\n<TITLE></TITLE>\n</HEAD>\n<BODY>\n<h3>Shot In The Dark
	 vs. Flying Diegos</h3>Plus d'info : <a href="https://www.golnetwork.com/ga
	me/v/18362/">#175</a>\n\n</BODY>\n</HTML>
STATUS:CONFIRMED
CLASS:PUBLIC
URL:https://www.golnetwork.com/game/v/18362/
X-MICROSOFT-CDO-BUSYSTATUS:BUSY
X-MICROSOFT-CDO-IMPORTANCE:1
END:VEVENT
BEGIN:VEVENT
UID:g1q03@games.golnetwork.com
LOCATION:Cherry Beach West 1
CREATED:20120821T100637Z
DTSTART:20120909T200000Z
DTEND:20120909T210000Z
DTSTAMP:20260426T035755Z
SUMMARY:Boro FC vs. Shot In The Dark
DESCRIPTION:Shot In The Dark vs. Boro FCPlus d'info : R#2
X-ALT-DESC;FMTTYPE=text/html:<!DOCTYPE HTML PUBLIC "-//W3C//DTD HTML 3.2//E
	N">\n<HTML>\n<HEAD>\n<TITLE></TITLE>\n</HEAD>\n<BODY>\n<h3>Shot In The Dark
	 vs. Boro FC</h3>Plus d'info : <a href="https://www.golnetwork.com/game/v/1
	8321/">R#2</a>\n\n</BODY>\n</HTML>
STATUS:CONFIRMED
CLASS:PUBLIC
URL:https://www.golnetwork.com/game/v/18321/
X-MICROSOFT-CDO-BUSYSTATUS:BUSY
X-MICROSOFT-CDO-IMPORTANCE:1
END:VEVENT
BEGIN:VEVENT
UID:g1q01@games.golnetwork.com
LOCATION:Cherry Beach West 2
CREATED:20120821T100606Z
DTSTART:20120909T200000Z
DTEND:20120909T210000Z
DTSTAMP:20260426T035755Z
SUMMARY:Desperados vs. Flying Diegos
DESCRIPTION:Flying Diegos vs. DesperadosPlus d'info : R#1
X-ALT-DESC;FMTTYPE=text/html:<!DOCTYPE HTML PUBLIC "-//W3C//DTD HTML 3.2//E
	N">\n<HTML>\n<HEAD>\n<TITLE></TITLE>\n</HEAD>\n<BODY>\n<h3>Flying Diegos vs
	. Desperados</h3>Plus d'info : <a href="https://www.golnetwork.com/game/v/1
	8320/">R#1</a>\n\n</BODY>\n</HTML>
STATUS:CONFIRMED
CLASS:PUBLIC
URL:https://www.golnetwork.com/game/v/18320/
X-MICROSOFT-CDO-BUSYSTATUS:BUSY
X-MICROSOFT-CDO-IMPORTANCE:1
END:VEVENT
BEGIN:VEVENT
UID:g1q05@games.golnetwork.com
LOCATION:Cherry Beach West 3
CREATED:20120821T100655Z
DTSTART:20120909T200000Z
DTEND:20120909T210000Z
DTSTAMP:20260426T035755Z
SUMMARY:Jerome United vs. Nuno's United FC
DESCRIPTION:Nuno's United FC vs. Jerome UnitedPlus d'info : R#3
X-ALT-DESC;FMTTYPE=text/html:<!DOCTYPE HTML PUBLIC "-//W3C//DTD HTML 3.2//E
	N">\n<HTML>\n<HEAD>\n<TITLE></TITLE>\n</HEAD>\n<BODY>\n<h3>Nuno's United FC
	 vs. Jerome United</h3>Plus d'info : <a href="https://www.golnetwork.com/ga
	me/v/18322/">R#3</a>\n\n</BODY>\n</HTML>
STATUS:CONFIRMED
CLASS:PUBLIC
URL:https://www.golnetwork.com/game/v/18322/
X-MICROSOFT-CDO-BUSYSTATUS:BUSY
X-MICROSOFT-CDO-IMPORTANCE:1
END:VEVENT
BEGIN:VEVENT
UID:g203b@games.golnetwork.com
LOCATION:Cherry Beach West 1
CREATED:20120913T154301Z
DTSTART:20120916T200000Z
DTEND:20120916T210000Z
DTSTAMP:20260426T035755Z
SUMMARY:Jerome United vs. Nuno's United FC
DESCRIPTION:Nuno's United FC vs. Jerome UnitedPlus d'info : #214
X-ALT-DESC;FMTTYPE=text/html:<!DOCTYPE HTML PUBLIC "-//W3C//DTD HTML 3.2//E
	N">\n<HTML>\n<HEAD>\n<TITLE></TITLE>\n</HEAD>\n<BODY>\n<h3>Nuno's United FC
	 vs. Jerome United</h3>Plus d'info : <a href="https://www.golnetwork.com/ga
	me/v/18730/">#214</a>\n\n</BODY>\n</HTML>
STATUS:CONFIRMED
CLASS:PUBLIC
URL:https://www.golnetwork.com/game/v/18730/
X-MICROSOFT-CDO-BUSYSTATUS:BUSY
X-MICROSOFT-CDO-IMPORTANCE:1
END:VEVENT
BEGIN:VEVENT
UID:g2035@games.golnetwork.com
LOCATION:Cherry Beach West 2
CREATED:20120913T154055Z
DTSTART:20120916T200000Z
DTEND:20120916T210000Z
DTSTAMP:20260426T035755Z
SUMMARY:Desperados vs. Shot In The Dark
DESCRIPTION:Shot In The Dark vs. DesperadosPlus d'info : #215
X-ALT-DESC;FMTTYPE=text/html:<!DOCTYPE HTML PUBLIC "-//W3C//DTD HTML 3.2//E
	N">\n<HTML>\n<HEAD>\n<TITLE></TITLE>\n</HEAD>\n<BODY>\n<h3>Shot In The Dark
	 vs. Desperados</h3>Plus d'info : <a href="https://www.golnetwork.com/game/
	v/18727/">#215</a>\n\n</BODY>\n</HTML>
STATUS:CONFIRMED
CLASS:PUBLIC
URL:https://www.golnetwork.com/game/v/18727/
X-MICROSOFT-CDO-BUSYSTATUS:BUSY
X-MICROSOFT-CDO-IMPORTANCE:1
END:VEVENT
BEGIN:VEVENT
UID:g2037@games.golnetwork.com
LOCATION:Cherry Beach West 3
CREATED:20120913T154114Z
DTSTART:20120916T200000Z
DTEND:20120916T210000Z
DTSTAMP:20260426T035755Z
SUMMARY:Flying Diegos vs. Boro FC
DESCRIPTION:Boro FC vs. Flying DiegosPlus d'info : #216
X-ALT-DESC;FMTTYPE=text/html:<!DOCTYPE HTML PUBLIC "-//W3C//DTD HTML 3.2//E
	N">\n<HTML>\n<HEAD>\n<TITLE></TITLE>\n</HEAD>\n<BODY>\n<h3>Boro FC vs. Flyi
	ng Diegos</h3>Plus d'info : <a href="https://www.golnetwork.com/game/v/1872
	8/">#216</a>\n\n</BODY>\n</HTML>
STATUS:CONFIRMED
CLASS:PUBLIC
URL:https://www.golnetwork.com/game/v/18728/
X-MICROSOFT-CDO-BUSYSTATUS:BUSY
X-MICROSOFT-CDO-IMPORTANCE:1
END:VEVENT
BEGIN:VEVENT
UID:g21j2@games.golnetwork.com
LOCATION:Cherry Beach West 1
CREATED:20120918T224457Z
DTSTART:20120923T200000Z
DTEND:20120923T210000Z
DTSTAMP:20260426T035755Z
SUMMARY:Nuno's United FC vs. Flying Diegos
DESCRIPTION:Flying Diegos vs. Nuno's United FCPlus d'info : #232
X-ALT-DESC;FMTTYPE=text/html:<!DOCTYPE HTML PUBLIC "-//W3C//DTD HTML 3.2//E
	N">\n<HTML>\n<HEAD>\n<TITLE></TITLE>\n</HEAD>\n<BODY>\n<h3>Flying Diegos vs
	. Nuno's United FC</h3>Plus d'info : <a href="https://www.golnetwork.com/ga
	me/v/19306/">#232</a>\n\n</BODY>\n</HTML>
STATUS:CONFIRMED
CLASS:PUBLIC
URL:https://www.golnetwork.com/game/v/19306/
X-MICROSOFT-CDO-BUSYSTATUS:BUSY
X-MICROSOFT-CDO-IMPORTANCE:1
END:VEVENT
BEGIN:VEVENT
UID:g21ip@games.golnetwork.com
LOCATION:Cherry Beach West 2
CREATED:20120918T224404Z
DTSTART:20120923T200000Z
DTEND:20120923T210000Z
DTSTAMP:20260426T035755Z
SUMMARY:Desperados vs. Boro FC
DESCRIPTION:Boro FC vs. DesperadosPlus d'info : #233
X-ALT-DESC;FMTTYPE=text/html:<!DOCTYPE HTML PUBLIC "-//W3C//DTD HTML 3.2//E
	N">\n<HTML>\n<HEAD>\n<TITLE></TITLE>\n</HEAD>\n<BODY>\n<h3>Boro FC vs. Desp
	erados</h3>Plus d'info : <a href="https://www.golnetwork.com/game/v/19304/"
	>#233</a>\n\n</BODY>\n</HTML>
STATUS:CONFIRMED
CLASS:PUBLIC
URL:https://www.golnetwork.com/game/v/19304/
X-MICROSOFT-CDO-BUSYSTATUS:BUSY
X-MICROSOFT-CDO-IMPORTANCE:1
END:VEVENT
BEGIN:VEVENT
UID:g21j0@games.golnetwork.com
LOCATION:Cherry Beach West 3
CREATED:20120918T224435Z
DTSTART:20120923T200000Z
DTEND:20120923T210000Z
DTSTAMP:20260426T035755Z
SUMMARY:Jerome United vs. Shot In The Dark
DESCRIPTION:Shot In The Dark vs. Jerome UnitedPlus d'info : #234
X-ALT-DESC;FMTTYPE=text/html:<!DOCTYPE HTML PUBLIC "-//W3C//DTD HTML 3.2//E
	N">\n<HTML>\n<HEAD>\n<TITLE></TITLE>\n</HEAD>\n<BODY>\n<h3>Shot In The Dark
	 vs. Jerome United</h3>Plus d'info : <a href="https://www.golnetwork.com/ga
	me/v/19305/">#234</a>\n\n</BODY>\n</HTML>
STATUS:CONFIRMED
CLASS:PUBLIC
URL:https://www.golnetwork.com/game/v/19305/
X-MICROSOFT-CDO-BUSYSTATUS:BUSY
X-MICROSOFT-CDO-IMPORTANCE:1
END:VEVENT
END:VCALENDAR
