BEGIN:VCALENDAR
PRODID:-//gdesolutions.com//MV Framework 1.0.0.1607 Calendar//EN
VERSION:2.0
METHOD:PUBLISH
CALSCALE:GREGORIAN
BEGIN:VEVENT
UID:g1o16@games.golnetwork.com
LOCATION:Rosedale Heights 1
GEO:45.10662;-94.578209
CREATED:20120712T161711Z
DTSTART:20120716T221500Z
DTEND:20120716T233000Z
DTSTAMP:20260419T132819Z
SUMMARY:Big Chune (Green) vs. PDub Strikers
DESCRIPTION:PDub Strikers vs. Big Chune (Green)Plus d'info : #44
X-ALT-DESC;FMTTYPE=text/html:<!DOCTYPE HTML PUBLIC "-//W3C//DTD HTML 3.2//E
	N">\n<HTML>\n<HEAD>\n<TITLE></TITLE>\n</HEAD>\n<BODY>\n<h3>PDub Strikers vs
	. Big Chune (Green)</h3>Plus d'info : <a href="https://www.golnetwork.com/g
	ame/v/17607/">#44</a>\n\n</BODY>\n</HTML>
STATUS:CONFIRMED
CLASS:PUBLIC
URL:https://www.golnetwork.com/game/v/17607/
X-MICROSOFT-CDO-BUSYSTATUS:BUSY
X-MICROSOFT-CDO-IMPORTANCE:1
END:VEVENT
BEGIN:VEVENT
UID:g1o14@games.golnetwork.com
LOCATION:Rosedale Heights 2
CREATED:20120712T161711Z
DTSTART:20120716T221500Z
DTEND:20120716T233000Z
DTSTAMP:20260419T132819Z
SUMMARY:Balls (Orange) vs. Furry White Balls
DESCRIPTION:Furry White Balls vs. Balls (Orange)Plus d'info : #45
X-ALT-DESC;FMTTYPE=text/html:<!DOCTYPE HTML PUBLIC "-//W3C//DTD HTML 3.2//E
	N">\n<HTML>\n<HEAD>\n<TITLE></TITLE>\n</HEAD>\n<BODY>\n<h3>Furry White Ball
	s vs. Balls (Orange)</h3>Plus d'info : <a href="https://www.golnetwork.com/
	game/v/17606/">#45</a>\n\n</BODY>\n</HTML>
STATUS:CONFIRMED
CLASS:PUBLIC
URL:https://www.golnetwork.com/game/v/17606/
X-MICROSOFT-CDO-BUSYSTATUS:BUSY
X-MICROSOFT-CDO-IMPORTANCE:1
END:VEVENT
BEGIN:VEVENT
UID:g1o1a@games.golnetwork.com
LOCATION:Rosedale Heights 1
GEO:45.10662;-94.578209
CREATED:20120712T161711Z
DTSTART:20120716T233000Z
DTEND:20120717T004500Z
DTSTAMP:20260419T132819Z
SUMMARY:Papa Barone And The Good Time Gang (Royal Blue) vs. Dumpster Fire
DESCRIPTION:Dumpster Fire vs. Papa Barone And The Good Time Gang (Royal Blu
	e)Plus d'info : #50
X-ALT-DESC;FMTTYPE=text/html:<!DOCTYPE HTML PUBLIC "-//W3C//DTD HTML 3.2//E
	N">\n<HTML>\n<HEAD>\n<TITLE></TITLE>\n</HEAD>\n<BODY>\n<h3>Dumpster Fire vs
	. Papa Barone And The Good Time Gang (Royal Blue)</h3>Plus d'info : <a href
	="https://www.golnetwork.com/game/v/17609/">#50</a>\n\n</BODY>\n</HTML>
STATUS:CONFIRMED
CLASS:PUBLIC
URL:https://www.golnetwork.com/game/v/17609/
X-MICROSOFT-CDO-BUSYSTATUS:BUSY
X-MICROSOFT-CDO-IMPORTANCE:1
END:VEVENT
BEGIN:VEVENT
UID:g1o18@games.golnetwork.com
LOCATION:Rosedale Heights 2
CREATED:20120712T161711Z
DTSTART:20120716T233000Z
DTEND:20120717T004500Z
DTSTAMP:20260419T132819Z
SUMMARY:AAFC (Black) vs. Team United (Pink)
DESCRIPTION:Team United (Pink) vs. AAFC (Black)Plus d'info : #51
X-ALT-DESC;FMTTYPE=text/html:<!DOCTYPE HTML PUBLIC "-//W3C//DTD HTML 3.2//E
	N">\n<HTML>\n<HEAD>\n<TITLE></TITLE>\n</HEAD>\n<BODY>\n<h3>Team United (Pin
	k) vs. AAFC (Black)</h3>Plus d'info : <a href="https://www.golnetwork.com/g
	ame/v/17608/">#51</a>\n\n</BODY>\n</HTML>
STATUS:CONFIRMED
CLASS:PUBLIC
URL:https://www.golnetwork.com/game/v/17608/
X-MICROSOFT-CDO-BUSYSTATUS:BUSY
X-MICROSOFT-CDO-IMPORTANCE:1
END:VEVENT
BEGIN:VEVENT
UID:g1o1c@games.golnetwork.com
LOCATION:Rosedale Heights 1
GEO:45.10662;-94.578209
CREATED:20120712T161711Z
DTSTART:20120723T221500Z
DTEND:20120723T233000Z
DTSTAMP:20260419T132819Z
SUMMARY:Big Chune (Green) vs. Balls (Orange)
DESCRIPTION:Balls (Orange) vs. Big Chune (Green)Plus d'info : #102
X-ALT-DESC;FMTTYPE=text/html:<!DOCTYPE HTML PUBLIC "-//W3C//DTD HTML 3.2//E
	N">\n<HTML>\n<HEAD>\n<TITLE></TITLE>\n</HEAD>\n<BODY>\n<h3>Balls (Orange) v
	s. Big Chune (Green)</h3>Plus d'info : <a href="https://www.golnetwork.com/
	game/v/17610/">#102</a>\n\n</BODY>\n</HTML>
STATUS:CONFIRMED
CLASS:PUBLIC
URL:https://www.golnetwork.com/game/v/17610/
X-MICROSOFT-CDO-BUSYSTATUS:BUSY
X-MICROSOFT-CDO-IMPORTANCE:1
END:VEVENT
BEGIN:VEVENT
UID:g1o1e@games.golnetwork.com
LOCATION:Rosedale Heights 2
CREATED:20120712T161711Z
DTSTART:20120723T221500Z
DTEND:20120723T233000Z
DTSTAMP:20260419T132819Z
SUMMARY:AAFC (Black) vs. Furry White Balls
DESCRIPTION:Furry White Balls vs. AAFC (Black)Plus d'info : #103
X-ALT-DESC;FMTTYPE=text/html:<!DOCTYPE HTML PUBLIC "-//W3C//DTD HTML 3.2//E
	N">\n<HTML>\n<HEAD>\n<TITLE></TITLE>\n</HEAD>\n<BODY>\n<h3>Furry White Ball
	s vs. AAFC (Black)</h3>Plus d'info : <a href="https://www.golnetwork.com/ga
	me/v/17611/">#103</a>\n\n</BODY>\n</HTML>
STATUS:CONFIRMED
CLASS:PUBLIC
URL:https://www.golnetwork.com/game/v/17611/
X-MICROSOFT-CDO-BUSYSTATUS:BUSY
X-MICROSOFT-CDO-IMPORTANCE:1
END:VEVENT
BEGIN:VEVENT
UID:g1o1i@games.golnetwork.com
LOCATION:Rosedale Heights 1
GEO:45.10662;-94.578209
CREATED:20120712T161711Z
DTSTART:20120723T233000Z
DTEND:20120724T004500Z
DTSTAMP:20260419T132819Z
SUMMARY:Dumpster Fire vs. Team United (Pink)
DESCRIPTION:Team United (Pink) vs. Dumpster FirePlus d'info : #108
X-ALT-DESC;FMTTYPE=text/html:<!DOCTYPE HTML PUBLIC "-//W3C//DTD HTML 3.2//E
	N">\n<HTML>\n<HEAD>\n<TITLE></TITLE>\n</HEAD>\n<BODY>\n<h3>Team United (Pin
	k) vs. Dumpster Fire</h3>Plus d'info : <a href="https://www.golnetwork.com/
	game/v/17613/">#108</a>\n\n</BODY>\n</HTML>
STATUS:CONFIRMED
CLASS:PUBLIC
URL:https://www.golnetwork.com/game/v/17613/
X-MICROSOFT-CDO-BUSYSTATUS:BUSY
X-MICROSOFT-CDO-IMPORTANCE:1
END:VEVENT
BEGIN:VEVENT
UID:g1o1g@games.golnetwork.com
LOCATION:Rosedale Heights 2
CREATED:20120712T161711Z
DTSTART:20120723T233000Z
DTEND:20120724T004500Z
DTSTAMP:20260419T132819Z
SUMMARY:Papa Barone And The Good Time Gang (Royal Blue) vs. PDub Strikers
DESCRIPTION:PDub Strikers vs. Papa Barone And The Good Time Gang (Royal Blu
	e)Plus d'info : #109
X-ALT-DESC;FMTTYPE=text/html:<!DOCTYPE HTML PUBLIC "-//W3C//DTD HTML 3.2//E
	N">\n<HTML>\n<HEAD>\n<TITLE></TITLE>\n</HEAD>\n<BODY>\n<h3>PDub Strikers vs
	. Papa Barone And The Good Time Gang (Royal Blue)</h3>Plus d'info : <a href
	="https://www.golnetwork.com/game/v/17612/">#109</a>\n\n</BODY>\n</HTML>
STATUS:CONFIRMED
CLASS:PUBLIC
URL:https://www.golnetwork.com/game/v/17612/
X-MICROSOFT-CDO-BUSYSTATUS:BUSY
X-MICROSOFT-CDO-IMPORTANCE:1
END:VEVENT
BEGIN:VEVENT
UID:g1o1k@games.golnetwork.com
LOCATION:Rosedale Heights 1
GEO:45.10662;-94.578209
CREATED:20120712T161711Z
DTSTART:20120730T221500Z
DTEND:20120730T233000Z
DTSTAMP:20260419T132819Z
SUMMARY:Balls (Orange) vs. AAFC (Black)
DESCRIPTION:AAFC (Black) vs. Balls (Orange)Plus d'info : #160
X-ALT-DESC;FMTTYPE=text/html:<!DOCTYPE HTML PUBLIC "-//W3C//DTD HTML 3.2//E
	N">\n<HTML>\n<HEAD>\n<TITLE></TITLE>\n</HEAD>\n<BODY>\n<h3>AAFC (Black) vs.
	 Balls (Orange)</h3>Plus d'info : <a href="https://www.golnetwork.com/game/
	v/17614/">#160</a>\n\n</BODY>\n</HTML>
STATUS:CONFIRMED
CLASS:PUBLIC
URL:https://www.golnetwork.com/game/v/17614/
X-MICROSOFT-CDO-BUSYSTATUS:BUSY
X-MICROSOFT-CDO-IMPORTANCE:1
END:VEVENT
BEGIN:VEVENT
UID:g1o1m@games.golnetwork.com
LOCATION:Rosedale Heights 2
CREATED:20120712T161711Z
DTSTART:20120730T221500Z
DTEND:20120730T233000Z
DTSTAMP:20260419T132819Z
SUMMARY:Papa Barone And The Good Time Gang (Royal Blue) vs. Big Chune (Gree
	n)
DESCRIPTION:Big Chune (Green) vs. Papa Barone And The Good Time Gang (Royal
	 Blue)Plus d'info : #161
X-ALT-DESC;FMTTYPE=text/html:<!DOCTYPE HTML PUBLIC "-//W3C//DTD HTML 3.2//E
	N">\n<HTML>\n<HEAD>\n<TITLE></TITLE>\n</HEAD>\n<BODY>\n<h3>Big Chune (Green
	) vs. Papa Barone And The Good Time Gang (Royal Blue)</h3>Plus d'info : <a 
	href="https://www.golnetwork.com/game/v/17615/">#161</a>\n\n</BODY>\n</HTML
	>
STATUS:CONFIRMED
CLASS:PUBLIC
URL:https://www.golnetwork.com/game/v/17615/
X-MICROSOFT-CDO-BUSYSTATUS:BUSY
X-MICROSOFT-CDO-IMPORTANCE:1
END:VEVENT
BEGIN:VEVENT
UID:g1o1q@games.golnetwork.com
LOCATION:Rosedale Heights 1
GEO:45.10662;-94.578209
CREATED:20120712T161711Z
DTSTART:20120730T233000Z
DTEND:20120731T004500Z
DTSTAMP:20260419T132819Z
SUMMARY:Team United (Pink) vs. PDub Strikers
DESCRIPTION:PDub Strikers vs. Team United (Pink)Plus d'info : #166
X-ALT-DESC;FMTTYPE=text/html:<!DOCTYPE HTML PUBLIC "-//W3C//DTD HTML 3.2//E
	N">\n<HTML>\n<HEAD>\n<TITLE></TITLE>\n</HEAD>\n<BODY>\n<h3>PDub Strikers vs
	. Team United (Pink)</h3>Plus d'info : <a href="https://www.golnetwork.com/
	game/v/17617/">#166</a>\n\n</BODY>\n</HTML>
STATUS:CONFIRMED
CLASS:PUBLIC
URL:https://www.golnetwork.com/game/v/17617/
X-MICROSOFT-CDO-BUSYSTATUS:BUSY
X-MICROSOFT-CDO-IMPORTANCE:1
END:VEVENT
BEGIN:VEVENT
UID:g1o1o@games.golnetwork.com
LOCATION:Rosedale Heights 2
CREATED:20120712T161711Z
DTSTART:20120730T233000Z
DTEND:20120731T004500Z
DTSTAMP:20260419T132819Z
SUMMARY:Dumpster Fire vs. Furry White Balls
DESCRIPTION:Furry White Balls vs. Dumpster FirePlus d'info : #167
X-ALT-DESC;FMTTYPE=text/html:<!DOCTYPE HTML PUBLIC "-//W3C//DTD HTML 3.2//E
	N">\n<HTML>\n<HEAD>\n<TITLE></TITLE>\n</HEAD>\n<BODY>\n<h3>Furry White Ball
	s vs. Dumpster Fire</h3>Plus d'info : <a href="https://www.golnetwork.com/g
	ame/v/17616/">#167</a>\n\n</BODY>\n</HTML>
STATUS:CONFIRMED
CLASS:PUBLIC
URL:https://www.golnetwork.com/game/v/17616/
X-MICROSOFT-CDO-BUSYSTATUS:BUSY
X-MICROSOFT-CDO-IMPORTANCE:1
END:VEVENT
BEGIN:VEVENT
UID:g1o29@games.golnetwork.com
LOCATION:Rosedale Heights 1
GEO:45.10662;-94.578209
CREATED:20120712T161711Z
DTSTART:20120813T221500Z
DTEND:20120813T233000Z
DTSTAMP:20260419T132819Z
SUMMARY:Balls (Orange) vs. Dumpster Fire
DESCRIPTION:Dumpster Fire vs. Balls (Orange)Plus d'info : #253
X-ALT-DESC;FMTTYPE=text/html:<!DOCTYPE HTML PUBLIC "-//W3C//DTD HTML 3.2//E
	N">\n<HTML>\n<HEAD>\n<TITLE></TITLE>\n</HEAD>\n<BODY>\n<h3>Dumpster Fire vs
	. Balls (Orange)</h3>Plus d'info : <a href="https://www.golnetwork.com/game
	/v/17622/">#253</a>\n\n</BODY>\n</HTML>
STATUS:CONFIRMED
CLASS:PUBLIC
URL:https://www.golnetwork.com/game/v/17622/
X-MICROSOFT-CDO-BUSYSTATUS:BUSY
X-MICROSOFT-CDO-IMPORTANCE:1
END:VEVENT
BEGIN:VEVENT
UID:g1o2b@games.golnetwork.com
LOCATION:Rosedale Heights 2
CREATED:20120712T161711Z
DTSTART:20120813T221500Z
DTEND:20120813T233000Z
DTSTAMP:20260419T132819Z
SUMMARY:Team United (Pink) vs. Papa Barone And The Good Time Gang (Royal Bl
	ue)
DESCRIPTION:Papa Barone And The Good Time Gang (Royal Blue) vs. Team United
	 (Pink)Plus d'info : #254
X-ALT-DESC;FMTTYPE=text/html:<!DOCTYPE HTML PUBLIC "-//W3C//DTD HTML 3.2//E
	N">\n<HTML>\n<HEAD>\n<TITLE></TITLE>\n</HEAD>\n<BODY>\n<h3>Papa Barone And 
	The Good Time Gang (Royal Blue) vs. Team United (Pink)</h3>Plus d'info : <a
	 href="https://www.golnetwork.com/game/v/17623/">#254</a>\n\n</BODY>\n</HTM
	L>
STATUS:CONFIRMED
CLASS:PUBLIC
URL:https://www.golnetwork.com/game/v/17623/
X-MICROSOFT-CDO-BUSYSTATUS:BUSY
X-MICROSOFT-CDO-IMPORTANCE:1
END:VEVENT
BEGIN:VEVENT
UID:g1o2f@games.golnetwork.com
LOCATION:Rosedale Heights 1
GEO:45.10662;-94.578209
CREATED:20120712T161711Z
DTSTART:20120813T233000Z
DTEND:20120814T004500Z
DTSTAMP:20260419T132819Z
SUMMARY:Furry White Balls vs. Big Chune (Green)
DESCRIPTION:Big Chune (Green) vs. Furry White BallsPlus d'info : #259
X-ALT-DESC;FMTTYPE=text/html:<!DOCTYPE HTML PUBLIC "-//W3C//DTD HTML 3.2//E
	N">\n<HTML>\n<HEAD>\n<TITLE></TITLE>\n</HEAD>\n<BODY>\n<h3>Big Chune (Green
	) vs. Furry White Balls</h3>Plus d'info : <a href="https://www.golnetwork.c
	om/game/v/17625/">#259</a>\n\n</BODY>\n</HTML>
STATUS:CONFIRMED
CLASS:PUBLIC
URL:https://www.golnetwork.com/game/v/17625/
X-MICROSOFT-CDO-BUSYSTATUS:BUSY
X-MICROSOFT-CDO-IMPORTANCE:1
END:VEVENT
BEGIN:VEVENT
UID:g1o2d@games.golnetwork.com
LOCATION:Rosedale Heights 2
CREATED:20120712T161711Z
DTSTART:20120813T233000Z
DTEND:20120814T004500Z
DTSTAMP:20260419T132819Z
SUMMARY:PDub Strikers vs. AAFC (Black)
DESCRIPTION:AAFC (Black) vs. PDub StrikersPlus d'info : #260
X-ALT-DESC;FMTTYPE=text/html:<!DOCTYPE HTML PUBLIC "-//W3C//DTD HTML 3.2//E
	N">\n<HTML>\n<HEAD>\n<TITLE></TITLE>\n</HEAD>\n<BODY>\n<h3>AAFC (Black) vs.
	 PDub Strikers</h3>Plus d'info : <a href="https://www.golnetwork.com/game/v
	/17624/">#260</a>\n\n</BODY>\n</HTML>
STATUS:CONFIRMED
CLASS:PUBLIC
URL:https://www.golnetwork.com/game/v/17624/
X-MICROSOFT-CDO-BUSYSTATUS:BUSY
X-MICROSOFT-CDO-IMPORTANCE:1
END:VEVENT
BEGIN:VEVENT
UID:g1o2j@games.golnetwork.com
LOCATION:Rosedale Heights 1
GEO:45.10662;-94.578209
CREATED:20120712T161711Z
DTSTART:20120820T221500Z
DTEND:20120820T233000Z
DTSTAMP:20260419T132819Z
SUMMARY:PDub Strikers vs. Dumpster Fire
DESCRIPTION:Dumpster Fire vs. PDub StrikersPlus d'info : #309
X-ALT-DESC;FMTTYPE=text/html:<!DOCTYPE HTML PUBLIC "-//W3C//DTD HTML 3.2//E
	N">\n<HTML>\n<HEAD>\n<TITLE></TITLE>\n</HEAD>\n<BODY>\n<h3>Dumpster Fire vs
	. PDub Strikers</h3>Plus d'info : <a href="https://www.golnetwork.com/game/
	v/17627/">#309</a>\n\n</BODY>\n</HTML>
STATUS:CONFIRMED
CLASS:PUBLIC
URL:https://www.golnetwork.com/game/v/17627/
X-MICROSOFT-CDO-BUSYSTATUS:BUSY
X-MICROSOFT-CDO-IMPORTANCE:1
END:VEVENT
BEGIN:VEVENT
UID:g1o2h@games.golnetwork.com
LOCATION:Rosedale Heights 2
CREATED:20120712T161711Z
DTSTART:20120820T221500Z
DTEND:20120820T233000Z
DTSTAMP:20260419T132819Z
SUMMARY:Team United (Pink) vs. Balls (Orange)
DESCRIPTION:Balls (Orange) vs. Team United (Pink)Plus d'info : #310
X-ALT-DESC;FMTTYPE=text/html:<!DOCTYPE HTML PUBLIC "-//W3C//DTD HTML 3.2//E
	N">\n<HTML>\n<HEAD>\n<TITLE></TITLE>\n</HEAD>\n<BODY>\n<h3>Balls (Orange) v
	s. Team United (Pink)</h3>Plus d'info : <a href="https://www.golnetwork.com
	/game/v/17626/">#310</a>\n\n</BODY>\n</HTML>
STATUS:CONFIRMED
CLASS:PUBLIC
URL:https://www.golnetwork.com/game/v/17626/
X-MICROSOFT-CDO-BUSYSTATUS:BUSY
X-MICROSOFT-CDO-IMPORTANCE:1
END:VEVENT
BEGIN:VEVENT
UID:g1o2n@games.golnetwork.com
LOCATION:Rosedale Heights 1
GEO:45.10662;-94.578209
CREATED:20120712T161711Z
DTSTART:20120820T233000Z
DTEND:20120821T004500Z
DTSTAMP:20260419T132819Z
SUMMARY:Big Chune (Green) vs. AAFC (Black)
DESCRIPTION:AAFC (Black) vs. Big Chune (Green)Plus d'info : #315
X-ALT-DESC;FMTTYPE=text/html:<!DOCTYPE HTML PUBLIC "-//W3C//DTD HTML 3.2//E
	N">\n<HTML>\n<HEAD>\n<TITLE></TITLE>\n</HEAD>\n<BODY>\n<h3>AAFC (Black) vs.
	 Big Chune (Green)</h3>Plus d'info : <a href="https://www.golnetwork.com/ga
	me/v/17629/">#315</a>\n\n</BODY>\n</HTML>
STATUS:CONFIRMED
CLASS:PUBLIC
URL:https://www.golnetwork.com/game/v/17629/
X-MICROSOFT-CDO-BUSYSTATUS:BUSY
X-MICROSOFT-CDO-IMPORTANCE:1
END:VEVENT
BEGIN:VEVENT
UID:g1o2l@games.golnetwork.com
LOCATION:Rosedale Heights 2
CREATED:20120712T161711Z
DTSTART:20120820T233000Z
DTEND:20120821T004500Z
DTSTAMP:20260419T132819Z
SUMMARY:Furry White Balls vs. Papa Barone And The Good Time Gang (Royal Blu
	e)
DESCRIPTION:Papa Barone And The Good Time Gang (Royal Blue) vs. Furry White
	 BallsPlus d'info : #316
X-ALT-DESC;FMTTYPE=text/html:<!DOCTYPE HTML PUBLIC "-//W3C//DTD HTML 3.2//E
	N">\n<HTML>\n<HEAD>\n<TITLE></TITLE>\n</HEAD>\n<BODY>\n<h3>Papa Barone And 
	The Good Time Gang (Royal Blue) vs. Furry White Balls</h3>Plus d'info : <a 
	href="https://www.golnetwork.com/game/v/17628/">#316</a>\n\n</BODY>\n</HTML
	>
STATUS:CONFIRMED
CLASS:PUBLIC
URL:https://www.golnetwork.com/game/v/17628/
X-MICROSOFT-CDO-BUSYSTATUS:BUSY
X-MICROSOFT-CDO-IMPORTANCE:1
END:VEVENT
BEGIN:VEVENT
UID:g1o2p@games.golnetwork.com
LOCATION:Rosedale Heights 1
GEO:45.10662;-94.578209
CREATED:20120712T161711Z
DTSTART:20120827T221500Z
DTEND:20120827T233000Z
DTSTAMP:20260419T132819Z
SUMMARY:Balls (Orange) vs. PDub Strikers
DESCRIPTION:PDub Strikers vs. Balls (Orange)Plus d'info : #362
X-ALT-DESC;FMTTYPE=text/html:<!DOCTYPE HTML PUBLIC "-//W3C//DTD HTML 3.2//E
	N">\n<HTML>\n<HEAD>\n<TITLE></TITLE>\n</HEAD>\n<BODY>\n<h3>PDub Strikers vs
	. Balls (Orange)</h3>Plus d'info : <a href="https://www.golnetwork.com/game
	/v/17630/">#362</a>\n\n</BODY>\n</HTML>
STATUS:CONFIRMED
CLASS:PUBLIC
URL:https://www.golnetwork.com/game/v/17630/
X-MICROSOFT-CDO-BUSYSTATUS:BUSY
X-MICROSOFT-CDO-IMPORTANCE:1
END:VEVENT
BEGIN:VEVENT
UID:g1o30@games.golnetwork.com
LOCATION:Rosedale Heights 2
CREATED:20120712T161711Z
DTSTART:20120827T221500Z
DTEND:20120827T233000Z
DTSTAMP:20260419T132819Z
SUMMARY:Furry White Balls vs. Team United (Pink)
DESCRIPTION:Team United (Pink) vs. Furry White BallsPlus d'info : #363
X-ALT-DESC;FMTTYPE=text/html:<!DOCTYPE HTML PUBLIC "-//W3C//DTD HTML 3.2//E
	N">\n<HTML>\n<HEAD>\n<TITLE></TITLE>\n</HEAD>\n<BODY>\n<h3>Team United (Pin
	k) vs. Furry White Balls</h3>Plus d'info : <a href="https://www.golnetwork.
	com/game/v/17631/">#363</a>\n\n</BODY>\n</HTML>
STATUS:CONFIRMED
CLASS:PUBLIC
URL:https://www.golnetwork.com/game/v/17631/
X-MICROSOFT-CDO-BUSYSTATUS:BUSY
X-MICROSOFT-CDO-IMPORTANCE:1
END:VEVENT
BEGIN:VEVENT
UID:g1o34@games.golnetwork.com
LOCATION:Rosedale Heights 1
GEO:45.10662;-94.578209
CREATED:20120712T161711Z
DTSTART:20120827T233000Z
DTEND:20120828T004500Z
DTSTAMP:20260419T132819Z
SUMMARY:AAFC (Black) vs. Papa Barone And The Good Time Gang (Royal Blue)
DESCRIPTION:Papa Barone And The Good Time Gang (Royal Blue) vs. AAFC (Black
	)Plus d'info : #366
X-ALT-DESC;FMTTYPE=text/html:<!DOCTYPE HTML PUBLIC "-//W3C//DTD HTML 3.2//E
	N">\n<HTML>\n<HEAD>\n<TITLE></TITLE>\n</HEAD>\n<BODY>\n<h3>Papa Barone And 
	The Good Time Gang (Royal Blue) vs. AAFC (Black)</h3>Plus d'info : <a href=
	"https://www.golnetwork.com/game/v/17633/">#366</a>\n\n</BODY>\n</HTML>
STATUS:CONFIRMED
CLASS:PUBLIC
URL:https://www.golnetwork.com/game/v/17633/
X-MICROSOFT-CDO-BUSYSTATUS:BUSY
X-MICROSOFT-CDO-IMPORTANCE:1
END:VEVENT
BEGIN:VEVENT
UID:g1o32@games.golnetwork.com
LOCATION:Rosedale Heights 2
CREATED:20120712T161711Z
DTSTART:20120827T233000Z
DTEND:20120828T004500Z
DTSTAMP:20260419T132819Z
SUMMARY:Big Chune (Green) vs. Dumpster Fire
DESCRIPTION:Dumpster Fire vs. Big Chune (Green)Plus d'info : #367
X-ALT-DESC;FMTTYPE=text/html:<!DOCTYPE HTML PUBLIC "-//W3C//DTD HTML 3.2//E
	N">\n<HTML>\n<HEAD>\n<TITLE></TITLE>\n</HEAD>\n<BODY>\n<h3>Dumpster Fire vs
	. Big Chune (Green)</h3>Plus d'info : <a href="https://www.golnetwork.com/g
	ame/v/17632/">#367</a>\n\n</BODY>\n</HTML>
STATUS:CONFIRMED
CLASS:PUBLIC
URL:https://www.golnetwork.com/game/v/17632/
X-MICROSOFT-CDO-BUSYSTATUS:BUSY
X-MICROSOFT-CDO-IMPORTANCE:1
END:VEVENT
BEGIN:VEVENT
UID:g1q6d@games.golnetwork.com
LOCATION:Rosedale Heights 1
GEO:45.10662;-94.578209
CREATED:20120829T133328Z
DTSTART:20120903T220000Z
DTEND:20120903T231500Z
DTSTAMP:20260419T132819Z
SUMMARY:Balls (Orange) vs. Dumpster Fire
DESCRIPTION:Dumpster Fire vs. Balls (Orange)Plus d'info : #394
X-ALT-DESC;FMTTYPE=text/html:<!DOCTYPE HTML PUBLIC "-//W3C//DTD HTML 3.2//E
	N">\n<HTML>\n<HEAD>\n<TITLE></TITLE>\n</HEAD>\n<BODY>\n<h3>Dumpster Fire vs
	. Balls (Orange)</h3>Plus d'info : <a href="https://www.golnetwork.com/game
	/v/18407/">#394</a>\n\n</BODY>\n</HTML>
STATUS:CONFIRMED
CLASS:PUBLIC
URL:https://www.golnetwork.com/game/v/18407/
X-MICROSOFT-CDO-BUSYSTATUS:BUSY
X-MICROSOFT-CDO-IMPORTANCE:1
END:VEVENT
BEGIN:VEVENT
UID:g1q6b@games.golnetwork.com
LOCATION:Rosedale Heights 2
CREATED:20120829T133258Z
DTSTART:20120903T220000Z
DTEND:20120903T231500Z
DTSTAMP:20260419T132819Z
SUMMARY:Furry White Balls vs. AAFC (Black)
DESCRIPTION:AAFC (Black) vs. Furry White BallsPlus d'info : #395
X-ALT-DESC;FMTTYPE=text/html:<!DOCTYPE HTML PUBLIC "-//W3C//DTD HTML 3.2//E
	N">\n<HTML>\n<HEAD>\n<TITLE></TITLE>\n</HEAD>\n<BODY>\n<h3>AAFC (Black) vs.
	 Furry White Balls</h3>Plus d'info : <a href="https://www.golnetwork.com/ga
	me/v/18406/">#395</a>\n\n</BODY>\n</HTML>
STATUS:CONFIRMED
CLASS:PUBLIC
URL:https://www.golnetwork.com/game/v/18406/
X-MICROSOFT-CDO-BUSYSTATUS:BUSY
X-MICROSOFT-CDO-IMPORTANCE:1
END:VEVENT
BEGIN:VEVENT
UID:g1q6f@games.golnetwork.com
LOCATION:Rosedale Heights 1
GEO:45.10662;-94.578209
CREATED:20120829T133359Z
DTSTART:20120903T230500Z
DTEND:20120904T002000Z
DTSTAMP:20260419T132819Z
SUMMARY:Big Chune (Green) vs. Team United (Pink)
DESCRIPTION:Team United (Pink) vs. Big Chune (Green)Plus d'info : #397
X-ALT-DESC;FMTTYPE=text/html:<!DOCTYPE HTML PUBLIC "-//W3C//DTD HTML 3.2//E
	N">\n<HTML>\n<HEAD>\n<TITLE></TITLE>\n</HEAD>\n<BODY>\n<h3>Team United (Pin
	k) vs. Big Chune (Green)</h3>Plus d'info : <a href="https://www.golnetwork.
	com/game/v/18408/">#397</a>\n\n</BODY>\n</HTML>
STATUS:CONFIRMED
CLASS:PUBLIC
URL:https://www.golnetwork.com/game/v/18408/
X-MICROSOFT-CDO-BUSYSTATUS:BUSY
X-MICROSOFT-CDO-IMPORTANCE:1
END:VEVENT
BEGIN:VEVENT
UID:g1q6h@games.golnetwork.com
LOCATION:Rosedale Heights 2
CREATED:20120829T133424Z
DTSTART:20120903T230500Z
DTEND:20120904T002000Z
DTSTAMP:20260419T132819Z
SUMMARY:Papa Barone And The Good Time Gang (Royal Blue) vs. PDub Strikers
DESCRIPTION:PDub Strikers vs. Papa Barone And The Good Time Gang (Royal Blu
	e)Plus d'info : #398
X-ALT-DESC;FMTTYPE=text/html:<!DOCTYPE HTML PUBLIC "-//W3C//DTD HTML 3.2//E
	N">\n<HTML>\n<HEAD>\n<TITLE></TITLE>\n</HEAD>\n<BODY>\n<h3>PDub Strikers vs
	. Papa Barone And The Good Time Gang (Royal Blue)</h3>Plus d'info : <a href
	="https://www.golnetwork.com/game/v/18409/">#398</a>\n\n</BODY>\n</HTML>
STATUS:CONFIRMED
CLASS:PUBLIC
URL:https://www.golnetwork.com/game/v/18409/
X-MICROSOFT-CDO-BUSYSTATUS:BUSY
X-MICROSOFT-CDO-IMPORTANCE:1
END:VEVENT
BEGIN:VEVENT
UID:g1pdp@games.golnetwork.com
LOCATION:Rosedale Heights 1
GEO:45.10662;-94.578209
CREATED:20120803T152018Z
DTSTART:20120910T220000Z
DTEND:20120910T231500Z
DTSTAMP:20260419T132819Z
SUMMARY:Papa Barone And The Good Time Gang (Royal Blue) vs. Balls (Orange)
DESCRIPTION:Balls (Orange) vs. Papa Barone And The Good Time Gang (Royal Bl
	ue)Plus d'info : #420
X-ALT-DESC;FMTTYPE=text/html:<!DOCTYPE HTML PUBLIC "-//W3C//DTD HTML 3.2//E
	N">\n<HTML>\n<HEAD>\n<TITLE></TITLE>\n</HEAD>\n<BODY>\n<h3>Balls (Orange) v
	s. Papa Barone And The Good Time Gang (Royal Blue)</h3>Plus d'info : <a hre
	f="https://www.golnetwork.com/game/v/18143/">#420</a>\n\n</BODY>\n</HTML>
STATUS:CONFIRMED
CLASS:PUBLIC
URL:https://www.golnetwork.com/game/v/18143/
X-MICROSOFT-CDO-BUSYSTATUS:BUSY
X-MICROSOFT-CDO-IMPORTANCE:1
END:VEVENT
BEGIN:VEVENT
UID:g1pdn@games.golnetwork.com
LOCATION:Rosedale Heights 2
CREATED:20120803T151942Z
DTSTART:20120910T220000Z
DTEND:20120910T231500Z
DTSTAMP:20260419T132819Z
SUMMARY:Dumpster Fire vs. AAFC (Black)
DESCRIPTION:AAFC (Black) vs. Dumpster FirePlus d'info : #421
X-ALT-DESC;FMTTYPE=text/html:<!DOCTYPE HTML PUBLIC "-//W3C//DTD HTML 3.2//E
	N">\n<HTML>\n<HEAD>\n<TITLE></TITLE>\n</HEAD>\n<BODY>\n<h3>AAFC (Black) vs.
	 Dumpster Fire</h3>Plus d'info : <a href="https://www.golnetwork.com/game/v
	/18142/">#421</a>\n\n</BODY>\n</HTML>
STATUS:CONFIRMED
CLASS:PUBLIC
URL:https://www.golnetwork.com/game/v/18142/
X-MICROSOFT-CDO-BUSYSTATUS:BUSY
X-MICROSOFT-CDO-IMPORTANCE:1
END:VEVENT
BEGIN:VEVENT
UID:g1pe0@games.golnetwork.com
LOCATION:Rosedale Heights 1
GEO:45.10662;-94.578209
CREATED:20120803T152047Z
DTSTART:20120910T230000Z
DTEND:20120911T001500Z
DTSTAMP:20260419T132819Z
SUMMARY:Team United (Pink) vs. Big Chune (Green)
DESCRIPTION:Big Chune (Green) vs. Team United (Pink)Plus d'info : #423
X-ALT-DESC;FMTTYPE=text/html:<!DOCTYPE HTML PUBLIC "-//W3C//DTD HTML 3.2//E
	N">\n<HTML>\n<HEAD>\n<TITLE></TITLE>\n</HEAD>\n<BODY>\n<h3>Big Chune (Green
	) vs. Team United (Pink)</h3>Plus d'info : <a href="https://www.golnetwork.
	com/game/v/18144/">#423</a>\n\n</BODY>\n</HTML>
STATUS:CONFIRMED
CLASS:PUBLIC
URL:https://www.golnetwork.com/game/v/18144/
X-MICROSOFT-CDO-BUSYSTATUS:BUSY
X-MICROSOFT-CDO-IMPORTANCE:1
END:VEVENT
BEGIN:VEVENT
UID:g1pe2@games.golnetwork.com
LOCATION:Rosedale Heights 2
CREATED:20120803T152118Z
DTSTART:20120910T230000Z
DTEND:20120911T001500Z
DTSTAMP:20260419T132819Z
SUMMARY:PDub Strikers vs. Furry White Balls
DESCRIPTION:Furry White Balls vs. PDub StrikersPlus d'info : #424
X-ALT-DESC;FMTTYPE=text/html:<!DOCTYPE HTML PUBLIC "-//W3C//DTD HTML 3.2//E
	N">\n<HTML>\n<HEAD>\n<TITLE></TITLE>\n</HEAD>\n<BODY>\n<h3>Furry White Ball
	s vs. PDub Strikers</h3>Plus d'info : <a href="https://www.golnetwork.com/g
	ame/v/18145/">#424</a>\n\n</BODY>\n</HTML>
STATUS:CONFIRMED
CLASS:PUBLIC
URL:https://www.golnetwork.com/game/v/18145/
X-MICROSOFT-CDO-BUSYSTATUS:BUSY
X-MICROSOFT-CDO-IMPORTANCE:1
END:VEVENT
END:VCALENDAR
