BEGIN:VCALENDAR
PRODID:-//gdesolutions.com//MV Framework 1.0.0.1607 Calendar//EN
VERSION:2.0
METHOD:PUBLISH
CALSCALE:GREGORIAN
BEGIN:VEVENT
UID:g1n35@games.golnetwork.com
LOCATION:Riverdale CI Field
GEO:45.10662;-94.578209
CREATED:20120706T200705Z
DTSTART:20120710T220500Z
DTEND:20120710T231500Z
DTSTAMP:20260424T060754Z
SUMMARY:Dirt Squirrel vs. Gravy Train
DESCRIPTION:Gravy Train vs. Dirt SquirrelPlus d'info : #9
X-ALT-DESC;FMTTYPE=text/html:<!DOCTYPE HTML PUBLIC "-//W3C//DTD HTML 3.2//E
	N">\n<HTML>\n<HEAD>\n<TITLE></TITLE>\n</HEAD>\n<BODY>\n<h3>Gravy Train vs. 
	Dirt Squirrel</h3>Plus d'info : <a href="https://www.golnetwork.com/game/v/
	17269/">#9</a>\n\n</BODY>\n</HTML>
STATUS:CONFIRMED
CLASS:PUBLIC
URL:https://www.golnetwork.com/game/v/17269/
X-MICROSOFT-CDO-BUSYSTATUS:BUSY
X-MICROSOFT-CDO-IMPORTANCE:1
END:VEVENT
BEGIN:VEVENT
UID:g1n37@games.golnetwork.com
LOCATION:Blake St. PS Field
CREATED:20120706T200705Z
DTSTART:20120710T220500Z
DTEND:20120710T231500Z
DTSTAMP:20260424T060754Z
SUMMARY:Red Menace FC vs. No Merci
DESCRIPTION:No Merci vs. Red Menace FCPlus d'info : #10
X-ALT-DESC;FMTTYPE=text/html:<!DOCTYPE HTML PUBLIC "-//W3C//DTD HTML 3.2//E
	N">\n<HTML>\n<HEAD>\n<TITLE></TITLE>\n</HEAD>\n<BODY>\n<h3>No Merci vs. Red
	 Menace FC</h3>Plus d'info : <a href="https://www.golnetwork.com/game/v/172
	70/">#10</a>\n\n</BODY>\n</HTML>
STATUS:CONFIRMED
CLASS:PUBLIC
URL:https://www.golnetwork.com/game/v/17270/
X-MICROSOFT-CDO-BUSYSTATUS:BUSY
X-MICROSOFT-CDO-IMPORTANCE:1
END:VEVENT
BEGIN:VEVENT
UID:g1n39@games.golnetwork.com
LOCATION:Riverdale CI Field
GEO:45.10662;-94.578209
CREATED:20120706T200705Z
DTSTART:20120710T231500Z
DTEND:20120711T002500Z
DTSTAMP:20260424T060754Z
SUMMARY:TNT vs. XTSC Avalanche
DESCRIPTION:XTSC Avalanche vs. TNTPlus d'info : #14
X-ALT-DESC;FMTTYPE=text/html:<!DOCTYPE HTML PUBLIC "-//W3C//DTD HTML 3.2//E
	N">\n<HTML>\n<HEAD>\n<TITLE></TITLE>\n</HEAD>\n<BODY>\n<h3>XTSC Avalanche v
	s. TNT</h3>Plus d'info : <a href="https://www.golnetwork.com/game/v/17271/"
	>#14</a>\n\n</BODY>\n</HTML>
STATUS:CONFIRMED
CLASS:PUBLIC
URL:https://www.golnetwork.com/game/v/17271/
X-MICROSOFT-CDO-BUSYSTATUS:BUSY
X-MICROSOFT-CDO-IMPORTANCE:1
END:VEVENT
BEGIN:VEVENT
UID:g1n3b@games.golnetwork.com
LOCATION:Blake St. PS Field
CREATED:20120706T200705Z
DTSTART:20120710T231500Z
DTEND:20120711T002500Z
DTSTAMP:20260424T060754Z
SUMMARY:Red Menace FC vs. Bob's Used Car Lot
DESCRIPTION:Bob's Used Car Lot vs. Red Menace FCPlus d'info : #15
X-ALT-DESC;FMTTYPE=text/html:<!DOCTYPE HTML PUBLIC "-//W3C//DTD HTML 3.2//E
	N">\n<HTML>\n<HEAD>\n<TITLE></TITLE>\n</HEAD>\n<BODY>\n<h3>Bob's Used Car L
	ot vs. Red Menace FC</h3>Plus d'info : <a href="https://www.golnetwork.com/
	game/v/17272/">#15</a>\n\n</BODY>\n</HTML>
STATUS:CONFIRMED
CLASS:PUBLIC
URL:https://www.golnetwork.com/game/v/17272/
X-MICROSOFT-CDO-BUSYSTATUS:BUSY
X-MICROSOFT-CDO-IMPORTANCE:1
END:VEVENT
BEGIN:VEVENT
UID:g1n3d@games.golnetwork.com
LOCATION:Riverdale CI Field
GEO:45.10662;-94.578209
CREATED:20120706T200705Z
DTSTART:20120717T220500Z
DTEND:20120717T231500Z
DTSTAMP:20260424T060754Z
SUMMARY:TNT vs. Gravy Train
DESCRIPTION:Gravy Train vs. TNTPlus d'info : #56
X-ALT-DESC;FMTTYPE=text/html:<!DOCTYPE HTML PUBLIC "-//W3C//DTD HTML 3.2//E
	N">\n<HTML>\n<HEAD>\n<TITLE></TITLE>\n</HEAD>\n<BODY>\n<h3>Gravy Train vs. 
	TNT</h3>Plus d'info : <a href="https://www.golnetwork.com/game/v/17273/">#5
	6</a>\n\n</BODY>\n</HTML>
STATUS:CONFIRMED
CLASS:PUBLIC
URL:https://www.golnetwork.com/game/v/17273/
X-MICROSOFT-CDO-BUSYSTATUS:BUSY
X-MICROSOFT-CDO-IMPORTANCE:1
END:VEVENT
BEGIN:VEVENT
UID:g1n3f@games.golnetwork.com
LOCATION:Blake St. PS Field
CREATED:20120706T200705Z
DTSTART:20120717T220500Z
DTEND:20120717T231500Z
DTSTAMP:20260424T060754Z
SUMMARY:XTSC Avalanche vs. No Merci
DESCRIPTION:No Merci vs. XTSC AvalanchePlus d'info : #57
X-ALT-DESC;FMTTYPE=text/html:<!DOCTYPE HTML PUBLIC "-//W3C//DTD HTML 3.2//E
	N">\n<HTML>\n<HEAD>\n<TITLE></TITLE>\n</HEAD>\n<BODY>\n<h3>No Merci vs. XTS
	C Avalanche</h3>Plus d'info : <a href="https://www.golnetwork.com/game/v/17
	274/">#57</a>\n\n</BODY>\n</HTML>
STATUS:CONFIRMED
CLASS:PUBLIC
URL:https://www.golnetwork.com/game/v/17274/
X-MICROSOFT-CDO-BUSYSTATUS:BUSY
X-MICROSOFT-CDO-IMPORTANCE:1
END:VEVENT
BEGIN:VEVENT
UID:g1n3h@games.golnetwork.com
LOCATION:Riverdale CI Field
GEO:45.10662;-94.578209
CREATED:20120706T200705Z
DTSTART:20120717T231500Z
DTEND:20120718T002500Z
DTSTAMP:20260424T060754Z
SUMMARY:TNT vs. Dirt Squirrel
DESCRIPTION:Dirt Squirrel vs. TNTPlus d'info : #61
X-ALT-DESC;FMTTYPE=text/html:<!DOCTYPE HTML PUBLIC "-//W3C//DTD HTML 3.2//E
	N">\n<HTML>\n<HEAD>\n<TITLE></TITLE>\n</HEAD>\n<BODY>\n<h3>Dirt Squirrel vs
	. TNT</h3>Plus d'info : <a href="https://www.golnetwork.com/game/v/17275/">
	#61</a>\n\n</BODY>\n</HTML>
STATUS:CONFIRMED
CLASS:PUBLIC
URL:https://www.golnetwork.com/game/v/17275/
X-MICROSOFT-CDO-BUSYSTATUS:BUSY
X-MICROSOFT-CDO-IMPORTANCE:1
END:VEVENT
BEGIN:VEVENT
UID:g1n3j@games.golnetwork.com
LOCATION:Blake St. PS Field
CREATED:20120706T200705Z
DTSTART:20120717T231500Z
DTEND:20120718T002500Z
DTSTAMP:20260424T060754Z
SUMMARY:XTSC Avalanche vs. Bob's Used Car Lot
DESCRIPTION:Bob's Used Car Lot vs. XTSC AvalanchePlus d'info : #62
X-ALT-DESC;FMTTYPE=text/html:<!DOCTYPE HTML PUBLIC "-//W3C//DTD HTML 3.2//E
	N">\n<HTML>\n<HEAD>\n<TITLE></TITLE>\n</HEAD>\n<BODY>\n<h3>Bob's Used Car L
	ot vs. XTSC Avalanche</h3>Plus d'info : <a href="https://www.golnetwork.com
	/game/v/17276/">#62</a>\n\n</BODY>\n</HTML>
STATUS:CONFIRMED
CLASS:PUBLIC
URL:https://www.golnetwork.com/game/v/17276/
X-MICROSOFT-CDO-BUSYSTATUS:BUSY
X-MICROSOFT-CDO-IMPORTANCE:1
END:VEVENT
BEGIN:VEVENT
UID:g1n3l@games.golnetwork.com
LOCATION:Riverdale CI Field
GEO:45.10662;-94.578209
CREATED:20120706T200705Z
DTSTART:20120724T220500Z
DTEND:20120724T231500Z
DTSTAMP:20260424T060754Z
SUMMARY:No Merci vs. Gravy Train
DESCRIPTION:Gravy Train vs. No MerciPlus d'info : #114
X-ALT-DESC;FMTTYPE=text/html:<!DOCTYPE HTML PUBLIC "-//W3C//DTD HTML 3.2//E
	N">\n<HTML>\n<HEAD>\n<TITLE></TITLE>\n</HEAD>\n<BODY>\n<h3>Gravy Train vs. 
	No Merci</h3>Plus d'info : <a href="https://www.golnetwork.com/game/v/17277
	/">#114</a>\n\n</BODY>\n</HTML>
STATUS:CONFIRMED
CLASS:PUBLIC
URL:https://www.golnetwork.com/game/v/17277/
X-MICROSOFT-CDO-BUSYSTATUS:BUSY
X-MICROSOFT-CDO-IMPORTANCE:1
END:VEVENT
BEGIN:VEVENT
UID:g1n3n@games.golnetwork.com
LOCATION:Blake St. PS Field
CREATED:20120706T200705Z
DTSTART:20120724T220500Z
DTEND:20120724T231500Z
DTSTAMP:20260424T060754Z
SUMMARY:XTSC Avalanche vs. Red Menace FC
DESCRIPTION:Red Menace FC vs. XTSC AvalanchePlus d'info : #115
X-ALT-DESC;FMTTYPE=text/html:<!DOCTYPE HTML PUBLIC "-//W3C//DTD HTML 3.2//E
	N">\n<HTML>\n<HEAD>\n<TITLE></TITLE>\n</HEAD>\n<BODY>\n<h3>Red Menace FC vs
	. XTSC Avalanche</h3>Plus d'info : <a href="https://www.golnetwork.com/game
	/v/17278/">#115</a>\n\n</BODY>\n</HTML>
STATUS:CONFIRMED
CLASS:PUBLIC
URL:https://www.golnetwork.com/game/v/17278/
X-MICROSOFT-CDO-BUSYSTATUS:BUSY
X-MICROSOFT-CDO-IMPORTANCE:1
END:VEVENT
BEGIN:VEVENT
UID:g1n3p@games.golnetwork.com
LOCATION:Riverdale CI Field
GEO:45.10662;-94.578209
CREATED:20120706T200705Z
DTSTART:20120724T231500Z
DTEND:20120725T002500Z
DTSTAMP:20260424T060754Z
SUMMARY:No Merci vs. Dirt Squirrel
DESCRIPTION:Dirt Squirrel vs. No MerciPlus d'info : #119
X-ALT-DESC;FMTTYPE=text/html:<!DOCTYPE HTML PUBLIC "-//W3C//DTD HTML 3.2//E
	N">\n<HTML>\n<HEAD>\n<TITLE></TITLE>\n</HEAD>\n<BODY>\n<h3>Dirt Squirrel vs
	. No Merci</h3>Plus d'info : <a href="https://www.golnetwork.com/game/v/172
	79/">#119</a>\n\n</BODY>\n</HTML>
STATUS:CONFIRMED
CLASS:PUBLIC
URL:https://www.golnetwork.com/game/v/17279/
X-MICROSOFT-CDO-BUSYSTATUS:BUSY
X-MICROSOFT-CDO-IMPORTANCE:1
END:VEVENT
BEGIN:VEVENT
UID:g1n40@games.golnetwork.com
LOCATION:Blake St. PS Field
CREATED:20120706T200705Z
DTSTART:20120724T231500Z
DTEND:20120725T002500Z
DTSTAMP:20260424T060754Z
SUMMARY:Gravy Train vs. Bob's Used Car Lot
DESCRIPTION:Bob's Used Car Lot vs. Gravy TrainPlus d'info : #120
X-ALT-DESC;FMTTYPE=text/html:<!DOCTYPE HTML PUBLIC "-//W3C//DTD HTML 3.2//E
	N">\n<HTML>\n<HEAD>\n<TITLE></TITLE>\n</HEAD>\n<BODY>\n<h3>Bob's Used Car L
	ot vs. Gravy Train</h3>Plus d'info : <a href="https://www.golnetwork.com/ga
	me/v/17280/">#120</a>\n\n</BODY>\n</HTML>
STATUS:CONFIRMED
CLASS:PUBLIC
URL:https://www.golnetwork.com/game/v/17280/
X-MICROSOFT-CDO-BUSYSTATUS:BUSY
X-MICROSOFT-CDO-IMPORTANCE:1
END:VEVENT
BEGIN:VEVENT
UID:g1n42@games.golnetwork.com
LOCATION:Riverdale CI Field
GEO:45.10662;-94.578209
CREATED:20120706T200705Z
DTSTART:20120731T220500Z
DTEND:20120731T231500Z
DTSTAMP:20260424T060754Z
SUMMARY:No Merci vs. TNT
DESCRIPTION:TNT vs. No MerciPlus d'info : #170
X-ALT-DESC;FMTTYPE=text/html:<!DOCTYPE HTML PUBLIC "-//W3C//DTD HTML 3.2//E
	N">\n<HTML>\n<HEAD>\n<TITLE></TITLE>\n</HEAD>\n<BODY>\n<h3>TNT vs. No Merci
	</h3>Plus d'info : <a href="https://www.golnetwork.com/game/v/17281/">#170<
	/a>\n\n</BODY>\n</HTML>
STATUS:CONFIRMED
CLASS:PUBLIC
URL:https://www.golnetwork.com/game/v/17281/
X-MICROSOFT-CDO-BUSYSTATUS:BUSY
X-MICROSOFT-CDO-IMPORTANCE:1
END:VEVENT
BEGIN:VEVENT
UID:g1n44@games.golnetwork.com
LOCATION:Blake St. PS Field
CREATED:20120706T200705Z
DTSTART:20120731T220500Z
DTEND:20120731T231500Z
DTSTAMP:20260424T060754Z
SUMMARY:Gravy Train vs. Red Menace FC
DESCRIPTION:Red Menace FC vs. Gravy TrainPlus d'info : #171
X-ALT-DESC;FMTTYPE=text/html:<!DOCTYPE HTML PUBLIC "-//W3C//DTD HTML 3.2//E
	N">\n<HTML>\n<HEAD>\n<TITLE></TITLE>\n</HEAD>\n<BODY>\n<h3>Red Menace FC vs
	. Gravy Train</h3>Plus d'info : <a href="https://www.golnetwork.com/game/v/
	17282/">#171</a>\n\n</BODY>\n</HTML>
STATUS:CONFIRMED
CLASS:PUBLIC
URL:https://www.golnetwork.com/game/v/17282/
X-MICROSOFT-CDO-BUSYSTATUS:BUSY
X-MICROSOFT-CDO-IMPORTANCE:1
END:VEVENT
BEGIN:VEVENT
UID:g1n46@games.golnetwork.com
LOCATION:Riverdale CI Field
GEO:45.10662;-94.578209
CREATED:20120706T200705Z
DTSTART:20120731T231500Z
DTEND:20120801T002500Z
DTSTAMP:20260424T060754Z
SUMMARY:Bob's Used Car Lot vs. Dirt Squirrel
DESCRIPTION:Dirt Squirrel vs. Bob's Used Car LotPlus d'info : #175
X-ALT-DESC;FMTTYPE=text/html:<!DOCTYPE HTML PUBLIC "-//W3C//DTD HTML 3.2//E
	N">\n<HTML>\n<HEAD>\n<TITLE></TITLE>\n</HEAD>\n<BODY>\n<h3>Dirt Squirrel vs
	. Bob's Used Car Lot</h3>Plus d'info : <a href="https://www.golnetwork.com/
	game/v/17283/">#175</a>\n\n</BODY>\n</HTML>
STATUS:CONFIRMED
CLASS:PUBLIC
URL:https://www.golnetwork.com/game/v/17283/
X-MICROSOFT-CDO-BUSYSTATUS:BUSY
X-MICROSOFT-CDO-IMPORTANCE:1
END:VEVENT
BEGIN:VEVENT
UID:g1n48@games.golnetwork.com
LOCATION:Blake St. PS Field
CREATED:20120706T200705Z
DTSTART:20120731T231500Z
DTEND:20120801T002500Z
DTSTAMP:20260424T060754Z
SUMMARY:Gravy Train vs. XTSC Avalanche
DESCRIPTION:XTSC Avalanche vs. Gravy TrainPlus d'info : #176
X-ALT-DESC;FMTTYPE=text/html:<!DOCTYPE HTML PUBLIC "-//W3C//DTD HTML 3.2//E
	N">\n<HTML>\n<HEAD>\n<TITLE></TITLE>\n</HEAD>\n<BODY>\n<h3>XTSC Avalanche v
	s. Gravy Train</h3>Plus d'info : <a href="https://www.golnetwork.com/game/v
	/17284/">#176</a>\n\n</BODY>\n</HTML>
STATUS:CONFIRMED
CLASS:PUBLIC
URL:https://www.golnetwork.com/game/v/17284/
X-MICROSOFT-CDO-BUSYSTATUS:BUSY
X-MICROSOFT-CDO-IMPORTANCE:1
END:VEVENT
BEGIN:VEVENT
UID:g1n4a@games.golnetwork.com
LOCATION:Riverdale CI Field
GEO:45.10662;-94.578209
CREATED:20120706T200705Z
DTSTART:20120807T220500Z
DTEND:20120807T231500Z
DTSTAMP:20260424T060754Z
SUMMARY:Bob's Used Car Lot vs. TNT
DESCRIPTION:TNT vs. Bob's Used Car LotPlus d'info : #211
X-ALT-DESC;FMTTYPE=text/html:<!DOCTYPE HTML PUBLIC "-//W3C//DTD HTML 3.2//E
	N">\n<HTML>\n<HEAD>\n<TITLE></TITLE>\n</HEAD>\n<BODY>\n<h3>TNT vs. Bob's Us
	ed Car Lot</h3>Plus d'info : <a href="https://www.golnetwork.com/game/v/172
	85/">#211</a>\n\n</BODY>\n</HTML>
STATUS:CONFIRMED
CLASS:PUBLIC
URL:https://www.golnetwork.com/game/v/17285/
X-MICROSOFT-CDO-BUSYSTATUS:BUSY
X-MICROSOFT-CDO-IMPORTANCE:1
END:VEVENT
BEGIN:VEVENT
UID:g1n4c@games.golnetwork.com
LOCATION:Blake St. PS Field
CREATED:20120706T200705Z
DTSTART:20120807T220500Z
DTEND:20120807T231500Z
DTSTAMP:20260424T060754Z
SUMMARY:Dirt Squirrel vs. Red Menace FC
DESCRIPTION:Red Menace FC vs. Dirt SquirrelPlus d'info : #212
X-ALT-DESC;FMTTYPE=text/html:<!DOCTYPE HTML PUBLIC "-//W3C//DTD HTML 3.2//E
	N">\n<HTML>\n<HEAD>\n<TITLE></TITLE>\n</HEAD>\n<BODY>\n<h3>Red Menace FC vs
	. Dirt Squirrel</h3>Plus d'info : <a href="https://www.golnetwork.com/game/
	v/17286/">#212</a>\n\n</BODY>\n</HTML>
STATUS:CONFIRMED
CLASS:PUBLIC
URL:https://www.golnetwork.com/game/v/17286/
X-MICROSOFT-CDO-BUSYSTATUS:BUSY
X-MICROSOFT-CDO-IMPORTANCE:1
END:VEVENT
BEGIN:VEVENT
UID:g1n4e@games.golnetwork.com
LOCATION:Riverdale CI Field
GEO:45.10662;-94.578209
CREATED:20120706T200705Z
DTSTART:20120807T231500Z
DTEND:20120808T002500Z
DTSTAMP:20260424T060754Z
SUMMARY:Bob's Used Car Lot vs. No Merci
DESCRIPTION:No Merci vs. Bob's Used Car LotPlus d'info : #216
X-ALT-DESC;FMTTYPE=text/html:<!DOCTYPE HTML PUBLIC "-//W3C//DTD HTML 3.2//E
	N">\n<HTML>\n<HEAD>\n<TITLE></TITLE>\n</HEAD>\n<BODY>\n<h3>No Merci vs. Bob
	's Used Car Lot</h3>Plus d'info : <a href="https://www.golnetwork.com/game/
	v/17287/">#216</a>\n\n</BODY>\n</HTML>
STATUS:CONFIRMED
CLASS:PUBLIC
URL:https://www.golnetwork.com/game/v/17287/
X-MICROSOFT-CDO-BUSYSTATUS:BUSY
X-MICROSOFT-CDO-IMPORTANCE:1
END:VEVENT
BEGIN:VEVENT
UID:g1n4g@games.golnetwork.com
LOCATION:Blake St. PS Field
CREATED:20120706T200705Z
DTSTART:20120807T231500Z
DTEND:20120808T002500Z
DTSTAMP:20260424T060754Z
SUMMARY:Dirt Squirrel vs. XTSC Avalanche
DESCRIPTION:XTSC Avalanche vs. Dirt SquirrelPlus d'info : #217
X-ALT-DESC;FMTTYPE=text/html:<!DOCTYPE HTML PUBLIC "-//W3C//DTD HTML 3.2//E
	N">\n<HTML>\n<HEAD>\n<TITLE></TITLE>\n</HEAD>\n<BODY>\n<h3>XTSC Avalanche v
	s. Dirt Squirrel</h3>Plus d'info : <a href="https://www.golnetwork.com/game
	/v/17288/">#217</a>\n\n</BODY>\n</HTML>
STATUS:CONFIRMED
CLASS:PUBLIC
URL:https://www.golnetwork.com/game/v/17288/
X-MICROSOFT-CDO-BUSYSTATUS:BUSY
X-MICROSOFT-CDO-IMPORTANCE:1
END:VEVENT
BEGIN:VEVENT
UID:g1n4i@games.golnetwork.com
LOCATION:Riverdale CI Field
GEO:45.10662;-94.578209
CREATED:20120706T200705Z
DTSTART:20120814T220500Z
DTEND:20120814T231500Z
DTSTAMP:20260424T060754Z
SUMMARY:Red Menace FC vs. TNT
DESCRIPTION:TNT vs. Red Menace FCPlus d'info : #263
X-ALT-DESC;FMTTYPE=text/html:<!DOCTYPE HTML PUBLIC "-//W3C//DTD HTML 3.2//E
	N">\n<HTML>\n<HEAD>\n<TITLE></TITLE>\n</HEAD>\n<BODY>\n<h3>TNT vs. Red Mena
	ce FC</h3>Plus d'info : <a href="https://www.golnetwork.com/game/v/17289/">
	#263</a>\n\n</BODY>\n</HTML>
STATUS:CONFIRMED
CLASS:PUBLIC
URL:https://www.golnetwork.com/game/v/17289/
X-MICROSOFT-CDO-BUSYSTATUS:BUSY
X-MICROSOFT-CDO-IMPORTANCE:1
END:VEVENT
BEGIN:VEVENT
UID:g1n4k@games.golnetwork.com
LOCATION:Blake St. PS Field
CREATED:20120706T200705Z
DTSTART:20120814T220500Z
DTEND:20120814T231500Z
DTSTAMP:20260424T060754Z
SUMMARY:XTSC Avalanche vs. Gravy Train
DESCRIPTION:Gravy Train vs. XTSC AvalanchePlus d'info : #264
X-ALT-DESC;FMTTYPE=text/html:<!DOCTYPE HTML PUBLIC "-//W3C//DTD HTML 3.2//E
	N">\n<HTML>\n<HEAD>\n<TITLE></TITLE>\n</HEAD>\n<BODY>\n<h3>Gravy Train vs. 
	XTSC Avalanche</h3>Plus d'info : <a href="https://www.golnetwork.com/game/v
	/17290/">#264</a>\n\n</BODY>\n</HTML>
STATUS:CONFIRMED
CLASS:PUBLIC
URL:https://www.golnetwork.com/game/v/17290/
X-MICROSOFT-CDO-BUSYSTATUS:BUSY
X-MICROSOFT-CDO-IMPORTANCE:1
END:VEVENT
BEGIN:VEVENT
UID:g1n4m@games.golnetwork.com
LOCATION:Riverdale CI Field
GEO:45.10662;-94.578209
CREATED:20120706T200705Z
DTSTART:20120814T231500Z
DTEND:20120815T002500Z
DTSTAMP:20260424T060754Z
SUMMARY:Red Menace FC vs. Dirt Squirrel
DESCRIPTION:Dirt Squirrel vs. Red Menace FCPlus d'info : #268
X-ALT-DESC;FMTTYPE=text/html:<!DOCTYPE HTML PUBLIC "-//W3C//DTD HTML 3.2//E
	N">\n<HTML>\n<HEAD>\n<TITLE></TITLE>\n</HEAD>\n<BODY>\n<h3>Dirt Squirrel vs
	. Red Menace FC</h3>Plus d'info : <a href="https://www.golnetwork.com/game/
	v/17291/">#268</a>\n\n</BODY>\n</HTML>
STATUS:CONFIRMED
CLASS:PUBLIC
URL:https://www.golnetwork.com/game/v/17291/
X-MICROSOFT-CDO-BUSYSTATUS:BUSY
X-MICROSOFT-CDO-IMPORTANCE:1
END:VEVENT
BEGIN:VEVENT
UID:g1n4o@games.golnetwork.com
LOCATION:Blake St. PS Field
CREATED:20120706T200705Z
DTSTART:20120814T231500Z
DTEND:20120815T002500Z
DTSTAMP:20260424T060754Z
SUMMARY:No Merci vs. Bob's Used Car Lot
DESCRIPTION:Bob's Used Car Lot vs. No MerciPlus d'info : #269
X-ALT-DESC;FMTTYPE=text/html:<!DOCTYPE HTML PUBLIC "-//W3C//DTD HTML 3.2//E
	N">\n<HTML>\n<HEAD>\n<TITLE></TITLE>\n</HEAD>\n<BODY>\n<h3>Bob's Used Car L
	ot vs. No Merci</h3>Plus d'info : <a href="https://www.golnetwork.com/game/
	v/17292/">#269</a>\n\n</BODY>\n</HTML>
STATUS:CONFIRMED
CLASS:PUBLIC
URL:https://www.golnetwork.com/game/v/17292/
X-MICROSOFT-CDO-BUSYSTATUS:BUSY
X-MICROSOFT-CDO-IMPORTANCE:1
END:VEVENT
BEGIN:VEVENT
UID:g1n4q@games.golnetwork.com
LOCATION:Riverdale CI Field
GEO:45.10662;-94.578209
CREATED:20120706T200705Z
DTSTART:20120821T220500Z
DTEND:20120821T231500Z
DTSTAMP:20260424T060754Z
SUMMARY:XTSC Avalanche vs. Dirt Squirrel
DESCRIPTION:Dirt Squirrel vs. XTSC AvalanchePlus d'info : #317
X-ALT-DESC;FMTTYPE=text/html:<!DOCTYPE HTML PUBLIC "-//W3C//DTD HTML 3.2//E
	N">\n<HTML>\n<HEAD>\n<TITLE></TITLE>\n</HEAD>\n<BODY>\n<h3>Dirt Squirrel vs
	. XTSC Avalanche</h3>Plus d'info : <a href="https://www.golnetwork.com/game
	/v/17293/">#317</a>\n\n</BODY>\n</HTML>
STATUS:CONFIRMED
CLASS:PUBLIC
URL:https://www.golnetwork.com/game/v/17293/
X-MICROSOFT-CDO-BUSYSTATUS:BUSY
X-MICROSOFT-CDO-IMPORTANCE:1
END:VEVENT
BEGIN:VEVENT
UID:g1n51@games.golnetwork.com
LOCATION:Blake St. PS Field
CREATED:20120706T200705Z
DTSTART:20120821T220500Z
DTEND:20120821T231500Z
DTSTAMP:20260424T060754Z
SUMMARY:No Merci vs. TNT
DESCRIPTION:TNT vs. No MerciPlus d'info : #318
X-ALT-DESC;FMTTYPE=text/html:<!DOCTYPE HTML PUBLIC "-//W3C//DTD HTML 3.2//E
	N">\n<HTML>\n<HEAD>\n<TITLE></TITLE>\n</HEAD>\n<BODY>\n<h3>TNT vs. No Merci
	</h3>Plus d'info : <a href="https://www.golnetwork.com/game/v/17294/">#318<
	/a>\n\n</BODY>\n</HTML>
STATUS:CONFIRMED
CLASS:PUBLIC
URL:https://www.golnetwork.com/game/v/17294/
X-MICROSOFT-CDO-BUSYSTATUS:BUSY
X-MICROSOFT-CDO-IMPORTANCE:1
END:VEVENT
BEGIN:VEVENT
UID:g1n53@games.golnetwork.com
LOCATION:Riverdale CI Field
GEO:45.10662;-94.578209
CREATED:20120706T200705Z
DTSTART:20120821T231500Z
DTEND:20120822T002500Z
DTSTAMP:20260424T060754Z
SUMMARY:Bob's Used Car Lot vs. Gravy Train
DESCRIPTION:Gravy Train vs. Bob's Used Car LotPlus d'info : #322
X-ALT-DESC;FMTTYPE=text/html:<!DOCTYPE HTML PUBLIC "-//W3C//DTD HTML 3.2//E
	N">\n<HTML>\n<HEAD>\n<TITLE></TITLE>\n</HEAD>\n<BODY>\n<h3>Gravy Train vs. 
	Bob's Used Car Lot</h3>Plus d'info : <a href="https://www.golnetwork.com/ga
	me/v/17295/">#322</a>\n\n</BODY>\n</HTML>
STATUS:CONFIRMED
CLASS:PUBLIC
URL:https://www.golnetwork.com/game/v/17295/
X-MICROSOFT-CDO-BUSYSTATUS:BUSY
X-MICROSOFT-CDO-IMPORTANCE:1
END:VEVENT
BEGIN:VEVENT
UID:g1n55@games.golnetwork.com
LOCATION:Blake St. PS Field
CREATED:20120706T200705Z
DTSTART:20120821T231500Z
DTEND:20120822T002500Z
DTSTAMP:20260424T060754Z
SUMMARY:Red Menace FC vs. TNT
DESCRIPTION:TNT vs. Red Menace FCPlus d'info : #323
X-ALT-DESC;FMTTYPE=text/html:<!DOCTYPE HTML PUBLIC "-//W3C//DTD HTML 3.2//E
	N">\n<HTML>\n<HEAD>\n<TITLE></TITLE>\n</HEAD>\n<BODY>\n<h3>TNT vs. Red Mena
	ce FC</h3>Plus d'info : <a href="https://www.golnetwork.com/game/v/17296/">
	#323</a>\n\n</BODY>\n</HTML>
STATUS:CONFIRMED
CLASS:PUBLIC
URL:https://www.golnetwork.com/game/v/17296/
X-MICROSOFT-CDO-BUSYSTATUS:BUSY
X-MICROSOFT-CDO-IMPORTANCE:1
END:VEVENT
END:VCALENDAR
