BEGIN:VCALENDAR
PRODID:-//gdesolutions.com//MV Framework 1.0.0.1607 Calendar//EN
VERSION:2.0
METHOD:PUBLISH
CALSCALE:GREGORIAN
BEGIN:VEVENT
UID:g1n5f@games.golnetwork.com
LOCATION:Don Valley JHS Field
CREATED:20120706T204238Z
DTSTART:20120710T221500Z
DTEND:20120710T232500Z
DTSTAMP:20260419T153526Z
SUMMARY:Blue Balls vs. Black & Yellow & Brown
DESCRIPTION:Black & Yellow & Brown vs. Blue BallsPlus d'info : #13
X-ALT-DESC;FMTTYPE=text/html:<!DOCTYPE HTML PUBLIC "-//W3C//DTD HTML 3.2//E
	N">\n<HTML>\n<HEAD>\n<TITLE></TITLE>\n</HEAD>\n<BODY>\n<h3>Black & Yellow &
	 Brown vs. Blue Balls</h3>Plus d'info : <a href="https://www.golnetwork.com
	/game/v/17301/">#13</a>\n\n</BODY>\n</HTML>
STATUS:CONFIRMED
CLASS:PUBLIC
URL:https://www.golnetwork.com/game/v/17301/
X-MICROSOFT-CDO-BUSYSTATUS:BUSY
X-MICROSOFT-CDO-IMPORTANCE:1
END:VEVENT
BEGIN:VEVENT
UID:g1n5h@games.golnetwork.com
LOCATION:Don Valley JHS Field
CREATED:20120706T204238Z
DTSTART:20120710T232500Z
DTEND:20120711T003500Z
DTSTAMP:20260419T153526Z
SUMMARY:Bredrin FC vs. Top Shelf
DESCRIPTION:Top Shelf vs. Bredrin FCPlus d'info : #18
X-ALT-DESC;FMTTYPE=text/html:<!DOCTYPE HTML PUBLIC "-//W3C//DTD HTML 3.2//E
	N">\n<HTML>\n<HEAD>\n<TITLE></TITLE>\n</HEAD>\n<BODY>\n<h3>Top Shelf vs. Br
	edrin FC</h3>Plus d'info : <a href="https://www.golnetwork.com/game/v/17302
	/">#18</a>\n\n</BODY>\n</HTML>
STATUS:CONFIRMED
CLASS:PUBLIC
URL:https://www.golnetwork.com/game/v/17302/
X-MICROSOFT-CDO-BUSYSTATUS:BUSY
X-MICROSOFT-CDO-IMPORTANCE:1
END:VEVENT
BEGIN:VEVENT
UID:g1n5j@games.golnetwork.com
LOCATION:Don Valley JHS Field
CREATED:20120706T204238Z
DTSTART:20120717T221500Z
DTEND:20120717T232500Z
DTSTAMP:20260419T153526Z
SUMMARY:Bredrin FC vs. Blue Balls
DESCRIPTION:Blue Balls vs. Bredrin FCPlus d'info : #60
X-ALT-DESC;FMTTYPE=text/html:<!DOCTYPE HTML PUBLIC "-//W3C//DTD HTML 3.2//E
	N">\n<HTML>\n<HEAD>\n<TITLE></TITLE>\n</HEAD>\n<BODY>\n<h3>Blue Balls vs. B
	redrin FC</h3>Plus d'info : <a href="https://www.golnetwork.com/game/v/1730
	3/">#60</a>\n\n</BODY>\n</HTML>
STATUS:CONFIRMED
CLASS:PUBLIC
URL:https://www.golnetwork.com/game/v/17303/
X-MICROSOFT-CDO-BUSYSTATUS:BUSY
X-MICROSOFT-CDO-IMPORTANCE:1
END:VEVENT
BEGIN:VEVENT
UID:g1n5l@games.golnetwork.com
LOCATION:Don Valley JHS Field
CREATED:20120706T204238Z
DTSTART:20120717T232500Z
DTEND:20120718T003500Z
DTSTAMP:20260419T153526Z
SUMMARY:Top Shelf vs. Black & Yellow & Brown
DESCRIPTION:Black & Yellow & Brown vs. Top ShelfPlus d'info : #65
X-ALT-DESC;FMTTYPE=text/html:<!DOCTYPE HTML PUBLIC "-//W3C//DTD HTML 3.2//E
	N">\n<HTML>\n<HEAD>\n<TITLE></TITLE>\n</HEAD>\n<BODY>\n<h3>Black & Yellow &
	 Brown vs. Top Shelf</h3>Plus d'info : <a href="https://www.golnetwork.com/
	game/v/17304/">#65</a>\n\n</BODY>\n</HTML>
STATUS:CONFIRMED
CLASS:PUBLIC
URL:https://www.golnetwork.com/game/v/17304/
X-MICROSOFT-CDO-BUSYSTATUS:BUSY
X-MICROSOFT-CDO-IMPORTANCE:1
END:VEVENT
BEGIN:VEVENT
UID:g1n5n@games.golnetwork.com
LOCATION:Don Valley JHS Field
CREATED:20120706T204238Z
DTSTART:20120724T221500Z
DTEND:20120724T232500Z
DTSTAMP:20260419T153526Z
SUMMARY:Blue Balls vs. Top Shelf
DESCRIPTION:Top Shelf vs. Blue BallsPlus d'info : #118
X-ALT-DESC;FMTTYPE=text/html:<!DOCTYPE HTML PUBLIC "-//W3C//DTD HTML 3.2//E
	N">\n<HTML>\n<HEAD>\n<TITLE></TITLE>\n</HEAD>\n<BODY>\n<h3>Top Shelf vs. Bl
	ue Balls</h3>Plus d'info : <a href="https://www.golnetwork.com/game/v/17305
	/">#118</a>\n\n</BODY>\n</HTML>
STATUS:CONFIRMED
CLASS:PUBLIC
URL:https://www.golnetwork.com/game/v/17305/
X-MICROSOFT-CDO-BUSYSTATUS:BUSY
X-MICROSOFT-CDO-IMPORTANCE:1
END:VEVENT
BEGIN:VEVENT
UID:g1n5p@games.golnetwork.com
LOCATION:Don Valley JHS Field
CREATED:20120706T204238Z
DTSTART:20120724T232500Z
DTEND:20120725T003500Z
DTSTAMP:20260419T153526Z
SUMMARY:Black & Yellow & Brown vs. Bredrin FC
DESCRIPTION:Bredrin FC vs. Black & Yellow & BrownPlus d'info : #123
X-ALT-DESC;FMTTYPE=text/html:<!DOCTYPE HTML PUBLIC "-//W3C//DTD HTML 3.2//E
	N">\n<HTML>\n<HEAD>\n<TITLE></TITLE>\n</HEAD>\n<BODY>\n<h3>Bredrin FC vs. B
	lack & Yellow & Brown</h3>Plus d'info : <a href="https://www.golnetwork.com
	/game/v/17306/">#123</a>\n\n</BODY>\n</HTML>
STATUS:CONFIRMED
CLASS:PUBLIC
URL:https://www.golnetwork.com/game/v/17306/
X-MICROSOFT-CDO-BUSYSTATUS:BUSY
X-MICROSOFT-CDO-IMPORTANCE:1
END:VEVENT
BEGIN:VEVENT
UID:g1n60@games.golnetwork.com
LOCATION:Don Valley JHS Field
CREATED:20120706T204238Z
DTSTART:20120731T221500Z
DTEND:20120731T232500Z
DTSTAMP:20260419T153526Z
SUMMARY:Top Shelf vs. Bredrin FC
DESCRIPTION:Bredrin FC vs. Top ShelfPlus d'info : #174
X-ALT-DESC;FMTTYPE=text/html:<!DOCTYPE HTML PUBLIC "-//W3C//DTD HTML 3.2//E
	N">\n<HTML>\n<HEAD>\n<TITLE></TITLE>\n</HEAD>\n<BODY>\n<h3>Bredrin FC vs. T
	op Shelf</h3>Plus d'info : <a href="https://www.golnetwork.com/game/v/17307
	/">#174</a>\n\n</BODY>\n</HTML>
STATUS:CONFIRMED
CLASS:PUBLIC
URL:https://www.golnetwork.com/game/v/17307/
X-MICROSOFT-CDO-BUSYSTATUS:BUSY
X-MICROSOFT-CDO-IMPORTANCE:1
END:VEVENT
BEGIN:VEVENT
UID:g1n62@games.golnetwork.com
LOCATION:Don Valley JHS Field
CREATED:20120706T204238Z
DTSTART:20120731T232500Z
DTEND:20120801T003500Z
DTSTAMP:20260419T153526Z
SUMMARY:Blue Balls vs. Black & Yellow & Brown
DESCRIPTION:Black & Yellow & Brown vs. Blue BallsPlus d'info : #179
X-ALT-DESC;FMTTYPE=text/html:<!DOCTYPE HTML PUBLIC "-//W3C//DTD HTML 3.2//E
	N">\n<HTML>\n<HEAD>\n<TITLE></TITLE>\n</HEAD>\n<BODY>\n<h3>Black & Yellow &
	 Brown vs. Blue Balls</h3>Plus d'info : <a href="https://www.golnetwork.com
	/game/v/17308/">#179</a>\n\n</BODY>\n</HTML>
STATUS:CONFIRMED
CLASS:PUBLIC
URL:https://www.golnetwork.com/game/v/17308/
X-MICROSOFT-CDO-BUSYSTATUS:BUSY
X-MICROSOFT-CDO-IMPORTANCE:1
END:VEVENT
BEGIN:VEVENT
UID:g1n64@games.golnetwork.com
LOCATION:Don Valley JHS Field
CREATED:20120706T204238Z
DTSTART:20120807T221500Z
DTEND:20120807T232500Z
DTSTAMP:20260419T153526Z
SUMMARY:Blue Balls vs. Top Shelf
DESCRIPTION:Top Shelf vs. Blue BallsPlus d'info : #215
X-ALT-DESC;FMTTYPE=text/html:<!DOCTYPE HTML PUBLIC "-//W3C//DTD HTML 3.2//E
	N">\n<HTML>\n<HEAD>\n<TITLE></TITLE>\n</HEAD>\n<BODY>\n<h3>Top Shelf vs. Bl
	ue Balls</h3>Plus d'info : <a href="https://www.golnetwork.com/game/v/17309
	/">#215</a>\n\n</BODY>\n</HTML>
STATUS:CONFIRMED
CLASS:PUBLIC
URL:https://www.golnetwork.com/game/v/17309/
X-MICROSOFT-CDO-BUSYSTATUS:BUSY
X-MICROSOFT-CDO-IMPORTANCE:1
END:VEVENT
BEGIN:VEVENT
UID:g1n66@games.golnetwork.com
LOCATION:Don Valley JHS Field
CREATED:20120706T204238Z
DTSTART:20120807T232500Z
DTEND:20120808T003500Z
DTSTAMP:20260419T153526Z
SUMMARY:Black & Yellow & Brown vs. Bredrin FC
DESCRIPTION:Bredrin FC vs. Black & Yellow & BrownPlus d'info : #220
X-ALT-DESC;FMTTYPE=text/html:<!DOCTYPE HTML PUBLIC "-//W3C//DTD HTML 3.2//E
	N">\n<HTML>\n<HEAD>\n<TITLE></TITLE>\n</HEAD>\n<BODY>\n<h3>Bredrin FC vs. B
	lack & Yellow & Brown</h3>Plus d'info : <a href="https://www.golnetwork.com
	/game/v/17310/">#220</a>\n\n</BODY>\n</HTML>
STATUS:CONFIRMED
CLASS:PUBLIC
URL:https://www.golnetwork.com/game/v/17310/
X-MICROSOFT-CDO-BUSYSTATUS:BUSY
X-MICROSOFT-CDO-IMPORTANCE:1
END:VEVENT
BEGIN:VEVENT
UID:g1n68@games.golnetwork.com
LOCATION:Don Valley JHS Field
CREATED:20120706T204238Z
DTSTART:20120814T221500Z
DTEND:20120814T232500Z
DTSTAMP:20260419T153526Z
SUMMARY:Top Shelf vs. Black & Yellow & Brown
DESCRIPTION:Black & Yellow & Brown vs. Top ShelfPlus d'info : #267
X-ALT-DESC;FMTTYPE=text/html:<!DOCTYPE HTML PUBLIC "-//W3C//DTD HTML 3.2//E
	N">\n<HTML>\n<HEAD>\n<TITLE></TITLE>\n</HEAD>\n<BODY>\n<h3>Black & Yellow &
	 Brown vs. Top Shelf</h3>Plus d'info : <a href="https://www.golnetwork.com/
	game/v/17311/">#267</a>\n\n</BODY>\n</HTML>
STATUS:CONFIRMED
CLASS:PUBLIC
URL:https://www.golnetwork.com/game/v/17311/
X-MICROSOFT-CDO-BUSYSTATUS:BUSY
X-MICROSOFT-CDO-IMPORTANCE:1
END:VEVENT
BEGIN:VEVENT
UID:g1n6a@games.golnetwork.com
LOCATION:Don Valley JHS Field
CREATED:20120706T204238Z
DTSTART:20120814T232500Z
DTEND:20120815T003500Z
DTSTAMP:20260419T153526Z
SUMMARY:Bredrin FC vs. Blue Balls
DESCRIPTION:Blue Balls vs. Bredrin FCPlus d'info : #272
X-ALT-DESC;FMTTYPE=text/html:<!DOCTYPE HTML PUBLIC "-//W3C//DTD HTML 3.2//E
	N">\n<HTML>\n<HEAD>\n<TITLE></TITLE>\n</HEAD>\n<BODY>\n<h3>Blue Balls vs. B
	redrin FC</h3>Plus d'info : <a href="https://www.golnetwork.com/game/v/1731
	2/">#272</a>\n\n</BODY>\n</HTML>
STATUS:CONFIRMED
CLASS:PUBLIC
URL:https://www.golnetwork.com/game/v/17312/
X-MICROSOFT-CDO-BUSYSTATUS:BUSY
X-MICROSOFT-CDO-IMPORTANCE:1
END:VEVENT
BEGIN:VEVENT
UID:g1n6c@games.golnetwork.com
LOCATION:Don Valley JHS Field
CREATED:20120706T204238Z
DTSTART:20120821T221500Z
DTEND:20120821T232500Z
DTSTAMP:20260419T153526Z
SUMMARY:Top Shelf vs. Bredrin FC
DESCRIPTION:Bredrin FC vs. Top ShelfPlus d'info : #321
X-ALT-DESC;FMTTYPE=text/html:<!DOCTYPE HTML PUBLIC "-//W3C//DTD HTML 3.2//E
	N">\n<HTML>\n<HEAD>\n<TITLE></TITLE>\n</HEAD>\n<BODY>\n<h3>Bredrin FC vs. T
	op Shelf</h3>Plus d'info : <a href="https://www.golnetwork.com/game/v/17313
	/">#321</a>\n\n</BODY>\n</HTML>
STATUS:CONFIRMED
CLASS:PUBLIC
URL:https://www.golnetwork.com/game/v/17313/
X-MICROSOFT-CDO-BUSYSTATUS:BUSY
X-MICROSOFT-CDO-IMPORTANCE:1
END:VEVENT
BEGIN:VEVENT
UID:g1n6e@games.golnetwork.com
LOCATION:Don Valley JHS Field
CREATED:20120706T204238Z
DTSTART:20120821T232500Z
DTEND:20120822T003500Z
DTSTAMP:20260419T153526Z
SUMMARY:Blue Balls vs. Black & Yellow & Brown
DESCRIPTION:Black & Yellow & Brown vs. Blue BallsPlus d'info : #326
X-ALT-DESC;FMTTYPE=text/html:<!DOCTYPE HTML PUBLIC "-//W3C//DTD HTML 3.2//E
	N">\n<HTML>\n<HEAD>\n<TITLE></TITLE>\n</HEAD>\n<BODY>\n<h3>Black & Yellow &
	 Brown vs. Blue Balls</h3>Plus d'info : <a href="https://www.golnetwork.com
	/game/v/17314/">#326</a>\n\n</BODY>\n</HTML>
STATUS:CONFIRMED
CLASS:PUBLIC
URL:https://www.golnetwork.com/game/v/17314/
X-MICROSOFT-CDO-BUSYSTATUS:BUSY
X-MICROSOFT-CDO-IMPORTANCE:1
END:VEVENT
BEGIN:VEVENT
UID:g1n6g@games.golnetwork.com
LOCATION:Don Valley JHS Field
CREATED:20120706T204238Z
DTSTART:20120828T221500Z
DTEND:20120828T232500Z
DTSTAMP:20260419T153526Z
SUMMARY:Blue Balls vs. Top Shelf
DESCRIPTION:Top Shelf vs. Blue BallsPlus d'info : #370
X-ALT-DESC;FMTTYPE=text/html:<!DOCTYPE HTML PUBLIC "-//W3C//DTD HTML 3.2//E
	N">\n<HTML>\n<HEAD>\n<TITLE></TITLE>\n</HEAD>\n<BODY>\n<h3>Top Shelf vs. Bl
	ue Balls</h3>Plus d'info : <a href="https://www.golnetwork.com/game/v/17315
	/">#370</a>\n\n</BODY>\n</HTML>
STATUS:CONFIRMED
CLASS:PUBLIC
URL:https://www.golnetwork.com/game/v/17315/
X-MICROSOFT-CDO-BUSYSTATUS:BUSY
X-MICROSOFT-CDO-IMPORTANCE:1
END:VEVENT
BEGIN:VEVENT
UID:g1n6i@games.golnetwork.com
LOCATION:Don Valley JHS Field
CREATED:20120706T204238Z
DTSTART:20120828T232500Z
DTEND:20120829T003500Z
DTSTAMP:20260419T153526Z
SUMMARY:Black & Yellow & Brown vs. Bredrin FC
DESCRIPTION:Bredrin FC vs. Black & Yellow & BrownPlus d'info : #373
X-ALT-DESC;FMTTYPE=text/html:<!DOCTYPE HTML PUBLIC "-//W3C//DTD HTML 3.2//E
	N">\n<HTML>\n<HEAD>\n<TITLE></TITLE>\n</HEAD>\n<BODY>\n<h3>Bredrin FC vs. B
	lack & Yellow & Brown</h3>Plus d'info : <a href="https://www.golnetwork.com
	/game/v/17316/">#373</a>\n\n</BODY>\n</HTML>
STATUS:CONFIRMED
CLASS:PUBLIC
URL:https://www.golnetwork.com/game/v/17316/
X-MICROSOFT-CDO-BUSYSTATUS:BUSY
X-MICROSOFT-CDO-IMPORTANCE:1
END:VEVENT
END:VCALENDAR
