BEGIN:VCALENDAR
PRODID:-//gdesolutions.com//MV Framework 1.0.0.1607 Calendar//EN
VERSION:2.0
METHOD:PUBLISH
CALSCALE:GREGORIAN
BEGIN:VEVENT
UID:g1npp@games.golnetwork.com
LOCATION:Cherry Beach East 1
CREATED:20120710T220520Z
DTSTART:20120718T010000Z
DTEND:20120718T020000Z
DTSTAMP:20260423T024557Z
SUMMARY:Vale vs. The Show Ponies
DESCRIPTION:The Show Ponies vs. ValePlus d'info : #7
X-ALT-DESC;FMTTYPE=text/html:<!DOCTYPE HTML PUBLIC "-//W3C//DTD HTML 3.2//E
	N">\n<HTML>\n<HEAD>\n<TITLE></TITLE>\n</HEAD>\n<BODY>\n<h3>The Show Ponies 
	vs. Vale</h3>Plus d'info : <a href="https://www.golnetwork.com/game/v/17576
	/">#7</a>\n\n</BODY>\n</HTML>
STATUS:CONFIRMED
CLASS:PUBLIC
URL:https://www.golnetwork.com/game/v/17576/
X-MICROSOFT-CDO-BUSYSTATUS:BUSY
X-MICROSOFT-CDO-IMPORTANCE:1
END:VEVENT
BEGIN:VEVENT
UID:g1nq0@games.golnetwork.com
LOCATION:Cherry Beach East 1
CREATED:20120710T220520Z
DTSTART:20120718T020000Z
DTEND:20120718T030000Z
DTSTAMP:20260423T024557Z
SUMMARY:BALLS vs. EDM FC
DESCRIPTION:EDM FC vs. BALLSPlus d'info : #10
X-ALT-DESC;FMTTYPE=text/html:<!DOCTYPE HTML PUBLIC "-//W3C//DTD HTML 3.2//E
	N">\n<HTML>\n<HEAD>\n<TITLE></TITLE>\n</HEAD>\n<BODY>\n<h3>EDM FC vs. BALLS
	</h3>Plus d'info : <a href="https://www.golnetwork.com/game/v/17577/">#10</
	a>\n\n</BODY>\n</HTML>
STATUS:CONFIRMED
CLASS:PUBLIC
URL:https://www.golnetwork.com/game/v/17577/
X-MICROSOFT-CDO-BUSYSTATUS:BUSY
X-MICROSOFT-CDO-IMPORTANCE:1
END:VEVENT
BEGIN:VEVENT
UID:g1nq2@games.golnetwork.com
LOCATION:Cherry Beach East 1
CREATED:20120710T220520Z
DTSTART:20120718T030000Z
DTEND:20120718T040000Z
DTSTAMP:20260423T024557Z
SUMMARY:XXXtsc vs. Shut your legs or I'll meg ya
DESCRIPTION:Shut your legs or I'll meg ya vs. XXXtscPlus d'info : #13
X-ALT-DESC;FMTTYPE=text/html:<!DOCTYPE HTML PUBLIC "-//W3C//DTD HTML 3.2//E
	N">\n<HTML>\n<HEAD>\n<TITLE></TITLE>\n</HEAD>\n<BODY>\n<h3>Shut your legs o
	r I'll meg ya vs. XXXtsc</h3>Plus d'info : <a href="https://www.golnetwork.
	com/game/v/17578/">#13</a>\n\n</BODY>\n</HTML>
STATUS:CONFIRMED
CLASS:PUBLIC
URL:https://www.golnetwork.com/game/v/17578/
X-MICROSOFT-CDO-BUSYSTATUS:BUSY
X-MICROSOFT-CDO-IMPORTANCE:1
END:VEVENT
BEGIN:VEVENT
UID:g1nq4@games.golnetwork.com
LOCATION:Cherry Beach East 1
CREATED:20120710T220520Z
DTSTART:20120725T010000Z
DTEND:20120725T020000Z
DTSTAMP:20260423T024557Z
SUMMARY:Shut your legs or I'll meg ya vs. EDM FC
DESCRIPTION:EDM FC vs. Shut your legs or I'll meg yaPlus d'info : #42
X-ALT-DESC;FMTTYPE=text/html:<!DOCTYPE HTML PUBLIC "-//W3C//DTD HTML 3.2//E
	N">\n<HTML>\n<HEAD>\n<TITLE></TITLE>\n</HEAD>\n<BODY>\n<h3>EDM FC vs. Shut 
	your legs or I'll meg ya</h3>Plus d'info : <a href="https://www.golnetwork.
	com/game/v/17579/">#42</a>\n\n</BODY>\n</HTML>
STATUS:CONFIRMED
CLASS:PUBLIC
URL:https://www.golnetwork.com/game/v/17579/
X-MICROSOFT-CDO-BUSYSTATUS:BUSY
X-MICROSOFT-CDO-IMPORTANCE:1
END:VEVENT
BEGIN:VEVENT
UID:g1nq6@games.golnetwork.com
LOCATION:Cherry Beach East 1
CREATED:20120710T220520Z
DTSTART:20120725T020000Z
DTEND:20120725T030000Z
DTSTAMP:20260423T024557Z
SUMMARY:XXXtsc vs. The Show Ponies
DESCRIPTION:The Show Ponies vs. XXXtscPlus d'info : #45
X-ALT-DESC;FMTTYPE=text/html:<!DOCTYPE HTML PUBLIC "-//W3C//DTD HTML 3.2//E
	N">\n<HTML>\n<HEAD>\n<TITLE></TITLE>\n</HEAD>\n<BODY>\n<h3>The Show Ponies 
	vs. XXXtsc</h3>Plus d'info : <a href="https://www.golnetwork.com/game/v/175
	80/">#45</a>\n\n</BODY>\n</HTML>
STATUS:CONFIRMED
CLASS:PUBLIC
URL:https://www.golnetwork.com/game/v/17580/
X-MICROSOFT-CDO-BUSYSTATUS:BUSY
X-MICROSOFT-CDO-IMPORTANCE:1
END:VEVENT
BEGIN:VEVENT
UID:g1nq8@games.golnetwork.com
LOCATION:Cherry Beach East 1
CREATED:20120710T220520Z
DTSTART:20120725T030000Z
DTEND:20120725T040000Z
DTSTAMP:20260423T024557Z
SUMMARY:BALLS vs. Vale
DESCRIPTION:Vale vs. BALLSPlus d'info : #48
X-ALT-DESC;FMTTYPE=text/html:<!DOCTYPE HTML PUBLIC "-//W3C//DTD HTML 3.2//E
	N">\n<HTML>\n<HEAD>\n<TITLE></TITLE>\n</HEAD>\n<BODY>\n<h3>Vale vs. BALLS</
	h3>Plus d'info : <a href="https://www.golnetwork.com/game/v/17581/">#48</a>
	\n\n</BODY>\n</HTML>
STATUS:CONFIRMED
CLASS:PUBLIC
URL:https://www.golnetwork.com/game/v/17581/
X-MICROSOFT-CDO-BUSYSTATUS:BUSY
X-MICROSOFT-CDO-IMPORTANCE:1
END:VEVENT
BEGIN:VEVENT
UID:g1nqa@games.golnetwork.com
LOCATION:Cherry Beach East 1
CREATED:20120710T220520Z
DTSTART:20120801T010000Z
DTEND:20120801T020000Z
DTSTAMP:20260423T024557Z
SUMMARY:Vale vs. XXXtsc
DESCRIPTION:XXXtsc vs. ValePlus d'info : #65
X-ALT-DESC;FMTTYPE=text/html:<!DOCTYPE HTML PUBLIC "-//W3C//DTD HTML 3.2//E
	N">\n<HTML>\n<HEAD>\n<TITLE></TITLE>\n</HEAD>\n<BODY>\n<h3>XXXtsc vs. Vale<
	/h3>Plus d'info : <a href="https://www.golnetwork.com/game/v/17582/">#65</a
	>\n\n</BODY>\n</HTML>
STATUS:CONFIRMED
CLASS:PUBLIC
URL:https://www.golnetwork.com/game/v/17582/
X-MICROSOFT-CDO-BUSYSTATUS:BUSY
X-MICROSOFT-CDO-IMPORTANCE:1
END:VEVENT
BEGIN:VEVENT
UID:g1nqc@games.golnetwork.com
LOCATION:Cherry Beach East 1
CREATED:20120710T220520Z
DTSTART:20120801T020000Z
DTEND:20120801T030000Z
DTSTAMP:20260423T024557Z
SUMMARY:Shut your legs or I'll meg ya vs. BALLS
DESCRIPTION:BALLS vs. Shut your legs or I'll meg yaPlus d'info : #68
X-ALT-DESC;FMTTYPE=text/html:<!DOCTYPE HTML PUBLIC "-//W3C//DTD HTML 3.2//E
	N">\n<HTML>\n<HEAD>\n<TITLE></TITLE>\n</HEAD>\n<BODY>\n<h3>BALLS vs. Shut y
	our legs or I'll meg ya</h3>Plus d'info : <a href="https://www.golnetwork.c
	om/game/v/17583/">#68</a>\n\n</BODY>\n</HTML>
STATUS:CONFIRMED
CLASS:PUBLIC
URL:https://www.golnetwork.com/game/v/17583/
X-MICROSOFT-CDO-BUSYSTATUS:BUSY
X-MICROSOFT-CDO-IMPORTANCE:1
END:VEVENT
BEGIN:VEVENT
UID:g1nqe@games.golnetwork.com
LOCATION:Cherry Beach East 1
CREATED:20120710T220520Z
DTSTART:20120801T030000Z
DTEND:20120801T040000Z
DTSTAMP:20260423T024557Z
SUMMARY:EDM FC vs. The Show Ponies
DESCRIPTION:The Show Ponies vs. EDM FCPlus d'info : #71
X-ALT-DESC;FMTTYPE=text/html:<!DOCTYPE HTML PUBLIC "-//W3C//DTD HTML 3.2//E
	N">\n<HTML>\n<HEAD>\n<TITLE></TITLE>\n</HEAD>\n<BODY>\n<h3>The Show Ponies 
	vs. EDM FC</h3>Plus d'info : <a href="https://www.golnetwork.com/game/v/175
	84/">#71</a>\n\n</BODY>\n</HTML>
STATUS:CONFIRMED
CLASS:PUBLIC
URL:https://www.golnetwork.com/game/v/17584/
X-MICROSOFT-CDO-BUSYSTATUS:BUSY
X-MICROSOFT-CDO-IMPORTANCE:1
END:VEVENT
BEGIN:VEVENT
UID:g1nqg@games.golnetwork.com
LOCATION:Cherry Beach East 1
CREATED:20120710T220520Z
DTSTART:20120808T010000Z
DTEND:20120808T020000Z
DTSTAMP:20260423T024557Z
SUMMARY:The Show Ponies vs. BALLS
DESCRIPTION:BALLS vs. The Show PoniesPlus d'info : #88
X-ALT-DESC;FMTTYPE=text/html:<!DOCTYPE HTML PUBLIC "-//W3C//DTD HTML 3.2//E
	N">\n<HTML>\n<HEAD>\n<TITLE></TITLE>\n</HEAD>\n<BODY>\n<h3>BALLS vs. The Sh
	ow Ponies</h3>Plus d'info : <a href="https://www.golnetwork.com/game/v/1758
	5/">#88</a>\n\n</BODY>\n</HTML>
STATUS:CONFIRMED
CLASS:PUBLIC
URL:https://www.golnetwork.com/game/v/17585/
X-MICROSOFT-CDO-BUSYSTATUS:BUSY
X-MICROSOFT-CDO-IMPORTANCE:1
END:VEVENT
BEGIN:VEVENT
UID:g1nqi@games.golnetwork.com
LOCATION:Cherry Beach East 1
CREATED:20120710T220520Z
DTSTART:20120808T020000Z
DTEND:20120808T030000Z
DTSTAMP:20260423T024557Z
SUMMARY:EDM FC vs. XXXtsc
DESCRIPTION:XXXtsc vs. EDM FCPlus d'info : #91
X-ALT-DESC;FMTTYPE=text/html:<!DOCTYPE HTML PUBLIC "-//W3C//DTD HTML 3.2//E
	N">\n<HTML>\n<HEAD>\n<TITLE></TITLE>\n</HEAD>\n<BODY>\n<h3>XXXtsc vs. EDM F
	C</h3>Plus d'info : <a href="https://www.golnetwork.com/game/v/17586/">#91<
	/a>\n\n</BODY>\n</HTML>
STATUS:CONFIRMED
CLASS:PUBLIC
URL:https://www.golnetwork.com/game/v/17586/
X-MICROSOFT-CDO-BUSYSTATUS:BUSY
X-MICROSOFT-CDO-IMPORTANCE:1
END:VEVENT
BEGIN:VEVENT
UID:g1nqk@games.golnetwork.com
LOCATION:Cherry Beach East 1
CREATED:20120710T220520Z
DTSTART:20120808T030000Z
DTEND:20120808T040000Z
DTSTAMP:20260423T024557Z
SUMMARY:Shut your legs or I'll meg ya vs. Vale
DESCRIPTION:Vale vs. Shut your legs or I'll meg yaPlus d'info : #94
X-ALT-DESC;FMTTYPE=text/html:<!DOCTYPE HTML PUBLIC "-//W3C//DTD HTML 3.2//E
	N">\n<HTML>\n<HEAD>\n<TITLE></TITLE>\n</HEAD>\n<BODY>\n<h3>Vale vs. Shut yo
	ur legs or I'll meg ya</h3>Plus d'info : <a href="https://www.golnetwork.co
	m/game/v/17587/">#94</a>\n\n</BODY>\n</HTML>
STATUS:CONFIRMED
CLASS:PUBLIC
URL:https://www.golnetwork.com/game/v/17587/
X-MICROSOFT-CDO-BUSYSTATUS:BUSY
X-MICROSOFT-CDO-IMPORTANCE:1
END:VEVENT
BEGIN:VEVENT
UID:g1nqm@games.golnetwork.com
LOCATION:Cherry Beach East 1
CREATED:20120710T220520Z
DTSTART:20120815T010000Z
DTEND:20120815T020000Z
DTSTAMP:20260423T024557Z
SUMMARY:Vale vs. EDM FC
DESCRIPTION:EDM FC vs. ValePlus d'info : #123
X-ALT-DESC;FMTTYPE=text/html:<!DOCTYPE HTML PUBLIC "-//W3C//DTD HTML 3.2//E
	N">\n<HTML>\n<HEAD>\n<TITLE></TITLE>\n</HEAD>\n<BODY>\n<h3>EDM FC vs. Vale<
	/h3>Plus d'info : <a href="https://www.golnetwork.com/game/v/17588/">#123</
	a>\n\n</BODY>\n</HTML>
STATUS:CONFIRMED
CLASS:PUBLIC
URL:https://www.golnetwork.com/game/v/17588/
X-MICROSOFT-CDO-BUSYSTATUS:BUSY
X-MICROSOFT-CDO-IMPORTANCE:1
END:VEVENT
BEGIN:VEVENT
UID:g1nqo@games.golnetwork.com
LOCATION:Cherry Beach East 1
CREATED:20120710T220520Z
DTSTART:20120815T020000Z
DTEND:20120815T030000Z
DTSTAMP:20260423T024557Z
SUMMARY:The Show Ponies vs. Shut your legs or I'll meg ya
DESCRIPTION:Shut your legs or I'll meg ya vs. The Show PoniesPlus d'info : 
	#126
X-ALT-DESC;FMTTYPE=text/html:<!DOCTYPE HTML PUBLIC "-//W3C//DTD HTML 3.2//E
	N">\n<HTML>\n<HEAD>\n<TITLE></TITLE>\n</HEAD>\n<BODY>\n<h3>Shut your legs o
	r I'll meg ya vs. The Show Ponies</h3>Plus d'info : <a href="https://www.go
	lnetwork.com/game/v/17589/">#126</a>\n\n</BODY>\n</HTML>
STATUS:CONFIRMED
CLASS:PUBLIC
URL:https://www.golnetwork.com/game/v/17589/
X-MICROSOFT-CDO-BUSYSTATUS:BUSY
X-MICROSOFT-CDO-IMPORTANCE:1
END:VEVENT
BEGIN:VEVENT
UID:g1nqq@games.golnetwork.com
LOCATION:Cherry Beach East 1
CREATED:20120710T220520Z
DTSTART:20120815T030000Z
DTEND:20120815T040000Z
DTSTAMP:20260423T024557Z
SUMMARY:BALLS vs. XXXtsc
DESCRIPTION:XXXtsc vs. BALLSPlus d'info : #129
X-ALT-DESC;FMTTYPE=text/html:<!DOCTYPE HTML PUBLIC "-//W3C//DTD HTML 3.2//E
	N">\n<HTML>\n<HEAD>\n<TITLE></TITLE>\n</HEAD>\n<BODY>\n<h3>XXXtsc vs. BALLS
	</h3>Plus d'info : <a href="https://www.golnetwork.com/game/v/17590/">#129<
	/a>\n\n</BODY>\n</HTML>
STATUS:CONFIRMED
CLASS:PUBLIC
URL:https://www.golnetwork.com/game/v/17590/
X-MICROSOFT-CDO-BUSYSTATUS:BUSY
X-MICROSOFT-CDO-IMPORTANCE:1
END:VEVENT
BEGIN:VEVENT
UID:g1plh@games.golnetwork.com
LOCATION:Cherry Beach East 1
CREATED:20120820T092826Z
DTSTART:20120822T010000Z
DTEND:20120822T020000Z
DTSTAMP:20260423T024557Z
SUMMARY:Vale vs. XXXtsc
DESCRIPTION:XXXtsc vs. ValePlus d'info : #132
X-ALT-DESC;FMTTYPE=text/html:<!DOCTYPE HTML PUBLIC "-//W3C//DTD HTML 3.2//E
	N">\n<HTML>\n<HEAD>\n<TITLE></TITLE>\n</HEAD>\n<BODY>\n<h3>XXXtsc vs. Vale<
	/h3>Plus d'info : <a href="https://www.golnetwork.com/game/v/18247/">#132</
	a>\n\n</BODY>\n</HTML>
STATUS:CONFIRMED
CLASS:PUBLIC
URL:https://www.golnetwork.com/game/v/18247/
X-MICROSOFT-CDO-BUSYSTATUS:BUSY
X-MICROSOFT-CDO-IMPORTANCE:1
END:VEVENT
BEGIN:VEVENT
UID:g1plj@games.golnetwork.com
LOCATION:Cherry Beach East 1
CREATED:20120820T092826Z
DTSTART:20120822T020000Z
DTEND:20120822T030000Z
DTSTAMP:20260423T024557Z
SUMMARY:EDM FC vs. Shut your legs or I'll meg ya
DESCRIPTION:Shut your legs or I'll meg ya vs. EDM FCPlus d'info : #135
X-ALT-DESC;FMTTYPE=text/html:<!DOCTYPE HTML PUBLIC "-//W3C//DTD HTML 3.2//E
	N">\n<HTML>\n<HEAD>\n<TITLE></TITLE>\n</HEAD>\n<BODY>\n<h3>Shut your legs o
	r I'll meg ya vs. EDM FC</h3>Plus d'info : <a href="https://www.golnetwork.
	com/game/v/18248/">#135</a>\n\n</BODY>\n</HTML>
STATUS:CONFIRMED
CLASS:PUBLIC
URL:https://www.golnetwork.com/game/v/18248/
X-MICROSOFT-CDO-BUSYSTATUS:BUSY
X-MICROSOFT-CDO-IMPORTANCE:1
END:VEVENT
BEGIN:VEVENT
UID:g1pll@games.golnetwork.com
LOCATION:Cherry Beach East 1
CREATED:20120820T092826Z
DTSTART:20120822T030000Z
DTEND:20120822T040000Z
DTSTAMP:20260423T024557Z
SUMMARY:BALLS vs. The Show Ponies
DESCRIPTION:The Show Ponies vs. BALLSPlus d'info : #138
X-ALT-DESC;FMTTYPE=text/html:<!DOCTYPE HTML PUBLIC "-//W3C//DTD HTML 3.2//E
	N">\n<HTML>\n<HEAD>\n<TITLE></TITLE>\n</HEAD>\n<BODY>\n<h3>The Show Ponies 
	vs. BALLS</h3>Plus d'info : <a href="https://www.golnetwork.com/game/v/1824
	9/">#138</a>\n\n</BODY>\n</HTML>
STATUS:CONFIRMED
CLASS:PUBLIC
URL:https://www.golnetwork.com/game/v/18249/
X-MICROSOFT-CDO-BUSYSTATUS:BUSY
X-MICROSOFT-CDO-IMPORTANCE:1
END:VEVENT
BEGIN:VEVENT
UID:g1pma@games.golnetwork.com
LOCATION:Cherry Beach East 1
CREATED:20120820T093433Z
DTSTART:20120829T010000Z
DTEND:20120829T020000Z
DTSTAMP:20260423T024557Z
SUMMARY:Vale vs. BALLS
DESCRIPTION:BALLS vs. ValePlus d'info : #155
X-ALT-DESC;FMTTYPE=text/html:<!DOCTYPE HTML PUBLIC "-//W3C//DTD HTML 3.2//E
	N">\n<HTML>\n<HEAD>\n<TITLE></TITLE>\n</HEAD>\n<BODY>\n<h3>BALLS vs. Vale</
	h3>Plus d'info : <a href="https://www.golnetwork.com/game/v/18257/">#155</a
	>\n\n</BODY>\n</HTML>
STATUS:CONFIRMED
CLASS:PUBLIC
URL:https://www.golnetwork.com/game/v/18257/
X-MICROSOFT-CDO-BUSYSTATUS:BUSY
X-MICROSOFT-CDO-IMPORTANCE:1
END:VEVENT
BEGIN:VEVENT
UID:g1pmc@games.golnetwork.com
LOCATION:Cherry Beach East 1
CREATED:20120820T093442Z
DTSTART:20120829T020000Z
DTEND:20120829T030000Z
DTSTAMP:20260423T024557Z
SUMMARY:XXXtsc vs. EDM FC
DESCRIPTION:EDM FC vs. XXXtscPlus d'info : #158
X-ALT-DESC;FMTTYPE=text/html:<!DOCTYPE HTML PUBLIC "-//W3C//DTD HTML 3.2//E
	N">\n<HTML>\n<HEAD>\n<TITLE></TITLE>\n</HEAD>\n<BODY>\n<h3>EDM FC vs. XXXts
	c</h3>Plus d'info : <a href="https://www.golnetwork.com/game/v/18258/">#158
	</a>\n\n</BODY>\n</HTML>
STATUS:CONFIRMED
CLASS:PUBLIC
URL:https://www.golnetwork.com/game/v/18258/
X-MICROSOFT-CDO-BUSYSTATUS:BUSY
X-MICROSOFT-CDO-IMPORTANCE:1
END:VEVENT
BEGIN:VEVENT
UID:g1pme@games.golnetwork.com
LOCATION:Cherry Beach East 1
CREATED:20120820T093451Z
DTSTART:20120829T030000Z
DTEND:20120829T040000Z
DTSTAMP:20260423T024557Z
SUMMARY:The Show Ponies vs. Shut your legs or I'll meg ya
DESCRIPTION:Shut your legs or I'll meg ya vs. The Show PoniesPlus d'info : 
	#161
X-ALT-DESC;FMTTYPE=text/html:<!DOCTYPE HTML PUBLIC "-//W3C//DTD HTML 3.2//E
	N">\n<HTML>\n<HEAD>\n<TITLE></TITLE>\n</HEAD>\n<BODY>\n<h3>Shut your legs o
	r I'll meg ya vs. The Show Ponies</h3>Plus d'info : <a href="https://www.go
	lnetwork.com/game/v/18259/">#161</a>\n\n</BODY>\n</HTML>
STATUS:CONFIRMED
CLASS:PUBLIC
URL:https://www.golnetwork.com/game/v/18259/
X-MICROSOFT-CDO-BUSYSTATUS:BUSY
X-MICROSOFT-CDO-IMPORTANCE:1
END:VEVENT
BEGIN:VEVENT
UID:g228o@games.golnetwork.com
LOCATION:Cherry Beach West 1
CREATED:20120921T201012Z
DTSTART:20120926T020000Z
DTEND:20120926T030000Z
DTSTAMP:20260423T024557Z
SUMMARY:BALLS vs. EDM FC
DESCRIPTION:EDM FC vs. BALLSPlus d'info : #250
X-ALT-DESC;FMTTYPE=text/html:<!DOCTYPE HTML PUBLIC "-//W3C//DTD HTML 3.2//E
	N">\n<HTML>\n<HEAD>\n<TITLE></TITLE>\n</HEAD>\n<BODY>\n<h3>EDM FC vs. BALLS
	</h3>Plus d'info : <a href="https://www.golnetwork.com/game/v/19533/">#250<
	/a>\n\n</BODY>\n</HTML>
STATUS:CONFIRMED
CLASS:PUBLIC
URL:https://www.golnetwork.com/game/v/19533/
X-MICROSOFT-CDO-BUSYSTATUS:BUSY
X-MICROSOFT-CDO-IMPORTANCE:1
END:VEVENT
BEGIN:VEVENT
UID:g22j9@games.golnetwork.com
LOCATION:Cherry Beach West 1
CREATED:20120921T201034Z
DTSTART:20120926T030000Z
DTEND:20120926T040000Z
DTSTAMP:20260423T024557Z
SUMMARY:Vale vs. XXXtsc
DESCRIPTION:XXXtsc vs. ValePlus d'info : #253
X-ALT-DESC;FMTTYPE=text/html:<!DOCTYPE HTML PUBLIC "-//W3C//DTD HTML 3.2//E
	N">\n<HTML>\n<HEAD>\n<TITLE></TITLE>\n</HEAD>\n<BODY>\n<h3>XXXtsc vs. Vale<
	/h3>Plus d'info : <a href="https://www.golnetwork.com/game/v/19674/">#253</
	a>\n\n</BODY>\n</HTML>
STATUS:CONFIRMED
CLASS:PUBLIC
URL:https://www.golnetwork.com/game/v/19674/
X-MICROSOFT-CDO-BUSYSTATUS:BUSY
X-MICROSOFT-CDO-IMPORTANCE:1
END:VEVENT
END:VCALENDAR
