BEGIN:VCALENDAR
PRODID:-//gdesolutions.com//MV Framework 1.0.0.1607 Calendar//EN
VERSION:2.0
METHOD:PUBLISH
CALSCALE:GREGORIAN
BEGIN:VEVENT
UID:g1o90@games.golnetwork.com
LOCATION:Cherry Beach East 2
CREATED:20120718T151121Z
DTSTART:20120720T010000Z
DTEND:20120720T020000Z
DTSTAMP:20260419T160743Z
SUMMARY:99 Problems But a Pitch Ain't One vs. Midnight Marauders
DESCRIPTION:Midnight Marauders vs. 99 Problems But a Pitch Ain't OnePlus d'
	info : #17
X-ALT-DESC;FMTTYPE=text/html:<!DOCTYPE HTML PUBLIC "-//W3C//DTD HTML 3.2//E
	N">\n<HTML>\n<HEAD>\n<TITLE></TITLE>\n</HEAD>\n<BODY>\n<h3>Midnight Maraude
	rs vs. 99 Problems But a Pitch Ain't One</h3>Plus d'info : <a href="https:/
	/www.golnetwork.com/game/v/17712/">#17</a>\n\n</BODY>\n</HTML>
STATUS:CONFIRMED
CLASS:PUBLIC
URL:https://www.golnetwork.com/game/v/17712/
X-MICROSOFT-CDO-BUSYSTATUS:BUSY
X-MICROSOFT-CDO-IMPORTANCE:1
END:VEVENT
BEGIN:VEVENT
UID:g1o92@games.golnetwork.com
LOCATION:Cherry Beach East 2
CREATED:20120718T151121Z
DTSTART:20120720T020000Z
DTEND:20120720T030000Z
DTSTAMP:20260419T160743Z
SUMMARY:Arse-nil vs. Itchy Red Sambas
DESCRIPTION:Itchy Red Sambas vs. Arse-nilPlus d'info : #20
X-ALT-DESC;FMTTYPE=text/html:<!DOCTYPE HTML PUBLIC "-//W3C//DTD HTML 3.2//E
	N">\n<HTML>\n<HEAD>\n<TITLE></TITLE>\n</HEAD>\n<BODY>\n<h3>Itchy Red Sambas
	 vs. Arse-nil</h3>Plus d'info : <a href="https://www.golnetwork.com/game/v/
	17713/">#20</a>\n\n</BODY>\n</HTML>
STATUS:CONFIRMED
CLASS:PUBLIC
URL:https://www.golnetwork.com/game/v/17713/
X-MICROSOFT-CDO-BUSYSTATUS:BUSY
X-MICROSOFT-CDO-IMPORTANCE:1
END:VEVENT
BEGIN:VEVENT
UID:g1o94@games.golnetwork.com
LOCATION:Cherry Beach East 2
CREATED:20120718T151121Z
DTSTART:20120720T030000Z
DTEND:20120720T040000Z
DTSTAMP:20260419T160743Z
SUMMARY:Arse-nil vs. XTSC Refs Really Suck! (Baby Blue/ Pink)
DESCRIPTION:XTSC Refs Really Suck! (Baby Blue/ Pink) vs. Arse-nilPlus d'inf
	o : #22
X-ALT-DESC;FMTTYPE=text/html:<!DOCTYPE HTML PUBLIC "-//W3C//DTD HTML 3.2//E
	N">\n<HTML>\n<HEAD>\n<TITLE></TITLE>\n</HEAD>\n<BODY>\n<h3>XTSC Refs Really
	 Suck! (Baby Blue/ Pink) vs. Arse-nil</h3>Plus d'info : <a href="https://ww
	w.golnetwork.com/game/v/17714/">#22</a>\n\n</BODY>\n</HTML>
STATUS:CONFIRMED
CLASS:PUBLIC
URL:https://www.golnetwork.com/game/v/17714/
X-MICROSOFT-CDO-BUSYSTATUS:BUSY
X-MICROSOFT-CDO-IMPORTANCE:1
END:VEVENT
BEGIN:VEVENT
UID:g1o96@games.golnetwork.com
LOCATION:Cherry Beach East 2
CREATED:20120718T151121Z
DTSTART:20120727T010000Z
DTEND:20120727T020000Z
DTSTAMP:20260419T160743Z
SUMMARY:Arse-nil vs. 99 Problems But a Pitch Ain't One
DESCRIPTION:99 Problems But a Pitch Ain't One vs. Arse-nilPlus d'info : #52
X-ALT-DESC;FMTTYPE=text/html:<!DOCTYPE HTML PUBLIC "-//W3C//DTD HTML 3.2//E
	N">\n<HTML>\n<HEAD>\n<TITLE></TITLE>\n</HEAD>\n<BODY>\n<h3>99 Problems But 
	a Pitch Ain't One vs. Arse-nil</h3>Plus d'info : <a href="https://www.golne
	twork.com/game/v/17715/">#52</a>\n\n</BODY>\n</HTML>
STATUS:CONFIRMED
CLASS:PUBLIC
URL:https://www.golnetwork.com/game/v/17715/
X-MICROSOFT-CDO-BUSYSTATUS:BUSY
X-MICROSOFT-CDO-IMPORTANCE:1
END:VEVENT
BEGIN:VEVENT
UID:g1o98@games.golnetwork.com
LOCATION:Cherry Beach East 2
CREATED:20120718T151121Z
DTSTART:20120727T020000Z
DTEND:20120727T030000Z
DTSTAMP:20260419T160743Z
SUMMARY:Itchy Red Sambas vs. Midnight Marauders
DESCRIPTION:Midnight Marauders vs. Itchy Red SambasPlus d'info : #55
X-ALT-DESC;FMTTYPE=text/html:<!DOCTYPE HTML PUBLIC "-//W3C//DTD HTML 3.2//E
	N">\n<HTML>\n<HEAD>\n<TITLE></TITLE>\n</HEAD>\n<BODY>\n<h3>Midnight Maraude
	rs vs. Itchy Red Sambas</h3>Plus d'info : <a href="https://www.golnetwork.c
	om/game/v/17716/">#55</a>\n\n</BODY>\n</HTML>
STATUS:CONFIRMED
CLASS:PUBLIC
URL:https://www.golnetwork.com/game/v/17716/
X-MICROSOFT-CDO-BUSYSTATUS:BUSY
X-MICROSOFT-CDO-IMPORTANCE:1
END:VEVENT
BEGIN:VEVENT
UID:g1o9a@games.golnetwork.com
LOCATION:Cherry Beach East 2
CREATED:20120718T151121Z
DTSTART:20120727T030000Z
DTEND:20120727T040000Z
DTSTAMP:20260419T160743Z
SUMMARY:XTSC Refs Really Suck! (Baby Blue/ Pink) vs. Midnight Marauders
DESCRIPTION:Midnight Marauders vs. XTSC Refs Really Suck! (Baby Blue/ Pink)
	Plus d'info : #57
X-ALT-DESC;FMTTYPE=text/html:<!DOCTYPE HTML PUBLIC "-//W3C//DTD HTML 3.2//E
	N">\n<HTML>\n<HEAD>\n<TITLE></TITLE>\n</HEAD>\n<BODY>\n<h3>Midnight Maraude
	rs vs. XTSC Refs Really Suck! (Baby Blue/ Pink)</h3>Plus d'info : <a href="
	https://www.golnetwork.com/game/v/17717/">#57</a>\n\n</BODY>\n</HTML>
STATUS:CONFIRMED
CLASS:PUBLIC
URL:https://www.golnetwork.com/game/v/17717/
X-MICROSOFT-CDO-BUSYSTATUS:BUSY
X-MICROSOFT-CDO-IMPORTANCE:1
END:VEVENT
BEGIN:VEVENT
UID:g1o9c@games.golnetwork.com
LOCATION:Cherry Beach East 2
CREATED:20120718T151121Z
DTSTART:20120803T010000Z
DTEND:20120803T020000Z
DTSTAMP:20260419T160743Z
SUMMARY:Midnight Marauders vs. Arse-nil
DESCRIPTION:Arse-nil vs. Midnight MaraudersPlus d'info : #75
X-ALT-DESC;FMTTYPE=text/html:<!DOCTYPE HTML PUBLIC "-//W3C//DTD HTML 3.2//E
	N">\n<HTML>\n<HEAD>\n<TITLE></TITLE>\n</HEAD>\n<BODY>\n<h3>Arse-nil vs. Mid
	night Marauders</h3>Plus d'info : <a href="https://www.golnetwork.com/game/
	v/17718/">#75</a>\n\n</BODY>\n</HTML>
STATUS:CONFIRMED
CLASS:PUBLIC
URL:https://www.golnetwork.com/game/v/17718/
X-MICROSOFT-CDO-BUSYSTATUS:BUSY
X-MICROSOFT-CDO-IMPORTANCE:1
END:VEVENT
BEGIN:VEVENT
UID:g1o9e@games.golnetwork.com
LOCATION:Cherry Beach East 2
CREATED:20120718T151121Z
DTSTART:20120803T020000Z
DTEND:20120803T030000Z
DTSTAMP:20260419T160743Z
SUMMARY:Itchy Red Sambas vs. 99 Problems But a Pitch Ain't One
DESCRIPTION:99 Problems But a Pitch Ain't One vs. Itchy Red SambasPlus d'in
	fo : #78
X-ALT-DESC;FMTTYPE=text/html:<!DOCTYPE HTML PUBLIC "-//W3C//DTD HTML 3.2//E
	N">\n<HTML>\n<HEAD>\n<TITLE></TITLE>\n</HEAD>\n<BODY>\n<h3>99 Problems But 
	a Pitch Ain't One vs. Itchy Red Sambas</h3>Plus d'info : <a href="https://w
	ww.golnetwork.com/game/v/17719/">#78</a>\n\n</BODY>\n</HTML>
STATUS:CONFIRMED
CLASS:PUBLIC
URL:https://www.golnetwork.com/game/v/17719/
X-MICROSOFT-CDO-BUSYSTATUS:BUSY
X-MICROSOFT-CDO-IMPORTANCE:1
END:VEVENT
BEGIN:VEVENT
UID:g1o9g@games.golnetwork.com
LOCATION:Cherry Beach East 2
CREATED:20120718T151121Z
DTSTART:20120803T030000Z
DTEND:20120803T040000Z
DTSTAMP:20260419T160743Z
SUMMARY:XTSC Refs Really Suck! (Baby Blue/ Pink) vs. 99 Problems But a Pitc
	h Ain't One
DESCRIPTION:99 Problems But a Pitch Ain't One vs. XTSC Refs Really Suck! (B
	aby Blue/ Pink)Plus d'info : #80
X-ALT-DESC;FMTTYPE=text/html:<!DOCTYPE HTML PUBLIC "-//W3C//DTD HTML 3.2//E
	N">\n<HTML>\n<HEAD>\n<TITLE></TITLE>\n</HEAD>\n<BODY>\n<h3>99 Problems But 
	a Pitch Ain't One vs. XTSC Refs Really Suck! (Baby Blue/ Pink)</h3>Plus d'i
	nfo : <a href="https://www.golnetwork.com/game/v/17720/">#80</a>\n\n</BODY>
	\n</HTML>
STATUS:CONFIRMED
CLASS:PUBLIC
URL:https://www.golnetwork.com/game/v/17720/
X-MICROSOFT-CDO-BUSYSTATUS:BUSY
X-MICROSOFT-CDO-IMPORTANCE:1
END:VEVENT
BEGIN:VEVENT
UID:g1o9i@games.golnetwork.com
LOCATION:Cherry Beach East 2
CREATED:20120718T151121Z
DTSTART:20120810T010000Z
DTEND:20120810T020000Z
DTSTAMP:20260419T160743Z
SUMMARY:99 Problems But a Pitch Ain't One vs. Midnight Marauders
DESCRIPTION:Midnight Marauders vs. 99 Problems But a Pitch Ain't OnePlus d'
	info : #98
X-ALT-DESC;FMTTYPE=text/html:<!DOCTYPE HTML PUBLIC "-//W3C//DTD HTML 3.2//E
	N">\n<HTML>\n<HEAD>\n<TITLE></TITLE>\n</HEAD>\n<BODY>\n<h3>Midnight Maraude
	rs vs. 99 Problems But a Pitch Ain't One</h3>Plus d'info : <a href="https:/
	/www.golnetwork.com/game/v/17721/">#98</a>\n\n</BODY>\n</HTML>
STATUS:CONFIRMED
CLASS:PUBLIC
URL:https://www.golnetwork.com/game/v/17721/
X-MICROSOFT-CDO-BUSYSTATUS:BUSY
X-MICROSOFT-CDO-IMPORTANCE:1
END:VEVENT
BEGIN:VEVENT
UID:g1o9k@games.golnetwork.com
LOCATION:Cherry Beach East 2
CREATED:20120718T151121Z
DTSTART:20120810T020000Z
DTEND:20120810T030000Z
DTSTAMP:20260419T160743Z
SUMMARY:Arse-nil vs. Itchy Red Sambas
DESCRIPTION:Itchy Red Sambas vs. Arse-nilPlus d'info : #101
X-ALT-DESC;FMTTYPE=text/html:<!DOCTYPE HTML PUBLIC "-//W3C//DTD HTML 3.2//E
	N">\n<HTML>\n<HEAD>\n<TITLE></TITLE>\n</HEAD>\n<BODY>\n<h3>Itchy Red Sambas
	 vs. Arse-nil</h3>Plus d'info : <a href="https://www.golnetwork.com/game/v/
	17722/">#101</a>\n\n</BODY>\n</HTML>
STATUS:CONFIRMED
CLASS:PUBLIC
URL:https://www.golnetwork.com/game/v/17722/
X-MICROSOFT-CDO-BUSYSTATUS:BUSY
X-MICROSOFT-CDO-IMPORTANCE:1
END:VEVENT
BEGIN:VEVENT
UID:g1o9m@games.golnetwork.com
LOCATION:Cherry Beach East 2
CREATED:20120718T151121Z
DTSTART:20120810T030000Z
DTEND:20120810T040000Z
DTSTAMP:20260419T160743Z
SUMMARY:XTSC Refs Really Suck! (Baby Blue/ Pink) vs. Itchy Red Sambas
DESCRIPTION:Itchy Red Sambas vs. XTSC Refs Really Suck! (Baby Blue/ Pink)Pl
	us d'info : #103
X-ALT-DESC;FMTTYPE=text/html:<!DOCTYPE HTML PUBLIC "-//W3C//DTD HTML 3.2//E
	N">\n<HTML>\n<HEAD>\n<TITLE></TITLE>\n</HEAD>\n<BODY>\n<h3>Itchy Red Sambas
	 vs. XTSC Refs Really Suck! (Baby Blue/ Pink)</h3>Plus d'info : <a href="ht
	tps://www.golnetwork.com/game/v/17723/">#103</a>\n\n</BODY>\n</HTML>
STATUS:CONFIRMED
CLASS:PUBLIC
URL:https://www.golnetwork.com/game/v/17723/
X-MICROSOFT-CDO-BUSYSTATUS:BUSY
X-MICROSOFT-CDO-IMPORTANCE:1
END:VEVENT
BEGIN:VEVENT
UID:g1oa3@games.golnetwork.com
LOCATION:Cherry Beach East 2
CREATED:20120718T151253Z
DTSTART:20120824T010000Z
DTEND:20120824T020000Z
DTSTAMP:20260419T160743Z
SUMMARY:Arse-nil vs. 99 Problems But a Pitch Ain't One
DESCRIPTION:99 Problems But a Pitch Ain't One vs. Arse-nilPlus d'info : #14
	2
X-ALT-DESC;FMTTYPE=text/html:<!DOCTYPE HTML PUBLIC "-//W3C//DTD HTML 3.2//E
	N">\n<HTML>\n<HEAD>\n<TITLE></TITLE>\n</HEAD>\n<BODY>\n<h3>99 Problems But 
	a Pitch Ain't One vs. Arse-nil</h3>Plus d'info : <a href="https://www.golne
	twork.com/game/v/17727/">#142</a>\n\n</BODY>\n</HTML>
STATUS:CONFIRMED
CLASS:PUBLIC
URL:https://www.golnetwork.com/game/v/17727/
X-MICROSOFT-CDO-BUSYSTATUS:BUSY
X-MICROSOFT-CDO-IMPORTANCE:1
END:VEVENT
BEGIN:VEVENT
UID:g1oa5@games.golnetwork.com
LOCATION:Cherry Beach East 2
CREATED:20120718T151312Z
DTSTART:20120824T020000Z
DTEND:20120824T030000Z
DTSTAMP:20260419T160743Z
SUMMARY:Itchy Red Sambas vs. XTSC Refs Really Suck! (Baby Blue/ Pink)
DESCRIPTION:XTSC Refs Really Suck! (Baby Blue/ Pink) vs. Itchy Red SambasPl
	us d'info : #145
X-ALT-DESC;FMTTYPE=text/html:<!DOCTYPE HTML PUBLIC "-//W3C//DTD HTML 3.2//E
	N">\n<HTML>\n<HEAD>\n<TITLE></TITLE>\n</HEAD>\n<BODY>\n<h3>XTSC Refs Really
	 Suck! (Baby Blue/ Pink) vs. Itchy Red Sambas</h3>Plus d'info : <a href="ht
	tps://www.golnetwork.com/game/v/17728/">#145</a>\n\n</BODY>\n</HTML>
STATUS:CONFIRMED
CLASS:PUBLIC
URL:https://www.golnetwork.com/game/v/17728/
X-MICROSOFT-CDO-BUSYSTATUS:BUSY
X-MICROSOFT-CDO-IMPORTANCE:1
END:VEVENT
BEGIN:VEVENT
UID:g1oa7@games.golnetwork.com
LOCATION:Cherry Beach East 2
CREATED:20120718T151331Z
DTSTART:20120824T030000Z
DTEND:20120824T040000Z
DTSTAMP:20260419T160743Z
SUMMARY:Midnight Marauders vs. XTSC Refs Really Suck! (Baby Blue/ Pink)
DESCRIPTION:XTSC Refs Really Suck! (Baby Blue/ Pink) vs. Midnight Marauders
	Plus d'info : #147
X-ALT-DESC;FMTTYPE=text/html:<!DOCTYPE HTML PUBLIC "-//W3C//DTD HTML 3.2//E
	N">\n<HTML>\n<HEAD>\n<TITLE></TITLE>\n</HEAD>\n<BODY>\n<h3>XTSC Refs Really
	 Suck! (Baby Blue/ Pink) vs. Midnight Marauders</h3>Plus d'info : <a href="
	https://www.golnetwork.com/game/v/17729/">#147</a>\n\n</BODY>\n</HTML>
STATUS:CONFIRMED
CLASS:PUBLIC
URL:https://www.golnetwork.com/game/v/17729/
X-MICROSOFT-CDO-BUSYSTATUS:BUSY
X-MICROSOFT-CDO-IMPORTANCE:1
END:VEVENT
BEGIN:VEVENT
UID:g1pmg@games.golnetwork.com
LOCATION:Cherry Beach East 2
CREATED:20120820T093714Z
DTSTART:20120831T010000Z
DTEND:20120831T020000Z
DTSTAMP:20260419T160743Z
SUMMARY:The Hooligans vs. 99 Problems But a Pitch Ain't One
DESCRIPTION:99 Problems But a Pitch Ain't One vs. The HooligansPlus d'info 
	: #166
X-ALT-DESC;FMTTYPE=text/html:<!DOCTYPE HTML PUBLIC "-//W3C//DTD HTML 3.2//E
	N">\n<HTML>\n<HEAD>\n<TITLE></TITLE>\n</HEAD>\n<BODY>\n<h3>99 Problems But 
	a Pitch Ain't One vs. The Hooligans</h3>Plus d'info : <a href="https://www.
	golnetwork.com/game/v/18260/">#166</a>\n\n</BODY>\n</HTML>
STATUS:CONFIRMED
CLASS:PUBLIC
URL:https://www.golnetwork.com/game/v/18260/
X-MICROSOFT-CDO-BUSYSTATUS:BUSY
X-MICROSOFT-CDO-IMPORTANCE:1
END:VEVENT
BEGIN:VEVENT
UID:g1pmi@games.golnetwork.com
LOCATION:Cherry Beach East 2
CREATED:20120820T093725Z
DTSTART:20120831T020000Z
DTEND:20120831T030000Z
DTSTAMP:20260419T160743Z
SUMMARY:Itchy Red Sambas vs. Midnight Marauders
DESCRIPTION:Midnight Marauders vs. Itchy Red SambasPlus d'info : #170
X-ALT-DESC;FMTTYPE=text/html:<!DOCTYPE HTML PUBLIC "-//W3C//DTD HTML 3.2//E
	N">\n<HTML>\n<HEAD>\n<TITLE></TITLE>\n</HEAD>\n<BODY>\n<h3>Midnight Maraude
	rs vs. Itchy Red Sambas</h3>Plus d'info : <a href="https://www.golnetwork.c
	om/game/v/18261/">#170</a>\n\n</BODY>\n</HTML>
STATUS:CONFIRMED
CLASS:PUBLIC
URL:https://www.golnetwork.com/game/v/18261/
X-MICROSOFT-CDO-BUSYSTATUS:BUSY
X-MICROSOFT-CDO-IMPORTANCE:1
END:VEVENT
BEGIN:VEVENT
UID:g1pmk@games.golnetwork.com
LOCATION:Cherry Beach East 2
CREATED:20120820T093734Z
DTSTART:20120831T030000Z
DTEND:20120831T040000Z
DTSTAMP:20260419T160743Z
SUMMARY:Arse-nil vs. XTSC Refs Really Suck! (Baby Blue/ Pink)
DESCRIPTION:XTSC Refs Really Suck! (Baby Blue/ Pink) vs. Arse-nilPlus d'inf
	o : #172
X-ALT-DESC;FMTTYPE=text/html:<!DOCTYPE HTML PUBLIC "-//W3C//DTD HTML 3.2//E
	N">\n<HTML>\n<HEAD>\n<TITLE></TITLE>\n</HEAD>\n<BODY>\n<h3>XTSC Refs Really
	 Suck! (Baby Blue/ Pink) vs. Arse-nil</h3>Plus d'info : <a href="https://ww
	w.golnetwork.com/game/v/18262/">#172</a>\n\n</BODY>\n</HTML>
STATUS:CONFIRMED
CLASS:PUBLIC
URL:https://www.golnetwork.com/game/v/18262/
X-MICROSOFT-CDO-BUSYSTATUS:BUSY
X-MICROSOFT-CDO-IMPORTANCE:1
END:VEVENT
BEGIN:VEVENT
UID:g1qn4@games.golnetwork.com
LOCATION:Cherry Beach East 2
CREATED:20120904T192509Z
DTSTART:20120907T020000Z
DTEND:20120907T030000Z
DTSTAMP:20260419T160743Z
SUMMARY:Itchy Red Sambas vs. Arse-nil
DESCRIPTION:Arse-nil vs. Itchy Red SambasPlus d'info : #192
X-ALT-DESC;FMTTYPE=text/html:<!DOCTYPE HTML PUBLIC "-//W3C//DTD HTML 3.2//E
	N">\n<HTML>\n<HEAD>\n<TITLE></TITLE>\n</HEAD>\n<BODY>\n<h3>Arse-nil vs. Itc
	hy Red Sambas</h3>Plus d'info : <a href="https://www.golnetwork.com/game/v/
	18632/">#192</a>\n\n</BODY>\n</HTML>
STATUS:CONFIRMED
CLASS:PUBLIC
URL:https://www.golnetwork.com/game/v/18632/
X-MICROSOFT-CDO-BUSYSTATUS:BUSY
X-MICROSOFT-CDO-IMPORTANCE:1
END:VEVENT
BEGIN:VEVENT
UID:g1qn6@games.golnetwork.com
LOCATION:Cherry Beach East 2
CREATED:20120904T192528Z
DTSTART:20120907T030000Z
DTEND:20120907T040000Z
DTSTAMP:20260419T160743Z
SUMMARY:XTSC Refs Really Suck! (Baby Blue/ Pink) vs. Midnight Marauders
DESCRIPTION:Midnight Marauders vs. XTSC Refs Really Suck! (Baby Blue/ Pink)
	Plus d'info : #194
X-ALT-DESC;FMTTYPE=text/html:<!DOCTYPE HTML PUBLIC "-//W3C//DTD HTML 3.2//E
	N">\n<HTML>\n<HEAD>\n<TITLE></TITLE>\n</HEAD>\n<BODY>\n<h3>Midnight Maraude
	rs vs. XTSC Refs Really Suck! (Baby Blue/ Pink)</h3>Plus d'info : <a href="
	https://www.golnetwork.com/game/v/18633/">#194</a>\n\n</BODY>\n</HTML>
STATUS:CONFIRMED
CLASS:PUBLIC
URL:https://www.golnetwork.com/game/v/18633/
X-MICROSOFT-CDO-BUSYSTATUS:BUSY
X-MICROSOFT-CDO-IMPORTANCE:1
END:VEVENT
END:VCALENDAR
