BEGIN:VCALENDAR
PRODID:-//gdesolutions.com//MV Framework 1.0.0.1607 Calendar//EN
VERSION:2.0
METHOD:PUBLISH
CALSCALE:GREGORIAN
BEGIN:VEVENT
UID:g1p00@games.golnetwork.com
LOCATION:Lamport Stadium Field 3
GEO:43.639337;-79.4248954
CREATED:20120719T182042Z
DTSTART:20120722T230000Z
DTEND:20120723T000000Z
DTSTAMP:20260424T071415Z
SUMMARY:Magos vs. Tree FC
DESCRIPTION:Tree FC vs. MagosPlus d'info : #32
X-ALT-DESC;FMTTYPE=text/html:<!DOCTYPE HTML PUBLIC "-//W3C//DTD HTML 3.2//E
	N">\n<HTML>\n<HEAD>\n<TITLE></TITLE>\n</HEAD>\n<BODY>\n<h3>Tree FC vs. Mago
	s</h3>Plus d'info : <a href="https://www.golnetwork.com/game/v/17955/">#32<
	/a>\n\n</BODY>\n</HTML>
STATUS:CONFIRMED
CLASS:PUBLIC
URL:https://www.golnetwork.com/game/v/17955/
X-MICROSOFT-CDO-BUSYSTATUS:BUSY
X-MICROSOFT-CDO-IMPORTANCE:1
END:VEVENT
BEGIN:VEVENT
UID:g1p02@games.golnetwork.com
LOCATION:Lamport Stadium Field 3
GEO:43.639337;-79.4248954
CREATED:20120719T182042Z
DTSTART:20120723T000000Z
DTEND:20120723T010000Z
DTSTAMP:20260424T071415Z
SUMMARY:Something FC (White) vs. FC Lady Killers
DESCRIPTION:FC Lady Killers vs. Something FC (White)Plus d'info : #35
X-ALT-DESC;FMTTYPE=text/html:<!DOCTYPE HTML PUBLIC "-//W3C//DTD HTML 3.2//E
	N">\n<HTML>\n<HEAD>\n<TITLE></TITLE>\n</HEAD>\n<BODY>\n<h3>FC Lady Killers 
	vs. Something FC (White)</h3>Plus d'info : <a href="https://www.golnetwork.
	com/game/v/17956/">#35</a>\n\n</BODY>\n</HTML>
STATUS:CONFIRMED
CLASS:PUBLIC
URL:https://www.golnetwork.com/game/v/17956/
X-MICROSOFT-CDO-BUSYSTATUS:BUSY
X-MICROSOFT-CDO-IMPORTANCE:1
END:VEVENT
BEGIN:VEVENT
UID:g1p04@games.golnetwork.com
LOCATION:Lamport Stadium Field 3
GEO:43.639337;-79.4248954
CREATED:20120719T182042Z
DTSTART:20120723T010000Z
DTEND:20120723T020000Z
DTSTAMP:20260424T071415Z
SUMMARY:XTSC Lean Mean Machine vs. Galo FC
DESCRIPTION:Galo FC vs. XTSC Lean Mean MachinePlus d'info : #38
X-ALT-DESC;FMTTYPE=text/html:<!DOCTYPE HTML PUBLIC "-//W3C//DTD HTML 3.2//E
	N">\n<HTML>\n<HEAD>\n<TITLE></TITLE>\n</HEAD>\n<BODY>\n<h3>Galo FC vs. XTSC
	 Lean Mean Machine</h3>Plus d'info : <a href="https://www.golnetwork.com/ga
	me/v/17957/">#38</a>\n\n</BODY>\n</HTML>
STATUS:CONFIRMED
CLASS:PUBLIC
URL:https://www.golnetwork.com/game/v/17957/
X-MICROSOFT-CDO-BUSYSTATUS:BUSY
X-MICROSOFT-CDO-IMPORTANCE:1
END:VEVENT
BEGIN:VEVENT
UID:g1p06@games.golnetwork.com
LOCATION:Lamport Stadium Field 3
GEO:43.639337;-79.4248954
CREATED:20120719T182042Z
DTSTART:20120723T020000Z
DTEND:20120723T030000Z
DTSTAMP:20260424T071415Z
SUMMARY:Truth FC (Red) vs. Los Luchadores
DESCRIPTION:Los Luchadores vs. Truth FC (Red)Plus d'info : #41
X-ALT-DESC;FMTTYPE=text/html:<!DOCTYPE HTML PUBLIC "-//W3C//DTD HTML 3.2//E
	N">\n<HTML>\n<HEAD>\n<TITLE></TITLE>\n</HEAD>\n<BODY>\n<h3>Los Luchadores v
	s. Truth FC (Red)</h3>Plus d'info : <a href="https://www.golnetwork.com/gam
	e/v/17958/">#41</a>\n\n</BODY>\n</HTML>
STATUS:CONFIRMED
CLASS:PUBLIC
URL:https://www.golnetwork.com/game/v/17958/
X-MICROSOFT-CDO-BUSYSTATUS:BUSY
X-MICROSOFT-CDO-IMPORTANCE:1
END:VEVENT
BEGIN:VEVENT
UID:g1p08@games.golnetwork.com
LOCATION:Lamport Stadium Field 3
GEO:43.639337;-79.4248954
CREATED:20120719T182042Z
DTSTART:20120812T230000Z
DTEND:20120813T000000Z
DTSTAMP:20260424T071415Z
SUMMARY:Los Luchadores vs. XTSC Lean Mean Machine
DESCRIPTION:XTSC Lean Mean Machine vs. Los LuchadoresPlus d'info : #113
X-ALT-DESC;FMTTYPE=text/html:<!DOCTYPE HTML PUBLIC "-//W3C//DTD HTML 3.2//E
	N">\n<HTML>\n<HEAD>\n<TITLE></TITLE>\n</HEAD>\n<BODY>\n<h3>XTSC Lean Mean M
	achine vs. Los Luchadores</h3>Plus d'info : <a href="https://www.golnetwork
	.com/game/v/17959/">#113</a>\n\n</BODY>\n</HTML>
STATUS:CONFIRMED
CLASS:PUBLIC
URL:https://www.golnetwork.com/game/v/17959/
X-MICROSOFT-CDO-BUSYSTATUS:BUSY
X-MICROSOFT-CDO-IMPORTANCE:1
END:VEVENT
BEGIN:VEVENT
UID:g1p0a@games.golnetwork.com
LOCATION:Lamport Stadium Field 3
GEO:43.639337;-79.4248954
CREATED:20120719T182042Z
DTSTART:20120813T000000Z
DTEND:20120813T010000Z
DTSTAMP:20260424T071415Z
SUMMARY:Galo FC vs. Magos
DESCRIPTION:Magos vs. Galo FCPlus d'info : #116
X-ALT-DESC;FMTTYPE=text/html:<!DOCTYPE HTML PUBLIC "-//W3C//DTD HTML 3.2//E
	N">\n<HTML>\n<HEAD>\n<TITLE></TITLE>\n</HEAD>\n<BODY>\n<h3>Magos vs. Galo F
	C</h3>Plus d'info : <a href="https://www.golnetwork.com/game/v/17960/">#116
	</a>\n\n</BODY>\n</HTML>
STATUS:CONFIRMED
CLASS:PUBLIC
URL:https://www.golnetwork.com/game/v/17960/
X-MICROSOFT-CDO-BUSYSTATUS:BUSY
X-MICROSOFT-CDO-IMPORTANCE:1
END:VEVENT
BEGIN:VEVENT
UID:g1p0c@games.golnetwork.com
LOCATION:Lamport Stadium Field 3
GEO:43.639337;-79.4248954
CREATED:20120719T182042Z
DTSTART:20120813T010000Z
DTEND:20120813T020000Z
DTSTAMP:20260424T071415Z
SUMMARY:Truth FC (Red) vs. Something FC (White)
DESCRIPTION:Something FC (White) vs. Truth FC (Red)Plus d'info : #119
X-ALT-DESC;FMTTYPE=text/html:<!DOCTYPE HTML PUBLIC "-//W3C//DTD HTML 3.2//E
	N">\n<HTML>\n<HEAD>\n<TITLE></TITLE>\n</HEAD>\n<BODY>\n<h3>Something FC (Wh
	ite) vs. Truth FC (Red)</h3>Plus d'info : <a href="https://www.golnetwork.c
	om/game/v/17961/">#119</a>\n\n</BODY>\n</HTML>
STATUS:CONFIRMED
CLASS:PUBLIC
URL:https://www.golnetwork.com/game/v/17961/
X-MICROSOFT-CDO-BUSYSTATUS:BUSY
X-MICROSOFT-CDO-IMPORTANCE:1
END:VEVENT
BEGIN:VEVENT
UID:g1p0e@games.golnetwork.com
LOCATION:Lamport Stadium Field 3
GEO:43.639337;-79.4248954
CREATED:20120719T182042Z
DTSTART:20120813T020000Z
DTEND:20120813T030000Z
DTSTAMP:20260424T071415Z
SUMMARY:FC Lady Killers vs. Tree FC
DESCRIPTION:Tree FC vs. FC Lady KillersPlus d'info : #122
X-ALT-DESC;FMTTYPE=text/html:<!DOCTYPE HTML PUBLIC "-//W3C//DTD HTML 3.2//E
	N">\n<HTML>\n<HEAD>\n<TITLE></TITLE>\n</HEAD>\n<BODY>\n<h3>Tree FC vs. FC L
	ady Killers</h3>Plus d'info : <a href="https://www.golnetwork.com/game/v/17
	962/">#122</a>\n\n</BODY>\n</HTML>
STATUS:CONFIRMED
CLASS:PUBLIC
URL:https://www.golnetwork.com/game/v/17962/
X-MICROSOFT-CDO-BUSYSTATUS:BUSY
X-MICROSOFT-CDO-IMPORTANCE:1
END:VEVENT
BEGIN:VEVENT
UID:g1p0g@games.golnetwork.com
LOCATION:Lamport Stadium Field 3
GEO:43.639337;-79.4248954
CREATED:20120719T182042Z
DTSTART:20120902T230000Z
DTEND:20120903T000000Z
DTSTAMP:20260424T071415Z
SUMMARY:Magos vs. FC Lady Killers
DESCRIPTION:FC Lady Killers vs. MagosPlus d'info : #178
X-ALT-DESC;FMTTYPE=text/html:<!DOCTYPE HTML PUBLIC "-//W3C//DTD HTML 3.2//E
	N">\n<HTML>\n<HEAD>\n<TITLE></TITLE>\n</HEAD>\n<BODY>\n<h3>FC Lady Killers 
	vs. Magos</h3>Plus d'info : <a href="https://www.golnetwork.com/game/v/1796
	3/">#178</a>\n\n</BODY>\n</HTML>
STATUS:CONFIRMED
CLASS:PUBLIC
URL:https://www.golnetwork.com/game/v/17963/
X-MICROSOFT-CDO-BUSYSTATUS:BUSY
X-MICROSOFT-CDO-IMPORTANCE:1
END:VEVENT
BEGIN:VEVENT
UID:g1p0i@games.golnetwork.com
LOCATION:Lamport Stadium Field 3
GEO:43.639337;-79.4248954
CREATED:20120719T182042Z
DTSTART:20120903T000000Z
DTEND:20120903T010000Z
DTSTAMP:20260424T071415Z
SUMMARY:Tree FC vs. Galo FC
DESCRIPTION:Galo FC vs. Tree FCPlus d'info : #181
X-ALT-DESC;FMTTYPE=text/html:<!DOCTYPE HTML PUBLIC "-//W3C//DTD HTML 3.2//E
	N">\n<HTML>\n<HEAD>\n<TITLE></TITLE>\n</HEAD>\n<BODY>\n<h3>Galo FC vs. Tree
	 FC</h3>Plus d'info : <a href="https://www.golnetwork.com/game/v/17964/">#1
	81</a>\n\n</BODY>\n</HTML>
STATUS:CONFIRMED
CLASS:PUBLIC
URL:https://www.golnetwork.com/game/v/17964/
X-MICROSOFT-CDO-BUSYSTATUS:BUSY
X-MICROSOFT-CDO-IMPORTANCE:1
END:VEVENT
BEGIN:VEVENT
UID:g1p0k@games.golnetwork.com
LOCATION:Lamport Stadium Field 3
GEO:43.639337;-79.4248954
CREATED:20120719T182042Z
DTSTART:20120903T010000Z
DTEND:20120903T020000Z
DTSTAMP:20260424T071415Z
SUMMARY:Something FC (White) vs. Los Luchadores
DESCRIPTION:Los Luchadores vs. Something FC (White)Plus d'info : #184
X-ALT-DESC;FMTTYPE=text/html:<!DOCTYPE HTML PUBLIC "-//W3C//DTD HTML 3.2//E
	N">\n<HTML>\n<HEAD>\n<TITLE></TITLE>\n</HEAD>\n<BODY>\n<h3>Los Luchadores v
	s. Something FC (White)</h3>Plus d'info : <a href="https://www.golnetwork.c
	om/game/v/17965/">#184</a>\n\n</BODY>\n</HTML>
STATUS:CONFIRMED
CLASS:PUBLIC
URL:https://www.golnetwork.com/game/v/17965/
X-MICROSOFT-CDO-BUSYSTATUS:BUSY
X-MICROSOFT-CDO-IMPORTANCE:1
END:VEVENT
BEGIN:VEVENT
UID:g1p0m@games.golnetwork.com
LOCATION:Lamport Stadium Field 3
GEO:43.639337;-79.4248954
CREATED:20120719T182042Z
DTSTART:20120903T020000Z
DTEND:20120903T030000Z
DTSTAMP:20260424T071415Z
SUMMARY:XTSC Lean Mean Machine vs. Truth FC (Red)
DESCRIPTION:Truth FC (Red) vs. XTSC Lean Mean MachinePlus d'info : #187
X-ALT-DESC;FMTTYPE=text/html:<!DOCTYPE HTML PUBLIC "-//W3C//DTD HTML 3.2//E
	N">\n<HTML>\n<HEAD>\n<TITLE></TITLE>\n</HEAD>\n<BODY>\n<h3>Truth FC (Red) v
	s. XTSC Lean Mean Machine</h3>Plus d'info : <a href="https://www.golnetwork
	.com/game/v/17966/">#187</a>\n\n</BODY>\n</HTML>
STATUS:CONFIRMED
CLASS:PUBLIC
URL:https://www.golnetwork.com/game/v/17966/
X-MICROSOFT-CDO-BUSYSTATUS:BUSY
X-MICROSOFT-CDO-IMPORTANCE:1
END:VEVENT
BEGIN:VEVENT
UID:g1p0o@games.golnetwork.com
LOCATION:Lamport Stadium Field 3
GEO:43.639337;-79.4248954
CREATED:20120719T182042Z
DTSTART:20120909T230000Z
DTEND:20120910T000000Z
DTSTAMP:20260424T071415Z
SUMMARY:Tree FC vs. Something FC (White)
DESCRIPTION:Something FC (White) vs. Tree FCPlus d'info : #204
X-ALT-DESC;FMTTYPE=text/html:<!DOCTYPE HTML PUBLIC "-//W3C//DTD HTML 3.2//E
	N">\n<HTML>\n<HEAD>\n<TITLE></TITLE>\n</HEAD>\n<BODY>\n<h3>Something FC (Wh
	ite) vs. Tree FC</h3>Plus d'info : <a href="https://www.golnetwork.com/game
	/v/17967/">#204</a>\n\n</BODY>\n</HTML>
STATUS:CONFIRMED
CLASS:PUBLIC
URL:https://www.golnetwork.com/game/v/17967/
X-MICROSOFT-CDO-BUSYSTATUS:BUSY
X-MICROSOFT-CDO-IMPORTANCE:1
END:VEVENT
BEGIN:VEVENT
UID:g1p0q@games.golnetwork.com
LOCATION:Lamport Stadium Field 3
GEO:43.639337;-79.4248954
CREATED:20120719T182042Z
DTSTART:20120910T000000Z
DTEND:20120910T010000Z
DTSTAMP:20260424T071415Z
SUMMARY:FC Lady Killers vs. XTSC Lean Mean Machine
DESCRIPTION:XTSC Lean Mean Machine vs. FC Lady KillersPlus d'info : #207
X-ALT-DESC;FMTTYPE=text/html:<!DOCTYPE HTML PUBLIC "-//W3C//DTD HTML 3.2//E
	N">\n<HTML>\n<HEAD>\n<TITLE></TITLE>\n</HEAD>\n<BODY>\n<h3>XTSC Lean Mean M
	achine vs. FC Lady Killers</h3>Plus d'info : <a href="https://www.golnetwor
	k.com/game/v/17968/">#207</a>\n\n</BODY>\n</HTML>
STATUS:CONFIRMED
CLASS:PUBLIC
URL:https://www.golnetwork.com/game/v/17968/
X-MICROSOFT-CDO-BUSYSTATUS:BUSY
X-MICROSOFT-CDO-IMPORTANCE:1
END:VEVENT
BEGIN:VEVENT
UID:g1p11@games.golnetwork.com
LOCATION:Lamport Stadium Field 3
GEO:43.639337;-79.4248954
CREATED:20120719T182042Z
DTSTART:20120910T010000Z
DTEND:20120910T020000Z
DTSTAMP:20260424T071415Z
SUMMARY:Los Luchadores vs. Galo FC
DESCRIPTION:Galo FC vs. Los LuchadoresPlus d'info : #210
X-ALT-DESC;FMTTYPE=text/html:<!DOCTYPE HTML PUBLIC "-//W3C//DTD HTML 3.2//E
	N">\n<HTML>\n<HEAD>\n<TITLE></TITLE>\n</HEAD>\n<BODY>\n<h3>Galo FC vs. Los 
	Luchadores</h3>Plus d'info : <a href="https://www.golnetwork.com/game/v/179
	69/">#210</a>\n\n</BODY>\n</HTML>
STATUS:CONFIRMED
CLASS:PUBLIC
URL:https://www.golnetwork.com/game/v/17969/
X-MICROSOFT-CDO-BUSYSTATUS:BUSY
X-MICROSOFT-CDO-IMPORTANCE:1
END:VEVENT
BEGIN:VEVENT
UID:g1p13@games.golnetwork.com
LOCATION:Lamport Stadium Field 3
GEO:43.639337;-79.4248954
CREATED:20120719T182042Z
DTSTART:20120910T020000Z
DTEND:20120910T030000Z
DTSTAMP:20260424T071415Z
SUMMARY:Truth FC (Red) vs. Magos
DESCRIPTION:Magos vs. Truth FC (Red)Plus d'info : #213
X-ALT-DESC;FMTTYPE=text/html:<!DOCTYPE HTML PUBLIC "-//W3C//DTD HTML 3.2//E
	N">\n<HTML>\n<HEAD>\n<TITLE></TITLE>\n</HEAD>\n<BODY>\n<h3>Magos vs. Truth 
	FC (Red)</h3>Plus d'info : <a href="https://www.golnetwork.com/game/v/17970
	/">#213</a>\n\n</BODY>\n</HTML>
STATUS:CONFIRMED
CLASS:PUBLIC
URL:https://www.golnetwork.com/game/v/17970/
X-MICROSOFT-CDO-BUSYSTATUS:BUSY
X-MICROSOFT-CDO-IMPORTANCE:1
END:VEVENT
BEGIN:VEVENT
UID:g1p15@games.golnetwork.com
LOCATION:Lamport Stadium Field 3
GEO:43.639337;-79.4248954
CREATED:20120719T182042Z
DTSTART:20120916T230000Z
DTEND:20120917T000000Z
DTSTAMP:20260424T071415Z
SUMMARY:XTSC Lean Mean Machine vs. FC Lady Killers
DESCRIPTION:FC Lady Killers vs. XTSC Lean Mean MachinePlus d'info : #222
X-ALT-DESC;FMTTYPE=text/html:<!DOCTYPE HTML PUBLIC "-//W3C//DTD HTML 3.2//E
	N">\n<HTML>\n<HEAD>\n<TITLE></TITLE>\n</HEAD>\n<BODY>\n<h3>FC Lady Killers 
	vs. XTSC Lean Mean Machine</h3>Plus d'info : <a href="https://www.golnetwor
	k.com/game/v/17971/">#222</a>\n\n</BODY>\n</HTML>
STATUS:CONFIRMED
CLASS:PUBLIC
URL:https://www.golnetwork.com/game/v/17971/
X-MICROSOFT-CDO-BUSYSTATUS:BUSY
X-MICROSOFT-CDO-IMPORTANCE:1
END:VEVENT
BEGIN:VEVENT
UID:g1p17@games.golnetwork.com
LOCATION:Lamport Stadium Field 3
GEO:43.639337;-79.4248954
CREATED:20120719T182042Z
DTSTART:20120917T000000Z
DTEND:20120917T010000Z
DTSTAMP:20260424T071415Z
SUMMARY:Los Luchadores vs. Magos
DESCRIPTION:Magos vs. Los LuchadoresPlus d'info : #225
X-ALT-DESC;FMTTYPE=text/html:<!DOCTYPE HTML PUBLIC "-//W3C//DTD HTML 3.2//E
	N">\n<HTML>\n<HEAD>\n<TITLE></TITLE>\n</HEAD>\n<BODY>\n<h3>Magos vs. Los Lu
	chadores</h3>Plus d'info : <a href="https://www.golnetwork.com/game/v/17972
	/">#225</a>\n\n</BODY>\n</HTML>
STATUS:CONFIRMED
CLASS:PUBLIC
URL:https://www.golnetwork.com/game/v/17972/
X-MICROSOFT-CDO-BUSYSTATUS:BUSY
X-MICROSOFT-CDO-IMPORTANCE:1
END:VEVENT
BEGIN:VEVENT
UID:g1p19@games.golnetwork.com
LOCATION:Lamport Stadium Field 3
GEO:43.639337;-79.4248954
CREATED:20120719T182042Z
DTSTART:20120917T010000Z
DTEND:20120917T020000Z
DTSTAMP:20260424T071415Z
SUMMARY:Tree FC vs. Truth FC (Red)
DESCRIPTION:Truth FC (Red) vs. Tree FCPlus d'info : #228
X-ALT-DESC;FMTTYPE=text/html:<!DOCTYPE HTML PUBLIC "-//W3C//DTD HTML 3.2//E
	N">\n<HTML>\n<HEAD>\n<TITLE></TITLE>\n</HEAD>\n<BODY>\n<h3>Truth FC (Red) v
	s. Tree FC</h3>Plus d'info : <a href="https://www.golnetwork.com/game/v/179
	73/">#228</a>\n\n</BODY>\n</HTML>
STATUS:CONFIRMED
CLASS:PUBLIC
URL:https://www.golnetwork.com/game/v/17973/
X-MICROSOFT-CDO-BUSYSTATUS:BUSY
X-MICROSOFT-CDO-IMPORTANCE:1
END:VEVENT
BEGIN:VEVENT
UID:g1p1b@games.golnetwork.com
LOCATION:Lamport Stadium Field 3
GEO:43.639337;-79.4248954
CREATED:20120719T182042Z
DTSTART:20120917T020000Z
DTEND:20120917T030000Z
DTSTAMP:20260424T071415Z
SUMMARY:Something FC (White) vs. Galo FC
DESCRIPTION:Galo FC vs. Something FC (White)Plus d'info : #231
X-ALT-DESC;FMTTYPE=text/html:<!DOCTYPE HTML PUBLIC "-//W3C//DTD HTML 3.2//E
	N">\n<HTML>\n<HEAD>\n<TITLE></TITLE>\n</HEAD>\n<BODY>\n<h3>Galo FC vs. Some
	thing FC (White)</h3>Plus d'info : <a href="https://www.golnetwork.com/game
	/v/17974/">#231</a>\n\n</BODY>\n</HTML>
STATUS:CONFIRMED
CLASS:PUBLIC
URL:https://www.golnetwork.com/game/v/17974/
X-MICROSOFT-CDO-BUSYSTATUS:BUSY
X-MICROSOFT-CDO-IMPORTANCE:1
END:VEVENT
BEGIN:VEVENT
UID:g1p1d@games.golnetwork.com
LOCATION:Lamport Stadium Field 3
GEO:43.639337;-79.4248954
CREATED:20120719T182042Z
DTSTART:20120923T230000Z
DTEND:20120924T000000Z
DTSTAMP:20260424T071415Z
SUMMARY:FC Lady Killers vs. Los Luchadores
DESCRIPTION:Los Luchadores vs. FC Lady KillersPlus d'info : #240
X-ALT-DESC;FMTTYPE=text/html:<!DOCTYPE HTML PUBLIC "-//W3C//DTD HTML 3.2//E
	N">\n<HTML>\n<HEAD>\n<TITLE></TITLE>\n</HEAD>\n<BODY>\n<h3>Los Luchadores v
	s. FC Lady Killers</h3>Plus d'info : <a href="https://www.golnetwork.com/ga
	me/v/17975/">#240</a>\n\n</BODY>\n</HTML>
STATUS:CONFIRMED
CLASS:PUBLIC
URL:https://www.golnetwork.com/game/v/17975/
X-MICROSOFT-CDO-BUSYSTATUS:BUSY
X-MICROSOFT-CDO-IMPORTANCE:1
END:VEVENT
BEGIN:VEVENT
UID:g1p1f@games.golnetwork.com
LOCATION:Lamport Stadium Field 3
GEO:43.639337;-79.4248954
CREATED:20120719T182042Z
DTSTART:20120924T000000Z
DTEND:20120924T010000Z
DTSTAMP:20260424T071415Z
SUMMARY:Tree FC vs. XTSC Lean Mean Machine
DESCRIPTION:XTSC Lean Mean Machine vs. Tree FCPlus d'info : #243
X-ALT-DESC;FMTTYPE=text/html:<!DOCTYPE HTML PUBLIC "-//W3C//DTD HTML 3.2//E
	N">\n<HTML>\n<HEAD>\n<TITLE></TITLE>\n</HEAD>\n<BODY>\n<h3>XTSC Lean Mean M
	achine vs. Tree FC</h3>Plus d'info : <a href="https://www.golnetwork.com/ga
	me/v/17976/">#243</a>\n\n</BODY>\n</HTML>
STATUS:CONFIRMED
CLASS:PUBLIC
URL:https://www.golnetwork.com/game/v/17976/
X-MICROSOFT-CDO-BUSYSTATUS:BUSY
X-MICROSOFT-CDO-IMPORTANCE:1
END:VEVENT
BEGIN:VEVENT
UID:g1p1h@games.golnetwork.com
LOCATION:Lamport Stadium Field 3
GEO:43.639337;-79.4248954
CREATED:20120719T182042Z
DTSTART:20120924T010000Z
DTEND:20120924T020000Z
DTSTAMP:20260424T071415Z
SUMMARY:Truth FC (Red) vs. Galo FC
DESCRIPTION:Galo FC vs. Truth FC (Red)Plus d'info : #246
X-ALT-DESC;FMTTYPE=text/html:<!DOCTYPE HTML PUBLIC "-//W3C//DTD HTML 3.2//E
	N">\n<HTML>\n<HEAD>\n<TITLE></TITLE>\n</HEAD>\n<BODY>\n<h3>Galo FC vs. Trut
	h FC (Red)</h3>Plus d'info : <a href="https://www.golnetwork.com/game/v/179
	77/">#246</a>\n\n</BODY>\n</HTML>
STATUS:CONFIRMED
CLASS:PUBLIC
URL:https://www.golnetwork.com/game/v/17977/
X-MICROSOFT-CDO-BUSYSTATUS:BUSY
X-MICROSOFT-CDO-IMPORTANCE:1
END:VEVENT
BEGIN:VEVENT
UID:g1p1j@games.golnetwork.com
LOCATION:Lamport Stadium Field 3
GEO:43.639337;-79.4248954
CREATED:20120719T182042Z
DTSTART:20120924T020000Z
DTEND:20120924T030000Z
DTSTAMP:20260424T071415Z
SUMMARY:Something FC (White) vs. Magos
DESCRIPTION:Magos vs. Something FC (White)Plus d'info : #249
X-ALT-DESC;FMTTYPE=text/html:<!DOCTYPE HTML PUBLIC "-//W3C//DTD HTML 3.2//E
	N">\n<HTML>\n<HEAD>\n<TITLE></TITLE>\n</HEAD>\n<BODY>\n<h3>Magos vs. Someth
	ing FC (White)</h3>Plus d'info : <a href="https://www.golnetwork.com/game/v
	/17978/">#249</a>\n\n</BODY>\n</HTML>
STATUS:CONFIRMED
CLASS:PUBLIC
URL:https://www.golnetwork.com/game/v/17978/
X-MICROSOFT-CDO-BUSYSTATUS:BUSY
X-MICROSOFT-CDO-IMPORTANCE:1
END:VEVENT
BEGIN:VEVENT
UID:g1p1l@games.golnetwork.com
LOCATION:Lamport Stadium Field 3
GEO:43.639337;-79.4248954
CREATED:20120719T182042Z
DTSTART:20121007T230000Z
DTEND:20121008T000000Z
DTSTAMP:20260424T071415Z
SUMMARY:FC Lady Killers vs. Tree FC
DESCRIPTION:Tree FC vs. FC Lady KillersPlus d'info : #256
X-ALT-DESC;FMTTYPE=text/html:<!DOCTYPE HTML PUBLIC "-//W3C//DTD HTML 3.2//E
	N">\n<HTML>\n<HEAD>\n<TITLE></TITLE>\n</HEAD>\n<BODY>\n<h3>Tree FC vs. FC L
	ady Killers</h3>Plus d'info : <a href="https://www.golnetwork.com/game/v/17
	979/">#256</a>\n\n</BODY>\n</HTML>
STATUS:CONFIRMED
CLASS:PUBLIC
URL:https://www.golnetwork.com/game/v/17979/
X-MICROSOFT-CDO-BUSYSTATUS:BUSY
X-MICROSOFT-CDO-IMPORTANCE:1
END:VEVENT
BEGIN:VEVENT
UID:g1p1n@games.golnetwork.com
LOCATION:Lamport Stadium Field 3
GEO:43.639337;-79.4248954
CREATED:20120719T182042Z
DTSTART:20121008T000000Z
DTEND:20121008T010000Z
DTSTAMP:20260424T071415Z
SUMMARY:Los Luchadores vs. Truth FC (Red)
DESCRIPTION:Truth FC (Red) vs. Los LuchadoresPlus d'info : #258
X-ALT-DESC;FMTTYPE=text/html:<!DOCTYPE HTML PUBLIC "-//W3C//DTD HTML 3.2//E
	N">\n<HTML>\n<HEAD>\n<TITLE></TITLE>\n</HEAD>\n<BODY>\n<h3>Truth FC (Red) v
	s. Los Luchadores</h3>Plus d'info : <a href="https://www.golnetwork.com/gam
	e/v/17980/">#258</a>\n\n</BODY>\n</HTML>
STATUS:CONFIRMED
CLASS:PUBLIC
URL:https://www.golnetwork.com/game/v/17980/
X-MICROSOFT-CDO-BUSYSTATUS:BUSY
X-MICROSOFT-CDO-IMPORTANCE:1
END:VEVENT
BEGIN:VEVENT
UID:g1p1p@games.golnetwork.com
LOCATION:Lamport Stadium Field 3
GEO:43.639337;-79.4248954
CREATED:20120719T182042Z
DTSTART:20121008T010000Z
DTEND:20121008T020000Z
DTSTAMP:20260424T071415Z
SUMMARY:Something FC (White) vs. XTSC Lean Mean Machine
DESCRIPTION:XTSC Lean Mean Machine vs. Something FC (White)Plus d'info : #2
	60
X-ALT-DESC;FMTTYPE=text/html:<!DOCTYPE HTML PUBLIC "-//W3C//DTD HTML 3.2//E
	N">\n<HTML>\n<HEAD>\n<TITLE></TITLE>\n</HEAD>\n<BODY>\n<h3>XTSC Lean Mean M
	achine vs. Something FC (White)</h3>Plus d'info : <a href="https://www.goln
	etwork.com/game/v/17981/">#260</a>\n\n</BODY>\n</HTML>
STATUS:CONFIRMED
CLASS:PUBLIC
URL:https://www.golnetwork.com/game/v/17981/
X-MICROSOFT-CDO-BUSYSTATUS:BUSY
X-MICROSOFT-CDO-IMPORTANCE:1
END:VEVENT
BEGIN:VEVENT
UID:g1p20@games.golnetwork.com
LOCATION:Lamport Stadium Field 3
GEO:43.639337;-79.4248954
CREATED:20120719T182042Z
DTSTART:20121008T020000Z
DTEND:20121008T030000Z
DTSTAMP:20260424T071415Z
SUMMARY:Galo FC vs. Magos
DESCRIPTION:Magos vs. Galo FCPlus d'info : #262
X-ALT-DESC;FMTTYPE=text/html:<!DOCTYPE HTML PUBLIC "-//W3C//DTD HTML 3.2//E
	N">\n<HTML>\n<HEAD>\n<TITLE></TITLE>\n</HEAD>\n<BODY>\n<h3>Magos vs. Galo F
	C</h3>Plus d'info : <a href="https://www.golnetwork.com/game/v/17982/">#262
	</a>\n\n</BODY>\n</HTML>
STATUS:CONFIRMED
CLASS:PUBLIC
URL:https://www.golnetwork.com/game/v/17982/
X-MICROSOFT-CDO-BUSYSTATUS:BUSY
X-MICROSOFT-CDO-IMPORTANCE:1
END:VEVENT
BEGIN:VEVENT
UID:g27i5@games.golnetwork.com
LOCATION:Lamport Stadium Field 3
GEO:43.639337;-79.4248954
CREATED:20121008T173943Z
DTSTART:20121014T230000Z
DTEND:20121015T000000Z
DTSTAMP:20260424T071415Z
SUMMARY:Tree FC vs. Galo FC
DESCRIPTION:Galo FC vs. Tree FCPlus d'info : #265
X-ALT-DESC;FMTTYPE=text/html:<!DOCTYPE HTML PUBLIC "-//W3C//DTD HTML 3.2//E
	N">\n<HTML>\n<HEAD>\n<TITLE></TITLE>\n</HEAD>\n<BODY>\n<h3>Galo FC vs. Tree
	 FC</h3>Plus d'info : <a href="https://www.golnetwork.com/game/v/21481/">#2
	65</a>\n\n</BODY>\n</HTML>
STATUS:CONFIRMED
CLASS:PUBLIC
URL:https://www.golnetwork.com/game/v/21481/
X-MICROSOFT-CDO-BUSYSTATUS:BUSY
X-MICROSOFT-CDO-IMPORTANCE:1
END:VEVENT
BEGIN:VEVENT
UID:g27i7@games.golnetwork.com
LOCATION:Lamport Stadium Field 3
GEO:43.639337;-79.4248954
CREATED:20121008T173959Z
DTSTART:20121015T000000Z
DTEND:20121015T010000Z
DTSTAMP:20260424T071415Z
SUMMARY:Truth FC (Red) vs. Magos
DESCRIPTION:Magos vs. Truth FC (Red)Plus d'info : #268
X-ALT-DESC;FMTTYPE=text/html:<!DOCTYPE HTML PUBLIC "-//W3C//DTD HTML 3.2//E
	N">\n<HTML>\n<HEAD>\n<TITLE></TITLE>\n</HEAD>\n<BODY>\n<h3>Magos vs. Truth 
	FC (Red)</h3>Plus d'info : <a href="https://www.golnetwork.com/game/v/21482
	/">#268</a>\n\n</BODY>\n</HTML>
STATUS:CONFIRMED
CLASS:PUBLIC
URL:https://www.golnetwork.com/game/v/21482/
X-MICROSOFT-CDO-BUSYSTATUS:BUSY
X-MICROSOFT-CDO-IMPORTANCE:1
END:VEVENT
BEGIN:VEVENT
UID:g27i9@games.golnetwork.com
LOCATION:Lamport Stadium Field 3
GEO:43.639337;-79.4248954
CREATED:20121008T174032Z
DTSTART:20121015T010000Z
DTEND:20121015T020000Z
DTSTAMP:20260424T071415Z
SUMMARY:Something FC (White) vs. Los Luchadores
DESCRIPTION:Los Luchadores vs. Something FC (White)Plus d'info : #271
X-ALT-DESC;FMTTYPE=text/html:<!DOCTYPE HTML PUBLIC "-//W3C//DTD HTML 3.2//E
	N">\n<HTML>\n<HEAD>\n<TITLE></TITLE>\n</HEAD>\n<BODY>\n<h3>Los Luchadores v
	s. Something FC (White)</h3>Plus d'info : <a href="https://www.golnetwork.c
	om/game/v/21483/">#271</a>\n\n</BODY>\n</HTML>
STATUS:CONFIRMED
CLASS:PUBLIC
URL:https://www.golnetwork.com/game/v/21483/
X-MICROSOFT-CDO-BUSYSTATUS:BUSY
X-MICROSOFT-CDO-IMPORTANCE:1
END:VEVENT
BEGIN:VEVENT
UID:g27ib@games.golnetwork.com
LOCATION:Lamport Stadium Field 3
GEO:43.639337;-79.4248954
CREATED:20121008T174051Z
DTSTART:20121015T020000Z
DTEND:20121015T030000Z
DTSTAMP:20260424T071415Z
SUMMARY:XTSC Lean Mean Machine vs. FC Lady Killers
DESCRIPTION:FC Lady Killers vs. XTSC Lean Mean MachinePlus d'info : #274
X-ALT-DESC;FMTTYPE=text/html:<!DOCTYPE HTML PUBLIC "-//W3C//DTD HTML 3.2//E
	N">\n<HTML>\n<HEAD>\n<TITLE></TITLE>\n</HEAD>\n<BODY>\n<h3>FC Lady Killers 
	vs. XTSC Lean Mean Machine</h3>Plus d'info : <a href="https://www.golnetwor
	k.com/game/v/21484/">#274</a>\n\n</BODY>\n</HTML>
STATUS:CONFIRMED
CLASS:PUBLIC
URL:https://www.golnetwork.com/game/v/21484/
X-MICROSOFT-CDO-BUSYSTATUS:BUSY
X-MICROSOFT-CDO-IMPORTANCE:1
END:VEVENT
BEGIN:VEVENT
UID:g288k@games.golnetwork.com
LOCATION:Lamport Stadium Field 3
GEO:43.639337;-79.4248954
CREATED:20121017T135745Z
DTSTART:20121021T230000Z
DTEND:20121022T000000Z
DTSTAMP:20260424T071415Z
SUMMARY:XTSC Lean Mean Machine vs. Tree FC
DESCRIPTION:Tree FC vs. XTSC Lean Mean MachinePlus d'info : #277
X-ALT-DESC;FMTTYPE=text/html:<!DOCTYPE HTML PUBLIC "-//W3C//DTD HTML 3.2//E
	N">\n<HTML>\n<HEAD>\n<TITLE></TITLE>\n</HEAD>\n<BODY>\n<h3>Tree FC vs. XTSC
	 Lean Mean Machine</h3>Plus d'info : <a href="https://www.golnetwork.com/ga
	me/v/21718/">#277</a>\n\n</BODY>\n</HTML>
STATUS:CONFIRMED
CLASS:PUBLIC
URL:https://www.golnetwork.com/game/v/21718/
X-MICROSOFT-CDO-BUSYSTATUS:BUSY
X-MICROSOFT-CDO-IMPORTANCE:1
END:VEVENT
BEGIN:VEVENT
UID:g289j@games.golnetwork.com
LOCATION:Lamport Stadium Field 3
GEO:43.639337;-79.4248954
CREATED:20121017T145346Z
DTSTART:20121022T000000Z
DTEND:20121022T010000Z
DTSTAMP:20260424T071415Z
SUMMARY:Something FC (White) vs. Magos
DESCRIPTION:Magos vs. Something FC (White)Plus d'info : #280
X-ALT-DESC;FMTTYPE=text/html:<!DOCTYPE HTML PUBLIC "-//W3C//DTD HTML 3.2//E
	N">\n<HTML>\n<HEAD>\n<TITLE></TITLE>\n</HEAD>\n<BODY>\n<h3>Magos vs. Someth
	ing FC (White)</h3>Plus d'info : <a href="https://www.golnetwork.com/game/v
	/21731/">#280</a>\n\n</BODY>\n</HTML>
STATUS:CONFIRMED
CLASS:PUBLIC
URL:https://www.golnetwork.com/game/v/21731/
X-MICROSOFT-CDO-BUSYSTATUS:BUSY
X-MICROSOFT-CDO-IMPORTANCE:1
END:VEVENT
BEGIN:VEVENT
UID:g289h@games.golnetwork.com
LOCATION:Lamport Stadium Field 3
GEO:43.639337;-79.4248954
CREATED:20121017T145326Z
DTSTART:20121022T010000Z
DTEND:20121022T020000Z
DTSTAMP:20260424T071415Z
SUMMARY:Truth FC (Red) vs. Los Luchadores
DESCRIPTION:Los Luchadores vs. Truth FC (Red)Plus d'info : #283
X-ALT-DESC;FMTTYPE=text/html:<!DOCTYPE HTML PUBLIC "-//W3C//DTD HTML 3.2//E
	N">\n<HTML>\n<HEAD>\n<TITLE></TITLE>\n</HEAD>\n<BODY>\n<h3>Los Luchadores v
	s. Truth FC (Red)</h3>Plus d'info : <a href="https://www.golnetwork.com/gam
	e/v/21730/">#283</a>\n\n</BODY>\n</HTML>
STATUS:CONFIRMED
CLASS:PUBLIC
URL:https://www.golnetwork.com/game/v/21730/
X-MICROSOFT-CDO-BUSYSTATUS:BUSY
X-MICROSOFT-CDO-IMPORTANCE:1
END:VEVENT
BEGIN:VEVENT
UID:g288i@games.golnetwork.com
LOCATION:Lamport Stadium Field 3
GEO:43.639337;-79.4248954
CREATED:20121017T135731Z
DTSTART:20121022T020000Z
DTEND:20121022T030000Z
DTSTAMP:20260424T071415Z
SUMMARY:Galo FC vs. FC Lady Killers
DESCRIPTION:FC Lady Killers vs. Galo FCPlus d'info : #285
X-ALT-DESC;FMTTYPE=text/html:<!DOCTYPE HTML PUBLIC "-//W3C//DTD HTML 3.2//E
	N">\n<HTML>\n<HEAD>\n<TITLE></TITLE>\n</HEAD>\n<BODY>\n<h3>FC Lady Killers 
	vs. Galo FC</h3>Plus d'info : <a href="https://www.golnetwork.com/game/v/21
	717/">#285</a>\n\n</BODY>\n</HTML>
STATUS:CONFIRMED
CLASS:PUBLIC
URL:https://www.golnetwork.com/game/v/21717/
X-MICROSOFT-CDO-BUSYSTATUS:BUSY
X-MICROSOFT-CDO-IMPORTANCE:1
END:VEVENT
END:VCALENDAR
