BEGIN:VCALENDAR
PRODID:-//gdesolutions.com//MV Framework 1.0.0.1607 Calendar//EN
VERSION:2.0
METHOD:PUBLISH
CALSCALE:GREGORIAN
BEGIN:VEVENT
UID:g1opi@games.golnetwork.com
LOCATION:Lamport Stadium Field 2
GEO:43.639337;-79.4248954
CREATED:20120719T175125Z
DTSTART:20120722T230000Z
DTEND:20120723T000000Z
DTSTAMP:20260420T130312Z
SUMMARY:Sporting Chance (White) vs. Cat Daddy's
DESCRIPTION:Cat Daddy's vs. Sporting Chance (White)Plus d'info : #31
X-ALT-DESC;FMTTYPE=text/html:<!DOCTYPE HTML PUBLIC "-//W3C//DTD HTML 3.2//E
	N">\n<HTML>\n<HEAD>\n<TITLE></TITLE>\n</HEAD>\n<BODY>\n<h3>Cat Daddy's vs. 
	Sporting Chance (White)</h3>Plus d'info : <a href="https://www.golnetwork.c
	om/game/v/17937/">#31</a>\n\n</BODY>\n</HTML>
STATUS:CONFIRMED
CLASS:PUBLIC
URL:https://www.golnetwork.com/game/v/17937/
X-MICROSOFT-CDO-BUSYSTATUS:BUSY
X-MICROSOFT-CDO-IMPORTANCE:1
END:VEVENT
BEGIN:VEVENT
UID:g1opk@games.golnetwork.com
LOCATION:Lamport Stadium Field 2
GEO:43.639337;-79.4248954
CREATED:20120719T175125Z
DTSTART:20120723T000000Z
DTEND:20120723T010000Z
DTSTAMP:20260420T130312Z
SUMMARY:Las Vacas (White) vs. Cat Daddy's
DESCRIPTION:Cat Daddy's vs. Las Vacas (White)Plus d'info : #34
X-ALT-DESC;FMTTYPE=text/html:<!DOCTYPE HTML PUBLIC "-//W3C//DTD HTML 3.2//E
	N">\n<HTML>\n<HEAD>\n<TITLE></TITLE>\n</HEAD>\n<BODY>\n<h3>Cat Daddy's vs. 
	Las Vacas (White)</h3>Plus d'info : <a href="https://www.golnetwork.com/gam
	e/v/17938/">#34</a>\n\n</BODY>\n</HTML>
STATUS:CONFIRMED
CLASS:PUBLIC
URL:https://www.golnetwork.com/game/v/17938/
X-MICROSOFT-CDO-BUSYSTATUS:BUSY
X-MICROSOFT-CDO-IMPORTANCE:1
END:VEVENT
BEGIN:VEVENT
UID:g1opm@games.golnetwork.com
LOCATION:Lamport Stadium Field 2
GEO:43.639337;-79.4248954
CREATED:20120719T175125Z
DTSTART:20120723T010000Z
DTEND:20120723T020000Z
DTSTAMP:20260420T130312Z
SUMMARY:Balls and Dolls (Black) vs. Whistle FC
DESCRIPTION:Whistle FC vs. Balls and Dolls (Black)Plus d'info : #37
X-ALT-DESC;FMTTYPE=text/html:<!DOCTYPE HTML PUBLIC "-//W3C//DTD HTML 3.2//E
	N">\n<HTML>\n<HEAD>\n<TITLE></TITLE>\n</HEAD>\n<BODY>\n<h3>Whistle FC vs. B
	alls and Dolls (Black)</h3>Plus d'info : <a href="https://www.golnetwork.co
	m/game/v/17939/">#37</a>\n\n</BODY>\n</HTML>
STATUS:CONFIRMED
CLASS:PUBLIC
URL:https://www.golnetwork.com/game/v/17939/
X-MICROSOFT-CDO-BUSYSTATUS:BUSY
X-MICROSOFT-CDO-IMPORTANCE:1
END:VEVENT
BEGIN:VEVENT
UID:g1opo@games.golnetwork.com
LOCATION:Lamport Stadium Field 2
GEO:43.639337;-79.4248954
CREATED:20120719T175125Z
DTSTART:20120812T230000Z
DTEND:20120813T000000Z
DTSTAMP:20260420T130312Z
SUMMARY:Sporting Chance (White) vs. Las Vacas (White)
DESCRIPTION:Las Vacas (White) vs. Sporting Chance (White)Plus d'info : #112
X-ALT-DESC;FMTTYPE=text/html:<!DOCTYPE HTML PUBLIC "-//W3C//DTD HTML 3.2//E
	N">\n<HTML>\n<HEAD>\n<TITLE></TITLE>\n</HEAD>\n<BODY>\n<h3>Las Vacas (White
	) vs. Sporting Chance (White)</h3>Plus d'info : <a href="https://www.golnet
	work.com/game/v/17940/">#112</a>\n\n</BODY>\n</HTML>
STATUS:CONFIRMED
CLASS:PUBLIC
URL:https://www.golnetwork.com/game/v/17940/
X-MICROSOFT-CDO-BUSYSTATUS:BUSY
X-MICROSOFT-CDO-IMPORTANCE:1
END:VEVENT
BEGIN:VEVENT
UID:g1opq@games.golnetwork.com
LOCATION:Lamport Stadium Field 2
GEO:43.639337;-79.4248954
CREATED:20120719T175125Z
DTSTART:20120813T000000Z
DTEND:20120813T010000Z
DTSTAMP:20260420T130312Z
SUMMARY:Cat Daddy's vs. Balls and Dolls (Black)
DESCRIPTION:Balls and Dolls (Black) vs. Cat Daddy'sPlus d'info : #115
X-ALT-DESC;FMTTYPE=text/html:<!DOCTYPE HTML PUBLIC "-//W3C//DTD HTML 3.2//E
	N">\n<HTML>\n<HEAD>\n<TITLE></TITLE>\n</HEAD>\n<BODY>\n<h3>Balls and Dolls 
	(Black) vs. Cat Daddy's</h3>Plus d'info : <a href="https://www.golnetwork.c
	om/game/v/17941/">#115</a>\n\n</BODY>\n</HTML>
STATUS:CONFIRMED
CLASS:PUBLIC
URL:https://www.golnetwork.com/game/v/17941/
X-MICROSOFT-CDO-BUSYSTATUS:BUSY
X-MICROSOFT-CDO-IMPORTANCE:1
END:VEVENT
BEGIN:VEVENT
UID:g1oq1@games.golnetwork.com
LOCATION:Lamport Stadium Field 2
GEO:43.639337;-79.4248954
CREATED:20120719T175125Z
DTSTART:20120813T010000Z
DTEND:20120813T020000Z
DTSTAMP:20260420T130312Z
SUMMARY:Whistle FC vs. Balls and Dolls (Black)
DESCRIPTION:Balls and Dolls (Black) vs. Whistle FCPlus d'info : #118
X-ALT-DESC;FMTTYPE=text/html:<!DOCTYPE HTML PUBLIC "-//W3C//DTD HTML 3.2//E
	N">\n<HTML>\n<HEAD>\n<TITLE></TITLE>\n</HEAD>\n<BODY>\n<h3>Balls and Dolls 
	(Black) vs. Whistle FC</h3>Plus d'info : <a href="https://www.golnetwork.co
	m/game/v/17942/">#118</a>\n\n</BODY>\n</HTML>
STATUS:CONFIRMED
CLASS:PUBLIC
URL:https://www.golnetwork.com/game/v/17942/
X-MICROSOFT-CDO-BUSYSTATUS:BUSY
X-MICROSOFT-CDO-IMPORTANCE:1
END:VEVENT
BEGIN:VEVENT
UID:g1qin@games.golnetwork.com
LOCATION:Lamport Stadium Field 2
GEO:43.639337;-79.4248954
CREATED:20120903T163757Z
DTSTART:20120902T230000Z
DTEND:20120903T000000Z
DTSTAMP:20260420T130312Z
SUMMARY:Balls and Dolls (Black) vs. Sporting Chance (White)
DESCRIPTION:Sporting Chance (White) vs. Balls and Dolls (Black)Plus d'info 
	: #177
X-ALT-DESC;FMTTYPE=text/html:<!DOCTYPE HTML PUBLIC "-//W3C//DTD HTML 3.2//E
	N">\n<HTML>\n<HEAD>\n<TITLE></TITLE>\n</HEAD>\n<BODY>\n<h3>Sporting Chance 
	(White) vs. Balls and Dolls (Black)</h3>Plus d'info : <a href="https://www.
	golnetwork.com/game/v/18574/">#177</a>\n\n</BODY>\n</HTML>
STATUS:CONFIRMED
CLASS:PUBLIC
URL:https://www.golnetwork.com/game/v/18574/
X-MICROSOFT-CDO-BUSYSTATUS:BUSY
X-MICROSOFT-CDO-IMPORTANCE:1
END:VEVENT
BEGIN:VEVENT
UID:g1oq5@games.golnetwork.com
LOCATION:Lamport Stadium Field 2
GEO:43.639337;-79.4248954
CREATED:20120719T175125Z
DTSTART:20120903T000000Z
DTEND:20120903T010000Z
DTSTAMP:20260420T130312Z
SUMMARY:Cat Daddy's vs. Whistle FC
DESCRIPTION:Whistle FC vs. Cat Daddy'sPlus d'info : #180
X-ALT-DESC;FMTTYPE=text/html:<!DOCTYPE HTML PUBLIC "-//W3C//DTD HTML 3.2//E
	N">\n<HTML>\n<HEAD>\n<TITLE></TITLE>\n</HEAD>\n<BODY>\n<h3>Whistle FC vs. C
	at Daddy's</h3>Plus d'info : <a href="https://www.golnetwork.com/game/v/179
	44/">#180</a>\n\n</BODY>\n</HTML>
STATUS:CONFIRMED
CLASS:PUBLIC
URL:https://www.golnetwork.com/game/v/17944/
X-MICROSOFT-CDO-BUSYSTATUS:BUSY
X-MICROSOFT-CDO-IMPORTANCE:1
END:VEVENT
BEGIN:VEVENT
UID:g1oq7@games.golnetwork.com
LOCATION:Lamport Stadium Field 2
GEO:43.639337;-79.4248954
CREATED:20120719T175125Z
DTSTART:20120903T010000Z
DTEND:20120903T020000Z
DTSTAMP:20260420T130312Z
SUMMARY:Las Vacas (White) vs. Whistle FC
DESCRIPTION:Whistle FC vs. Las Vacas (White)Plus d'info : #183
X-ALT-DESC;FMTTYPE=text/html:<!DOCTYPE HTML PUBLIC "-//W3C//DTD HTML 3.2//E
	N">\n<HTML>\n<HEAD>\n<TITLE></TITLE>\n</HEAD>\n<BODY>\n<h3>Whistle FC vs. L
	as Vacas (White)</h3>Plus d'info : <a href="https://www.golnetwork.com/game
	/v/17945/">#183</a>\n\n</BODY>\n</HTML>
STATUS:CONFIRMED
CLASS:PUBLIC
URL:https://www.golnetwork.com/game/v/17945/
X-MICROSOFT-CDO-BUSYSTATUS:BUSY
X-MICROSOFT-CDO-IMPORTANCE:1
END:VEVENT
BEGIN:VEVENT
UID:g1oq9@games.golnetwork.com
LOCATION:Lamport Stadium Field 2
GEO:43.639337;-79.4248954
CREATED:20120719T175125Z
DTSTART:20120909T230000Z
DTEND:20120910T000000Z
DTSTAMP:20260420T130312Z
SUMMARY:Whistle FC vs. Las Vacas (White)
DESCRIPTION:Las Vacas (White) vs. Whistle FCPlus d'info : #203
X-ALT-DESC;FMTTYPE=text/html:<!DOCTYPE HTML PUBLIC "-//W3C//DTD HTML 3.2//E
	N">\n<HTML>\n<HEAD>\n<TITLE></TITLE>\n</HEAD>\n<BODY>\n<h3>Las Vacas (White
	) vs. Whistle FC</h3>Plus d'info : <a href="https://www.golnetwork.com/game
	/v/17946/">#203</a>\n\n</BODY>\n</HTML>
STATUS:CONFIRMED
CLASS:PUBLIC
URL:https://www.golnetwork.com/game/v/17946/
X-MICROSOFT-CDO-BUSYSTATUS:BUSY
X-MICROSOFT-CDO-IMPORTANCE:1
END:VEVENT
BEGIN:VEVENT
UID:g1oqb@games.golnetwork.com
LOCATION:Lamport Stadium Field 2
GEO:43.639337;-79.4248954
CREATED:20120719T175125Z
DTSTART:20120910T000000Z
DTEND:20120910T010000Z
DTSTAMP:20260420T130312Z
SUMMARY:Balls and Dolls (Black) vs. Las Vacas (White)
DESCRIPTION:Las Vacas (White) vs. Balls and Dolls (Black)Plus d'info : #206
X-ALT-DESC;FMTTYPE=text/html:<!DOCTYPE HTML PUBLIC "-//W3C//DTD HTML 3.2//E
	N">\n<HTML>\n<HEAD>\n<TITLE></TITLE>\n</HEAD>\n<BODY>\n<h3>Las Vacas (White
	) vs. Balls and Dolls (Black)</h3>Plus d'info : <a href="https://www.golnet
	work.com/game/v/17947/">#206</a>\n\n</BODY>\n</HTML>
STATUS:CONFIRMED
CLASS:PUBLIC
URL:https://www.golnetwork.com/game/v/17947/
X-MICROSOFT-CDO-BUSYSTATUS:BUSY
X-MICROSOFT-CDO-IMPORTANCE:1
END:VEVENT
BEGIN:VEVENT
UID:g1oqd@games.golnetwork.com
LOCATION:Lamport Stadium Field 2
GEO:43.639337;-79.4248954
CREATED:20120719T175125Z
DTSTART:20120910T010000Z
DTEND:20120910T020000Z
DTSTAMP:20260420T130312Z
SUMMARY:Cat Daddy's vs. Sporting Chance (White)
DESCRIPTION:Sporting Chance (White) vs. Cat Daddy'sPlus d'info : #209
X-ALT-DESC;FMTTYPE=text/html:<!DOCTYPE HTML PUBLIC "-//W3C//DTD HTML 3.2//E
	N">\n<HTML>\n<HEAD>\n<TITLE></TITLE>\n</HEAD>\n<BODY>\n<h3>Sporting Chance 
	(White) vs. Cat Daddy's</h3>Plus d'info : <a href="https://www.golnetwork.c
	om/game/v/17948/">#209</a>\n\n</BODY>\n</HTML>
STATUS:CONFIRMED
CLASS:PUBLIC
URL:https://www.golnetwork.com/game/v/17948/
X-MICROSOFT-CDO-BUSYSTATUS:BUSY
X-MICROSOFT-CDO-IMPORTANCE:1
END:VEVENT
BEGIN:VEVENT
UID:g1oqf@games.golnetwork.com
LOCATION:Lamport Stadium Field 2
GEO:43.639337;-79.4248954
CREATED:20120719T175125Z
DTSTART:20120916T230000Z
DTEND:20120917T000000Z
DTSTAMP:20260420T130312Z
SUMMARY:Whistle FC vs. Sporting Chance (White)
DESCRIPTION:Sporting Chance (White) vs. Whistle FCPlus d'info : #221
X-ALT-DESC;FMTTYPE=text/html:<!DOCTYPE HTML PUBLIC "-//W3C//DTD HTML 3.2//E
	N">\n<HTML>\n<HEAD>\n<TITLE></TITLE>\n</HEAD>\n<BODY>\n<h3>Sporting Chance 
	(White) vs. Whistle FC</h3>Plus d'info : <a href="https://www.golnetwork.co
	m/game/v/17949/">#221</a>\n\n</BODY>\n</HTML>
STATUS:CONFIRMED
CLASS:PUBLIC
URL:https://www.golnetwork.com/game/v/17949/
X-MICROSOFT-CDO-BUSYSTATUS:BUSY
X-MICROSOFT-CDO-IMPORTANCE:1
END:VEVENT
BEGIN:VEVENT
UID:g1oqh@games.golnetwork.com
LOCATION:Lamport Stadium Field 2
GEO:43.639337;-79.4248954
CREATED:20120719T175125Z
DTSTART:20120917T000000Z
DTEND:20120917T010000Z
DTSTAMP:20260420T130312Z
SUMMARY:Balls and Dolls (Black) vs. Sporting Chance (White)
DESCRIPTION:Sporting Chance (White) vs. Balls and Dolls (Black)Plus d'info 
	: #224
X-ALT-DESC;FMTTYPE=text/html:<!DOCTYPE HTML PUBLIC "-//W3C//DTD HTML 3.2//E
	N">\n<HTML>\n<HEAD>\n<TITLE></TITLE>\n</HEAD>\n<BODY>\n<h3>Sporting Chance 
	(White) vs. Balls and Dolls (Black)</h3>Plus d'info : <a href="https://www.
	golnetwork.com/game/v/17950/">#224</a>\n\n</BODY>\n</HTML>
STATUS:CONFIRMED
CLASS:PUBLIC
URL:https://www.golnetwork.com/game/v/17950/
X-MICROSOFT-CDO-BUSYSTATUS:BUSY
X-MICROSOFT-CDO-IMPORTANCE:1
END:VEVENT
BEGIN:VEVENT
UID:g1oqj@games.golnetwork.com
LOCATION:Lamport Stadium Field 2
GEO:43.639337;-79.4248954
CREATED:20120719T175125Z
DTSTART:20120917T010000Z
DTEND:20120917T020000Z
DTSTAMP:20260420T130312Z
SUMMARY:Las Vacas (White) vs. Cat Daddy's
DESCRIPTION:Cat Daddy's vs. Las Vacas (White)Plus d'info : #227
X-ALT-DESC;FMTTYPE=text/html:<!DOCTYPE HTML PUBLIC "-//W3C//DTD HTML 3.2//E
	N">\n<HTML>\n<HEAD>\n<TITLE></TITLE>\n</HEAD>\n<BODY>\n<h3>Cat Daddy's vs. 
	Las Vacas (White)</h3>Plus d'info : <a href="https://www.golnetwork.com/gam
	e/v/17951/">#227</a>\n\n</BODY>\n</HTML>
STATUS:CONFIRMED
CLASS:PUBLIC
URL:https://www.golnetwork.com/game/v/17951/
X-MICROSOFT-CDO-BUSYSTATUS:BUSY
X-MICROSOFT-CDO-IMPORTANCE:1
END:VEVENT
BEGIN:VEVENT
UID:g1oql@games.golnetwork.com
LOCATION:Lamport Stadium Field 2
GEO:43.639337;-79.4248954
CREATED:20120719T175125Z
DTSTART:20120923T230000Z
DTEND:20120924T000000Z
DTSTAMP:20260420T130312Z
SUMMARY:Whistle FC vs. Cat Daddy's
DESCRIPTION:Cat Daddy's vs. Whistle FCPlus d'info : #239
X-ALT-DESC;FMTTYPE=text/html:<!DOCTYPE HTML PUBLIC "-//W3C//DTD HTML 3.2//E
	N">\n<HTML>\n<HEAD>\n<TITLE></TITLE>\n</HEAD>\n<BODY>\n<h3>Cat Daddy's vs. 
	Whistle FC</h3>Plus d'info : <a href="https://www.golnetwork.com/game/v/179
	52/">#239</a>\n\n</BODY>\n</HTML>
STATUS:CONFIRMED
CLASS:PUBLIC
URL:https://www.golnetwork.com/game/v/17952/
X-MICROSOFT-CDO-BUSYSTATUS:BUSY
X-MICROSOFT-CDO-IMPORTANCE:1
END:VEVENT
BEGIN:VEVENT
UID:g1oqn@games.golnetwork.com
LOCATION:Lamport Stadium Field 2
GEO:43.639337;-79.4248954
CREATED:20120719T175125Z
DTSTART:20120924T000000Z
DTEND:20120924T010000Z
DTSTAMP:20260420T130312Z
SUMMARY:Balls and Dolls (Black) vs. Cat Daddy's
DESCRIPTION:Cat Daddy's vs. Balls and Dolls (Black)Plus d'info : #242
X-ALT-DESC;FMTTYPE=text/html:<!DOCTYPE HTML PUBLIC "-//W3C//DTD HTML 3.2//E
	N">\n<HTML>\n<HEAD>\n<TITLE></TITLE>\n</HEAD>\n<BODY>\n<h3>Cat Daddy's vs. 
	Balls and Dolls (Black)</h3>Plus d'info : <a href="https://www.golnetwork.c
	om/game/v/17953/">#242</a>\n\n</BODY>\n</HTML>
STATUS:CONFIRMED
CLASS:PUBLIC
URL:https://www.golnetwork.com/game/v/17953/
X-MICROSOFT-CDO-BUSYSTATUS:BUSY
X-MICROSOFT-CDO-IMPORTANCE:1
END:VEVENT
BEGIN:VEVENT
UID:g1oqp@games.golnetwork.com
LOCATION:Lamport Stadium Field 2
GEO:43.639337;-79.4248954
CREATED:20120719T175125Z
DTSTART:20120924T010000Z
DTEND:20120924T020000Z
DTSTAMP:20260420T130312Z
SUMMARY:Sporting Chance (White) vs. Las Vacas (White)
DESCRIPTION:Las Vacas (White) vs. Sporting Chance (White)Plus d'info : #245
X-ALT-DESC;FMTTYPE=text/html:<!DOCTYPE HTML PUBLIC "-//W3C//DTD HTML 3.2//E
	N">\n<HTML>\n<HEAD>\n<TITLE></TITLE>\n</HEAD>\n<BODY>\n<h3>Las Vacas (White
	) vs. Sporting Chance (White)</h3>Plus d'info : <a href="https://www.golnet
	work.com/game/v/17954/">#245</a>\n\n</BODY>\n</HTML>
STATUS:CONFIRMED
CLASS:PUBLIC
URL:https://www.golnetwork.com/game/v/17954/
X-MICROSOFT-CDO-BUSYSTATUS:BUSY
X-MICROSOFT-CDO-IMPORTANCE:1
END:VEVENT
BEGIN:VEVENT
UID:g27hq@games.golnetwork.com
LOCATION:Lamport Stadium Field 2
GEO:43.639337;-79.4248954
CREATED:20121008T173648Z
DTSTART:20121014T230000Z
DTEND:20121015T000000Z
DTSTAMP:20260420T130312Z
SUMMARY:Cat Daddy's vs. Sporting Chance (White)
DESCRIPTION:Sporting Chance (White) vs. Cat Daddy'sPlus d'info : #264
X-ALT-DESC;FMTTYPE=text/html:<!DOCTYPE HTML PUBLIC "-//W3C//DTD HTML 3.2//E
	N">\n<HTML>\n<HEAD>\n<TITLE></TITLE>\n</HEAD>\n<BODY>\n<h3>Sporting Chance 
	(White) vs. Cat Daddy's</h3>Plus d'info : <a href="https://www.golnetwork.c
	om/game/v/21478/">#264</a>\n\n</BODY>\n</HTML>
STATUS:CONFIRMED
CLASS:PUBLIC
URL:https://www.golnetwork.com/game/v/21478/
X-MICROSOFT-CDO-BUSYSTATUS:BUSY
X-MICROSOFT-CDO-IMPORTANCE:1
END:VEVENT
BEGIN:VEVENT
UID:g27i1@games.golnetwork.com
LOCATION:Lamport Stadium Field 2
GEO:43.639337;-79.4248954
CREATED:20121008T173705Z
DTSTART:20121015T000000Z
DTEND:20121015T010000Z
DTSTAMP:20260420T130312Z
SUMMARY:Whistle FC vs. Sporting Chance (White)
DESCRIPTION:Sporting Chance (White) vs. Whistle FCPlus d'info : #267
X-ALT-DESC;FMTTYPE=text/html:<!DOCTYPE HTML PUBLIC "-//W3C//DTD HTML 3.2//E
	N">\n<HTML>\n<HEAD>\n<TITLE></TITLE>\n</HEAD>\n<BODY>\n<h3>Sporting Chance 
	(White) vs. Whistle FC</h3>Plus d'info : <a href="https://www.golnetwork.co
	m/game/v/21479/">#267</a>\n\n</BODY>\n</HTML>
STATUS:CONFIRMED
CLASS:PUBLIC
URL:https://www.golnetwork.com/game/v/21479/
X-MICROSOFT-CDO-BUSYSTATUS:BUSY
X-MICROSOFT-CDO-IMPORTANCE:1
END:VEVENT
BEGIN:VEVENT
UID:g27i3@games.golnetwork.com
LOCATION:Lamport Stadium Field 2
GEO:43.639337;-79.4248954
CREATED:20121008T173731Z
DTSTART:20121015T010000Z
DTEND:20121015T020000Z
DTSTAMP:20260420T130312Z
SUMMARY:Balls and Dolls (Black) vs. Las Vacas (White)
DESCRIPTION:Las Vacas (White) vs. Balls and Dolls (Black)Plus d'info : #270
X-ALT-DESC;FMTTYPE=text/html:<!DOCTYPE HTML PUBLIC "-//W3C//DTD HTML 3.2//E
	N">\n<HTML>\n<HEAD>\n<TITLE></TITLE>\n</HEAD>\n<BODY>\n<h3>Las Vacas (White
	) vs. Balls and Dolls (Black)</h3>Plus d'info : <a href="https://www.golnet
	work.com/game/v/21480/">#270</a>\n\n</BODY>\n</HTML>
STATUS:CONFIRMED
CLASS:PUBLIC
URL:https://www.golnetwork.com/game/v/21480/
X-MICROSOFT-CDO-BUSYSTATUS:BUSY
X-MICROSOFT-CDO-IMPORTANCE:1
END:VEVENT
BEGIN:VEVENT
UID:g2888@games.golnetwork.com
LOCATION:Lamport Stadium Field 2
GEO:43.639337;-79.4248954
CREATED:20121017T135411Z
DTSTART:20121021T230000Z
DTEND:20121022T000000Z
DTSTAMP:20260420T130312Z
SUMMARY:Whistle FC vs. Cat Daddy's
DESCRIPTION:Cat Daddy's vs. Whistle FCPlus d'info : #276
X-ALT-DESC;FMTTYPE=text/html:<!DOCTYPE HTML PUBLIC "-//W3C//DTD HTML 3.2//E
	N">\n<HTML>\n<HEAD>\n<TITLE></TITLE>\n</HEAD>\n<BODY>\n<h3>Cat Daddy's vs. 
	Whistle FC</h3>Plus d'info : <a href="https://www.golnetwork.com/game/v/217
	12/">#276</a>\n\n</BODY>\n</HTML>
STATUS:CONFIRMED
CLASS:PUBLIC
URL:https://www.golnetwork.com/game/v/21712/
X-MICROSOFT-CDO-BUSYSTATUS:BUSY
X-MICROSOFT-CDO-IMPORTANCE:1
END:VEVENT
BEGIN:VEVENT
UID:g288a@games.golnetwork.com
LOCATION:Lamport Stadium Field 2
GEO:43.639337;-79.4248954
CREATED:20121017T135433Z
DTSTART:20121022T000000Z
DTEND:20121022T010000Z
DTSTAMP:20260420T130312Z
SUMMARY:Balls and Dolls (Black) vs. Whistle FC
DESCRIPTION:Whistle FC vs. Balls and Dolls (Black)Plus d'info : #279
X-ALT-DESC;FMTTYPE=text/html:<!DOCTYPE HTML PUBLIC "-//W3C//DTD HTML 3.2//E
	N">\n<HTML>\n<HEAD>\n<TITLE></TITLE>\n</HEAD>\n<BODY>\n<h3>Whistle FC vs. B
	alls and Dolls (Black)</h3>Plus d'info : <a href="https://www.golnetwork.co
	m/game/v/21713/">#279</a>\n\n</BODY>\n</HTML>
STATUS:CONFIRMED
CLASS:PUBLIC
URL:https://www.golnetwork.com/game/v/21713/
X-MICROSOFT-CDO-BUSYSTATUS:BUSY
X-MICROSOFT-CDO-IMPORTANCE:1
END:VEVENT
BEGIN:VEVENT
UID:g288c@games.golnetwork.com
LOCATION:Lamport Stadium Field 2
GEO:43.639337;-79.4248954
CREATED:20121017T135453Z
DTSTART:20121022T010000Z
DTEND:20121022T020000Z
DTSTAMP:20260420T130312Z
SUMMARY:Las Vacas (White) vs. Sporting Chance (White)
DESCRIPTION:Sporting Chance (White) vs. Las Vacas (White)Plus d'info : #282
X-ALT-DESC;FMTTYPE=text/html:<!DOCTYPE HTML PUBLIC "-//W3C//DTD HTML 3.2//E
	N">\n<HTML>\n<HEAD>\n<TITLE></TITLE>\n</HEAD>\n<BODY>\n<h3>Sporting Chance 
	(White) vs. Las Vacas (White)</h3>Plus d'info : <a href="https://www.golnet
	work.com/game/v/21714/">#282</a>\n\n</BODY>\n</HTML>
STATUS:CONFIRMED
CLASS:PUBLIC
URL:https://www.golnetwork.com/game/v/21714/
X-MICROSOFT-CDO-BUSYSTATUS:BUSY
X-MICROSOFT-CDO-IMPORTANCE:1
END:VEVENT
END:VCALENDAR
