BEGIN:VCALENDAR
PRODID:-//gdesolutions.com//MV Framework 1.0.0.1607 Calendar//EN
VERSION:2.0
METHOD:PUBLISH
CALSCALE:GREGORIAN
BEGIN:VEVENT
UID:g27b2@games.golnetwork.com
LOCATION:Terrain hockey 3L
GEO:45.8406778;-73.4320203
CREATED:20121006T152918Z
DTSTART:20121001T000000Z
DTEND:20121001T010000Z
DTSTAMP:20260424T080212Z
SUMMARY:Équipe inconnue #1 vs. Équipe inconnue #3
DESCRIPTION:Équipe inconnue #3 vs. Équipe inconnue #1Plus d'info : #3
X-ALT-DESC;FMTTYPE=text/html:<!DOCTYPE HTML PUBLIC "-//W3C//DTD HTML 3.2//E
	N">\n<HTML>\n<HEAD>\n<TITLE></TITLE>\n</HEAD>\n<BODY>\n<h3>Équipe inconnue
	 #3 vs. Équipe inconnue #1</h3>Plus d'info : <a href="https://www.golnetwo
	rk.com/game/v/21385/">#3</a>\n\n</BODY>\n</HTML>
STATUS:CONFIRMED
CLASS:PUBLIC
URL:https://www.golnetwork.com/game/v/21385/
X-MICROSOFT-CDO-BUSYSTATUS:BUSY
X-MICROSOFT-CDO-IMPORTANCE:1
END:VEVENT
BEGIN:VEVENT
UID:g27b4@games.golnetwork.com
LOCATION:Terrain hockey 3L
GEO:45.8406778;-73.4320203
CREATED:20121006T152918Z
DTSTART:20121008T000000Z
DTEND:20121008T010000Z
DTSTAMP:20260424T080212Z
SUMMARY:Équipe inconnue #2 vs. Équipe inconnue #4
DESCRIPTION:Équipe inconnue #4 vs. Équipe inconnue #2Plus d'info : #9
X-ALT-DESC;FMTTYPE=text/html:<!DOCTYPE HTML PUBLIC "-//W3C//DTD HTML 3.2//E
	N">\n<HTML>\n<HEAD>\n<TITLE></TITLE>\n</HEAD>\n<BODY>\n<h3>Équipe inconnue
	 #4 vs. Équipe inconnue #2</h3>Plus d'info : <a href="https://www.golnetwo
	rk.com/game/v/21386/">#9</a>\n\n</BODY>\n</HTML>
STATUS:CONFIRMED
CLASS:PUBLIC
URL:https://www.golnetwork.com/game/v/21386/
X-MICROSOFT-CDO-BUSYSTATUS:BUSY
X-MICROSOFT-CDO-IMPORTANCE:1
END:VEVENT
BEGIN:VEVENT
UID:g27b6@games.golnetwork.com
LOCATION:Terrain hockey 3L
GEO:45.8406778;-73.4320203
CREATED:20121006T152918Z
DTSTART:20121015T000000Z
DTEND:20121015T010000Z
DTSTAMP:20260424T080212Z
SUMMARY:Équipe inconnue #2 vs. Équipe inconnue #1
DESCRIPTION:Équipe inconnue #1 vs. Équipe inconnue #2Plus d'info : #16
X-ALT-DESC;FMTTYPE=text/html:<!DOCTYPE HTML PUBLIC "-//W3C//DTD HTML 3.2//E
	N">\n<HTML>\n<HEAD>\n<TITLE></TITLE>\n</HEAD>\n<BODY>\n<h3>Équipe inconnue
	 #1 vs. Équipe inconnue #2</h3>Plus d'info : <a href="https://www.golnetwo
	rk.com/game/v/21387/">#16</a>\n\n</BODY>\n</HTML>
STATUS:CONFIRMED
CLASS:PUBLIC
URL:https://www.golnetwork.com/game/v/21387/
X-MICROSOFT-CDO-BUSYSTATUS:BUSY
X-MICROSOFT-CDO-IMPORTANCE:1
END:VEVENT
BEGIN:VEVENT
UID:g27b8@games.golnetwork.com
LOCATION:Terrain hockey 3L
GEO:45.8406778;-73.4320203
CREATED:20121006T152918Z
DTSTART:20121022T000000Z
DTEND:20121022T010000Z
DTSTAMP:20260424T080212Z
SUMMARY:Équipe inconnue #4 vs. Équipe inconnue #3
DESCRIPTION:Équipe inconnue #3 vs. Équipe inconnue #4Plus d'info : #17
X-ALT-DESC;FMTTYPE=text/html:<!DOCTYPE HTML PUBLIC "-//W3C//DTD HTML 3.2//E
	N">\n<HTML>\n<HEAD>\n<TITLE></TITLE>\n</HEAD>\n<BODY>\n<h3>Équipe inconnue
	 #3 vs. Équipe inconnue #4</h3>Plus d'info : <a href="https://www.golnetwo
	rk.com/game/v/21388/">#17</a>\n\n</BODY>\n</HTML>
STATUS:CONFIRMED
CLASS:PUBLIC
URL:https://www.golnetwork.com/game/v/21388/
X-MICROSOFT-CDO-BUSYSTATUS:BUSY
X-MICROSOFT-CDO-IMPORTANCE:1
END:VEVENT
BEGIN:VEVENT
UID:g27ba@games.golnetwork.com
LOCATION:Terrain hockey 3L
GEO:45.8406778;-73.4320203
CREATED:20121006T152918Z
DTSTART:20121029T000000Z
DTEND:20121029T010000Z
DTSTAMP:20260424T080212Z
SUMMARY:Équipe inconnue #1 vs. Équipe inconnue #4
DESCRIPTION:Équipe inconnue #4 vs. Équipe inconnue #1Plus d'info : #18
X-ALT-DESC;FMTTYPE=text/html:<!DOCTYPE HTML PUBLIC "-//W3C//DTD HTML 3.2//E
	N">\n<HTML>\n<HEAD>\n<TITLE></TITLE>\n</HEAD>\n<BODY>\n<h3>Équipe inconnue
	 #4 vs. Équipe inconnue #1</h3>Plus d'info : <a href="https://www.golnetwo
	rk.com/game/v/21389/">#18</a>\n\n</BODY>\n</HTML>
STATUS:CONFIRMED
CLASS:PUBLIC
URL:https://www.golnetwork.com/game/v/21389/
X-MICROSOFT-CDO-BUSYSTATUS:BUSY
X-MICROSOFT-CDO-IMPORTANCE:1
END:VEVENT
END:VCALENDAR
