BEGIN:VCALENDAR
PRODID:-//gdesolutions.com//MV Framework 1.0.0.1607 Calendar//EN
VERSION:2.0
METHOD:PUBLISH
CALSCALE:GREGORIAN
BEGIN:VEVENT
UID:g2dj8@games.golnetwork.com
LOCATION:Monarch Park Stadium - Field 1
GEO:43.6792807;-79.3234852
CREATED:20121115T200633Z
DTSTART:20121121T030000Z
DTEND:20121121T040000Z
DTSTAMP:20260424T075044Z
SUMMARY:Pumpkins FC vs. Dyslexic Asbam
DESCRIPTION:Dyslexic Asbam vs. Pumpkins FCPlus d'info : #30
X-ALT-DESC;FMTTYPE=text/html:<!DOCTYPE HTML PUBLIC "-//W3C//DTD HTML 3.2//E
	N">\n<HTML>\n<HEAD>\n<TITLE></TITLE>\n</HEAD>\n<BODY>\n<h3>Dyslexic Asbam v
	s. Pumpkins FC</h3>Plus d'info : <a href="https://www.golnetwork.com/game/v
	/23683/">#30</a>\n\n</BODY>\n</HTML>
STATUS:CONFIRMED
CLASS:PUBLIC
URL:https://www.golnetwork.com/game/v/23683/
X-MICROSOFT-CDO-BUSYSTATUS:BUSY
X-MICROSOFT-CDO-IMPORTANCE:1
END:VEVENT
BEGIN:VEVENT
UID:g2dja@games.golnetwork.com
LOCATION:Monarch Park Stadium - Field 1
GEO:43.6792807;-79.3234852
CREATED:20121115T200633Z
DTSTART:20121121T040000Z
DTEND:20121121T050000Z
DTSTAMP:20260424T075044Z
SUMMARY:Purple Drank vs. Troubadours
DESCRIPTION:Troubadours vs. Purple DrankPlus d'info : #32
X-ALT-DESC;FMTTYPE=text/html:<!DOCTYPE HTML PUBLIC "-//W3C//DTD HTML 3.2//E
	N">\n<HTML>\n<HEAD>\n<TITLE></TITLE>\n</HEAD>\n<BODY>\n<h3>Troubadours vs. 
	Purple Drank</h3>Plus d'info : <a href="https://www.golnetwork.com/game/v/2
	3684/">#32</a>\n\n</BODY>\n</HTML>
STATUS:CONFIRMED
CLASS:PUBLIC
URL:https://www.golnetwork.com/game/v/23684/
X-MICROSOFT-CDO-BUSYSTATUS:BUSY
X-MICROSOFT-CDO-IMPORTANCE:1
END:VEVENT
BEGIN:VEVENT
UID:g2e1j@games.golnetwork.com
LOCATION:Monarch Park Stadium - Field 2
GEO:43.6792807;-79.3234852
CREATED:20121126T123407Z
DTSTART:20121128T030000Z
DTEND:20121128T040000Z
DTSTAMP:20260424T075044Z
SUMMARY:Dyslexic Asbam vs. Purple Drank
DESCRIPTION:Purple Drank vs. Dyslexic AsbamPlus d'info : #62
X-ALT-DESC;FMTTYPE=text/html:<!DOCTYPE HTML PUBLIC "-//W3C//DTD HTML 3.2//E
	N">\n<HTML>\n<HEAD>\n<TITLE></TITLE>\n</HEAD>\n<BODY>\n<h3>Purple Drank vs.
	 Dyslexic Asbam</h3>Plus d'info : <a href="https://www.golnetwork.com/game/
	v/23810/">#62</a>\n\n</BODY>\n</HTML>
STATUS:CONFIRMED
CLASS:PUBLIC
URL:https://www.golnetwork.com/game/v/23810/
X-MICROSOFT-CDO-BUSYSTATUS:BUSY
X-MICROSOFT-CDO-IMPORTANCE:1
END:VEVENT
BEGIN:VEVENT
UID:g2e3f@games.golnetwork.com
LOCATION:Monarch Park Stadium - Field 3
GEO:43.6792807;-79.3234852
CREATED:20121127T181003Z
DTSTART:20121128T030000Z
DTEND:20121128T040000Z
DTSTAMP:20260424T075044Z
SUMMARY:FC ABRACADABRA vs. Troubadours
DESCRIPTION:Troubadours vs. FC ABRACADABRAPlus d'info : #63
X-ALT-DESC;FMTTYPE=text/html:<!DOCTYPE HTML PUBLIC "-//W3C//DTD HTML 3.2//E
	N">\n<HTML>\n<HEAD>\n<TITLE></TITLE>\n</HEAD>\n<BODY>\n<h3>Troubadours vs. 
	FC ABRACADABRA</h3>Plus d'info : <a href="https://www.golnetwork.com/game/v
	/23835/">#63</a>\n\n</BODY>\n</HTML>
STATUS:CONFIRMED
CLASS:PUBLIC
URL:https://www.golnetwork.com/game/v/23835/
X-MICROSOFT-CDO-BUSYSTATUS:BUSY
X-MICROSOFT-CDO-IMPORTANCE:1
END:VEVENT
BEGIN:VEVENT
UID:g2e1l@games.golnetwork.com
LOCATION:Monarch Park Stadium - Field 2
GEO:43.6792807;-79.3234852
CREATED:20121126T123434Z
DTSTART:20121128T040000Z
DTEND:20121128T050000Z
DTSTAMP:20260424T075044Z
SUMMARY:FC ABRACADABRA vs. Pumpkins FC
DESCRIPTION:Pumpkins FC vs. FC ABRACADABRAPlus d'info : #65
X-ALT-DESC;FMTTYPE=text/html:<!DOCTYPE HTML PUBLIC "-//W3C//DTD HTML 3.2//E
	N">\n<HTML>\n<HEAD>\n<TITLE></TITLE>\n</HEAD>\n<BODY>\n<h3>Pumpkins FC vs. 
	FC ABRACADABRA</h3>Plus d'info : <a href="https://www.golnetwork.com/game/v
	/23811/">#65</a>\n\n</BODY>\n</HTML>
STATUS:CONFIRMED
CLASS:PUBLIC
URL:https://www.golnetwork.com/game/v/23811/
X-MICROSOFT-CDO-BUSYSTATUS:BUSY
X-MICROSOFT-CDO-IMPORTANCE:1
END:VEVENT
BEGIN:VEVENT
UID:g2e3h@games.golnetwork.com
LOCATION:Monarch Park Stadium - Field 2
GEO:43.6792807;-79.3234852
CREATED:20121127T190650Z
DTSTART:20121205T030000Z
DTEND:20121205T040000Z
DTSTAMP:20260424T075044Z
SUMMARY:Dyslexic Asbam vs. FC ABRACADABRA
DESCRIPTION:FC ABRACADABRA vs. Dyslexic AsbamPlus d'info : #95
X-ALT-DESC;FMTTYPE=text/html:<!DOCTYPE HTML PUBLIC "-//W3C//DTD HTML 3.2//E
	N">\n<HTML>\n<HEAD>\n<TITLE></TITLE>\n</HEAD>\n<BODY>\n<h3>FC ABRACADABRA v
	s. Dyslexic Asbam</h3>Plus d'info : <a href="https://www.golnetwork.com/gam
	e/v/23836/">#95</a>\n\n</BODY>\n</HTML>
STATUS:CONFIRMED
CLASS:PUBLIC
URL:https://www.golnetwork.com/game/v/23836/
X-MICROSOFT-CDO-BUSYSTATUS:BUSY
X-MICROSOFT-CDO-IMPORTANCE:1
END:VEVENT
BEGIN:VEVENT
UID:g2e3j@games.golnetwork.com
LOCATION:Monarch Park Stadium - Field 3
GEO:43.6792807;-79.3234852
CREATED:20121127T190650Z
DTSTART:20121205T030000Z
DTEND:20121205T040000Z
DTSTAMP:20260424T075044Z
SUMMARY:Troubadours vs. Purple Drank
DESCRIPTION:Purple Drank vs. TroubadoursPlus d'info : #96
X-ALT-DESC;FMTTYPE=text/html:<!DOCTYPE HTML PUBLIC "-//W3C//DTD HTML 3.2//E
	N">\n<HTML>\n<HEAD>\n<TITLE></TITLE>\n</HEAD>\n<BODY>\n<h3>Purple Drank vs.
	 Troubadours</h3>Plus d'info : <a href="https://www.golnetwork.com/game/v/2
	3837/">#96</a>\n\n</BODY>\n</HTML>
STATUS:CONFIRMED
CLASS:PUBLIC
URL:https://www.golnetwork.com/game/v/23837/
X-MICROSOFT-CDO-BUSYSTATUS:BUSY
X-MICROSOFT-CDO-IMPORTANCE:1
END:VEVENT
BEGIN:VEVENT
UID:g2e3l@games.golnetwork.com
LOCATION:Monarch Park Stadium - Field 2
GEO:43.6792807;-79.3234852
CREATED:20121127T190650Z
DTSTART:20121205T040000Z
DTEND:20121205T050000Z
DTSTAMP:20260424T075044Z
SUMMARY:Troubadours vs. Pumpkins FC
DESCRIPTION:Pumpkins FC vs. TroubadoursPlus d'info : #98
X-ALT-DESC;FMTTYPE=text/html:<!DOCTYPE HTML PUBLIC "-//W3C//DTD HTML 3.2//E
	N">\n<HTML>\n<HEAD>\n<TITLE></TITLE>\n</HEAD>\n<BODY>\n<h3>Pumpkins FC vs. 
	Troubadours</h3>Plus d'info : <a href="https://www.golnetwork.com/game/v/23
	838/">#98</a>\n\n</BODY>\n</HTML>
STATUS:CONFIRMED
CLASS:PUBLIC
URL:https://www.golnetwork.com/game/v/23838/
X-MICROSOFT-CDO-BUSYSTATUS:BUSY
X-MICROSOFT-CDO-IMPORTANCE:1
END:VEVENT
BEGIN:VEVENT
UID:g2e3n@games.golnetwork.com
LOCATION:Monarch Park Stadium - Field 2
GEO:43.6792807;-79.3234852
CREATED:20121127T190650Z
DTSTART:20121212T030000Z
DTEND:20121212T040000Z
DTSTAMP:20260424T075044Z
SUMMARY:Dyslexic Asbam vs. Troubadours
DESCRIPTION:Troubadours vs. Dyslexic AsbamPlus d'info : #128
X-ALT-DESC;FMTTYPE=text/html:<!DOCTYPE HTML PUBLIC "-//W3C//DTD HTML 3.2//E
	N">\n<HTML>\n<HEAD>\n<TITLE></TITLE>\n</HEAD>\n<BODY>\n<h3>Troubadours vs. 
	Dyslexic Asbam</h3>Plus d'info : <a href="https://www.golnetwork.com/game/v
	/23839/">#128</a>\n\n</BODY>\n</HTML>
STATUS:CONFIRMED
CLASS:PUBLIC
URL:https://www.golnetwork.com/game/v/23839/
X-MICROSOFT-CDO-BUSYSTATUS:BUSY
X-MICROSOFT-CDO-IMPORTANCE:1
END:VEVENT
BEGIN:VEVENT
UID:g2e3p@games.golnetwork.com
LOCATION:Monarch Park Stadium - Field 3
GEO:43.6792807;-79.3234852
CREATED:20121127T190650Z
DTSTART:20121212T030000Z
DTEND:20121212T040000Z
DTSTAMP:20260424T075044Z
SUMMARY:Purple Drank vs. Pumpkins FC
DESCRIPTION:Pumpkins FC vs. Purple DrankPlus d'info : #129
X-ALT-DESC;FMTTYPE=text/html:<!DOCTYPE HTML PUBLIC "-//W3C//DTD HTML 3.2//E
	N">\n<HTML>\n<HEAD>\n<TITLE></TITLE>\n</HEAD>\n<BODY>\n<h3>Pumpkins FC vs. 
	Purple Drank</h3>Plus d'info : <a href="https://www.golnetwork.com/game/v/2
	3840/">#129</a>\n\n</BODY>\n</HTML>
STATUS:CONFIRMED
CLASS:PUBLIC
URL:https://www.golnetwork.com/game/v/23840/
X-MICROSOFT-CDO-BUSYSTATUS:BUSY
X-MICROSOFT-CDO-IMPORTANCE:1
END:VEVENT
BEGIN:VEVENT
UID:g2e40@games.golnetwork.com
LOCATION:Monarch Park Stadium - Field 3
GEO:43.6792807;-79.3234852
CREATED:20121127T190650Z
DTSTART:20121212T040000Z
DTEND:20121212T050000Z
DTSTAMP:20260424T075044Z
SUMMARY:FC ABRACADABRA vs. Purple Drank
DESCRIPTION:Purple Drank vs. FC ABRACADABRAPlus d'info : #131
X-ALT-DESC;FMTTYPE=text/html:<!DOCTYPE HTML PUBLIC "-//W3C//DTD HTML 3.2//E
	N">\n<HTML>\n<HEAD>\n<TITLE></TITLE>\n</HEAD>\n<BODY>\n<h3>Purple Drank vs.
	 FC ABRACADABRA</h3>Plus d'info : <a href="https://www.golnetwork.com/game/
	v/23841/">#131</a>\n\n</BODY>\n</HTML>
STATUS:CONFIRMED
CLASS:PUBLIC
URL:https://www.golnetwork.com/game/v/23841/
X-MICROSOFT-CDO-BUSYSTATUS:BUSY
X-MICROSOFT-CDO-IMPORTANCE:1
END:VEVENT
BEGIN:VEVENT
UID:g2e42@games.golnetwork.com
LOCATION:Monarch Park Stadium - Field 2
GEO:43.6792807;-79.3234852
CREATED:20121127T190650Z
DTSTART:20121219T030000Z
DTEND:20121219T040000Z
DTSTAMP:20260424T075044Z
SUMMARY:FC ABRACADABRA vs. Troubadours
DESCRIPTION:Troubadours vs. FC ABRACADABRAPlus d'info : #161
X-ALT-DESC;FMTTYPE=text/html:<!DOCTYPE HTML PUBLIC "-//W3C//DTD HTML 3.2//E
	N">\n<HTML>\n<HEAD>\n<TITLE></TITLE>\n</HEAD>\n<BODY>\n<h3>Troubadours vs. 
	FC ABRACADABRA</h3>Plus d'info : <a href="https://www.golnetwork.com/game/v
	/23842/">#161</a>\n\n</BODY>\n</HTML>
STATUS:CONFIRMED
CLASS:PUBLIC
URL:https://www.golnetwork.com/game/v/23842/
X-MICROSOFT-CDO-BUSYSTATUS:BUSY
X-MICROSOFT-CDO-IMPORTANCE:1
END:VEVENT
BEGIN:VEVENT
UID:g2e44@games.golnetwork.com
LOCATION:Monarch Park Stadium - Field 3
GEO:43.6792807;-79.3234852
CREATED:20121127T190650Z
DTSTART:20121219T030000Z
DTEND:20121219T040000Z
DTSTAMP:20260424T075044Z
SUMMARY:Pumpkins FC vs. Purple Drank
DESCRIPTION:Purple Drank vs. Pumpkins FCPlus d'info : #162
X-ALT-DESC;FMTTYPE=text/html:<!DOCTYPE HTML PUBLIC "-//W3C//DTD HTML 3.2//E
	N">\n<HTML>\n<HEAD>\n<TITLE></TITLE>\n</HEAD>\n<BODY>\n<h3>Purple Drank vs.
	 Pumpkins FC</h3>Plus d'info : <a href="https://www.golnetwork.com/game/v/2
	3843/">#162</a>\n\n</BODY>\n</HTML>
STATUS:CONFIRMED
CLASS:PUBLIC
URL:https://www.golnetwork.com/game/v/23843/
X-MICROSOFT-CDO-BUSYSTATUS:BUSY
X-MICROSOFT-CDO-IMPORTANCE:1
END:VEVENT
BEGIN:VEVENT
UID:g2e46@games.golnetwork.com
LOCATION:Monarch Park Stadium - Field 3
GEO:43.6792807;-79.3234852
CREATED:20121127T190650Z
DTSTART:20121219T040000Z
DTEND:20121219T050000Z
DTSTAMP:20260424T075044Z
SUMMARY:Pumpkins FC vs. Dyslexic Asbam
DESCRIPTION:Dyslexic Asbam vs. Pumpkins FCPlus d'info : #164
X-ALT-DESC;FMTTYPE=text/html:<!DOCTYPE HTML PUBLIC "-//W3C//DTD HTML 3.2//E
	N">\n<HTML>\n<HEAD>\n<TITLE></TITLE>\n</HEAD>\n<BODY>\n<h3>Dyslexic Asbam v
	s. Pumpkins FC</h3>Plus d'info : <a href="https://www.golnetwork.com/game/v
	/23844/">#164</a>\n\n</BODY>\n</HTML>
STATUS:CONFIRMED
CLASS:PUBLIC
URL:https://www.golnetwork.com/game/v/23844/
X-MICROSOFT-CDO-BUSYSTATUS:BUSY
X-MICROSOFT-CDO-IMPORTANCE:1
END:VEVENT
BEGIN:VEVENT
UID:g2e48@games.golnetwork.com
LOCATION:Monarch Park Stadium - Field 2
GEO:43.6792807;-79.3234852
CREATED:20121127T190650Z
DTSTART:20130109T030000Z
DTEND:20130109T040000Z
DTSTAMP:20260424T075044Z
SUMMARY:Dyslexic Asbam vs. FC ABRACADABRA
DESCRIPTION:FC ABRACADABRA vs. Dyslexic AsbamPlus d'info : #217
X-ALT-DESC;FMTTYPE=text/html:<!DOCTYPE HTML PUBLIC "-//W3C//DTD HTML 3.2//E
	N">\n<HTML>\n<HEAD>\n<TITLE></TITLE>\n</HEAD>\n<BODY>\n<h3>FC ABRACADABRA v
	s. Dyslexic Asbam</h3>Plus d'info : <a href="https://www.golnetwork.com/gam
	e/v/23845/">#217</a>\n\n</BODY>\n</HTML>
STATUS:CONFIRMED
CLASS:PUBLIC
URL:https://www.golnetwork.com/game/v/23845/
X-MICROSOFT-CDO-BUSYSTATUS:BUSY
X-MICROSOFT-CDO-IMPORTANCE:1
END:VEVENT
BEGIN:VEVENT
UID:g2e4a@games.golnetwork.com
LOCATION:Monarch Park Stadium - Field 3
GEO:43.6792807;-79.3234852
CREATED:20121127T190650Z
DTSTART:20130109T030000Z
DTEND:20130109T040000Z
DTSTAMP:20260424T075044Z
SUMMARY:Troubadours vs. Pumpkins FC
DESCRIPTION:Pumpkins FC vs. TroubadoursPlus d'info : #218
X-ALT-DESC;FMTTYPE=text/html:<!DOCTYPE HTML PUBLIC "-//W3C//DTD HTML 3.2//E
	N">\n<HTML>\n<HEAD>\n<TITLE></TITLE>\n</HEAD>\n<BODY>\n<h3>Pumpkins FC vs. 
	Troubadours</h3>Plus d'info : <a href="https://www.golnetwork.com/game/v/23
	846/">#218</a>\n\n</BODY>\n</HTML>
STATUS:CONFIRMED
CLASS:PUBLIC
URL:https://www.golnetwork.com/game/v/23846/
X-MICROSOFT-CDO-BUSYSTATUS:BUSY
X-MICROSOFT-CDO-IMPORTANCE:1
END:VEVENT
BEGIN:VEVENT
UID:g2e4c@games.golnetwork.com
LOCATION:Monarch Park Stadium - Field 2
GEO:43.6792807;-79.3234852
CREATED:20121127T190650Z
DTSTART:20130109T040000Z
DTEND:20130109T050000Z
DTSTAMP:20260424T075044Z
SUMMARY:Purple Drank vs. FC ABRACADABRA
DESCRIPTION:FC ABRACADABRA vs. Purple DrankPlus d'info : #220
X-ALT-DESC;FMTTYPE=text/html:<!DOCTYPE HTML PUBLIC "-//W3C//DTD HTML 3.2//E
	N">\n<HTML>\n<HEAD>\n<TITLE></TITLE>\n</HEAD>\n<BODY>\n<h3>FC ABRACADABRA v
	s. Purple Drank</h3>Plus d'info : <a href="https://www.golnetwork.com/game/
	v/23847/">#220</a>\n\n</BODY>\n</HTML>
STATUS:CONFIRMED
CLASS:PUBLIC
URL:https://www.golnetwork.com/game/v/23847/
X-MICROSOFT-CDO-BUSYSTATUS:BUSY
X-MICROSOFT-CDO-IMPORTANCE:1
END:VEVENT
BEGIN:VEVENT
UID:g2e4e@games.golnetwork.com
LOCATION:Monarch Park Stadium - Field 2
GEO:43.6792807;-79.3234852
CREATED:20121127T190739Z
DTSTART:20130116T030000Z
DTEND:20130116T040000Z
DTSTAMP:20260424T075044Z
SUMMARY:Dyslexic Asbam vs. Troubadours
DESCRIPTION:Troubadours vs. Dyslexic AsbamPlus d'info : #250
X-ALT-DESC;FMTTYPE=text/html:<!DOCTYPE HTML PUBLIC "-//W3C//DTD HTML 3.2//E
	N">\n<HTML>\n<HEAD>\n<TITLE></TITLE>\n</HEAD>\n<BODY>\n<h3>Troubadours vs. 
	Dyslexic Asbam</h3>Plus d'info : <a href="https://www.golnetwork.com/game/v
	/23848/">#250</a>\n\n</BODY>\n</HTML>
STATUS:CONFIRMED
CLASS:PUBLIC
URL:https://www.golnetwork.com/game/v/23848/
X-MICROSOFT-CDO-BUSYSTATUS:BUSY
X-MICROSOFT-CDO-IMPORTANCE:1
END:VEVENT
BEGIN:VEVENT
UID:g2e4i@games.golnetwork.com
LOCATION:Monarch Park Stadium - Field 3
GEO:43.6792807;-79.3234852
CREATED:20121127T190817Z
DTSTART:20130116T030000Z
DTEND:20130116T040000Z
DTSTAMP:20260424T075044Z
SUMMARY:FC ABRACADABRA vs. Purple Drank
DESCRIPTION:Purple Drank vs. FC ABRACADABRAPlus d'info : #251
X-ALT-DESC;FMTTYPE=text/html:<!DOCTYPE HTML PUBLIC "-//W3C//DTD HTML 3.2//E
	N">\n<HTML>\n<HEAD>\n<TITLE></TITLE>\n</HEAD>\n<BODY>\n<h3>Purple Drank vs.
	 FC ABRACADABRA</h3>Plus d'info : <a href="https://www.golnetwork.com/game/
	v/23850/">#251</a>\n\n</BODY>\n</HTML>
STATUS:CONFIRMED
CLASS:PUBLIC
URL:https://www.golnetwork.com/game/v/23850/
X-MICROSOFT-CDO-BUSYSTATUS:BUSY
X-MICROSOFT-CDO-IMPORTANCE:1
END:VEVENT
BEGIN:VEVENT
UID:g2e4g@games.golnetwork.com
LOCATION:Monarch Park Stadium - Field 2
GEO:43.6792807;-79.3234852
CREATED:20121127T190800Z
DTSTART:20130116T040000Z
DTEND:20130116T050000Z
DTSTAMP:20260424T075044Z
SUMMARY:Dyslexic Asbam vs. Pumpkins FC
DESCRIPTION:Pumpkins FC vs. Dyslexic AsbamPlus d'info : #253
X-ALT-DESC;FMTTYPE=text/html:<!DOCTYPE HTML PUBLIC "-//W3C//DTD HTML 3.2//E
	N">\n<HTML>\n<HEAD>\n<TITLE></TITLE>\n</HEAD>\n<BODY>\n<h3>Pumpkins FC vs. 
	Dyslexic Asbam</h3>Plus d'info : <a href="https://www.golnetwork.com/game/v
	/23849/">#253</a>\n\n</BODY>\n</HTML>
STATUS:CONFIRMED
CLASS:PUBLIC
URL:https://www.golnetwork.com/game/v/23849/
X-MICROSOFT-CDO-BUSYSTATUS:BUSY
X-MICROSOFT-CDO-IMPORTANCE:1
END:VEVENT
BEGIN:VEVENT
UID:g2e51@games.golnetwork.com
LOCATION:Monarch Park Stadium - Field 2
GEO:43.6792807;-79.3234852
CREATED:20121127T191124Z
DTSTART:20130123T030000Z
DTEND:20130123T040000Z
DTSTAMP:20260424T075044Z
SUMMARY:FC ABRACADABRA vs. Dyslexic Asbam
DESCRIPTION:Dyslexic Asbam vs. FC ABRACADABRAPlus d'info : #283
X-ALT-DESC;FMTTYPE=text/html:<!DOCTYPE HTML PUBLIC "-//W3C//DTD HTML 3.2//E
	N">\n<HTML>\n<HEAD>\n<TITLE></TITLE>\n</HEAD>\n<BODY>\n<h3>Dyslexic Asbam v
	s. FC ABRACADABRA</h3>Plus d'info : <a href="https://www.golnetwork.com/gam
	e/v/23855/">#283</a>\n\n</BODY>\n</HTML>
STATUS:CONFIRMED
CLASS:PUBLIC
URL:https://www.golnetwork.com/game/v/23855/
X-MICROSOFT-CDO-BUSYSTATUS:BUSY
X-MICROSOFT-CDO-IMPORTANCE:1
END:VEVENT
BEGIN:VEVENT
UID:g2e4k@games.golnetwork.com
LOCATION:Monarch Park Stadium - Field 3
GEO:43.6792807;-79.3234852
CREATED:20121127T190843Z
DTSTART:20130123T030000Z
DTEND:20130123T040000Z
DTSTAMP:20260424T075044Z
SUMMARY:Purple Drank vs. Troubadours
DESCRIPTION:Troubadours vs. Purple DrankPlus d'info : #284
X-ALT-DESC;FMTTYPE=text/html:<!DOCTYPE HTML PUBLIC "-//W3C//DTD HTML 3.2//E
	N">\n<HTML>\n<HEAD>\n<TITLE></TITLE>\n</HEAD>\n<BODY>\n<h3>Troubadours vs. 
	Purple Drank</h3>Plus d'info : <a href="https://www.golnetwork.com/game/v/2
	3851/">#284</a>\n\n</BODY>\n</HTML>
STATUS:CONFIRMED
CLASS:PUBLIC
URL:https://www.golnetwork.com/game/v/23851/
X-MICROSOFT-CDO-BUSYSTATUS:BUSY
X-MICROSOFT-CDO-IMPORTANCE:1
END:VEVENT
BEGIN:VEVENT
UID:g2e4q@games.golnetwork.com
LOCATION:Monarch Park Stadium - Field 2
GEO:43.6792807;-79.3234852
CREATED:20121127T190935Z
DTSTART:20130123T040000Z
DTEND:20130123T050000Z
DTSTAMP:20260424T075044Z
SUMMARY:Pumpkins FC vs. Troubadours
DESCRIPTION:Troubadours vs. Pumpkins FCPlus d'info : #286
X-ALT-DESC;FMTTYPE=text/html:<!DOCTYPE HTML PUBLIC "-//W3C//DTD HTML 3.2//E
	N">\n<HTML>\n<HEAD>\n<TITLE></TITLE>\n</HEAD>\n<BODY>\n<h3>Troubadours vs. 
	Pumpkins FC</h3>Plus d'info : <a href="https://www.golnetwork.com/game/v/23
	854/">#286</a>\n\n</BODY>\n</HTML>
STATUS:CONFIRMED
CLASS:PUBLIC
URL:https://www.golnetwork.com/game/v/23854/
X-MICROSOFT-CDO-BUSYSTATUS:BUSY
X-MICROSOFT-CDO-IMPORTANCE:1
END:VEVENT
BEGIN:VEVENT
UID:g2ebf@games.golnetwork.com
LOCATION:Monarch Park Stadium - Field 2
GEO:43.6792807;-79.3234852
CREATED:20121203T205348Z
DTSTART:20130130T030000Z
DTEND:20130130T040000Z
DTSTAMP:20260424T075044Z
SUMMARY:Troubadours vs. FC ABRACADABRA
DESCRIPTION:FC ABRACADABRA vs. TroubadoursPlus d'info : #293
X-ALT-DESC;FMTTYPE=text/html:<!DOCTYPE HTML PUBLIC "-//W3C//DTD HTML 3.2//E
	N">\n<HTML>\n<HEAD>\n<TITLE></TITLE>\n</HEAD>\n<BODY>\n<h3>FC ABRACADABRA v
	s. Troubadours</h3>Plus d'info : <a href="https://www.golnetwork.com/game/v
	/23943/">#293</a>\n\n</BODY>\n</HTML>
STATUS:CONFIRMED
CLASS:PUBLIC
URL:https://www.golnetwork.com/game/v/23943/
X-MICROSOFT-CDO-BUSYSTATUS:BUSY
X-MICROSOFT-CDO-IMPORTANCE:1
END:VEVENT
BEGIN:VEVENT
UID:g2ebj@games.golnetwork.com
LOCATION:Monarch Park Stadium - Field 3
GEO:43.6792807;-79.3234852
CREATED:20121203T205419Z
DTSTART:20130130T030000Z
DTEND:20130130T040000Z
DTSTAMP:20260424T075044Z
SUMMARY:Purple Drank vs. Dyslexic Asbam
DESCRIPTION:Dyslexic Asbam vs. Purple DrankPlus d'info : #294
X-ALT-DESC;FMTTYPE=text/html:<!DOCTYPE HTML PUBLIC "-//W3C//DTD HTML 3.2//E
	N">\n<HTML>\n<HEAD>\n<TITLE></TITLE>\n</HEAD>\n<BODY>\n<h3>Dyslexic Asbam v
	s. Purple Drank</h3>Plus d'info : <a href="https://www.golnetwork.com/game/
	v/23945/">#294</a>\n\n</BODY>\n</HTML>
STATUS:CONFIRMED
CLASS:PUBLIC
URL:https://www.golnetwork.com/game/v/23945/
X-MICROSOFT-CDO-BUSYSTATUS:BUSY
X-MICROSOFT-CDO-IMPORTANCE:1
END:VEVENT
BEGIN:VEVENT
UID:g2ebh@games.golnetwork.com
LOCATION:Monarch Park Stadium - Field 2
GEO:43.6792807;-79.3234852
CREATED:20121203T205407Z
DTSTART:20130130T040000Z
DTEND:20130130T050000Z
DTSTAMP:20260424T075044Z
SUMMARY:Purple Drank vs. Pumpkins FC
DESCRIPTION:Pumpkins FC vs. Purple DrankPlus d'info : #296
X-ALT-DESC;FMTTYPE=text/html:<!DOCTYPE HTML PUBLIC "-//W3C//DTD HTML 3.2//E
	N">\n<HTML>\n<HEAD>\n<TITLE></TITLE>\n</HEAD>\n<BODY>\n<h3>Pumpkins FC vs. 
	Purple Drank</h3>Plus d'info : <a href="https://www.golnetwork.com/game/v/2
	3944/">#296</a>\n\n</BODY>\n</HTML>
STATUS:CONFIRMED
CLASS:PUBLIC
URL:https://www.golnetwork.com/game/v/23944/
X-MICROSOFT-CDO-BUSYSTATUS:BUSY
X-MICROSOFT-CDO-IMPORTANCE:1
END:VEVENT
END:VCALENDAR
