BEGIN:VCALENDAR
PRODID:-//gdesolutions.com//MV Framework 1.0.0.1607 Calendar//EN
VERSION:2.0
METHOD:PUBLISH
CALSCALE:GREGORIAN
BEGIN:VEVENT
UID:g2dbi@games.golnetwork.com
LOCATION:Lamport Stadium Field 3
GEO:43.639337;-79.4248954
CREATED:20121112T191809Z
DTSTART:20121117T180000Z
DTEND:20121117T190000Z
DTSTAMP:20260421T205348Z
SUMMARY:Boogie Team United vs. Wolfpack FC
DESCRIPTION:Wolfpack FC vs. Boogie Team UnitedPlus d'info : #15
X-ALT-DESC;FMTTYPE=text/html:<!DOCTYPE HTML PUBLIC "-//W3C//DTD HTML 3.2//E
	N">\n<HTML>\n<HEAD>\n<TITLE></TITLE>\n</HEAD>\n<BODY>\n<h3>Wolfpack FC vs. 
	Boogie Team United</h3>Plus d'info : <a href="https://www.golnetwork.com/ga
	me/v/23580/">#15</a>\n\n</BODY>\n</HTML>
STATUS:CONFIRMED
CLASS:PUBLIC
URL:https://www.golnetwork.com/game/v/23580/
X-MICROSOFT-CDO-BUSYSTATUS:BUSY
X-MICROSOFT-CDO-IMPORTANCE:1
END:VEVENT
BEGIN:VEVENT
UID:g2dbk@games.golnetwork.com
LOCATION:Lamport Stadium Field 3
GEO:43.639337;-79.4248954
CREATED:20121112T191809Z
DTSTART:20121117T190000Z
DTEND:20121117T200000Z
DTSTAMP:20260421T205348Z
SUMMARY:ABCDE FC vs. XTSC Whitecaps
DESCRIPTION:XTSC Whitecaps vs. ABCDE FCPlus d'info : #18
X-ALT-DESC;FMTTYPE=text/html:<!DOCTYPE HTML PUBLIC "-//W3C//DTD HTML 3.2//E
	N">\n<HTML>\n<HEAD>\n<TITLE></TITLE>\n</HEAD>\n<BODY>\n<h3>XTSC Whitecaps v
	s. ABCDE FC</h3>Plus d'info : <a href="https://www.golnetwork.com/game/v/23
	581/">#18</a>\n\n</BODY>\n</HTML>
STATUS:CONFIRMED
CLASS:PUBLIC
URL:https://www.golnetwork.com/game/v/23581/
X-MICROSOFT-CDO-BUSYSTATUS:BUSY
X-MICROSOFT-CDO-IMPORTANCE:1
END:VEVENT
BEGIN:VEVENT
UID:g2dbm@games.golnetwork.com
LOCATION:Lamport Stadium Field 3
GEO:43.639337;-79.4248954
CREATED:20121112T191809Z
DTSTART:20121117T200000Z
DTEND:20121117T210000Z
DTSTAMP:20260421T205348Z
SUMMARY:Balls vs. Honey Badgers
DESCRIPTION:Honey Badgers vs. BallsPlus d'info : #21
X-ALT-DESC;FMTTYPE=text/html:<!DOCTYPE HTML PUBLIC "-//W3C//DTD HTML 3.2//E
	N">\n<HTML>\n<HEAD>\n<TITLE></TITLE>\n</HEAD>\n<BODY>\n<h3>Honey Badgers vs
	. Balls</h3>Plus d'info : <a href="https://www.golnetwork.com/game/v/23582/
	">#21</a>\n\n</BODY>\n</HTML>
STATUS:CONFIRMED
CLASS:PUBLIC
URL:https://www.golnetwork.com/game/v/23582/
X-MICROSOFT-CDO-BUSYSTATUS:BUSY
X-MICROSOFT-CDO-IMPORTANCE:1
END:VEVENT
BEGIN:VEVENT
UID:g2dbo@games.golnetwork.com
LOCATION:Lamport Stadium Field 3
GEO:43.639337;-79.4248954
CREATED:20121112T191809Z
DTSTART:20121124T180000Z
DTEND:20121124T190000Z
DTSTAMP:20260421T205348Z
SUMMARY:ABCDE FC vs. Boogie Team United
DESCRIPTION:Boogie Team United vs. ABCDE FCPlus d'info : #47
X-ALT-DESC;FMTTYPE=text/html:<!DOCTYPE HTML PUBLIC "-//W3C//DTD HTML 3.2//E
	N">\n<HTML>\n<HEAD>\n<TITLE></TITLE>\n</HEAD>\n<BODY>\n<h3>Boogie Team Unit
	ed vs. ABCDE FC</h3>Plus d'info : <a href="https://www.golnetwork.com/game/
	v/23583/">#47</a>\n\n</BODY>\n</HTML>
STATUS:CONFIRMED
CLASS:PUBLIC
URL:https://www.golnetwork.com/game/v/23583/
X-MICROSOFT-CDO-BUSYSTATUS:BUSY
X-MICROSOFT-CDO-IMPORTANCE:1
END:VEVENT
BEGIN:VEVENT
UID:g2dbq@games.golnetwork.com
LOCATION:Lamport Stadium Field 3
GEO:43.639337;-79.4248954
CREATED:20121112T191809Z
DTSTART:20121124T190000Z
DTEND:20121124T200000Z
DTSTAMP:20260421T205348Z
SUMMARY:Balls vs. Wolfpack FC
DESCRIPTION:Wolfpack FC vs. BallsPlus d'info : #50
X-ALT-DESC;FMTTYPE=text/html:<!DOCTYPE HTML PUBLIC "-//W3C//DTD HTML 3.2//E
	N">\n<HTML>\n<HEAD>\n<TITLE></TITLE>\n</HEAD>\n<BODY>\n<h3>Wolfpack FC vs. 
	Balls</h3>Plus d'info : <a href="https://www.golnetwork.com/game/v/23584/">
	#50</a>\n\n</BODY>\n</HTML>
STATUS:CONFIRMED
CLASS:PUBLIC
URL:https://www.golnetwork.com/game/v/23584/
X-MICROSOFT-CDO-BUSYSTATUS:BUSY
X-MICROSOFT-CDO-IMPORTANCE:1
END:VEVENT
BEGIN:VEVENT
UID:g2dc1@games.golnetwork.com
LOCATION:Lamport Stadium Field 3
GEO:43.639337;-79.4248954
CREATED:20121112T191809Z
DTSTART:20121124T200000Z
DTEND:20121124T210000Z
DTSTAMP:20260421T205348Z
SUMMARY:Honey Badgers vs. XTSC Whitecaps
DESCRIPTION:XTSC Whitecaps vs. Honey BadgersPlus d'info : #53
X-ALT-DESC;FMTTYPE=text/html:<!DOCTYPE HTML PUBLIC "-//W3C//DTD HTML 3.2//E
	N">\n<HTML>\n<HEAD>\n<TITLE></TITLE>\n</HEAD>\n<BODY>\n<h3>XTSC Whitecaps v
	s. Honey Badgers</h3>Plus d'info : <a href="https://www.golnetwork.com/game
	/v/23585/">#53</a>\n\n</BODY>\n</HTML>
STATUS:CONFIRMED
CLASS:PUBLIC
URL:https://www.golnetwork.com/game/v/23585/
X-MICROSOFT-CDO-BUSYSTATUS:BUSY
X-MICROSOFT-CDO-IMPORTANCE:1
END:VEVENT
BEGIN:VEVENT
UID:g2dc3@games.golnetwork.com
LOCATION:Lamport Stadium Field 3
GEO:43.639337;-79.4248954
CREATED:20121112T191809Z
DTSTART:20121201T180000Z
DTEND:20121201T190000Z
DTSTAMP:20260421T205348Z
SUMMARY:Boogie Team United vs. Balls
DESCRIPTION:Balls vs. Boogie Team UnitedPlus d'info : #80
X-ALT-DESC;FMTTYPE=text/html:<!DOCTYPE HTML PUBLIC "-//W3C//DTD HTML 3.2//E
	N">\n<HTML>\n<HEAD>\n<TITLE></TITLE>\n</HEAD>\n<BODY>\n<h3>Balls vs. Boogie
	 Team United</h3>Plus d'info : <a href="https://www.golnetwork.com/game/v/2
	3586/">#80</a>\n\n</BODY>\n</HTML>
STATUS:CONFIRMED
CLASS:PUBLIC
URL:https://www.golnetwork.com/game/v/23586/
X-MICROSOFT-CDO-BUSYSTATUS:BUSY
X-MICROSOFT-CDO-IMPORTANCE:1
END:VEVENT
BEGIN:VEVENT
UID:g2dc5@games.golnetwork.com
LOCATION:Lamport Stadium Field 3
GEO:43.639337;-79.4248954
CREATED:20121112T191809Z
DTSTART:20121201T190000Z
DTEND:20121201T200000Z
DTSTAMP:20260421T205348Z
SUMMARY:Honey Badgers vs. ABCDE FC
DESCRIPTION:ABCDE FC vs. Honey BadgersPlus d'info : #83
X-ALT-DESC;FMTTYPE=text/html:<!DOCTYPE HTML PUBLIC "-//W3C//DTD HTML 3.2//E
	N">\n<HTML>\n<HEAD>\n<TITLE></TITLE>\n</HEAD>\n<BODY>\n<h3>ABCDE FC vs. Hon
	ey Badgers</h3>Plus d'info : <a href="https://www.golnetwork.com/game/v/235
	87/">#83</a>\n\n</BODY>\n</HTML>
STATUS:CONFIRMED
CLASS:PUBLIC
URL:https://www.golnetwork.com/game/v/23587/
X-MICROSOFT-CDO-BUSYSTATUS:BUSY
X-MICROSOFT-CDO-IMPORTANCE:1
END:VEVENT
BEGIN:VEVENT
UID:g2dc7@games.golnetwork.com
LOCATION:Lamport Stadium Field 3
GEO:43.639337;-79.4248954
CREATED:20121112T191809Z
DTSTART:20121201T200000Z
DTEND:20121201T210000Z
DTSTAMP:20260421T205348Z
SUMMARY:XTSC Whitecaps vs. Wolfpack FC
DESCRIPTION:Wolfpack FC vs. XTSC WhitecapsPlus d'info : #86
X-ALT-DESC;FMTTYPE=text/html:<!DOCTYPE HTML PUBLIC "-//W3C//DTD HTML 3.2//E
	N">\n<HTML>\n<HEAD>\n<TITLE></TITLE>\n</HEAD>\n<BODY>\n<h3>Wolfpack FC vs. 
	XTSC Whitecaps</h3>Plus d'info : <a href="https://www.golnetwork.com/game/v
	/23588/">#86</a>\n\n</BODY>\n</HTML>
STATUS:CONFIRMED
CLASS:PUBLIC
URL:https://www.golnetwork.com/game/v/23588/
X-MICROSOFT-CDO-BUSYSTATUS:BUSY
X-MICROSOFT-CDO-IMPORTANCE:1
END:VEVENT
BEGIN:VEVENT
UID:g2dc9@games.golnetwork.com
LOCATION:Lamport Stadium Field 3
GEO:43.639337;-79.4248954
CREATED:20121112T191809Z
DTSTART:20121208T180000Z
DTEND:20121208T190000Z
DTSTAMP:20260421T205348Z
SUMMARY:Honey Badgers vs. Boogie Team United
DESCRIPTION:Boogie Team United vs. Honey BadgersPlus d'info : #113
X-ALT-DESC;FMTTYPE=text/html:<!DOCTYPE HTML PUBLIC "-//W3C//DTD HTML 3.2//E
	N">\n<HTML>\n<HEAD>\n<TITLE></TITLE>\n</HEAD>\n<BODY>\n<h3>Boogie Team Unit
	ed vs. Honey Badgers</h3>Plus d'info : <a href="https://www.golnetwork.com/
	game/v/23589/">#113</a>\n\n</BODY>\n</HTML>
STATUS:CONFIRMED
CLASS:PUBLIC
URL:https://www.golnetwork.com/game/v/23589/
X-MICROSOFT-CDO-BUSYSTATUS:BUSY
X-MICROSOFT-CDO-IMPORTANCE:1
END:VEVENT
BEGIN:VEVENT
UID:g2dcb@games.golnetwork.com
LOCATION:Lamport Stadium Field 3
GEO:43.639337;-79.4248954
CREATED:20121112T191809Z
DTSTART:20121208T190000Z
DTEND:20121208T200000Z
DTSTAMP:20260421T205348Z
SUMMARY:XTSC Whitecaps vs. Balls
DESCRIPTION:Balls vs. XTSC WhitecapsPlus d'info : #116
X-ALT-DESC;FMTTYPE=text/html:<!DOCTYPE HTML PUBLIC "-//W3C//DTD HTML 3.2//E
	N">\n<HTML>\n<HEAD>\n<TITLE></TITLE>\n</HEAD>\n<BODY>\n<h3>Balls vs. XTSC W
	hitecaps</h3>Plus d'info : <a href="https://www.golnetwork.com/game/v/23590
	/">#116</a>\n\n</BODY>\n</HTML>
STATUS:CONFIRMED
CLASS:PUBLIC
URL:https://www.golnetwork.com/game/v/23590/
X-MICROSOFT-CDO-BUSYSTATUS:BUSY
X-MICROSOFT-CDO-IMPORTANCE:1
END:VEVENT
BEGIN:VEVENT
UID:g2dcd@games.golnetwork.com
LOCATION:Lamport Stadium Field 3
GEO:43.639337;-79.4248954
CREATED:20121112T191809Z
DTSTART:20121208T200000Z
DTEND:20121208T210000Z
DTSTAMP:20260421T205348Z
SUMMARY:Wolfpack FC vs. ABCDE FC
DESCRIPTION:ABCDE FC vs. Wolfpack FCPlus d'info : #119
X-ALT-DESC;FMTTYPE=text/html:<!DOCTYPE HTML PUBLIC "-//W3C//DTD HTML 3.2//E
	N">\n<HTML>\n<HEAD>\n<TITLE></TITLE>\n</HEAD>\n<BODY>\n<h3>ABCDE FC vs. Wol
	fpack FC</h3>Plus d'info : <a href="https://www.golnetwork.com/game/v/23591
	/">#119</a>\n\n</BODY>\n</HTML>
STATUS:CONFIRMED
CLASS:PUBLIC
URL:https://www.golnetwork.com/game/v/23591/
X-MICROSOFT-CDO-BUSYSTATUS:BUSY
X-MICROSOFT-CDO-IMPORTANCE:1
END:VEVENT
BEGIN:VEVENT
UID:g2dcf@games.golnetwork.com
LOCATION:Lamport Stadium Field 3
GEO:43.639337;-79.4248954
CREATED:20121112T191809Z
DTSTART:20121215T180000Z
DTEND:20121215T190000Z
DTSTAMP:20260421T205348Z
SUMMARY:Boogie Team United vs. XTSC Whitecaps
DESCRIPTION:XTSC Whitecaps vs. Boogie Team UnitedPlus d'info : #146
X-ALT-DESC;FMTTYPE=text/html:<!DOCTYPE HTML PUBLIC "-//W3C//DTD HTML 3.2//E
	N">\n<HTML>\n<HEAD>\n<TITLE></TITLE>\n</HEAD>\n<BODY>\n<h3>XTSC Whitecaps v
	s. Boogie Team United</h3>Plus d'info : <a href="https://www.golnetwork.com
	/game/v/23592/">#146</a>\n\n</BODY>\n</HTML>
STATUS:CONFIRMED
CLASS:PUBLIC
URL:https://www.golnetwork.com/game/v/23592/
X-MICROSOFT-CDO-BUSYSTATUS:BUSY
X-MICROSOFT-CDO-IMPORTANCE:1
END:VEVENT
BEGIN:VEVENT
UID:g2dch@games.golnetwork.com
LOCATION:Lamport Stadium Field 3
GEO:43.639337;-79.4248954
CREATED:20121112T191809Z
DTSTART:20121215T190000Z
DTEND:20121215T200000Z
DTSTAMP:20260421T205348Z
SUMMARY:Wolfpack FC vs. Honey Badgers
DESCRIPTION:Honey Badgers vs. Wolfpack FCPlus d'info : #149
X-ALT-DESC;FMTTYPE=text/html:<!DOCTYPE HTML PUBLIC "-//W3C//DTD HTML 3.2//E
	N">\n<HTML>\n<HEAD>\n<TITLE></TITLE>\n</HEAD>\n<BODY>\n<h3>Honey Badgers vs
	. Wolfpack FC</h3>Plus d'info : <a href="https://www.golnetwork.com/game/v/
	23593/">#149</a>\n\n</BODY>\n</HTML>
STATUS:CONFIRMED
CLASS:PUBLIC
URL:https://www.golnetwork.com/game/v/23593/
X-MICROSOFT-CDO-BUSYSTATUS:BUSY
X-MICROSOFT-CDO-IMPORTANCE:1
END:VEVENT
BEGIN:VEVENT
UID:g2dcj@games.golnetwork.com
LOCATION:Lamport Stadium Field 3
GEO:43.639337;-79.4248954
CREATED:20121112T191809Z
DTSTART:20121215T200000Z
DTEND:20121215T210000Z
DTSTAMP:20260421T205348Z
SUMMARY:ABCDE FC vs. Balls
DESCRIPTION:Balls vs. ABCDE FCPlus d'info : #152
X-ALT-DESC;FMTTYPE=text/html:<!DOCTYPE HTML PUBLIC "-//W3C//DTD HTML 3.2//E
	N">\n<HTML>\n<HEAD>\n<TITLE></TITLE>\n</HEAD>\n<BODY>\n<h3>Balls vs. ABCDE 
	FC</h3>Plus d'info : <a href="https://www.golnetwork.com/game/v/23594/">#15
	2</a>\n\n</BODY>\n</HTML>
STATUS:CONFIRMED
CLASS:PUBLIC
URL:https://www.golnetwork.com/game/v/23594/
X-MICROSOFT-CDO-BUSYSTATUS:BUSY
X-MICROSOFT-CDO-IMPORTANCE:1
END:VEVENT
BEGIN:VEVENT
UID:g2dcl@games.golnetwork.com
LOCATION:Lamport Stadium Field 3
GEO:43.639337;-79.4248954
CREATED:20121112T191809Z
DTSTART:20121222T180000Z
DTEND:20121222T190000Z
DTSTAMP:20260421T205348Z
SUMMARY:Boogie Team United vs. Balls
DESCRIPTION:Balls vs. Boogie Team UnitedPlus d'info : #179
X-ALT-DESC;FMTTYPE=text/html:<!DOCTYPE HTML PUBLIC "-//W3C//DTD HTML 3.2//E
	N">\n<HTML>\n<HEAD>\n<TITLE></TITLE>\n</HEAD>\n<BODY>\n<h3>Balls vs. Boogie
	 Team United</h3>Plus d'info : <a href="https://www.golnetwork.com/game/v/2
	3595/">#179</a>\n\n</BODY>\n</HTML>
STATUS:CONFIRMED
CLASS:PUBLIC
URL:https://www.golnetwork.com/game/v/23595/
X-MICROSOFT-CDO-BUSYSTATUS:BUSY
X-MICROSOFT-CDO-IMPORTANCE:1
END:VEVENT
BEGIN:VEVENT
UID:g2dcn@games.golnetwork.com
LOCATION:Lamport Stadium Field 3
GEO:43.639337;-79.4248954
CREATED:20121112T191809Z
DTSTART:20121222T190000Z
DTEND:20121222T200000Z
DTSTAMP:20260421T205348Z
SUMMARY:ABCDE FC vs. XTSC Whitecaps
DESCRIPTION:XTSC Whitecaps vs. ABCDE FCPlus d'info : #182
X-ALT-DESC;FMTTYPE=text/html:<!DOCTYPE HTML PUBLIC "-//W3C//DTD HTML 3.2//E
	N">\n<HTML>\n<HEAD>\n<TITLE></TITLE>\n</HEAD>\n<BODY>\n<h3>XTSC Whitecaps v
	s. ABCDE FC</h3>Plus d'info : <a href="https://www.golnetwork.com/game/v/23
	596/">#182</a>\n\n</BODY>\n</HTML>
STATUS:CONFIRMED
CLASS:PUBLIC
URL:https://www.golnetwork.com/game/v/23596/
X-MICROSOFT-CDO-BUSYSTATUS:BUSY
X-MICROSOFT-CDO-IMPORTANCE:1
END:VEVENT
BEGIN:VEVENT
UID:g2dcp@games.golnetwork.com
LOCATION:Lamport Stadium Field 3
GEO:43.639337;-79.4248954
CREATED:20121112T191809Z
DTSTART:20121222T200000Z
DTEND:20121222T210000Z
DTSTAMP:20260421T205348Z
SUMMARY:Wolfpack FC vs. Honey Badgers
DESCRIPTION:Honey Badgers vs. Wolfpack FCPlus d'info : #185
X-ALT-DESC;FMTTYPE=text/html:<!DOCTYPE HTML PUBLIC "-//W3C//DTD HTML 3.2//E
	N">\n<HTML>\n<HEAD>\n<TITLE></TITLE>\n</HEAD>\n<BODY>\n<h3>Honey Badgers vs
	. Wolfpack FC</h3>Plus d'info : <a href="https://www.golnetwork.com/game/v/
	23597/">#185</a>\n\n</BODY>\n</HTML>
STATUS:CONFIRMED
CLASS:PUBLIC
URL:https://www.golnetwork.com/game/v/23597/
X-MICROSOFT-CDO-BUSYSTATUS:BUSY
X-MICROSOFT-CDO-IMPORTANCE:1
END:VEVENT
BEGIN:VEVENT
UID:g2dd0@games.golnetwork.com
LOCATION:Lamport Stadium Field 3
GEO:43.639337;-79.4248954
CREATED:20121112T191809Z
DTSTART:20130105T180000Z
DTEND:20130105T190000Z
DTSTAMP:20260421T205348Z
SUMMARY:Boogie Team United vs. Wolfpack FC
DESCRIPTION:Wolfpack FC vs. Boogie Team UnitedPlus d'info : #202
X-ALT-DESC;FMTTYPE=text/html:<!DOCTYPE HTML PUBLIC "-//W3C//DTD HTML 3.2//E
	N">\n<HTML>\n<HEAD>\n<TITLE></TITLE>\n</HEAD>\n<BODY>\n<h3>Wolfpack FC vs. 
	Boogie Team United</h3>Plus d'info : <a href="https://www.golnetwork.com/ga
	me/v/23598/">#202</a>\n\n</BODY>\n</HTML>
STATUS:CONFIRMED
CLASS:PUBLIC
URL:https://www.golnetwork.com/game/v/23598/
X-MICROSOFT-CDO-BUSYSTATUS:BUSY
X-MICROSOFT-CDO-IMPORTANCE:1
END:VEVENT
BEGIN:VEVENT
UID:g2dd2@games.golnetwork.com
LOCATION:Lamport Stadium Field 3
GEO:43.639337;-79.4248954
CREATED:20121112T191809Z
DTSTART:20130105T190000Z
DTEND:20130105T200000Z
DTSTAMP:20260421T205348Z
SUMMARY:Honey Badgers vs. ABCDE FC
DESCRIPTION:ABCDE FC vs. Honey BadgersPlus d'info : #205
X-ALT-DESC;FMTTYPE=text/html:<!DOCTYPE HTML PUBLIC "-//W3C//DTD HTML 3.2//E
	N">\n<HTML>\n<HEAD>\n<TITLE></TITLE>\n</HEAD>\n<BODY>\n<h3>ABCDE FC vs. Hon
	ey Badgers</h3>Plus d'info : <a href="https://www.golnetwork.com/game/v/235
	99/">#205</a>\n\n</BODY>\n</HTML>
STATUS:CONFIRMED
CLASS:PUBLIC
URL:https://www.golnetwork.com/game/v/23599/
X-MICROSOFT-CDO-BUSYSTATUS:BUSY
X-MICROSOFT-CDO-IMPORTANCE:1
END:VEVENT
BEGIN:VEVENT
UID:g2dd4@games.golnetwork.com
LOCATION:Lamport Stadium Field 3
GEO:43.639337;-79.4248954
CREATED:20121112T191809Z
DTSTART:20130105T200000Z
DTEND:20130105T210000Z
DTSTAMP:20260421T205348Z
SUMMARY:XTSC Whitecaps vs. Balls
DESCRIPTION:Balls vs. XTSC WhitecapsPlus d'info : #208
X-ALT-DESC;FMTTYPE=text/html:<!DOCTYPE HTML PUBLIC "-//W3C//DTD HTML 3.2//E
	N">\n<HTML>\n<HEAD>\n<TITLE></TITLE>\n</HEAD>\n<BODY>\n<h3>Balls vs. XTSC W
	hitecaps</h3>Plus d'info : <a href="https://www.golnetwork.com/game/v/23600
	/">#208</a>\n\n</BODY>\n</HTML>
STATUS:CONFIRMED
CLASS:PUBLIC
URL:https://www.golnetwork.com/game/v/23600/
X-MICROSOFT-CDO-BUSYSTATUS:BUSY
X-MICROSOFT-CDO-IMPORTANCE:1
END:VEVENT
BEGIN:VEVENT
UID:g2dda@games.golnetwork.com
LOCATION:Lamport Stadium Field 3
GEO:43.639337;-79.4248954
CREATED:20121112T191905Z
DTSTART:20130112T180000Z
DTEND:20130112T190000Z
DTSTAMP:20260421T205348Z
SUMMARY:ABCDE FC vs. Boogie Team United
DESCRIPTION:Boogie Team United vs. ABCDE FCPlus d'info : #235
X-ALT-DESC;FMTTYPE=text/html:<!DOCTYPE HTML PUBLIC "-//W3C//DTD HTML 3.2//E
	N">\n<HTML>\n<HEAD>\n<TITLE></TITLE>\n</HEAD>\n<BODY>\n<h3>Boogie Team Unit
	ed vs. ABCDE FC</h3>Plus d'info : <a href="https://www.golnetwork.com/game/
	v/23603/">#235</a>\n\n</BODY>\n</HTML>
STATUS:CONFIRMED
CLASS:PUBLIC
URL:https://www.golnetwork.com/game/v/23603/
X-MICROSOFT-CDO-BUSYSTATUS:BUSY
X-MICROSOFT-CDO-IMPORTANCE:1
END:VEVENT
BEGIN:VEVENT
UID:g2dd8@games.golnetwork.com
LOCATION:Lamport Stadium Field 3
GEO:43.639337;-79.4248954
CREATED:20121112T191854Z
DTSTART:20130112T190000Z
DTEND:20130112T200000Z
DTSTAMP:20260421T205348Z
SUMMARY:Wolfpack FC vs. Balls
DESCRIPTION:Balls vs. Wolfpack FCPlus d'info : #238
X-ALT-DESC;FMTTYPE=text/html:<!DOCTYPE HTML PUBLIC "-//W3C//DTD HTML 3.2//E
	N">\n<HTML>\n<HEAD>\n<TITLE></TITLE>\n</HEAD>\n<BODY>\n<h3>Balls vs. Wolfpa
	ck FC</h3>Plus d'info : <a href="https://www.golnetwork.com/game/v/23602/">
	#238</a>\n\n</BODY>\n</HTML>
STATUS:CONFIRMED
CLASS:PUBLIC
URL:https://www.golnetwork.com/game/v/23602/
X-MICROSOFT-CDO-BUSYSTATUS:BUSY
X-MICROSOFT-CDO-IMPORTANCE:1
END:VEVENT
BEGIN:VEVENT
UID:g2dd6@games.golnetwork.com
LOCATION:Lamport Stadium Field 3
GEO:43.639337;-79.4248954
CREATED:20121112T191840Z
DTSTART:20130112T200000Z
DTEND:20130112T210000Z
DTSTAMP:20260421T205348Z
SUMMARY:Honey Badgers vs. XTSC Whitecaps
DESCRIPTION:XTSC Whitecaps vs. Honey BadgersPlus d'info : #241
X-ALT-DESC;FMTTYPE=text/html:<!DOCTYPE HTML PUBLIC "-//W3C//DTD HTML 3.2//E
	N">\n<HTML>\n<HEAD>\n<TITLE></TITLE>\n</HEAD>\n<BODY>\n<h3>XTSC Whitecaps v
	s. Honey Badgers</h3>Plus d'info : <a href="https://www.golnetwork.com/game
	/v/23601/">#241</a>\n\n</BODY>\n</HTML>
STATUS:CONFIRMED
CLASS:PUBLIC
URL:https://www.golnetwork.com/game/v/23601/
X-MICROSOFT-CDO-BUSYSTATUS:BUSY
X-MICROSOFT-CDO-IMPORTANCE:1
END:VEVENT
BEGIN:VEVENT
UID:g2e97@games.golnetwork.com
LOCATION:Lamport Stadium Field 3
GEO:43.639337;-79.4248954
CREATED:20121129T194538Z
DTSTART:20130119T180000Z
DTEND:20130119T190000Z
DTSTAMP:20260421T205348Z
SUMMARY:XTSC Whitecaps vs. Boogie Team United
DESCRIPTION:Boogie Team United vs. XTSC WhitecapsPlus d'info : #268
X-ALT-DESC;FMTTYPE=text/html:<!DOCTYPE HTML PUBLIC "-//W3C//DTD HTML 3.2//E
	N">\n<HTML>\n<HEAD>\n<TITLE></TITLE>\n</HEAD>\n<BODY>\n<h3>Boogie Team Unit
	ed vs. XTSC Whitecaps</h3>Plus d'info : <a href="https://www.golnetwork.com
	/game/v/23912/">#268</a>\n\n</BODY>\n</HTML>
STATUS:CONFIRMED
CLASS:PUBLIC
URL:https://www.golnetwork.com/game/v/23912/
X-MICROSOFT-CDO-BUSYSTATUS:BUSY
X-MICROSOFT-CDO-IMPORTANCE:1
END:VEVENT
BEGIN:VEVENT
UID:g2e95@games.golnetwork.com
LOCATION:Lamport Stadium Field 3
GEO:43.639337;-79.4248954
CREATED:20121129T194530Z
DTSTART:20130119T190000Z
DTEND:20130119T200000Z
DTSTAMP:20260421T205348Z
SUMMARY:Honey Badgers vs. ABCDE FC
DESCRIPTION:ABCDE FC vs. Honey BadgersPlus d'info : #271
X-ALT-DESC;FMTTYPE=text/html:<!DOCTYPE HTML PUBLIC "-//W3C//DTD HTML 3.2//E
	N">\n<HTML>\n<HEAD>\n<TITLE></TITLE>\n</HEAD>\n<BODY>\n<h3>ABCDE FC vs. Hon
	ey Badgers</h3>Plus d'info : <a href="https://www.golnetwork.com/game/v/239
	11/">#271</a>\n\n</BODY>\n</HTML>
STATUS:CONFIRMED
CLASS:PUBLIC
URL:https://www.golnetwork.com/game/v/23911/
X-MICROSOFT-CDO-BUSYSTATUS:BUSY
X-MICROSOFT-CDO-IMPORTANCE:1
END:VEVENT
BEGIN:VEVENT
UID:g2e93@games.golnetwork.com
LOCATION:Lamport Stadium Field 3
GEO:43.639337;-79.4248954
CREATED:20121129T194521Z
DTSTART:20130119T200000Z
DTEND:20130119T210000Z
DTSTAMP:20260421T205348Z
SUMMARY:Balls vs. Wolfpack FC
DESCRIPTION:Wolfpack FC vs. BallsPlus d'info : #274
X-ALT-DESC;FMTTYPE=text/html:<!DOCTYPE HTML PUBLIC "-//W3C//DTD HTML 3.2//E
	N">\n<HTML>\n<HEAD>\n<TITLE></TITLE>\n</HEAD>\n<BODY>\n<h3>Wolfpack FC vs. 
	Balls</h3>Plus d'info : <a href="https://www.golnetwork.com/game/v/23910/">
	#274</a>\n\n</BODY>\n</HTML>
STATUS:CONFIRMED
CLASS:PUBLIC
URL:https://www.golnetwork.com/game/v/23910/
X-MICROSOFT-CDO-BUSYSTATUS:BUSY
X-MICROSOFT-CDO-IMPORTANCE:1
END:VEVENT
END:VCALENDAR
