BEGIN:VCALENDAR
PRODID:-//gdesolutions.com//MV Framework 1.0.0.1607 Calendar//EN
VERSION:2.0
METHOD:PUBLISH
CALSCALE:GREGORIAN
BEGIN:VEVENT
UID:g2cjp@games.golnetwork.com
LOCATION:Lamport Stadium Field 1
GEO:43.639337;-79.4248954
CREATED:20121111T174407Z
DTSTART:20121121T020000Z
DTEND:20121121T030000Z
DTSTAMP:20260420T231103Z
SUMMARY:Truth FC (Red) vs. All Swedish\, No Finnish
DESCRIPTION:All Swedish\, No Finnish vs. Truth FC (Red)Plus d'info : #28
X-ALT-DESC;FMTTYPE=text/html:<!DOCTYPE HTML PUBLIC "-//W3C//DTD HTML 3.2//E
	N">\n<HTML>\n<HEAD>\n<TITLE></TITLE>\n</HEAD>\n<BODY>\n<h3>All Swedish\, No
	 Finnish vs. Truth FC (Red)</h3>Plus d'info : <a href="https://www.golnetwo
	rk.com/game/v/23327/">#28</a>\n\n</BODY>\n</HTML>
STATUS:CONFIRMED
CLASS:PUBLIC
URL:https://www.golnetwork.com/game/v/23327/
X-MICROSOFT-CDO-BUSYSTATUS:BUSY
X-MICROSOFT-CDO-IMPORTANCE:1
END:VEVENT
BEGIN:VEVENT
UID:g2ck0@games.golnetwork.com
LOCATION:Lamport Stadium Field 1
GEO:43.639337;-79.4248954
CREATED:20121111T174407Z
DTSTART:20121121T030000Z
DTEND:20121121T040000Z
DTSTAMP:20260420T231103Z
SUMMARY:Black and Blue vs. Revolution
DESCRIPTION:Revolution vs. Black and BluePlus d'info : #29
X-ALT-DESC;FMTTYPE=text/html:<!DOCTYPE HTML PUBLIC "-//W3C//DTD HTML 3.2//E
	N">\n<HTML>\n<HEAD>\n<TITLE></TITLE>\n</HEAD>\n<BODY>\n<h3>Revolution vs. B
	lack and Blue</h3>Plus d'info : <a href="https://www.golnetwork.com/game/v/
	23328/">#29</a>\n\n</BODY>\n</HTML>
STATUS:CONFIRMED
CLASS:PUBLIC
URL:https://www.golnetwork.com/game/v/23328/
X-MICROSOFT-CDO-BUSYSTATUS:BUSY
X-MICROSOFT-CDO-IMPORTANCE:1
END:VEVENT
BEGIN:VEVENT
UID:g2ck2@games.golnetwork.com
LOCATION:Lamport Stadium Field 1
GEO:43.639337;-79.4248954
CREATED:20121111T174407Z
DTSTART:20121121T040000Z
DTEND:20121121T050000Z
DTSTAMP:20260420T231103Z
SUMMARY:Fuerza FC vs. Les Bleus
DESCRIPTION:Les Bleus vs. Fuerza FCPlus d'info : #31
X-ALT-DESC;FMTTYPE=text/html:<!DOCTYPE HTML PUBLIC "-//W3C//DTD HTML 3.2//E
	N">\n<HTML>\n<HEAD>\n<TITLE></TITLE>\n</HEAD>\n<BODY>\n<h3>Les Bleus vs. Fu
	erza FC</h3>Plus d'info : <a href="https://www.golnetwork.com/game/v/23329/
	">#31</a>\n\n</BODY>\n</HTML>
STATUS:CONFIRMED
CLASS:PUBLIC
URL:https://www.golnetwork.com/game/v/23329/
X-MICROSOFT-CDO-BUSYSTATUS:BUSY
X-MICROSOFT-CDO-IMPORTANCE:1
END:VEVENT
BEGIN:VEVENT
UID:g2ck4@games.golnetwork.com
LOCATION:Lamport Stadium Field 1
GEO:43.639337;-79.4248954
CREATED:20121111T174407Z
DTSTART:20121128T020000Z
DTEND:20121128T030000Z
DTSTAMP:20260420T231103Z
SUMMARY:Black and Blue vs. Truth FC (Red)
DESCRIPTION:Truth FC (Red) vs. Black and BluePlus d'info : #60
X-ALT-DESC;FMTTYPE=text/html:<!DOCTYPE HTML PUBLIC "-//W3C//DTD HTML 3.2//E
	N">\n<HTML>\n<HEAD>\n<TITLE></TITLE>\n</HEAD>\n<BODY>\n<h3>Truth FC (Red) v
	s. Black and Blue</h3>Plus d'info : <a href="https://www.golnetwork.com/gam
	e/v/23330/">#60</a>\n\n</BODY>\n</HTML>
STATUS:CONFIRMED
CLASS:PUBLIC
URL:https://www.golnetwork.com/game/v/23330/
X-MICROSOFT-CDO-BUSYSTATUS:BUSY
X-MICROSOFT-CDO-IMPORTANCE:1
END:VEVENT
BEGIN:VEVENT
UID:g2ck6@games.golnetwork.com
LOCATION:Lamport Stadium Field 1
GEO:43.639337;-79.4248954
CREATED:20121111T174407Z
DTSTART:20121128T030000Z
DTEND:20121128T040000Z
DTSTAMP:20260420T231103Z
SUMMARY:Fuerza FC vs. All Swedish\, No Finnish
DESCRIPTION:All Swedish\, No Finnish vs. Fuerza FCPlus d'info : #61
X-ALT-DESC;FMTTYPE=text/html:<!DOCTYPE HTML PUBLIC "-//W3C//DTD HTML 3.2//E
	N">\n<HTML>\n<HEAD>\n<TITLE></TITLE>\n</HEAD>\n<BODY>\n<h3>All Swedish\, No
	 Finnish vs. Fuerza FC</h3>Plus d'info : <a href="https://www.golnetwork.co
	m/game/v/23331/">#61</a>\n\n</BODY>\n</HTML>
STATUS:CONFIRMED
CLASS:PUBLIC
URL:https://www.golnetwork.com/game/v/23331/
X-MICROSOFT-CDO-BUSYSTATUS:BUSY
X-MICROSOFT-CDO-IMPORTANCE:1
END:VEVENT
BEGIN:VEVENT
UID:g2ck8@games.golnetwork.com
LOCATION:Lamport Stadium Field 1
GEO:43.639337;-79.4248954
CREATED:20121111T174407Z
DTSTART:20121128T040000Z
DTEND:20121128T050000Z
DTSTAMP:20260420T231103Z
SUMMARY:Les Bleus vs. Revolution
DESCRIPTION:Revolution vs. Les BleusPlus d'info : #64
X-ALT-DESC;FMTTYPE=text/html:<!DOCTYPE HTML PUBLIC "-//W3C//DTD HTML 3.2//E
	N">\n<HTML>\n<HEAD>\n<TITLE></TITLE>\n</HEAD>\n<BODY>\n<h3>Revolution vs. L
	es Bleus</h3>Plus d'info : <a href="https://www.golnetwork.com/game/v/23332
	/">#64</a>\n\n</BODY>\n</HTML>
STATUS:CONFIRMED
CLASS:PUBLIC
URL:https://www.golnetwork.com/game/v/23332/
X-MICROSOFT-CDO-BUSYSTATUS:BUSY
X-MICROSOFT-CDO-IMPORTANCE:1
END:VEVENT
BEGIN:VEVENT
UID:g2cka@games.golnetwork.com
LOCATION:Lamport Stadium Field 1
GEO:43.639337;-79.4248954
CREATED:20121111T174407Z
DTSTART:20121205T020000Z
DTEND:20121205T030000Z
DTSTAMP:20260420T231103Z
SUMMARY:Truth FC (Red) vs. Fuerza FC
DESCRIPTION:Fuerza FC vs. Truth FC (Red)Plus d'info : #93
X-ALT-DESC;FMTTYPE=text/html:<!DOCTYPE HTML PUBLIC "-//W3C//DTD HTML 3.2//E
	N">\n<HTML>\n<HEAD>\n<TITLE></TITLE>\n</HEAD>\n<BODY>\n<h3>Fuerza FC vs. Tr
	uth FC (Red)</h3>Plus d'info : <a href="https://www.golnetwork.com/game/v/2
	3333/">#93</a>\n\n</BODY>\n</HTML>
STATUS:CONFIRMED
CLASS:PUBLIC
URL:https://www.golnetwork.com/game/v/23333/
X-MICROSOFT-CDO-BUSYSTATUS:BUSY
X-MICROSOFT-CDO-IMPORTANCE:1
END:VEVENT
BEGIN:VEVENT
UID:g2ckc@games.golnetwork.com
LOCATION:Lamport Stadium Field 1
GEO:43.639337;-79.4248954
CREATED:20121111T174407Z
DTSTART:20121205T030000Z
DTEND:20121205T040000Z
DTSTAMP:20260420T231103Z
SUMMARY:Les Bleus vs. Black and Blue
DESCRIPTION:Black and Blue vs. Les BleusPlus d'info : #94
X-ALT-DESC;FMTTYPE=text/html:<!DOCTYPE HTML PUBLIC "-//W3C//DTD HTML 3.2//E
	N">\n<HTML>\n<HEAD>\n<TITLE></TITLE>\n</HEAD>\n<BODY>\n<h3>Black and Blue v
	s. Les Bleus</h3>Plus d'info : <a href="https://www.golnetwork.com/game/v/2
	3334/">#94</a>\n\n</BODY>\n</HTML>
STATUS:CONFIRMED
CLASS:PUBLIC
URL:https://www.golnetwork.com/game/v/23334/
X-MICROSOFT-CDO-BUSYSTATUS:BUSY
X-MICROSOFT-CDO-IMPORTANCE:1
END:VEVENT
BEGIN:VEVENT
UID:g2cke@games.golnetwork.com
LOCATION:Lamport Stadium Field 1
GEO:43.639337;-79.4248954
CREATED:20121111T174407Z
DTSTART:20121205T040000Z
DTEND:20121205T050000Z
DTSTAMP:20260420T231103Z
SUMMARY:Revolution vs. All Swedish\, No Finnish
DESCRIPTION:All Swedish\, No Finnish vs. RevolutionPlus d'info : #97
X-ALT-DESC;FMTTYPE=text/html:<!DOCTYPE HTML PUBLIC "-//W3C//DTD HTML 3.2//E
	N">\n<HTML>\n<HEAD>\n<TITLE></TITLE>\n</HEAD>\n<BODY>\n<h3>All Swedish\, No
	 Finnish vs. Revolution</h3>Plus d'info : <a href="https://www.golnetwork.c
	om/game/v/23335/">#97</a>\n\n</BODY>\n</HTML>
STATUS:CONFIRMED
CLASS:PUBLIC
URL:https://www.golnetwork.com/game/v/23335/
X-MICROSOFT-CDO-BUSYSTATUS:BUSY
X-MICROSOFT-CDO-IMPORTANCE:1
END:VEVENT
BEGIN:VEVENT
UID:g2ckg@games.golnetwork.com
LOCATION:Lamport Stadium Field 1
GEO:43.639337;-79.4248954
CREATED:20121111T174407Z
DTSTART:20121212T020000Z
DTEND:20121212T030000Z
DTSTAMP:20260420T231103Z
SUMMARY:Les Bleus vs. Truth FC (Red)
DESCRIPTION:Truth FC (Red) vs. Les BleusPlus d'info : #126
X-ALT-DESC;FMTTYPE=text/html:<!DOCTYPE HTML PUBLIC "-//W3C//DTD HTML 3.2//E
	N">\n<HTML>\n<HEAD>\n<TITLE></TITLE>\n</HEAD>\n<BODY>\n<h3>Truth FC (Red) v
	s. Les Bleus</h3>Plus d'info : <a href="https://www.golnetwork.com/game/v/2
	3336/">#126</a>\n\n</BODY>\n</HTML>
STATUS:CONFIRMED
CLASS:PUBLIC
URL:https://www.golnetwork.com/game/v/23336/
X-MICROSOFT-CDO-BUSYSTATUS:BUSY
X-MICROSOFT-CDO-IMPORTANCE:1
END:VEVENT
BEGIN:VEVENT
UID:g2cki@games.golnetwork.com
LOCATION:Lamport Stadium Field 1
GEO:43.639337;-79.4248954
CREATED:20121111T174407Z
DTSTART:20121212T030000Z
DTEND:20121212T040000Z
DTSTAMP:20260420T231103Z
SUMMARY:Revolution vs. Fuerza FC
DESCRIPTION:Fuerza FC vs. RevolutionPlus d'info : #127
X-ALT-DESC;FMTTYPE=text/html:<!DOCTYPE HTML PUBLIC "-//W3C//DTD HTML 3.2//E
	N">\n<HTML>\n<HEAD>\n<TITLE></TITLE>\n</HEAD>\n<BODY>\n<h3>Fuerza FC vs. Re
	volution</h3>Plus d'info : <a href="https://www.golnetwork.com/game/v/23337
	/">#127</a>\n\n</BODY>\n</HTML>
STATUS:CONFIRMED
CLASS:PUBLIC
URL:https://www.golnetwork.com/game/v/23337/
X-MICROSOFT-CDO-BUSYSTATUS:BUSY
X-MICROSOFT-CDO-IMPORTANCE:1
END:VEVENT
BEGIN:VEVENT
UID:g2ckk@games.golnetwork.com
LOCATION:Lamport Stadium Field 1
GEO:43.639337;-79.4248954
CREATED:20121111T174407Z
DTSTART:20121212T040000Z
DTEND:20121212T050000Z
DTSTAMP:20260420T231103Z
SUMMARY:All Swedish\, No Finnish vs. Black and Blue
DESCRIPTION:Black and Blue vs. All Swedish\, No FinnishPlus d'info : #130
X-ALT-DESC;FMTTYPE=text/html:<!DOCTYPE HTML PUBLIC "-//W3C//DTD HTML 3.2//E
	N">\n<HTML>\n<HEAD>\n<TITLE></TITLE>\n</HEAD>\n<BODY>\n<h3>Black and Blue v
	s. All Swedish\, No Finnish</h3>Plus d'info : <a href="https://www.golnetwo
	rk.com/game/v/23338/">#130</a>\n\n</BODY>\n</HTML>
STATUS:CONFIRMED
CLASS:PUBLIC
URL:https://www.golnetwork.com/game/v/23338/
X-MICROSOFT-CDO-BUSYSTATUS:BUSY
X-MICROSOFT-CDO-IMPORTANCE:1
END:VEVENT
BEGIN:VEVENT
UID:g2ckm@games.golnetwork.com
LOCATION:Lamport Stadium Field 1
GEO:43.639337;-79.4248954
CREATED:20121111T174407Z
DTSTART:20121219T020000Z
DTEND:20121219T030000Z
DTSTAMP:20260420T231103Z
SUMMARY:Truth FC (Red) vs. Revolution
DESCRIPTION:Revolution vs. Truth FC (Red)Plus d'info : #159
X-ALT-DESC;FMTTYPE=text/html:<!DOCTYPE HTML PUBLIC "-//W3C//DTD HTML 3.2//E
	N">\n<HTML>\n<HEAD>\n<TITLE></TITLE>\n</HEAD>\n<BODY>\n<h3>Revolution vs. T
	ruth FC (Red)</h3>Plus d'info : <a href="https://www.golnetwork.com/game/v/
	23339/">#159</a>\n\n</BODY>\n</HTML>
STATUS:CONFIRMED
CLASS:PUBLIC
URL:https://www.golnetwork.com/game/v/23339/
X-MICROSOFT-CDO-BUSYSTATUS:BUSY
X-MICROSOFT-CDO-IMPORTANCE:1
END:VEVENT
BEGIN:VEVENT
UID:g2cko@games.golnetwork.com
LOCATION:Lamport Stadium Field 1
GEO:43.639337;-79.4248954
CREATED:20121111T174407Z
DTSTART:20121219T030000Z
DTEND:20121219T040000Z
DTSTAMP:20260420T231103Z
SUMMARY:All Swedish\, No Finnish vs. Les Bleus
DESCRIPTION:Les Bleus vs. All Swedish\, No FinnishPlus d'info : #160
X-ALT-DESC;FMTTYPE=text/html:<!DOCTYPE HTML PUBLIC "-//W3C//DTD HTML 3.2//E
	N">\n<HTML>\n<HEAD>\n<TITLE></TITLE>\n</HEAD>\n<BODY>\n<h3>Les Bleus vs. Al
	l Swedish\, No Finnish</h3>Plus d'info : <a href="https://www.golnetwork.co
	m/game/v/23340/">#160</a>\n\n</BODY>\n</HTML>
STATUS:CONFIRMED
CLASS:PUBLIC
URL:https://www.golnetwork.com/game/v/23340/
X-MICROSOFT-CDO-BUSYSTATUS:BUSY
X-MICROSOFT-CDO-IMPORTANCE:1
END:VEVENT
BEGIN:VEVENT
UID:g2ckq@games.golnetwork.com
LOCATION:Lamport Stadium Field 1
GEO:43.639337;-79.4248954
CREATED:20121111T174407Z
DTSTART:20121219T040000Z
DTEND:20121219T050000Z
DTSTAMP:20260420T231103Z
SUMMARY:Black and Blue vs. Fuerza FC
DESCRIPTION:Fuerza FC vs. Black and BluePlus d'info : #163
X-ALT-DESC;FMTTYPE=text/html:<!DOCTYPE HTML PUBLIC "-//W3C//DTD HTML 3.2//E
	N">\n<HTML>\n<HEAD>\n<TITLE></TITLE>\n</HEAD>\n<BODY>\n<h3>Fuerza FC vs. Bl
	ack and Blue</h3>Plus d'info : <a href="https://www.golnetwork.com/game/v/2
	3341/">#163</a>\n\n</BODY>\n</HTML>
STATUS:CONFIRMED
CLASS:PUBLIC
URL:https://www.golnetwork.com/game/v/23341/
X-MICROSOFT-CDO-BUSYSTATUS:BUSY
X-MICROSOFT-CDO-IMPORTANCE:1
END:VEVENT
BEGIN:VEVENT
UID:g2cl1@games.golnetwork.com
LOCATION:Lamport Stadium Field 1
GEO:43.639337;-79.4248954
CREATED:20121111T174407Z
DTSTART:20130109T020000Z
DTEND:20130109T030000Z
DTSTAMP:20260420T231103Z
SUMMARY:Black and Blue vs. Les Bleus
DESCRIPTION:Les Bleus vs. Black and BluePlus d'info : #215
X-ALT-DESC;FMTTYPE=text/html:<!DOCTYPE HTML PUBLIC "-//W3C//DTD HTML 3.2//E
	N">\n<HTML>\n<HEAD>\n<TITLE></TITLE>\n</HEAD>\n<BODY>\n<h3>Les Bleus vs. Bl
	ack and Blue</h3>Plus d'info : <a href="https://www.golnetwork.com/game/v/2
	3342/">#215</a>\n\n</BODY>\n</HTML>
STATUS:CONFIRMED
CLASS:PUBLIC
URL:https://www.golnetwork.com/game/v/23342/
X-MICROSOFT-CDO-BUSYSTATUS:BUSY
X-MICROSOFT-CDO-IMPORTANCE:1
END:VEVENT
BEGIN:VEVENT
UID:g2cl3@games.golnetwork.com
LOCATION:Lamport Stadium Field 1
GEO:43.639337;-79.4248954
CREATED:20121111T174407Z
DTSTART:20130109T030000Z
DTEND:20130109T040000Z
DTSTAMP:20260420T231103Z
SUMMARY:Fuerza FC vs. All Swedish\, No Finnish
DESCRIPTION:All Swedish\, No Finnish vs. Fuerza FCPlus d'info : #216
X-ALT-DESC;FMTTYPE=text/html:<!DOCTYPE HTML PUBLIC "-//W3C//DTD HTML 3.2//E
	N">\n<HTML>\n<HEAD>\n<TITLE></TITLE>\n</HEAD>\n<BODY>\n<h3>All Swedish\, No
	 Finnish vs. Fuerza FC</h3>Plus d'info : <a href="https://www.golnetwork.co
	m/game/v/23343/">#216</a>\n\n</BODY>\n</HTML>
STATUS:CONFIRMED
CLASS:PUBLIC
URL:https://www.golnetwork.com/game/v/23343/
X-MICROSOFT-CDO-BUSYSTATUS:BUSY
X-MICROSOFT-CDO-IMPORTANCE:1
END:VEVENT
BEGIN:VEVENT
UID:g2cl5@games.golnetwork.com
LOCATION:Lamport Stadium Field 1
GEO:43.639337;-79.4248954
CREATED:20121111T174407Z
DTSTART:20130109T040000Z
DTEND:20130109T050000Z
DTSTAMP:20260420T231103Z
SUMMARY:Revolution vs. Truth FC (Red)
DESCRIPTION:Truth FC (Red) vs. RevolutionPlus d'info : #219
X-ALT-DESC;FMTTYPE=text/html:<!DOCTYPE HTML PUBLIC "-//W3C//DTD HTML 3.2//E
	N">\n<HTML>\n<HEAD>\n<TITLE></TITLE>\n</HEAD>\n<BODY>\n<h3>Truth FC (Red) v
	s. Revolution</h3>Plus d'info : <a href="https://www.golnetwork.com/game/v/
	23344/">#219</a>\n\n</BODY>\n</HTML>
STATUS:CONFIRMED
CLASS:PUBLIC
URL:https://www.golnetwork.com/game/v/23344/
X-MICROSOFT-CDO-BUSYSTATUS:BUSY
X-MICROSOFT-CDO-IMPORTANCE:1
END:VEVENT
BEGIN:VEVENT
UID:g2cl7@games.golnetwork.com
LOCATION:Lamport Stadium Field 1
GEO:43.639337;-79.4248954
CREATED:20121111T174407Z
DTSTART:20130116T020000Z
DTEND:20130116T030000Z
DTSTAMP:20260420T231103Z
SUMMARY:Fuerza FC vs. Black and Blue
DESCRIPTION:Black and Blue vs. Fuerza FCPlus d'info : #248
X-ALT-DESC;FMTTYPE=text/html:<!DOCTYPE HTML PUBLIC "-//W3C//DTD HTML 3.2//E
	N">\n<HTML>\n<HEAD>\n<TITLE></TITLE>\n</HEAD>\n<BODY>\n<h3>Black and Blue v
	s. Fuerza FC</h3>Plus d'info : <a href="https://www.golnetwork.com/game/v/2
	3345/">#248</a>\n\n</BODY>\n</HTML>
STATUS:CONFIRMED
CLASS:PUBLIC
URL:https://www.golnetwork.com/game/v/23345/
X-MICROSOFT-CDO-BUSYSTATUS:BUSY
X-MICROSOFT-CDO-IMPORTANCE:1
END:VEVENT
BEGIN:VEVENT
UID:g2cl9@games.golnetwork.com
LOCATION:Lamport Stadium Field 1
GEO:43.639337;-79.4248954
CREATED:20121111T174407Z
DTSTART:20130116T030000Z
DTEND:20130116T040000Z
DTSTAMP:20260420T231103Z
SUMMARY:Revolution vs. Les Bleus
DESCRIPTION:Les Bleus vs. RevolutionPlus d'info : #249
X-ALT-DESC;FMTTYPE=text/html:<!DOCTYPE HTML PUBLIC "-//W3C//DTD HTML 3.2//E
	N">\n<HTML>\n<HEAD>\n<TITLE></TITLE>\n</HEAD>\n<BODY>\n<h3>Les Bleus vs. Re
	volution</h3>Plus d'info : <a href="https://www.golnetwork.com/game/v/23346
	/">#249</a>\n\n</BODY>\n</HTML>
STATUS:CONFIRMED
CLASS:PUBLIC
URL:https://www.golnetwork.com/game/v/23346/
X-MICROSOFT-CDO-BUSYSTATUS:BUSY
X-MICROSOFT-CDO-IMPORTANCE:1
END:VEVENT
BEGIN:VEVENT
UID:g2clb@games.golnetwork.com
LOCATION:Lamport Stadium Field 1
GEO:43.639337;-79.4248954
CREATED:20121111T174407Z
DTSTART:20130116T040000Z
DTEND:20130116T050000Z
DTSTAMP:20260420T231103Z
SUMMARY:Truth FC (Red) vs. All Swedish\, No Finnish
DESCRIPTION:All Swedish\, No Finnish vs. Truth FC (Red)Plus d'info : #252
X-ALT-DESC;FMTTYPE=text/html:<!DOCTYPE HTML PUBLIC "-//W3C//DTD HTML 3.2//E
	N">\n<HTML>\n<HEAD>\n<TITLE></TITLE>\n</HEAD>\n<BODY>\n<h3>All Swedish\, No
	 Finnish vs. Truth FC (Red)</h3>Plus d'info : <a href="https://www.golnetwo
	rk.com/game/v/23347/">#252</a>\n\n</BODY>\n</HTML>
STATUS:CONFIRMED
CLASS:PUBLIC
URL:https://www.golnetwork.com/game/v/23347/
X-MICROSOFT-CDO-BUSYSTATUS:BUSY
X-MICROSOFT-CDO-IMPORTANCE:1
END:VEVENT
BEGIN:VEVENT
UID:g2cld@games.golnetwork.com
LOCATION:Lamport Stadium Field 1
GEO:43.639337;-79.4248954
CREATED:20121111T174407Z
DTSTART:20130123T020000Z
DTEND:20130123T030000Z
DTSTAMP:20260420T231103Z
SUMMARY:Black and Blue vs. Revolution
DESCRIPTION:Revolution vs. Black and BluePlus d'info : #281
X-ALT-DESC;FMTTYPE=text/html:<!DOCTYPE HTML PUBLIC "-//W3C//DTD HTML 3.2//E
	N">\n<HTML>\n<HEAD>\n<TITLE></TITLE>\n</HEAD>\n<BODY>\n<h3>Revolution vs. B
	lack and Blue</h3>Plus d'info : <a href="https://www.golnetwork.com/game/v/
	23348/">#281</a>\n\n</BODY>\n</HTML>
STATUS:CONFIRMED
CLASS:PUBLIC
URL:https://www.golnetwork.com/game/v/23348/
X-MICROSOFT-CDO-BUSYSTATUS:BUSY
X-MICROSOFT-CDO-IMPORTANCE:1
END:VEVENT
BEGIN:VEVENT
UID:g2clf@games.golnetwork.com
LOCATION:Lamport Stadium Field 1
GEO:43.639337;-79.4248954
CREATED:20121111T174407Z
DTSTART:20130123T030000Z
DTEND:20130123T040000Z
DTSTAMP:20260420T231103Z
SUMMARY:Truth FC (Red) vs. Fuerza FC
DESCRIPTION:Fuerza FC vs. Truth FC (Red)Plus d'info : #282
X-ALT-DESC;FMTTYPE=text/html:<!DOCTYPE HTML PUBLIC "-//W3C//DTD HTML 3.2//E
	N">\n<HTML>\n<HEAD>\n<TITLE></TITLE>\n</HEAD>\n<BODY>\n<h3>Fuerza FC vs. Tr
	uth FC (Red)</h3>Plus d'info : <a href="https://www.golnetwork.com/game/v/2
	3349/">#282</a>\n\n</BODY>\n</HTML>
STATUS:CONFIRMED
CLASS:PUBLIC
URL:https://www.golnetwork.com/game/v/23349/
X-MICROSOFT-CDO-BUSYSTATUS:BUSY
X-MICROSOFT-CDO-IMPORTANCE:1
END:VEVENT
BEGIN:VEVENT
UID:g2clh@games.golnetwork.com
LOCATION:Lamport Stadium Field 1
GEO:43.639337;-79.4248954
CREATED:20121111T174407Z
DTSTART:20130123T040000Z
DTEND:20130123T050000Z
DTSTAMP:20260420T231103Z
SUMMARY:All Swedish\, No Finnish vs. Les Bleus
DESCRIPTION:Les Bleus vs. All Swedish\, No FinnishPlus d'info : #285
X-ALT-DESC;FMTTYPE=text/html:<!DOCTYPE HTML PUBLIC "-//W3C//DTD HTML 3.2//E
	N">\n<HTML>\n<HEAD>\n<TITLE></TITLE>\n</HEAD>\n<BODY>\n<h3>Les Bleus vs. Al
	l Swedish\, No Finnish</h3>Plus d'info : <a href="https://www.golnetwork.co
	m/game/v/23350/">#285</a>\n\n</BODY>\n</HTML>
STATUS:CONFIRMED
CLASS:PUBLIC
URL:https://www.golnetwork.com/game/v/23350/
X-MICROSOFT-CDO-BUSYSTATUS:BUSY
X-MICROSOFT-CDO-IMPORTANCE:1
END:VEVENT
BEGIN:VEVENT
UID:g2clj@games.golnetwork.com
LOCATION:Lamport Stadium Field 1
GEO:43.639337;-79.4248954
CREATED:20121111T174407Z
DTSTART:20130130T020000Z
DTEND:20130130T030000Z
DTSTAMP:20260420T231103Z
SUMMARY:Black and Blue vs. All Swedish\, No Finnish
DESCRIPTION:All Swedish\, No Finnish vs. Black and BluePlus d'info : #291
X-ALT-DESC;FMTTYPE=text/html:<!DOCTYPE HTML PUBLIC "-//W3C//DTD HTML 3.2//E
	N">\n<HTML>\n<HEAD>\n<TITLE></TITLE>\n</HEAD>\n<BODY>\n<h3>All Swedish\, No
	 Finnish vs. Black and Blue</h3>Plus d'info : <a href="https://www.golnetwo
	rk.com/game/v/23351/">#291</a>\n\n</BODY>\n</HTML>
STATUS:CONFIRMED
CLASS:PUBLIC
URL:https://www.golnetwork.com/game/v/23351/
X-MICROSOFT-CDO-BUSYSTATUS:BUSY
X-MICROSOFT-CDO-IMPORTANCE:1
END:VEVENT
BEGIN:VEVENT
UID:g2cll@games.golnetwork.com
LOCATION:Lamport Stadium Field 1
GEO:43.639337;-79.4248954
CREATED:20121111T174407Z
DTSTART:20130130T030000Z
DTEND:20130130T040000Z
DTSTAMP:20260420T231103Z
SUMMARY:Les Bleus vs. Fuerza FC
DESCRIPTION:Fuerza FC vs. Les BleusPlus d'info : #292
X-ALT-DESC;FMTTYPE=text/html:<!DOCTYPE HTML PUBLIC "-//W3C//DTD HTML 3.2//E
	N">\n<HTML>\n<HEAD>\n<TITLE></TITLE>\n</HEAD>\n<BODY>\n<h3>Fuerza FC vs. Le
	s Bleus</h3>Plus d'info : <a href="https://www.golnetwork.com/game/v/23352/
	">#292</a>\n\n</BODY>\n</HTML>
STATUS:CONFIRMED
CLASS:PUBLIC
URL:https://www.golnetwork.com/game/v/23352/
X-MICROSOFT-CDO-BUSYSTATUS:BUSY
X-MICROSOFT-CDO-IMPORTANCE:1
END:VEVENT
BEGIN:VEVENT
UID:g2cln@games.golnetwork.com
LOCATION:Lamport Stadium Field 1
GEO:43.639337;-79.4248954
CREATED:20121111T174407Z
DTSTART:20130130T040000Z
DTEND:20130130T050000Z
DTSTAMP:20260420T231103Z
SUMMARY:Revolution vs. Truth FC (Red)
DESCRIPTION:Truth FC (Red) vs. RevolutionPlus d'info : #295
X-ALT-DESC;FMTTYPE=text/html:<!DOCTYPE HTML PUBLIC "-//W3C//DTD HTML 3.2//E
	N">\n<HTML>\n<HEAD>\n<TITLE></TITLE>\n</HEAD>\n<BODY>\n<h3>Truth FC (Red) v
	s. Revolution</h3>Plus d'info : <a href="https://www.golnetwork.com/game/v/
	23353/">#295</a>\n\n</BODY>\n</HTML>
STATUS:CONFIRMED
CLASS:PUBLIC
URL:https://www.golnetwork.com/game/v/23353/
X-MICROSOFT-CDO-BUSYSTATUS:BUSY
X-MICROSOFT-CDO-IMPORTANCE:1
END:VEVENT
BEGIN:VEVENT
UID:g2clp@games.golnetwork.com
LOCATION:Lamport Stadium Field 1
GEO:43.639337;-79.4248954
CREATED:20121111T174407Z
DTSTART:20130206T020000Z
DTEND:20130206T030000Z
DTSTAMP:20260420T231103Z
SUMMARY:Black and Blue vs. Les Bleus
DESCRIPTION:Les Bleus vs. Black and BluePlus d'info : #300
X-ALT-DESC;FMTTYPE=text/html:<!DOCTYPE HTML PUBLIC "-//W3C//DTD HTML 3.2//E
	N">\n<HTML>\n<HEAD>\n<TITLE></TITLE>\n</HEAD>\n<BODY>\n<h3>Les Bleus vs. Bl
	ack and Blue</h3>Plus d'info : <a href="https://www.golnetwork.com/game/v/2
	3354/">#300</a>\n\n</BODY>\n</HTML>
STATUS:CONFIRMED
CLASS:PUBLIC
URL:https://www.golnetwork.com/game/v/23354/
X-MICROSOFT-CDO-BUSYSTATUS:BUSY
X-MICROSOFT-CDO-IMPORTANCE:1
END:VEVENT
BEGIN:VEVENT
UID:g2cm0@games.golnetwork.com
LOCATION:Lamport Stadium Field 1
GEO:43.639337;-79.4248954
CREATED:20121111T174407Z
DTSTART:20130206T030000Z
DTEND:20130206T040000Z
DTSTAMP:20260420T231103Z
SUMMARY:Truth FC (Red) vs. Fuerza FC
DESCRIPTION:Fuerza FC vs. Truth FC (Red)Plus d'info : #301
X-ALT-DESC;FMTTYPE=text/html:<!DOCTYPE HTML PUBLIC "-//W3C//DTD HTML 3.2//E
	N">\n<HTML>\n<HEAD>\n<TITLE></TITLE>\n</HEAD>\n<BODY>\n<h3>Fuerza FC vs. Tr
	uth FC (Red)</h3>Plus d'info : <a href="https://www.golnetwork.com/game/v/2
	3355/">#301</a>\n\n</BODY>\n</HTML>
STATUS:CONFIRMED
CLASS:PUBLIC
URL:https://www.golnetwork.com/game/v/23355/
X-MICROSOFT-CDO-BUSYSTATUS:BUSY
X-MICROSOFT-CDO-IMPORTANCE:1
END:VEVENT
BEGIN:VEVENT
UID:g2cm2@games.golnetwork.com
LOCATION:Lamport Stadium Field 1
GEO:43.639337;-79.4248954
CREATED:20121111T174407Z
DTSTART:20130206T040000Z
DTEND:20130206T050000Z
DTSTAMP:20260420T231103Z
SUMMARY:Revolution vs. All Swedish\, No Finnish
DESCRIPTION:All Swedish\, No Finnish vs. RevolutionPlus d'info : #302
X-ALT-DESC;FMTTYPE=text/html:<!DOCTYPE HTML PUBLIC "-//W3C//DTD HTML 3.2//E
	N">\n<HTML>\n<HEAD>\n<TITLE></TITLE>\n</HEAD>\n<BODY>\n<h3>All Swedish\, No
	 Finnish vs. Revolution</h3>Plus d'info : <a href="https://www.golnetwork.c
	om/game/v/23356/">#302</a>\n\n</BODY>\n</HTML>
STATUS:CONFIRMED
CLASS:PUBLIC
URL:https://www.golnetwork.com/game/v/23356/
X-MICROSOFT-CDO-BUSYSTATUS:BUSY
X-MICROSOFT-CDO-IMPORTANCE:1
END:VEVENT
END:VCALENDAR
