BEGIN:VCALENDAR
PRODID:-//gdesolutions.com//MV Framework 1.0.0.1607 Calendar//EN
VERSION:2.0
METHOD:PUBLISH
CALSCALE:GREGORIAN
BEGIN:VEVENT
UID:g2ef5@games.golnetwork.com
LOCATION:Louis Riel #1
GEO:45.4410208;-75.5715394
CREATED:20121205T232709Z
DTSTART:20121130T020000Z
DTEND:20121130T030000Z
DTSTAMP:20260422T091424Z
SUMMARY:Foot Loose FC vs. The Miseducation
DESCRIPTION:The Miseducation vs. Foot Loose FCPlus d'info : #123
X-ALT-DESC;FMTTYPE=text/html:<!DOCTYPE HTML PUBLIC "-//W3C//DTD HTML 3.2//E
	N">\n<HTML>\n<HEAD>\n<TITLE></TITLE>\n</HEAD>\n<BODY>\n<h3>The Miseducation
	 vs. Foot Loose FC</h3>Plus d'info : <a href="https://www.golnetwork.com/ga
	me/v/23992/">#123</a>\n\n</BODY>\n</HTML>
STATUS:CONFIRMED
CLASS:PUBLIC
URL:https://www.golnetwork.com/game/v/23992/
X-MICROSOFT-CDO-BUSYSTATUS:BUSY
X-MICROSOFT-CDO-IMPORTANCE:1
END:VEVENT
BEGIN:VEVENT
UID:g2eem@games.golnetwork.com
LOCATION:Hornet's Nest #2
GEO:45.4428309;-75.575268
CREATED:20121205T232404Z
DTSTART:20121130T023000Z
DTEND:20121130T033000Z
DTSTAMP:20260422T091424Z
SUMMARY:Fm FC vs. Benchwarmers
DESCRIPTION:Benchwarmers vs. Fm FCPlus d'info : #126
X-ALT-DESC;FMTTYPE=text/html:<!DOCTYPE HTML PUBLIC "-//W3C//DTD HTML 3.2//E
	N">\n<HTML>\n<HEAD>\n<TITLE></TITLE>\n</HEAD>\n<BODY>\n<h3>Benchwarmers vs.
	 Fm FC</h3>Plus d'info : <a href="https://www.golnetwork.com/game/v/23987/"
	>#126</a>\n\n</BODY>\n</HTML>
STATUS:CONFIRMED
CLASS:PUBLIC
URL:https://www.golnetwork.com/game/v/23987/
X-MICROSOFT-CDO-BUSYSTATUS:BUSY
X-MICROSOFT-CDO-IMPORTANCE:1
END:VEVENT
BEGIN:VEVENT
UID:g2eeo@games.golnetwork.com
LOCATION:Hornet's Nest #3
GEO:45.4428309;-75.575268
CREATED:20121205T232404Z
DTSTART:20121130T023000Z
DTEND:20121130T033000Z
DTSTAMP:20260422T091424Z
SUMMARY:Elemonators vs. Siberian Strikers
DESCRIPTION:Siberian Strikers vs. ElemonatorsPlus d'info : #127
X-ALT-DESC;FMTTYPE=text/html:<!DOCTYPE HTML PUBLIC "-//W3C//DTD HTML 3.2//E
	N">\n<HTML>\n<HEAD>\n<TITLE></TITLE>\n</HEAD>\n<BODY>\n<h3>Siberian Striker
	s vs. Elemonators</h3>Plus d'info : <a href="https://www.golnetwork.com/gam
	e/v/23988/">#127</a>\n\n</BODY>\n</HTML>
STATUS:CONFIRMED
CLASS:PUBLIC
URL:https://www.golnetwork.com/game/v/23988/
X-MICROSOFT-CDO-BUSYSTATUS:BUSY
X-MICROSOFT-CDO-IMPORTANCE:1
END:VEVENT
BEGIN:VEVENT
UID:g2eek@games.golnetwork.com
LOCATION:Louis Riel #1
GEO:45.4410208;-75.5715394
CREATED:20121205T232404Z
DTSTART:20121130T030000Z
DTEND:20121130T040000Z
DTSTAMP:20260422T091424Z
SUMMARY:Junkyard Gators vs. Arsenanal FC
DESCRIPTION:Arsenanal FC vs. Junkyard GatorsPlus d'info : #128
X-ALT-DESC;FMTTYPE=text/html:<!DOCTYPE HTML PUBLIC "-//W3C//DTD HTML 3.2//E
	N">\n<HTML>\n<HEAD>\n<TITLE></TITLE>\n</HEAD>\n<BODY>\n<h3>Arsenanal FC vs.
	 Junkyard Gators</h3>Plus d'info : <a href="https://www.golnetwork.com/game
	/v/23986/">#128</a>\n\n</BODY>\n</HTML>
STATUS:CONFIRMED
CLASS:PUBLIC
URL:https://www.golnetwork.com/game/v/23986/
X-MICROSOFT-CDO-BUSYSTATUS:BUSY
X-MICROSOFT-CDO-IMPORTANCE:1
END:VEVENT
BEGIN:VEVENT
UID:g2eeq@games.golnetwork.com
LOCATION:Louis Riel #1
GEO:45.4410208;-75.5715394
CREATED:20121205T232404Z
DTSTART:20121207T020000Z
DTEND:20121207T030000Z
DTSTAMP:20260422T091424Z
SUMMARY:Benchwarmers vs. Junkyard Gators
DESCRIPTION:Junkyard Gators vs. BenchwarmersPlus d'info : #135
X-ALT-DESC;FMTTYPE=text/html:<!DOCTYPE HTML PUBLIC "-//W3C//DTD HTML 3.2//E
	N">\n<HTML>\n<HEAD>\n<TITLE></TITLE>\n</HEAD>\n<BODY>\n<h3>Junkyard Gators 
	vs. Benchwarmers</h3>Plus d'info : <a href="https://www.golnetwork.com/game
	/v/23989/">#135</a>\n\n</BODY>\n</HTML>
STATUS:CONFIRMED
CLASS:PUBLIC
URL:https://www.golnetwork.com/game/v/23989/
X-MICROSOFT-CDO-BUSYSTATUS:BUSY
X-MICROSOFT-CDO-IMPORTANCE:1
END:VEVENT
BEGIN:VEVENT
UID:g2ef7@games.golnetwork.com
LOCATION:Hornet's Nest #2
GEO:45.4428309;-75.575268
CREATED:20121205T233259Z
DTSTART:20121207T023000Z
DTEND:20121207T033000Z
DTSTAMP:20260422T091424Z
SUMMARY:Fm FC vs. Arsenanal FC
DESCRIPTION:Arsenanal FC vs. Fm FCPlus d'info : #138
X-ALT-DESC;FMTTYPE=text/html:<!DOCTYPE HTML PUBLIC "-//W3C//DTD HTML 3.2//E
	N">\n<HTML>\n<HEAD>\n<TITLE></TITLE>\n</HEAD>\n<BODY>\n<h3>Arsenanal FC vs.
	 Fm FC</h3>Plus d'info : <a href="https://www.golnetwork.com/game/v/23993/"
	>#138</a>\n\n</BODY>\n</HTML>
STATUS:CONFIRMED
CLASS:PUBLIC
URL:https://www.golnetwork.com/game/v/23993/
X-MICROSOFT-CDO-BUSYSTATUS:BUSY
X-MICROSOFT-CDO-IMPORTANCE:1
END:VEVENT
BEGIN:VEVENT
UID:g2ef1@games.golnetwork.com
LOCATION:Hornet's Nest #3
GEO:45.4428309;-75.575268
CREATED:20121205T232404Z
DTSTART:20121207T023000Z
DTEND:20121207T033000Z
DTSTAMP:20260422T091424Z
SUMMARY:Siberian Strikers vs. The Miseducation
DESCRIPTION:The Miseducation vs. Siberian StrikersPlus d'info : #139
X-ALT-DESC;FMTTYPE=text/html:<!DOCTYPE HTML PUBLIC "-//W3C//DTD HTML 3.2//E
	N">\n<HTML>\n<HEAD>\n<TITLE></TITLE>\n</HEAD>\n<BODY>\n<h3>The Miseducation
	 vs. Siberian Strikers</h3>Plus d'info : <a href="https://www.golnetwork.co
	m/game/v/23990/">#139</a>\n\n</BODY>\n</HTML>
STATUS:CONFIRMED
CLASS:PUBLIC
URL:https://www.golnetwork.com/game/v/23990/
X-MICROSOFT-CDO-BUSYSTATUS:BUSY
X-MICROSOFT-CDO-IMPORTANCE:1
END:VEVENT
BEGIN:VEVENT
UID:g2ef9@games.golnetwork.com
LOCATION:Hornet's Nest #3
GEO:45.4428309;-75.575268
CREATED:20121205T233321Z
DTSTART:20121207T040000Z
DTEND:20121207T050000Z
DTSTAMP:20260422T091424Z
SUMMARY:Elemonators vs. Foot Loose FC
DESCRIPTION:Foot Loose FC vs. ElemonatorsPlus d'info : #144
X-ALT-DESC;FMTTYPE=text/html:<!DOCTYPE HTML PUBLIC "-//W3C//DTD HTML 3.2//E
	N">\n<HTML>\n<HEAD>\n<TITLE></TITLE>\n</HEAD>\n<BODY>\n<h3>Foot Loose FC vs
	. Elemonators</h3>Plus d'info : <a href="https://www.golnetwork.com/game/v/
	23994/">#144</a>\n\n</BODY>\n</HTML>
STATUS:CONFIRMED
CLASS:PUBLIC
URL:https://www.golnetwork.com/game/v/23994/
X-MICROSOFT-CDO-BUSYSTATUS:BUSY
X-MICROSOFT-CDO-IMPORTANCE:1
END:VEVENT
BEGIN:VEVENT
UID:g2ei8@games.golnetwork.com
LOCATION:Louis Riel #1
GEO:45.4410208;-75.5715394
CREATED:20121207T190331Z
DTSTART:20121214T020000Z
DTEND:20121214T030000Z
DTSTAMP:20260422T091424Z
SUMMARY:Junkyard Gators vs. Siberian Strikers
DESCRIPTION:Siberian Strikers vs. Junkyard GatorsPlus d'info : #147
X-ALT-DESC;FMTTYPE=text/html:<!DOCTYPE HTML PUBLIC "-//W3C//DTD HTML 3.2//E
	N">\n<HTML>\n<HEAD>\n<TITLE></TITLE>\n</HEAD>\n<BODY>\n<h3>Siberian Striker
	s vs. Junkyard Gators</h3>Plus d'info : <a href="https://www.golnetwork.com
	/game/v/24034/">#147</a>\n\n</BODY>\n</HTML>
STATUS:CONFIRMED
CLASS:PUBLIC
URL:https://www.golnetwork.com/game/v/24034/
X-MICROSOFT-CDO-BUSYSTATUS:BUSY
X-MICROSOFT-CDO-IMPORTANCE:1
END:VEVENT
BEGIN:VEVENT
UID:g2eia@games.golnetwork.com
LOCATION:Louis Riel #2
GEO:45.4410208;-75.5715394
CREATED:20121207T190357Z
DTSTART:20121214T020000Z
DTEND:20121214T030000Z
DTSTAMP:20260422T091424Z
SUMMARY:Benchwarmers vs. The Miseducation
DESCRIPTION:The Miseducation vs. BenchwarmersPlus d'info : #148
X-ALT-DESC;FMTTYPE=text/html:<!DOCTYPE HTML PUBLIC "-//W3C//DTD HTML 3.2//E
	N">\n<HTML>\n<HEAD>\n<TITLE></TITLE>\n</HEAD>\n<BODY>\n<h3>The Miseducation
	 vs. Benchwarmers</h3>Plus d'info : <a href="https://www.golnetwork.com/gam
	e/v/24035/">#148</a>\n\n</BODY>\n</HTML>
STATUS:CONFIRMED
CLASS:PUBLIC
URL:https://www.golnetwork.com/game/v/24035/
X-MICROSOFT-CDO-BUSYSTATUS:BUSY
X-MICROSOFT-CDO-IMPORTANCE:1
END:VEVENT
BEGIN:VEVENT
UID:g2eie@games.golnetwork.com
LOCATION:Louis Riel #2
GEO:45.4410208;-75.5715394
CREATED:20121207T190440Z
DTSTART:20121214T040000Z
DTEND:20121214T050000Z
DTSTAMP:20260422T091424Z
SUMMARY:Fm FC vs. Elemonators
DESCRIPTION:Elemonators vs. Fm FCPlus d'info : #155
X-ALT-DESC;FMTTYPE=text/html:<!DOCTYPE HTML PUBLIC "-//W3C//DTD HTML 3.2//E
	N">\n<HTML>\n<HEAD>\n<TITLE></TITLE>\n</HEAD>\n<BODY>\n<h3>Elemonators vs. 
	Fm FC</h3>Plus d'info : <a href="https://www.golnetwork.com/game/v/24037/">
	#155</a>\n\n</BODY>\n</HTML>
STATUS:CONFIRMED
CLASS:PUBLIC
URL:https://www.golnetwork.com/game/v/24037/
X-MICROSOFT-CDO-BUSYSTATUS:BUSY
X-MICROSOFT-CDO-IMPORTANCE:1
END:VEVENT
END:VCALENDAR
