BEGIN:VCALENDAR
PRODID:-//gdesolutions.com//MV Framework 1.0.0.1607 Calendar//EN
VERSION:2.0
METHOD:PUBLISH
CALSCALE:GREGORIAN
BEGIN:VEVENT
UID:g2i0q@games.golnetwork.com
LOCATION:Lamport Stadium Field 2
GEO:43.639337;-79.4248954
CREATED:20130128T214742Z
DTSTART:20130202T010000Z
DTEND:20130202T020000Z
DTSTAMP:20260420T145347Z
SUMMARY:Cat Daddy's vs. Gaby's Bitches
DESCRIPTION:Gaby's Bitches vs. Cat Daddy'sPlus d'info : #2
X-ALT-DESC;FMTTYPE=text/html:<!DOCTYPE HTML PUBLIC "-//W3C//DTD HTML 3.2//E
	N">\n<HTML>\n<HEAD>\n<TITLE></TITLE>\n</HEAD>\n<BODY>\n<h3>Gaby's Bitches v
	s. Cat Daddy's</h3>Plus d'info : <a href="https://www.golnetwork.com/game/v
	/25258/">#2</a>\n\n</BODY>\n</HTML>
STATUS:CONFIRMED
CLASS:PUBLIC
URL:https://www.golnetwork.com/game/v/25258/
X-MICROSOFT-CDO-BUSYSTATUS:BUSY
X-MICROSOFT-CDO-IMPORTANCE:1
END:VEVENT
BEGIN:VEVENT
UID:g2i11@games.golnetwork.com
LOCATION:Lamport Stadium Field 2
GEO:43.639337;-79.4248954
CREATED:20130128T214742Z
DTSTART:20130202T020000Z
DTEND:20130202T030000Z
DTSTAMP:20260420T145347Z
SUMMARY:Spartans vs. Aztecas
DESCRIPTION:Aztecas vs. SpartansPlus d'info : #5
X-ALT-DESC;FMTTYPE=text/html:<!DOCTYPE HTML PUBLIC "-//W3C//DTD HTML 3.2//E
	N">\n<HTML>\n<HEAD>\n<TITLE></TITLE>\n</HEAD>\n<BODY>\n<h3>Aztecas vs. Spar
	tans</h3>Plus d'info : <a href="https://www.golnetwork.com/game/v/25259/">#
	5</a>\n\n</BODY>\n</HTML>
STATUS:CONFIRMED
CLASS:PUBLIC
URL:https://www.golnetwork.com/game/v/25259/
X-MICROSOFT-CDO-BUSYSTATUS:BUSY
X-MICROSOFT-CDO-IMPORTANCE:1
END:VEVENT
BEGIN:VEVENT
UID:g2i13@games.golnetwork.com
LOCATION:Lamport Stadium Field 2
GEO:43.639337;-79.4248954
CREATED:20130128T214742Z
DTSTART:20130202T030000Z
DTEND:20130202T040000Z
DTSTAMP:20260420T145347Z
SUMMARY:Los Conejos vs. Las Vacas
DESCRIPTION:Las Vacas vs. Los ConejosPlus d'info : #8
X-ALT-DESC;FMTTYPE=text/html:<!DOCTYPE HTML PUBLIC "-//W3C//DTD HTML 3.2//E
	N">\n<HTML>\n<HEAD>\n<TITLE></TITLE>\n</HEAD>\n<BODY>\n<h3>Las Vacas vs. Lo
	s Conejos</h3>Plus d'info : <a href="https://www.golnetwork.com/game/v/2526
	0/">#8</a>\n\n</BODY>\n</HTML>
STATUS:CONFIRMED
CLASS:PUBLIC
URL:https://www.golnetwork.com/game/v/25260/
X-MICROSOFT-CDO-BUSYSTATUS:BUSY
X-MICROSOFT-CDO-IMPORTANCE:1
END:VEVENT
BEGIN:VEVENT
UID:g2i15@games.golnetwork.com
LOCATION:Lamport Stadium Field 2
GEO:43.639337;-79.4248954
CREATED:20130128T214742Z
DTSTART:20130209T010000Z
DTEND:20130209T020000Z
DTSTAMP:20260420T145347Z
SUMMARY:Spartans vs. Cat Daddy's
DESCRIPTION:Cat Daddy's vs. SpartansPlus d'info : #27
X-ALT-DESC;FMTTYPE=text/html:<!DOCTYPE HTML PUBLIC "-//W3C//DTD HTML 3.2//E
	N">\n<HTML>\n<HEAD>\n<TITLE></TITLE>\n</HEAD>\n<BODY>\n<h3>Cat Daddy's vs. 
	Spartans</h3>Plus d'info : <a href="https://www.golnetwork.com/game/v/25261
	/">#27</a>\n\n</BODY>\n</HTML>
STATUS:RESCHEDULED
CLASS:PUBLIC
URL:https://www.golnetwork.com/game/v/25261/
X-MICROSOFT-CDO-BUSYSTATUS:BUSY
X-MICROSOFT-CDO-IMPORTANCE:1
END:VEVENT
BEGIN:VEVENT
UID:g2i17@games.golnetwork.com
LOCATION:Lamport Stadium Field 2
GEO:43.639337;-79.4248954
CREATED:20130128T214742Z
DTSTART:20130209T020000Z
DTEND:20130209T030000Z
DTSTAMP:20260420T145347Z
SUMMARY:Los Conejos vs. Gaby's Bitches
DESCRIPTION:Gaby's Bitches vs. Los ConejosPlus d'info : #30
X-ALT-DESC;FMTTYPE=text/html:<!DOCTYPE HTML PUBLIC "-//W3C//DTD HTML 3.2//E
	N">\n<HTML>\n<HEAD>\n<TITLE></TITLE>\n</HEAD>\n<BODY>\n<h3>Gaby's Bitches v
	s. Los Conejos</h3>Plus d'info : <a href="https://www.golnetwork.com/game/v
	/25262/">#30</a>\n\n</BODY>\n</HTML>
STATUS:RESCHEDULED
CLASS:PUBLIC
URL:https://www.golnetwork.com/game/v/25262/
X-MICROSOFT-CDO-BUSYSTATUS:BUSY
X-MICROSOFT-CDO-IMPORTANCE:1
END:VEVENT
BEGIN:VEVENT
UID:g2i19@games.golnetwork.com
LOCATION:Lamport Stadium Field 2
GEO:43.639337;-79.4248954
CREATED:20130128T214742Z
DTSTART:20130209T030000Z
DTEND:20130209T040000Z
DTSTAMP:20260420T145347Z
SUMMARY:Las Vacas vs. Aztecas
DESCRIPTION:Aztecas vs. Las VacasPlus d'info : #33
X-ALT-DESC;FMTTYPE=text/html:<!DOCTYPE HTML PUBLIC "-//W3C//DTD HTML 3.2//E
	N">\n<HTML>\n<HEAD>\n<TITLE></TITLE>\n</HEAD>\n<BODY>\n<h3>Aztecas vs. Las 
	Vacas</h3>Plus d'info : <a href="https://www.golnetwork.com/game/v/25263/">
	#33</a>\n\n</BODY>\n</HTML>
STATUS:RESCHEDULED
CLASS:PUBLIC
URL:https://www.golnetwork.com/game/v/25263/
X-MICROSOFT-CDO-BUSYSTATUS:BUSY
X-MICROSOFT-CDO-IMPORTANCE:1
END:VEVENT
BEGIN:VEVENT
UID:g2i1b@games.golnetwork.com
LOCATION:Lamport Stadium Field 2
GEO:43.639337;-79.4248954
CREATED:20130128T214742Z
DTSTART:20130216T010000Z
DTEND:20130216T020000Z
DTSTAMP:20260420T145347Z
SUMMARY:Cat Daddy's vs. Los Conejos
DESCRIPTION:Los Conejos vs. Cat Daddy'sPlus d'info : #59
X-ALT-DESC;FMTTYPE=text/html:<!DOCTYPE HTML PUBLIC "-//W3C//DTD HTML 3.2//E
	N">\n<HTML>\n<HEAD>\n<TITLE></TITLE>\n</HEAD>\n<BODY>\n<h3>Los Conejos vs. 
	Cat Daddy's</h3>Plus d'info : <a href="https://www.golnetwork.com/game/v/25
	264/">#59</a>\n\n</BODY>\n</HTML>
STATUS:CONFIRMED
CLASS:PUBLIC
URL:https://www.golnetwork.com/game/v/25264/
X-MICROSOFT-CDO-BUSYSTATUS:BUSY
X-MICROSOFT-CDO-IMPORTANCE:1
END:VEVENT
BEGIN:VEVENT
UID:g2i1d@games.golnetwork.com
LOCATION:Lamport Stadium Field 2
GEO:43.639337;-79.4248954
CREATED:20130128T214742Z
DTSTART:20130216T020000Z
DTEND:20130216T030000Z
DTSTAMP:20260420T145347Z
SUMMARY:Las Vacas vs. Spartans
DESCRIPTION:Spartans vs. Las VacasPlus d'info : #62
X-ALT-DESC;FMTTYPE=text/html:<!DOCTYPE HTML PUBLIC "-//W3C//DTD HTML 3.2//E
	N">\n<HTML>\n<HEAD>\n<TITLE></TITLE>\n</HEAD>\n<BODY>\n<h3>Spartans vs. Las
	 Vacas</h3>Plus d'info : <a href="https://www.golnetwork.com/game/v/25265/"
	>#62</a>\n\n</BODY>\n</HTML>
STATUS:CONFIRMED
CLASS:PUBLIC
URL:https://www.golnetwork.com/game/v/25265/
X-MICROSOFT-CDO-BUSYSTATUS:BUSY
X-MICROSOFT-CDO-IMPORTANCE:1
END:VEVENT
BEGIN:VEVENT
UID:g2i1f@games.golnetwork.com
LOCATION:Lamport Stadium Field 2
GEO:43.639337;-79.4248954
CREATED:20130128T214742Z
DTSTART:20130216T030000Z
DTEND:20130216T040000Z
DTSTAMP:20260420T145347Z
SUMMARY:Aztecas vs. Gaby's Bitches
DESCRIPTION:Gaby's Bitches vs. AztecasPlus d'info : #65
X-ALT-DESC;FMTTYPE=text/html:<!DOCTYPE HTML PUBLIC "-//W3C//DTD HTML 3.2//E
	N">\n<HTML>\n<HEAD>\n<TITLE></TITLE>\n</HEAD>\n<BODY>\n<h3>Gaby's Bitches v
	s. Aztecas</h3>Plus d'info : <a href="https://www.golnetwork.com/game/v/252
	66/">#65</a>\n\n</BODY>\n</HTML>
STATUS:CONFIRMED
CLASS:PUBLIC
URL:https://www.golnetwork.com/game/v/25266/
X-MICROSOFT-CDO-BUSYSTATUS:BUSY
X-MICROSOFT-CDO-IMPORTANCE:1
END:VEVENT
BEGIN:VEVENT
UID:g2i1h@games.golnetwork.com
LOCATION:Lamport Stadium Field 2
GEO:43.639337;-79.4248954
CREATED:20130128T214742Z
DTSTART:20130223T010000Z
DTEND:20130223T020000Z
DTSTAMP:20260420T145347Z
SUMMARY:Las Vacas vs. Cat Daddy's
DESCRIPTION:Cat Daddy's vs. Las VacasPlus d'info : #91
X-ALT-DESC;FMTTYPE=text/html:<!DOCTYPE HTML PUBLIC "-//W3C//DTD HTML 3.2//E
	N">\n<HTML>\n<HEAD>\n<TITLE></TITLE>\n</HEAD>\n<BODY>\n<h3>Cat Daddy's vs. 
	Las Vacas</h3>Plus d'info : <a href="https://www.golnetwork.com/game/v/2526
	7/">#91</a>\n\n</BODY>\n</HTML>
STATUS:CONFIRMED
CLASS:PUBLIC
URL:https://www.golnetwork.com/game/v/25267/
X-MICROSOFT-CDO-BUSYSTATUS:BUSY
X-MICROSOFT-CDO-IMPORTANCE:1
END:VEVENT
BEGIN:VEVENT
UID:g2i1j@games.golnetwork.com
LOCATION:Lamport Stadium Field 2
GEO:43.639337;-79.4248954
CREATED:20130128T214742Z
DTSTART:20130223T020000Z
DTEND:20130223T030000Z
DTSTAMP:20260420T145347Z
SUMMARY:Aztecas vs. Los Conejos
DESCRIPTION:Los Conejos vs. AztecasPlus d'info : #94
X-ALT-DESC;FMTTYPE=text/html:<!DOCTYPE HTML PUBLIC "-//W3C//DTD HTML 3.2//E
	N">\n<HTML>\n<HEAD>\n<TITLE></TITLE>\n</HEAD>\n<BODY>\n<h3>Los Conejos vs. 
	Aztecas</h3>Plus d'info : <a href="https://www.golnetwork.com/game/v/25268/
	">#94</a>\n\n</BODY>\n</HTML>
STATUS:CONFIRMED
CLASS:PUBLIC
URL:https://www.golnetwork.com/game/v/25268/
X-MICROSOFT-CDO-BUSYSTATUS:BUSY
X-MICROSOFT-CDO-IMPORTANCE:1
END:VEVENT
BEGIN:VEVENT
UID:g2i1l@games.golnetwork.com
LOCATION:Lamport Stadium Field 2
GEO:43.639337;-79.4248954
CREATED:20130128T214742Z
DTSTART:20130223T030000Z
DTEND:20130223T040000Z
DTSTAMP:20260420T145347Z
SUMMARY:Gaby's Bitches vs. Spartans
DESCRIPTION:Spartans vs. Gaby's BitchesPlus d'info : #97
X-ALT-DESC;FMTTYPE=text/html:<!DOCTYPE HTML PUBLIC "-//W3C//DTD HTML 3.2//E
	N">\n<HTML>\n<HEAD>\n<TITLE></TITLE>\n</HEAD>\n<BODY>\n<h3>Spartans vs. Gab
	y's Bitches</h3>Plus d'info : <a href="https://www.golnetwork.com/game/v/25
	269/">#97</a>\n\n</BODY>\n</HTML>
STATUS:CONFIRMED
CLASS:PUBLIC
URL:https://www.golnetwork.com/game/v/25269/
X-MICROSOFT-CDO-BUSYSTATUS:BUSY
X-MICROSOFT-CDO-IMPORTANCE:1
END:VEVENT
BEGIN:VEVENT
UID:g2i1n@games.golnetwork.com
LOCATION:Lamport Stadium Field 2
GEO:43.639337;-79.4248954
CREATED:20130128T214742Z
DTSTART:20130302T010000Z
DTEND:20130302T020000Z
DTSTAMP:20260420T145347Z
SUMMARY:Cat Daddy's vs. Aztecas
DESCRIPTION:Aztecas vs. Cat Daddy'sPlus d'info : #123
X-ALT-DESC;FMTTYPE=text/html:<!DOCTYPE HTML PUBLIC "-//W3C//DTD HTML 3.2//E
	N">\n<HTML>\n<HEAD>\n<TITLE></TITLE>\n</HEAD>\n<BODY>\n<h3>Aztecas vs. Cat 
	Daddy's</h3>Plus d'info : <a href="https://www.golnetwork.com/game/v/25270/
	">#123</a>\n\n</BODY>\n</HTML>
STATUS:CONFIRMED
CLASS:PUBLIC
URL:https://www.golnetwork.com/game/v/25270/
X-MICROSOFT-CDO-BUSYSTATUS:BUSY
X-MICROSOFT-CDO-IMPORTANCE:1
END:VEVENT
BEGIN:VEVENT
UID:g2i1p@games.golnetwork.com
LOCATION:Lamport Stadium Field 2
GEO:43.639337;-79.4248954
CREATED:20130128T214742Z
DTSTART:20130302T020000Z
DTEND:20130302T030000Z
DTSTAMP:20260420T145347Z
SUMMARY:Gaby's Bitches vs. Las Vacas
DESCRIPTION:Las Vacas vs. Gaby's BitchesPlus d'info : #126
X-ALT-DESC;FMTTYPE=text/html:<!DOCTYPE HTML PUBLIC "-//W3C//DTD HTML 3.2//E
	N">\n<HTML>\n<HEAD>\n<TITLE></TITLE>\n</HEAD>\n<BODY>\n<h3>Las Vacas vs. Ga
	by's Bitches</h3>Plus d'info : <a href="https://www.golnetwork.com/game/v/2
	5271/">#126</a>\n\n</BODY>\n</HTML>
STATUS:CONFIRMED
CLASS:PUBLIC
URL:https://www.golnetwork.com/game/v/25271/
X-MICROSOFT-CDO-BUSYSTATUS:BUSY
X-MICROSOFT-CDO-IMPORTANCE:1
END:VEVENT
BEGIN:VEVENT
UID:g2i20@games.golnetwork.com
LOCATION:Lamport Stadium Field 2
GEO:43.639337;-79.4248954
CREATED:20130128T214742Z
DTSTART:20130302T030000Z
DTEND:20130302T040000Z
DTSTAMP:20260420T145347Z
SUMMARY:Spartans vs. Los Conejos
DESCRIPTION:Los Conejos vs. SpartansPlus d'info : #129
X-ALT-DESC;FMTTYPE=text/html:<!DOCTYPE HTML PUBLIC "-//W3C//DTD HTML 3.2//E
	N">\n<HTML>\n<HEAD>\n<TITLE></TITLE>\n</HEAD>\n<BODY>\n<h3>Los Conejos vs. 
	Spartans</h3>Plus d'info : <a href="https://www.golnetwork.com/game/v/25272
	/">#129</a>\n\n</BODY>\n</HTML>
STATUS:CONFIRMED
CLASS:PUBLIC
URL:https://www.golnetwork.com/game/v/25272/
X-MICROSOFT-CDO-BUSYSTATUS:BUSY
X-MICROSOFT-CDO-IMPORTANCE:1
END:VEVENT
BEGIN:VEVENT
UID:g2i22@games.golnetwork.com
LOCATION:Lamport Stadium Field 2
GEO:43.639337;-79.4248954
CREATED:20130128T214742Z
DTSTART:20130309T010000Z
DTEND:20130309T020000Z
DTSTAMP:20260420T145347Z
SUMMARY:Las Vacas vs. Los Conejos
DESCRIPTION:Los Conejos vs. Las VacasPlus d'info : #155
X-ALT-DESC;FMTTYPE=text/html:<!DOCTYPE HTML PUBLIC "-//W3C//DTD HTML 3.2//E
	N">\n<HTML>\n<HEAD>\n<TITLE></TITLE>\n</HEAD>\n<BODY>\n<h3>Los Conejos vs. 
	Las Vacas</h3>Plus d'info : <a href="https://www.golnetwork.com/game/v/2527
	3/">#155</a>\n\n</BODY>\n</HTML>
STATUS:CONFIRMED
CLASS:PUBLIC
URL:https://www.golnetwork.com/game/v/25273/
X-MICROSOFT-CDO-BUSYSTATUS:BUSY
X-MICROSOFT-CDO-IMPORTANCE:1
END:VEVENT
BEGIN:VEVENT
UID:g2i24@games.golnetwork.com
LOCATION:Lamport Stadium Field 2
GEO:43.639337;-79.4248954
CREATED:20130128T214742Z
DTSTART:20130309T020000Z
DTEND:20130309T030000Z
DTSTAMP:20260420T145347Z
SUMMARY:Spartans vs. Aztecas
DESCRIPTION:Aztecas vs. SpartansPlus d'info : #158
X-ALT-DESC;FMTTYPE=text/html:<!DOCTYPE HTML PUBLIC "-//W3C//DTD HTML 3.2//E
	N">\n<HTML>\n<HEAD>\n<TITLE></TITLE>\n</HEAD>\n<BODY>\n<h3>Aztecas vs. Spar
	tans</h3>Plus d'info : <a href="https://www.golnetwork.com/game/v/25274/">#
	158</a>\n\n</BODY>\n</HTML>
STATUS:CONFIRMED
CLASS:PUBLIC
URL:https://www.golnetwork.com/game/v/25274/
X-MICROSOFT-CDO-BUSYSTATUS:BUSY
X-MICROSOFT-CDO-IMPORTANCE:1
END:VEVENT
BEGIN:VEVENT
UID:g2i26@games.golnetwork.com
LOCATION:Lamport Stadium Field 2
GEO:43.639337;-79.4248954
CREATED:20130128T214742Z
DTSTART:20130309T030000Z
DTEND:20130309T040000Z
DTSTAMP:20260420T145347Z
SUMMARY:Gaby's Bitches vs. Cat Daddy's
DESCRIPTION:Cat Daddy's vs. Gaby's BitchesPlus d'info : #161
X-ALT-DESC;FMTTYPE=text/html:<!DOCTYPE HTML PUBLIC "-//W3C//DTD HTML 3.2//E
	N">\n<HTML>\n<HEAD>\n<TITLE></TITLE>\n</HEAD>\n<BODY>\n<h3>Cat Daddy's vs. 
	Gaby's Bitches</h3>Plus d'info : <a href="https://www.golnetwork.com/game/v
	/25275/">#161</a>\n\n</BODY>\n</HTML>
STATUS:CONFIRMED
CLASS:PUBLIC
URL:https://www.golnetwork.com/game/v/25275/
X-MICROSOFT-CDO-BUSYSTATUS:BUSY
X-MICROSOFT-CDO-IMPORTANCE:1
END:VEVENT
BEGIN:VEVENT
UID:g2i28@games.golnetwork.com
LOCATION:Lamport Stadium Field 2
GEO:43.639337;-79.4248954
CREATED:20130128T214742Z
DTSTART:20130316T000000Z
DTEND:20130316T010000Z
DTSTAMP:20260420T145347Z
SUMMARY:Spartans vs. Cat Daddy's
DESCRIPTION:Cat Daddy's vs. SpartansPlus d'info : #187
X-ALT-DESC;FMTTYPE=text/html:<!DOCTYPE HTML PUBLIC "-//W3C//DTD HTML 3.2//E
	N">\n<HTML>\n<HEAD>\n<TITLE></TITLE>\n</HEAD>\n<BODY>\n<h3>Cat Daddy's vs. 
	Spartans</h3>Plus d'info : <a href="https://www.golnetwork.com/game/v/25276
	/">#187</a>\n\n</BODY>\n</HTML>
STATUS:CONFIRMED
CLASS:PUBLIC
URL:https://www.golnetwork.com/game/v/25276/
X-MICROSOFT-CDO-BUSYSTATUS:BUSY
X-MICROSOFT-CDO-IMPORTANCE:1
END:VEVENT
BEGIN:VEVENT
UID:g2i2a@games.golnetwork.com
LOCATION:Lamport Stadium Field 2
GEO:43.639337;-79.4248954
CREATED:20130128T214742Z
DTSTART:20130316T010000Z
DTEND:20130316T020000Z
DTSTAMP:20260420T145347Z
SUMMARY:Las Vacas vs. Aztecas
DESCRIPTION:Aztecas vs. Las VacasPlus d'info : #190
X-ALT-DESC;FMTTYPE=text/html:<!DOCTYPE HTML PUBLIC "-//W3C//DTD HTML 3.2//E
	N">\n<HTML>\n<HEAD>\n<TITLE></TITLE>\n</HEAD>\n<BODY>\n<h3>Aztecas vs. Las 
	Vacas</h3>Plus d'info : <a href="https://www.golnetwork.com/game/v/25277/">
	#190</a>\n\n</BODY>\n</HTML>
STATUS:CONFIRMED
CLASS:PUBLIC
URL:https://www.golnetwork.com/game/v/25277/
X-MICROSOFT-CDO-BUSYSTATUS:BUSY
X-MICROSOFT-CDO-IMPORTANCE:1
END:VEVENT
BEGIN:VEVENT
UID:g2i2c@games.golnetwork.com
LOCATION:Lamport Stadium Field 2
GEO:43.639337;-79.4248954
CREATED:20130128T214742Z
DTSTART:20130316T020000Z
DTEND:20130316T030000Z
DTSTAMP:20260420T145347Z
SUMMARY:Gaby's Bitches vs. Los Conejos
DESCRIPTION:Los Conejos vs. Gaby's BitchesPlus d'info : #193
X-ALT-DESC;FMTTYPE=text/html:<!DOCTYPE HTML PUBLIC "-//W3C//DTD HTML 3.2//E
	N">\n<HTML>\n<HEAD>\n<TITLE></TITLE>\n</HEAD>\n<BODY>\n<h3>Los Conejos vs. 
	Gaby's Bitches</h3>Plus d'info : <a href="https://www.golnetwork.com/game/v
	/25278/">#193</a>\n\n</BODY>\n</HTML>
STATUS:CONFIRMED
CLASS:PUBLIC
URL:https://www.golnetwork.com/game/v/25278/
X-MICROSOFT-CDO-BUSYSTATUS:BUSY
X-MICROSOFT-CDO-IMPORTANCE:1
END:VEVENT
BEGIN:VEVENT
UID:g2i2e@games.golnetwork.com
LOCATION:Lamport Stadium Field 2
GEO:43.639337;-79.4248954
CREATED:20130128T214742Z
DTSTART:20130323T000000Z
DTEND:20130323T010000Z
DTSTAMP:20260420T145347Z
SUMMARY:Cat Daddy's vs. Gaby's Bitches
DESCRIPTION:Gaby's Bitches vs. Cat Daddy'sPlus d'info : #220
X-ALT-DESC;FMTTYPE=text/html:<!DOCTYPE HTML PUBLIC "-//W3C//DTD HTML 3.2//E
	N">\n<HTML>\n<HEAD>\n<TITLE></TITLE>\n</HEAD>\n<BODY>\n<h3>Gaby's Bitches v
	s. Cat Daddy's</h3>Plus d'info : <a href="https://www.golnetwork.com/game/v
	/25279/">#220</a>\n\n</BODY>\n</HTML>
STATUS:CONFIRMED
CLASS:PUBLIC
URL:https://www.golnetwork.com/game/v/25279/
X-MICROSOFT-CDO-BUSYSTATUS:BUSY
X-MICROSOFT-CDO-IMPORTANCE:1
END:VEVENT
BEGIN:VEVENT
UID:g2i2g@games.golnetwork.com
LOCATION:Lamport Stadium Field 2
GEO:43.639337;-79.4248954
CREATED:20130128T214742Z
DTSTART:20130323T010000Z
DTEND:20130323T020000Z
DTSTAMP:20260420T145347Z
SUMMARY:Las Vacas vs. Spartans
DESCRIPTION:Spartans vs. Las VacasPlus d'info : #223
X-ALT-DESC;FMTTYPE=text/html:<!DOCTYPE HTML PUBLIC "-//W3C//DTD HTML 3.2//E
	N">\n<HTML>\n<HEAD>\n<TITLE></TITLE>\n</HEAD>\n<BODY>\n<h3>Spartans vs. Las
	 Vacas</h3>Plus d'info : <a href="https://www.golnetwork.com/game/v/25280/"
	>#223</a>\n\n</BODY>\n</HTML>
STATUS:CONFIRMED
CLASS:PUBLIC
URL:https://www.golnetwork.com/game/v/25280/
X-MICROSOFT-CDO-BUSYSTATUS:BUSY
X-MICROSOFT-CDO-IMPORTANCE:1
END:VEVENT
BEGIN:VEVENT
UID:g2i2i@games.golnetwork.com
LOCATION:Lamport Stadium Field 2
GEO:43.639337;-79.4248954
CREATED:20130128T214742Z
DTSTART:20130323T020000Z
DTEND:20130323T030000Z
DTSTAMP:20260420T145347Z
SUMMARY:Los Conejos vs. Aztecas
DESCRIPTION:Aztecas vs. Los ConejosPlus d'info : #226
X-ALT-DESC;FMTTYPE=text/html:<!DOCTYPE HTML PUBLIC "-//W3C//DTD HTML 3.2//E
	N">\n<HTML>\n<HEAD>\n<TITLE></TITLE>\n</HEAD>\n<BODY>\n<h3>Aztecas vs. Los 
	Conejos</h3>Plus d'info : <a href="https://www.golnetwork.com/game/v/25281/
	">#226</a>\n\n</BODY>\n</HTML>
STATUS:CONFIRMED
CLASS:PUBLIC
URL:https://www.golnetwork.com/game/v/25281/
X-MICROSOFT-CDO-BUSYSTATUS:BUSY
X-MICROSOFT-CDO-IMPORTANCE:1
END:VEVENT
BEGIN:VEVENT
UID:g2lpa@games.golnetwork.com
LOCATION:Lamport Stadium Field 2
GEO:43.639337;-79.4248954
CREATED:20130325T170658Z
DTSTART:20130406T000000Z
DTEND:20130406T010000Z
DTSTAMP:20260420T145347Z
SUMMARY:Gaby's Bitches vs. Los Conejos
DESCRIPTION:Los Conejos vs. Gaby's BitchesPlus d'info : #259
X-ALT-DESC;FMTTYPE=text/html:<!DOCTYPE HTML PUBLIC "-//W3C//DTD HTML 3.2//E
	N">\n<HTML>\n<HEAD>\n<TITLE></TITLE>\n</HEAD>\n<BODY>\n<h3>Los Conejos vs. 
	Gaby's Bitches</h3>Plus d'info : <a href="https://www.golnetwork.com/game/v
	/26681/">#259</a>\n\n</BODY>\n</HTML>
STATUS:CONFIRMED
CLASS:PUBLIC
URL:https://www.golnetwork.com/game/v/26681/
X-MICROSOFT-CDO-BUSYSTATUS:BUSY
X-MICROSOFT-CDO-IMPORTANCE:1
END:VEVENT
BEGIN:VEVENT
UID:g2lpc@games.golnetwork.com
LOCATION:Lamport Stadium Field 2
GEO:43.639337;-79.4248954
CREATED:20130325T170713Z
DTSTART:20130406T010000Z
DTEND:20130406T020000Z
DTSTAMP:20260420T145347Z
SUMMARY:Spartans vs. Cat Daddy's
DESCRIPTION:Cat Daddy's vs. SpartansPlus d'info : #262
X-ALT-DESC;FMTTYPE=text/html:<!DOCTYPE HTML PUBLIC "-//W3C//DTD HTML 3.2//E
	N">\n<HTML>\n<HEAD>\n<TITLE></TITLE>\n</HEAD>\n<BODY>\n<h3>Cat Daddy's vs. 
	Spartans</h3>Plus d'info : <a href="https://www.golnetwork.com/game/v/26682
	/">#262</a>\n\n</BODY>\n</HTML>
STATUS:CONFIRMED
CLASS:PUBLIC
URL:https://www.golnetwork.com/game/v/26682/
X-MICROSOFT-CDO-BUSYSTATUS:BUSY
X-MICROSOFT-CDO-IMPORTANCE:1
END:VEVENT
BEGIN:VEVENT
UID:g2lcp@games.golnetwork.com
LOCATION:Lamport Stadium Field 2
GEO:43.639337;-79.4248954
CREATED:20130311T164957Z
DTSTART:20130406T020000Z
DTEND:20130406T030000Z
DTSTAMP:20260420T145347Z
SUMMARY:Las Vacas vs. Aztecas
DESCRIPTION:Aztecas vs. Las VacasPlus d'info : R#33
X-ALT-DESC;FMTTYPE=text/html:<!DOCTYPE HTML PUBLIC "-//W3C//DTD HTML 3.2//E
	N">\n<HTML>\n<HEAD>\n<TITLE></TITLE>\n</HEAD>\n<BODY>\n<h3>Aztecas vs. Las 
	Vacas</h3>Plus d'info : <a href="https://www.golnetwork.com/game/v/26513/">
	R#33</a>\n\n</BODY>\n</HTML>
STATUS:CONFIRMED
CLASS:PUBLIC
URL:https://www.golnetwork.com/game/v/26513/
X-MICROSOFT-CDO-BUSYSTATUS:BUSY
X-MICROSOFT-CDO-IMPORTANCE:1
END:VEVENT
BEGIN:VEVENT
UID:g2i2q@games.golnetwork.com
LOCATION:Lamport Stadium Field 2
GEO:43.639337;-79.4248954
CREATED:20130128T214742Z
DTSTART:20130413T000000Z
DTEND:20130413T010000Z
DTSTAMP:20260420T145347Z
SUMMARY:Cat Daddy's vs. Spartans
DESCRIPTION:Spartans vs. Cat Daddy'sPlus d'info : #291
X-ALT-DESC;FMTTYPE=text/html:<!DOCTYPE HTML PUBLIC "-//W3C//DTD HTML 3.2//E
	N">\n<HTML>\n<HEAD>\n<TITLE></TITLE>\n</HEAD>\n<BODY>\n<h3>Spartans vs. Cat
	 Daddy's</h3>Plus d'info : <a href="https://www.golnetwork.com/game/v/25285
	/">#291</a>\n\n</BODY>\n</HTML>
STATUS:CONFIRMED
CLASS:PUBLIC
URL:https://www.golnetwork.com/game/v/25285/
X-MICROSOFT-CDO-BUSYSTATUS:BUSY
X-MICROSOFT-CDO-IMPORTANCE:1
END:VEVENT
BEGIN:VEVENT
UID:g2i31@games.golnetwork.com
LOCATION:Lamport Stadium Field 2
GEO:43.639337;-79.4248954
CREATED:20130128T214742Z
DTSTART:20130413T010000Z
DTEND:20130413T020000Z
DTSTAMP:20260420T145347Z
SUMMARY:Los Conejos vs. Gaby's Bitches
DESCRIPTION:Gaby's Bitches vs. Los ConejosPlus d'info : #294
X-ALT-DESC;FMTTYPE=text/html:<!DOCTYPE HTML PUBLIC "-//W3C//DTD HTML 3.2//E
	N">\n<HTML>\n<HEAD>\n<TITLE></TITLE>\n</HEAD>\n<BODY>\n<h3>Gaby's Bitches v
	s. Los Conejos</h3>Plus d'info : <a href="https://www.golnetwork.com/game/v
	/25286/">#294</a>\n\n</BODY>\n</HTML>
STATUS:CONFIRMED
CLASS:PUBLIC
URL:https://www.golnetwork.com/game/v/25286/
X-MICROSOFT-CDO-BUSYSTATUS:BUSY
X-MICROSOFT-CDO-IMPORTANCE:1
END:VEVENT
BEGIN:VEVENT
UID:g2i33@games.golnetwork.com
LOCATION:Lamport Stadium Field 2
GEO:43.639337;-79.4248954
CREATED:20130128T214742Z
DTSTART:20130413T020000Z
DTEND:20130413T030000Z
DTSTAMP:20260420T145347Z
SUMMARY:Aztecas vs. Las Vacas
DESCRIPTION:Las Vacas vs. AztecasPlus d'info : #297
X-ALT-DESC;FMTTYPE=text/html:<!DOCTYPE HTML PUBLIC "-//W3C//DTD HTML 3.2//E
	N">\n<HTML>\n<HEAD>\n<TITLE></TITLE>\n</HEAD>\n<BODY>\n<h3>Las Vacas vs. Az
	tecas</h3>Plus d'info : <a href="https://www.golnetwork.com/game/v/25287/">
	#297</a>\n\n</BODY>\n</HTML>
STATUS:CONFIRMED
CLASS:PUBLIC
URL:https://www.golnetwork.com/game/v/25287/
X-MICROSOFT-CDO-BUSYSTATUS:BUSY
X-MICROSOFT-CDO-IMPORTANCE:1
END:VEVENT
BEGIN:VEVENT
UID:g2ld4@games.golnetwork.com
LOCATION:Lamport Stadium Field 2
GEO:43.639337;-79.4248954
CREATED:20130311T165033Z
DTSTART:20130420T000000Z
DTEND:20130420T010000Z
DTSTAMP:20260420T145347Z
SUMMARY:Cat Daddy's vs. Aztecas
DESCRIPTION:Aztecas vs. Cat Daddy'sPlus d'info : #319
X-ALT-DESC;FMTTYPE=text/html:<!DOCTYPE HTML PUBLIC "-//W3C//DTD HTML 3.2//E
	N">\n<HTML>\n<HEAD>\n<TITLE></TITLE>\n</HEAD>\n<BODY>\n<h3>Aztecas vs. Cat 
	Daddy's</h3>Plus d'info : <a href="https://www.golnetwork.com/game/v/26516/
	">#319</a>\n\n</BODY>\n</HTML>
STATUS:CONFIRMED
CLASS:PUBLIC
URL:https://www.golnetwork.com/game/v/26516/
X-MICROSOFT-CDO-BUSYSTATUS:BUSY
X-MICROSOFT-CDO-IMPORTANCE:1
END:VEVENT
BEGIN:VEVENT
UID:g2ld2@games.golnetwork.com
LOCATION:Lamport Stadium Field 2
GEO:43.639337;-79.4248954
CREATED:20130311T165027Z
DTSTART:20130420T010000Z
DTEND:20130420T020000Z
DTSTAMP:20260420T145347Z
SUMMARY:Los Conejos vs. Spartans
DESCRIPTION:Spartans vs. Los ConejosPlus d'info : #322
X-ALT-DESC;FMTTYPE=text/html:<!DOCTYPE HTML PUBLIC "-//W3C//DTD HTML 3.2//E
	N">\n<HTML>\n<HEAD>\n<TITLE></TITLE>\n</HEAD>\n<BODY>\n<h3>Spartans vs. Los
	 Conejos</h3>Plus d'info : <a href="https://www.golnetwork.com/game/v/26515
	/">#322</a>\n\n</BODY>\n</HTML>
STATUS:CONFIRMED
CLASS:PUBLIC
URL:https://www.golnetwork.com/game/v/26515/
X-MICROSOFT-CDO-BUSYSTATUS:BUSY
X-MICROSOFT-CDO-IMPORTANCE:1
END:VEVENT
BEGIN:VEVENT
UID:g2ld0@games.golnetwork.com
LOCATION:Lamport Stadium Field 2
GEO:43.639337;-79.4248954
CREATED:20130311T165022Z
DTSTART:20130420T020000Z
DTEND:20130420T030000Z
DTSTAMP:20260420T145347Z
SUMMARY:Las Vacas vs. Gaby's Bitches
DESCRIPTION:Gaby's Bitches vs. Las VacasPlus d'info : #325
X-ALT-DESC;FMTTYPE=text/html:<!DOCTYPE HTML PUBLIC "-//W3C//DTD HTML 3.2//E
	N">\n<HTML>\n<HEAD>\n<TITLE></TITLE>\n</HEAD>\n<BODY>\n<h3>Gaby's Bitches v
	s. Las Vacas</h3>Plus d'info : <a href="https://www.golnetwork.com/game/v/2
	6514/">#325</a>\n\n</BODY>\n</HTML>
STATUS:CONFIRMED
CLASS:PUBLIC
URL:https://www.golnetwork.com/game/v/26514/
X-MICROSOFT-CDO-BUSYSTATUS:BUSY
X-MICROSOFT-CDO-IMPORTANCE:1
END:VEVENT
END:VCALENDAR
