BEGIN:VCALENDAR
PRODID:-//gdesolutions.com//MV Framework 1.0.0.1607 Calendar//EN
VERSION:2.0
METHOD:PUBLISH
CALSCALE:GREGORIAN
BEGIN:VEVENT
UID:g2ica@games.golnetwork.com
LOCATION:Lamport Stadium Field 2
GEO:43.639337;-79.4248954
CREATED:20130129T174916Z
DTSTART:20130202T180000Z
DTEND:20130202T190000Z
DTSTAMP:20260422T191438Z
SUMMARY:Nighthawx vs. Onetouchables FC
DESCRIPTION:Onetouchables FC vs. NighthawxPlus d'info : #13
X-ALT-DESC;FMTTYPE=text/html:<!DOCTYPE HTML PUBLIC "-//W3C//DTD HTML 3.2//E
	N">\n<HTML>\n<HEAD>\n<TITLE></TITLE>\n</HEAD>\n<BODY>\n<h3>Onetouchables FC
	 vs. Nighthawx</h3>Plus d'info : <a href="https://www.golnetwork.com/game/v
	/25412/">#13</a>\n\n</BODY>\n</HTML>
STATUS:CONFIRMED
CLASS:PUBLIC
URL:https://www.golnetwork.com/game/v/25412/
X-MICROSOFT-CDO-BUSYSTATUS:BUSY
X-MICROSOFT-CDO-IMPORTANCE:1
END:VEVENT
BEGIN:VEVENT
UID:g2icc@games.golnetwork.com
LOCATION:Lamport Stadium Field 2
GEO:43.639337;-79.4248954
CREATED:20130129T174916Z
DTSTART:20130202T190000Z
DTEND:20130202T200000Z
DTSTAMP:20260422T191438Z
SUMMARY:Sporting Chance (White) vs. Pumped Up Kicks
DESCRIPTION:Pumped Up Kicks vs. Sporting Chance (White)Plus d'info : #16
X-ALT-DESC;FMTTYPE=text/html:<!DOCTYPE HTML PUBLIC "-//W3C//DTD HTML 3.2//E
	N">\n<HTML>\n<HEAD>\n<TITLE></TITLE>\n</HEAD>\n<BODY>\n<h3>Pumped Up Kicks 
	vs. Sporting Chance (White)</h3>Plus d'info : <a href="https://www.golnetwo
	rk.com/game/v/25413/">#16</a>\n\n</BODY>\n</HTML>
STATUS:CONFIRMED
CLASS:PUBLIC
URL:https://www.golnetwork.com/game/v/25413/
X-MICROSOFT-CDO-BUSYSTATUS:BUSY
X-MICROSOFT-CDO-IMPORTANCE:1
END:VEVENT
BEGIN:VEVENT
UID:g2ice@games.golnetwork.com
LOCATION:Lamport Stadium Field 2
GEO:43.639337;-79.4248954
CREATED:20130129T174916Z
DTSTART:20130202T200000Z
DTEND:20130202T210000Z
DTSTAMP:20260422T191438Z
SUMMARY:The Highlighters vs. The Worst Team Ever
DESCRIPTION:The Worst Team Ever vs. The HighlightersPlus d'info : #19
X-ALT-DESC;FMTTYPE=text/html:<!DOCTYPE HTML PUBLIC "-//W3C//DTD HTML 3.2//E
	N">\n<HTML>\n<HEAD>\n<TITLE></TITLE>\n</HEAD>\n<BODY>\n<h3>The Worst Team E
	ver vs. The Highlighters</h3>Plus d'info : <a href="https://www.golnetwork.
	com/game/v/25414/">#19</a>\n\n</BODY>\n</HTML>
STATUS:CONFIRMED
CLASS:PUBLIC
URL:https://www.golnetwork.com/game/v/25414/
X-MICROSOFT-CDO-BUSYSTATUS:BUSY
X-MICROSOFT-CDO-IMPORTANCE:1
END:VEVENT
BEGIN:VEVENT
UID:g2icg@games.golnetwork.com
LOCATION:Lamport Stadium Field 2
GEO:43.639337;-79.4248954
CREATED:20130129T174916Z
DTSTART:20130209T180000Z
DTEND:20130209T190000Z
DTSTAMP:20260422T191438Z
SUMMARY:Sporting Chance (White) vs. Nighthawx
DESCRIPTION:Nighthawx vs. Sporting Chance (White)Plus d'info : #38
X-ALT-DESC;FMTTYPE=text/html:<!DOCTYPE HTML PUBLIC "-//W3C//DTD HTML 3.2//E
	N">\n<HTML>\n<HEAD>\n<TITLE></TITLE>\n</HEAD>\n<BODY>\n<h3>Nighthawx vs. Sp
	orting Chance (White)</h3>Plus d'info : <a href="https://www.golnetwork.com
	/game/v/25415/">#38</a>\n\n</BODY>\n</HTML>
STATUS:CONFIRMED
CLASS:PUBLIC
URL:https://www.golnetwork.com/game/v/25415/
X-MICROSOFT-CDO-BUSYSTATUS:BUSY
X-MICROSOFT-CDO-IMPORTANCE:1
END:VEVENT
BEGIN:VEVENT
UID:g2ici@games.golnetwork.com
LOCATION:Lamport Stadium Field 2
GEO:43.639337;-79.4248954
CREATED:20130129T174916Z
DTSTART:20130209T190000Z
DTEND:20130209T200000Z
DTSTAMP:20260422T191438Z
SUMMARY:The Highlighters vs. Onetouchables FC
DESCRIPTION:Onetouchables FC vs. The HighlightersPlus d'info : #41
X-ALT-DESC;FMTTYPE=text/html:<!DOCTYPE HTML PUBLIC "-//W3C//DTD HTML 3.2//E
	N">\n<HTML>\n<HEAD>\n<TITLE></TITLE>\n</HEAD>\n<BODY>\n<h3>Onetouchables FC
	 vs. The Highlighters</h3>Plus d'info : <a href="https://www.golnetwork.com
	/game/v/25416/">#41</a>\n\n</BODY>\n</HTML>
STATUS:CONFIRMED
CLASS:PUBLIC
URL:https://www.golnetwork.com/game/v/25416/
X-MICROSOFT-CDO-BUSYSTATUS:BUSY
X-MICROSOFT-CDO-IMPORTANCE:1
END:VEVENT
BEGIN:VEVENT
UID:g2ick@games.golnetwork.com
LOCATION:Lamport Stadium Field 2
GEO:43.639337;-79.4248954
CREATED:20130129T174916Z
DTSTART:20130209T200000Z
DTEND:20130209T210000Z
DTSTAMP:20260422T191438Z
SUMMARY:The Worst Team Ever vs. Pumped Up Kicks
DESCRIPTION:Pumped Up Kicks vs. The Worst Team EverPlus d'info : #44
X-ALT-DESC;FMTTYPE=text/html:<!DOCTYPE HTML PUBLIC "-//W3C//DTD HTML 3.2//E
	N">\n<HTML>\n<HEAD>\n<TITLE></TITLE>\n</HEAD>\n<BODY>\n<h3>Pumped Up Kicks 
	vs. The Worst Team Ever</h3>Plus d'info : <a href="https://www.golnetwork.c
	om/game/v/25417/">#44</a>\n\n</BODY>\n</HTML>
STATUS:CONFIRMED
CLASS:PUBLIC
URL:https://www.golnetwork.com/game/v/25417/
X-MICROSOFT-CDO-BUSYSTATUS:BUSY
X-MICROSOFT-CDO-IMPORTANCE:1
END:VEVENT
BEGIN:VEVENT
UID:g2icm@games.golnetwork.com
LOCATION:Lamport Stadium Field 2
GEO:43.639337;-79.4248954
CREATED:20130129T174916Z
DTSTART:20130216T180000Z
DTEND:20130216T190000Z
DTSTAMP:20260422T191438Z
SUMMARY:The Worst Team Ever vs. Sporting Chance (White)
DESCRIPTION:Sporting Chance (White) vs. The Worst Team EverPlus d'info : #7
X-ALT-DESC;FMTTYPE=text/html:<!DOCTYPE HTML PUBLIC "-//W3C//DTD HTML 3.2//E
	N">\n<HTML>\n<HEAD>\n<TITLE></TITLE>\n</HEAD>\n<BODY>\n<h3>Sporting Chance 
	(White) vs. The Worst Team Ever</h3>Plus d'info : <a href="https://www.goln
	etwork.com/game/v/25418/">#70</a>\n\n</BODY>\n</HTML>
STATUS:CONFIRMED
CLASS:PUBLIC
URL:https://www.golnetwork.com/game/v/25418/
X-MICROSOFT-CDO-BUSYSTATUS:BUSY
X-MICROSOFT-CDO-IMPORTANCE:1
END:VEVENT
BEGIN:VEVENT
UID:g2ico@games.golnetwork.com
LOCATION:Lamport Stadium Field 2
GEO:43.639337;-79.4248954
CREATED:20130129T174916Z
DTSTART:20130216T190000Z
DTEND:20130216T200000Z
DTSTAMP:20260422T191438Z
SUMMARY:Nighthawx vs. The Highlighters
DESCRIPTION:The Highlighters vs. NighthawxPlus d'info : #73
X-ALT-DESC;FMTTYPE=text/html:<!DOCTYPE HTML PUBLIC "-//W3C//DTD HTML 3.2//E
	N">\n<HTML>\n<HEAD>\n<TITLE></TITLE>\n</HEAD>\n<BODY>\n<h3>The Highlighters
	 vs. Nighthawx</h3>Plus d'info : <a href="https://www.golnetwork.com/game/v
	/25419/">#73</a>\n\n</BODY>\n</HTML>
STATUS:CONFIRMED
CLASS:PUBLIC
URL:https://www.golnetwork.com/game/v/25419/
X-MICROSOFT-CDO-BUSYSTATUS:BUSY
X-MICROSOFT-CDO-IMPORTANCE:1
END:VEVENT
BEGIN:VEVENT
UID:g2icq@games.golnetwork.com
LOCATION:Lamport Stadium Field 2
GEO:43.639337;-79.4248954
CREATED:20130129T174916Z
DTSTART:20130216T200000Z
DTEND:20130216T210000Z
DTSTAMP:20260422T191438Z
SUMMARY:Pumped Up Kicks vs. Onetouchables FC
DESCRIPTION:Onetouchables FC vs. Pumped Up KicksPlus d'info : #76
X-ALT-DESC;FMTTYPE=text/html:<!DOCTYPE HTML PUBLIC "-//W3C//DTD HTML 3.2//E
	N">\n<HTML>\n<HEAD>\n<TITLE></TITLE>\n</HEAD>\n<BODY>\n<h3>Onetouchables FC
	 vs. Pumped Up Kicks</h3>Plus d'info : <a href="https://www.golnetwork.com/
	game/v/25420/">#76</a>\n\n</BODY>\n</HTML>
STATUS:CONFIRMED
CLASS:PUBLIC
URL:https://www.golnetwork.com/game/v/25420/
X-MICROSOFT-CDO-BUSYSTATUS:BUSY
X-MICROSOFT-CDO-IMPORTANCE:1
END:VEVENT
BEGIN:VEVENT
UID:g2id1@games.golnetwork.com
LOCATION:Lamport Stadium Field 2
GEO:43.639337;-79.4248954
CREATED:20130129T174916Z
DTSTART:20130223T180000Z
DTEND:20130223T190000Z
DTSTAMP:20260422T191438Z
SUMMARY:Pumped Up Kicks vs. The Highlighters
DESCRIPTION:The Highlighters vs. Pumped Up KicksPlus d'info : #102
X-ALT-DESC;FMTTYPE=text/html:<!DOCTYPE HTML PUBLIC "-//W3C//DTD HTML 3.2//E
	N">\n<HTML>\n<HEAD>\n<TITLE></TITLE>\n</HEAD>\n<BODY>\n<h3>The Highlighters
	 vs. Pumped Up Kicks</h3>Plus d'info : <a href="https://www.golnetwork.com/
	game/v/25421/">#102</a>\n\n</BODY>\n</HTML>
STATUS:CONFIRMED
CLASS:PUBLIC
URL:https://www.golnetwork.com/game/v/25421/
X-MICROSOFT-CDO-BUSYSTATUS:BUSY
X-MICROSOFT-CDO-IMPORTANCE:1
END:VEVENT
BEGIN:VEVENT
UID:g2id3@games.golnetwork.com
LOCATION:Lamport Stadium Field 2
GEO:43.639337;-79.4248954
CREATED:20130129T174916Z
DTSTART:20130223T190000Z
DTEND:20130223T200000Z
DTSTAMP:20260422T191438Z
SUMMARY:Onetouchables FC vs. Sporting Chance (White)
DESCRIPTION:Sporting Chance (White) vs. Onetouchables FCPlus d'info : #105
X-ALT-DESC;FMTTYPE=text/html:<!DOCTYPE HTML PUBLIC "-//W3C//DTD HTML 3.2//E
	N">\n<HTML>\n<HEAD>\n<TITLE></TITLE>\n</HEAD>\n<BODY>\n<h3>Sporting Chance 
	(White) vs. Onetouchables FC</h3>Plus d'info : <a href="https://www.golnetw
	ork.com/game/v/25422/">#105</a>\n\n</BODY>\n</HTML>
STATUS:CONFIRMED
CLASS:PUBLIC
URL:https://www.golnetwork.com/game/v/25422/
X-MICROSOFT-CDO-BUSYSTATUS:BUSY
X-MICROSOFT-CDO-IMPORTANCE:1
END:VEVENT
BEGIN:VEVENT
UID:g2id5@games.golnetwork.com
LOCATION:Lamport Stadium Field 2
GEO:43.639337;-79.4248954
CREATED:20130129T174916Z
DTSTART:20130223T200000Z
DTEND:20130223T210000Z
DTSTAMP:20260422T191438Z
SUMMARY:The Worst Team Ever vs. Nighthawx
DESCRIPTION:Nighthawx vs. The Worst Team EverPlus d'info : #108
X-ALT-DESC;FMTTYPE=text/html:<!DOCTYPE HTML PUBLIC "-//W3C//DTD HTML 3.2//E
	N">\n<HTML>\n<HEAD>\n<TITLE></TITLE>\n</HEAD>\n<BODY>\n<h3>Nighthawx vs. Th
	e Worst Team Ever</h3>Plus d'info : <a href="https://www.golnetwork.com/gam
	e/v/25423/">#108</a>\n\n</BODY>\n</HTML>
STATUS:CONFIRMED
CLASS:PUBLIC
URL:https://www.golnetwork.com/game/v/25423/
X-MICROSOFT-CDO-BUSYSTATUS:BUSY
X-MICROSOFT-CDO-IMPORTANCE:1
END:VEVENT
BEGIN:VEVENT
UID:g2id7@games.golnetwork.com
LOCATION:Lamport Stadium Field 2
GEO:43.639337;-79.4248954
CREATED:20130129T174916Z
DTSTART:20130302T180000Z
DTEND:20130302T190000Z
DTSTAMP:20260422T191438Z
SUMMARY:Sporting Chance (White) vs. The Highlighters
DESCRIPTION:The Highlighters vs. Sporting Chance (White)Plus d'info : #134
X-ALT-DESC;FMTTYPE=text/html:<!DOCTYPE HTML PUBLIC "-//W3C//DTD HTML 3.2//E
	N">\n<HTML>\n<HEAD>\n<TITLE></TITLE>\n</HEAD>\n<BODY>\n<h3>The Highlighters
	 vs. Sporting Chance (White)</h3>Plus d'info : <a href="https://www.golnetw
	ork.com/game/v/25424/">#134</a>\n\n</BODY>\n</HTML>
STATUS:CONFIRMED
CLASS:PUBLIC
URL:https://www.golnetwork.com/game/v/25424/
X-MICROSOFT-CDO-BUSYSTATUS:BUSY
X-MICROSOFT-CDO-IMPORTANCE:1
END:VEVENT
BEGIN:VEVENT
UID:g2id9@games.golnetwork.com
LOCATION:Lamport Stadium Field 2
GEO:43.639337;-79.4248954
CREATED:20130129T174916Z
DTSTART:20130302T190000Z
DTEND:20130302T200000Z
DTSTAMP:20260422T191438Z
SUMMARY:Pumped Up Kicks vs. Nighthawx
DESCRIPTION:Nighthawx vs. Pumped Up KicksPlus d'info : #137
X-ALT-DESC;FMTTYPE=text/html:<!DOCTYPE HTML PUBLIC "-//W3C//DTD HTML 3.2//E
	N">\n<HTML>\n<HEAD>\n<TITLE></TITLE>\n</HEAD>\n<BODY>\n<h3>Nighthawx vs. Pu
	mped Up Kicks</h3>Plus d'info : <a href="https://www.golnetwork.com/game/v/
	25425/">#137</a>\n\n</BODY>\n</HTML>
STATUS:CONFIRMED
CLASS:PUBLIC
URL:https://www.golnetwork.com/game/v/25425/
X-MICROSOFT-CDO-BUSYSTATUS:BUSY
X-MICROSOFT-CDO-IMPORTANCE:1
END:VEVENT
BEGIN:VEVENT
UID:g2idb@games.golnetwork.com
LOCATION:Lamport Stadium Field 2
GEO:43.639337;-79.4248954
CREATED:20130129T174916Z
DTSTART:20130302T200000Z
DTEND:20130302T210000Z
DTSTAMP:20260422T191438Z
SUMMARY:Onetouchables FC vs. The Worst Team Ever
DESCRIPTION:The Worst Team Ever vs. Onetouchables FCPlus d'info : #140
X-ALT-DESC;FMTTYPE=text/html:<!DOCTYPE HTML PUBLIC "-//W3C//DTD HTML 3.2//E
	N">\n<HTML>\n<HEAD>\n<TITLE></TITLE>\n</HEAD>\n<BODY>\n<h3>The Worst Team E
	ver vs. Onetouchables FC</h3>Plus d'info : <a href="https://www.golnetwork.
	com/game/v/25426/">#140</a>\n\n</BODY>\n</HTML>
STATUS:CONFIRMED
CLASS:PUBLIC
URL:https://www.golnetwork.com/game/v/25426/
X-MICROSOFT-CDO-BUSYSTATUS:BUSY
X-MICROSOFT-CDO-IMPORTANCE:1
END:VEVENT
BEGIN:VEVENT
UID:g2idd@games.golnetwork.com
LOCATION:Lamport Stadium Field 2
GEO:43.639337;-79.4248954
CREATED:20130129T174916Z
DTSTART:20130309T180000Z
DTEND:20130309T190000Z
DTSTAMP:20260422T191438Z
SUMMARY:Sporting Chance (White) vs. Nighthawx
DESCRIPTION:Nighthawx vs. Sporting Chance (White)Plus d'info : #166
X-ALT-DESC;FMTTYPE=text/html:<!DOCTYPE HTML PUBLIC "-//W3C//DTD HTML 3.2//E
	N">\n<HTML>\n<HEAD>\n<TITLE></TITLE>\n</HEAD>\n<BODY>\n<h3>Nighthawx vs. Sp
	orting Chance (White)</h3>Plus d'info : <a href="https://www.golnetwork.com
	/game/v/25427/">#166</a>\n\n</BODY>\n</HTML>
STATUS:CONFIRMED
CLASS:PUBLIC
URL:https://www.golnetwork.com/game/v/25427/
X-MICROSOFT-CDO-BUSYSTATUS:BUSY
X-MICROSOFT-CDO-IMPORTANCE:1
END:VEVENT
BEGIN:VEVENT
UID:g2idf@games.golnetwork.com
LOCATION:Lamport Stadium Field 2
GEO:43.639337;-79.4248954
CREATED:20130129T174916Z
DTSTART:20130309T190000Z
DTEND:20130309T200000Z
DTSTAMP:20260422T191438Z
SUMMARY:The Worst Team Ever vs. The Highlighters
DESCRIPTION:The Highlighters vs. The Worst Team EverPlus d'info : #169
X-ALT-DESC;FMTTYPE=text/html:<!DOCTYPE HTML PUBLIC "-//W3C//DTD HTML 3.2//E
	N">\n<HTML>\n<HEAD>\n<TITLE></TITLE>\n</HEAD>\n<BODY>\n<h3>The Highlighters
	 vs. The Worst Team Ever</h3>Plus d'info : <a href="https://www.golnetwork.
	com/game/v/25428/">#169</a>\n\n</BODY>\n</HTML>
STATUS:CONFIRMED
CLASS:PUBLIC
URL:https://www.golnetwork.com/game/v/25428/
X-MICROSOFT-CDO-BUSYSTATUS:BUSY
X-MICROSOFT-CDO-IMPORTANCE:1
END:VEVENT
BEGIN:VEVENT
UID:g2idh@games.golnetwork.com
LOCATION:Lamport Stadium Field 2
GEO:43.639337;-79.4248954
CREATED:20130129T174916Z
DTSTART:20130309T200000Z
DTEND:20130309T210000Z
DTSTAMP:20260422T191438Z
SUMMARY:Onetouchables FC vs. Pumped Up Kicks
DESCRIPTION:Pumped Up Kicks vs. Onetouchables FCPlus d'info : #172
X-ALT-DESC;FMTTYPE=text/html:<!DOCTYPE HTML PUBLIC "-//W3C//DTD HTML 3.2//E
	N">\n<HTML>\n<HEAD>\n<TITLE></TITLE>\n</HEAD>\n<BODY>\n<h3>Pumped Up Kicks 
	vs. Onetouchables FC</h3>Plus d'info : <a href="https://www.golnetwork.com/
	game/v/25429/">#172</a>\n\n</BODY>\n</HTML>
STATUS:CONFIRMED
CLASS:PUBLIC
URL:https://www.golnetwork.com/game/v/25429/
X-MICROSOFT-CDO-BUSYSTATUS:BUSY
X-MICROSOFT-CDO-IMPORTANCE:1
END:VEVENT
BEGIN:VEVENT
UID:g2idj@games.golnetwork.com
LOCATION:Lamport Stadium Field 2
GEO:43.639337;-79.4248954
CREATED:20130129T174916Z
DTSTART:20130316T170000Z
DTEND:20130316T180000Z
DTSTAMP:20260422T191438Z
SUMMARY:Pumped Up Kicks vs. Sporting Chance (White)
DESCRIPTION:Sporting Chance (White) vs. Pumped Up KicksPlus d'info : #198
X-ALT-DESC;FMTTYPE=text/html:<!DOCTYPE HTML PUBLIC "-//W3C//DTD HTML 3.2//E
	N">\n<HTML>\n<HEAD>\n<TITLE></TITLE>\n</HEAD>\n<BODY>\n<h3>Sporting Chance 
	(White) vs. Pumped Up Kicks</h3>Plus d'info : <a href="https://www.golnetwo
	rk.com/game/v/25430/">#198</a>\n\n</BODY>\n</HTML>
STATUS:CONFIRMED
CLASS:PUBLIC
URL:https://www.golnetwork.com/game/v/25430/
X-MICROSOFT-CDO-BUSYSTATUS:BUSY
X-MICROSOFT-CDO-IMPORTANCE:1
END:VEVENT
BEGIN:VEVENT
UID:g2idl@games.golnetwork.com
LOCATION:Lamport Stadium Field 2
GEO:43.639337;-79.4248954
CREATED:20130129T174916Z
DTSTART:20130316T180000Z
DTEND:20130316T190000Z
DTSTAMP:20260422T191438Z
SUMMARY:The Highlighters vs. Onetouchables FC
DESCRIPTION:Onetouchables FC vs. The HighlightersPlus d'info : #201
X-ALT-DESC;FMTTYPE=text/html:<!DOCTYPE HTML PUBLIC "-//W3C//DTD HTML 3.2//E
	N">\n<HTML>\n<HEAD>\n<TITLE></TITLE>\n</HEAD>\n<BODY>\n<h3>Onetouchables FC
	 vs. The Highlighters</h3>Plus d'info : <a href="https://www.golnetwork.com
	/game/v/25431/">#201</a>\n\n</BODY>\n</HTML>
STATUS:CONFIRMED
CLASS:PUBLIC
URL:https://www.golnetwork.com/game/v/25431/
X-MICROSOFT-CDO-BUSYSTATUS:BUSY
X-MICROSOFT-CDO-IMPORTANCE:1
END:VEVENT
BEGIN:VEVENT
UID:g2idn@games.golnetwork.com
LOCATION:Lamport Stadium Field 2
GEO:43.639337;-79.4248954
CREATED:20130129T174916Z
DTSTART:20130316T190000Z
DTEND:20130316T200000Z
DTSTAMP:20260422T191438Z
SUMMARY:Nighthawx vs. The Worst Team Ever
DESCRIPTION:The Worst Team Ever vs. NighthawxPlus d'info : #204
X-ALT-DESC;FMTTYPE=text/html:<!DOCTYPE HTML PUBLIC "-//W3C//DTD HTML 3.2//E
	N">\n<HTML>\n<HEAD>\n<TITLE></TITLE>\n</HEAD>\n<BODY>\n<h3>The Worst Team E
	ver vs. Nighthawx</h3>Plus d'info : <a href="https://www.golnetwork.com/gam
	e/v/25432/">#204</a>\n\n</BODY>\n</HTML>
STATUS:CONFIRMED
CLASS:PUBLIC
URL:https://www.golnetwork.com/game/v/25432/
X-MICROSOFT-CDO-BUSYSTATUS:BUSY
X-MICROSOFT-CDO-IMPORTANCE:1
END:VEVENT
BEGIN:VEVENT
UID:g2idp@games.golnetwork.com
LOCATION:Lamport Stadium Field 2
GEO:43.639337;-79.4248954
CREATED:20130129T174916Z
DTSTART:20130323T170000Z
DTEND:20130323T180000Z
DTSTAMP:20260422T191438Z
SUMMARY:Nighthawx vs. Onetouchables FC
DESCRIPTION:Onetouchables FC vs. NighthawxPlus d'info : #231
X-ALT-DESC;FMTTYPE=text/html:<!DOCTYPE HTML PUBLIC "-//W3C//DTD HTML 3.2//E
	N">\n<HTML>\n<HEAD>\n<TITLE></TITLE>\n</HEAD>\n<BODY>\n<h3>Onetouchables FC
	 vs. Nighthawx</h3>Plus d'info : <a href="https://www.golnetwork.com/game/v
	/25433/">#231</a>\n\n</BODY>\n</HTML>
STATUS:CONFIRMED
CLASS:PUBLIC
URL:https://www.golnetwork.com/game/v/25433/
X-MICROSOFT-CDO-BUSYSTATUS:BUSY
X-MICROSOFT-CDO-IMPORTANCE:1
END:VEVENT
BEGIN:VEVENT
UID:g2ie0@games.golnetwork.com
LOCATION:Lamport Stadium Field 2
GEO:43.639337;-79.4248954
CREATED:20130129T174916Z
DTSTART:20130323T180000Z
DTEND:20130323T190000Z
DTSTAMP:20260422T191438Z
SUMMARY:The Highlighters vs. Pumped Up Kicks
DESCRIPTION:Pumped Up Kicks vs. The HighlightersPlus d'info : #234
X-ALT-DESC;FMTTYPE=text/html:<!DOCTYPE HTML PUBLIC "-//W3C//DTD HTML 3.2//E
	N">\n<HTML>\n<HEAD>\n<TITLE></TITLE>\n</HEAD>\n<BODY>\n<h3>Pumped Up Kicks 
	vs. The Highlighters</h3>Plus d'info : <a href="https://www.golnetwork.com/
	game/v/25434/">#234</a>\n\n</BODY>\n</HTML>
STATUS:CONFIRMED
CLASS:PUBLIC
URL:https://www.golnetwork.com/game/v/25434/
X-MICROSOFT-CDO-BUSYSTATUS:BUSY
X-MICROSOFT-CDO-IMPORTANCE:1
END:VEVENT
BEGIN:VEVENT
UID:g2ie2@games.golnetwork.com
LOCATION:Lamport Stadium Field 2
GEO:43.639337;-79.4248954
CREATED:20130129T174916Z
DTSTART:20130323T190000Z
DTEND:20130323T200000Z
DTSTAMP:20260422T191438Z
SUMMARY:The Worst Team Ever vs. Sporting Chance (White)
DESCRIPTION:Sporting Chance (White) vs. The Worst Team EverPlus d'info : #2
	37
X-ALT-DESC;FMTTYPE=text/html:<!DOCTYPE HTML PUBLIC "-//W3C//DTD HTML 3.2//E
	N">\n<HTML>\n<HEAD>\n<TITLE></TITLE>\n</HEAD>\n<BODY>\n<h3>Sporting Chance 
	(White) vs. The Worst Team Ever</h3>Plus d'info : <a href="https://www.goln
	etwork.com/game/v/25435/">#237</a>\n\n</BODY>\n</HTML>
STATUS:CONFIRMED
CLASS:PUBLIC
URL:https://www.golnetwork.com/game/v/25435/
X-MICROSOFT-CDO-BUSYSTATUS:BUSY
X-MICROSOFT-CDO-IMPORTANCE:1
END:VEVENT
BEGIN:VEVENT
UID:g2ie4@games.golnetwork.com
LOCATION:Lamport Stadium Field 2
GEO:43.639337;-79.4248954
CREATED:20130129T174916Z
DTSTART:20130406T170000Z
DTEND:20130406T180000Z
DTSTAMP:20260422T191438Z
SUMMARY:Nighthawx vs. Pumped Up Kicks
DESCRIPTION:Pumped Up Kicks vs. NighthawxPlus d'info : #270
X-ALT-DESC;FMTTYPE=text/html:<!DOCTYPE HTML PUBLIC "-//W3C//DTD HTML 3.2//E
	N">\n<HTML>\n<HEAD>\n<TITLE></TITLE>\n</HEAD>\n<BODY>\n<h3>Pumped Up Kicks 
	vs. Nighthawx</h3>Plus d'info : <a href="https://www.golnetwork.com/game/v/
	25436/">#270</a>\n\n</BODY>\n</HTML>
STATUS:CONFIRMED
CLASS:PUBLIC
URL:https://www.golnetwork.com/game/v/25436/
X-MICROSOFT-CDO-BUSYSTATUS:BUSY
X-MICROSOFT-CDO-IMPORTANCE:1
END:VEVENT
BEGIN:VEVENT
UID:g2ie6@games.golnetwork.com
LOCATION:Lamport Stadium Field 2
GEO:43.639337;-79.4248954
CREATED:20130129T174916Z
DTSTART:20130406T180000Z
DTEND:20130406T190000Z
DTSTAMP:20260422T191438Z
SUMMARY:The Highlighters vs. The Worst Team Ever
DESCRIPTION:The Worst Team Ever vs. The HighlightersPlus d'info : #273
X-ALT-DESC;FMTTYPE=text/html:<!DOCTYPE HTML PUBLIC "-//W3C//DTD HTML 3.2//E
	N">\n<HTML>\n<HEAD>\n<TITLE></TITLE>\n</HEAD>\n<BODY>\n<h3>The Worst Team E
	ver vs. The Highlighters</h3>Plus d'info : <a href="https://www.golnetwork.
	com/game/v/25437/">#273</a>\n\n</BODY>\n</HTML>
STATUS:CONFIRMED
CLASS:PUBLIC
URL:https://www.golnetwork.com/game/v/25437/
X-MICROSOFT-CDO-BUSYSTATUS:BUSY
X-MICROSOFT-CDO-IMPORTANCE:1
END:VEVENT
BEGIN:VEVENT
UID:g2ie8@games.golnetwork.com
LOCATION:Lamport Stadium Field 2
GEO:43.639337;-79.4248954
CREATED:20130129T174916Z
DTSTART:20130406T190000Z
DTEND:20130406T200000Z
DTSTAMP:20260422T191438Z
SUMMARY:Onetouchables FC vs. Sporting Chance (White)
DESCRIPTION:Sporting Chance (White) vs. Onetouchables FCPlus d'info : #276
X-ALT-DESC;FMTTYPE=text/html:<!DOCTYPE HTML PUBLIC "-//W3C//DTD HTML 3.2//E
	N">\n<HTML>\n<HEAD>\n<TITLE></TITLE>\n</HEAD>\n<BODY>\n<h3>Sporting Chance 
	(White) vs. Onetouchables FC</h3>Plus d'info : <a href="https://www.golnetw
	ork.com/game/v/25438/">#276</a>\n\n</BODY>\n</HTML>
STATUS:CONFIRMED
CLASS:PUBLIC
URL:https://www.golnetwork.com/game/v/25438/
X-MICROSOFT-CDO-BUSYSTATUS:BUSY
X-MICROSOFT-CDO-IMPORTANCE:1
END:VEVENT
BEGIN:VEVENT
UID:g2iea@games.golnetwork.com
LOCATION:Lamport Stadium Field 2
GEO:43.639337;-79.4248954
CREATED:20130129T174916Z
DTSTART:20130413T170000Z
DTEND:20130413T180000Z
DTSTAMP:20260422T191438Z
SUMMARY:The Highlighters vs. Pumped Up Kicks
DESCRIPTION:Pumped Up Kicks vs. The HighlightersPlus d'info : #302
X-ALT-DESC;FMTTYPE=text/html:<!DOCTYPE HTML PUBLIC "-//W3C//DTD HTML 3.2//E
	N">\n<HTML>\n<HEAD>\n<TITLE></TITLE>\n</HEAD>\n<BODY>\n<h3>Pumped Up Kicks 
	vs. The Highlighters</h3>Plus d'info : <a href="https://www.golnetwork.com/
	game/v/25439/">#302</a>\n\n</BODY>\n</HTML>
STATUS:CONFIRMED
CLASS:PUBLIC
URL:https://www.golnetwork.com/game/v/25439/
X-MICROSOFT-CDO-BUSYSTATUS:BUSY
X-MICROSOFT-CDO-IMPORTANCE:1
END:VEVENT
BEGIN:VEVENT
UID:g2iec@games.golnetwork.com
LOCATION:Lamport Stadium Field 2
GEO:43.639337;-79.4248954
CREATED:20130129T174916Z
DTSTART:20130413T180000Z
DTEND:20130413T190000Z
DTSTAMP:20260422T191438Z
SUMMARY:Onetouchables FC vs. The Worst Team Ever
DESCRIPTION:The Worst Team Ever vs. Onetouchables FCPlus d'info : #305
X-ALT-DESC;FMTTYPE=text/html:<!DOCTYPE HTML PUBLIC "-//W3C//DTD HTML 3.2//E
	N">\n<HTML>\n<HEAD>\n<TITLE></TITLE>\n</HEAD>\n<BODY>\n<h3>The Worst Team E
	ver vs. Onetouchables FC</h3>Plus d'info : <a href="https://www.golnetwork.
	com/game/v/25440/">#305</a>\n\n</BODY>\n</HTML>
STATUS:CONFIRMED
CLASS:PUBLIC
URL:https://www.golnetwork.com/game/v/25440/
X-MICROSOFT-CDO-BUSYSTATUS:BUSY
X-MICROSOFT-CDO-IMPORTANCE:1
END:VEVENT
BEGIN:VEVENT
UID:g2iee@games.golnetwork.com
LOCATION:Lamport Stadium Field 2
GEO:43.639337;-79.4248954
CREATED:20130129T174916Z
DTSTART:20130413T190000Z
DTEND:20130413T200000Z
DTSTAMP:20260422T191438Z
SUMMARY:Nighthawx vs. Sporting Chance (White)
DESCRIPTION:Sporting Chance (White) vs. NighthawxPlus d'info : #308
X-ALT-DESC;FMTTYPE=text/html:<!DOCTYPE HTML PUBLIC "-//W3C//DTD HTML 3.2//E
	N">\n<HTML>\n<HEAD>\n<TITLE></TITLE>\n</HEAD>\n<BODY>\n<h3>Sporting Chance 
	(White) vs. Nighthawx</h3>Plus d'info : <a href="https://www.golnetwork.com
	/game/v/25441/">#308</a>\n\n</BODY>\n</HTML>
STATUS:CONFIRMED
CLASS:PUBLIC
URL:https://www.golnetwork.com/game/v/25441/
X-MICROSOFT-CDO-BUSYSTATUS:BUSY
X-MICROSOFT-CDO-IMPORTANCE:1
END:VEVENT
END:VCALENDAR
