BEGIN:VCALENDAR
PRODID:-//gdesolutions.com//MV Framework 1.0.0.1607 Calendar//EN
VERSION:2.0
METHOD:PUBLISH
CALSCALE:GREGORIAN
BEGIN:VEVENT
UID:g309k@games.golnetwork.com
LOCATION:Lamport Stadium Field 2
GEO:43.639337;-79.4248954
CREATED:20130502T025020Z
DTSTART:20130506T000000Z
DTEND:20130506T010000Z
DTSTAMP:20260423T235853Z
SUMMARY:Las Vacas vs. Cat Daddy's
DESCRIPTION:Cat Daddy's vs. Las VacasPlus d'info : #14
X-ALT-DESC;FMTTYPE=text/html:<!DOCTYPE HTML PUBLIC "-//W3C//DTD HTML 3.2//E
	N">\n<HTML>\n<HEAD>\n<TITLE></TITLE>\n</HEAD>\n<BODY>\n<h3>Cat Daddy's vs. 
	Las Vacas</h3>Plus d'info : <a href="https://www.golnetwork.com/game/v/2865
	7/">#14</a>\n\n</BODY>\n</HTML>
STATUS:CONFIRMED
CLASS:PUBLIC
URL:https://www.golnetwork.com/game/v/28657/
X-MICROSOFT-CDO-BUSYSTATUS:BUSY
X-MICROSOFT-CDO-IMPORTANCE:1
END:VEVENT
BEGIN:VEVENT
UID:g309m@games.golnetwork.com
LOCATION:Lamport Stadium Field 2
GEO:43.639337;-79.4248954
CREATED:20130502T025020Z
DTSTART:20130506T010000Z
DTEND:20130506T020000Z
DTSTAMP:20260423T235853Z
SUMMARY:Los Luchadores vs. Not Sure Yet
DESCRIPTION:Not Sure Yet vs. Los LuchadoresPlus d'info : #16
X-ALT-DESC;FMTTYPE=text/html:<!DOCTYPE HTML PUBLIC "-//W3C//DTD HTML 3.2//E
	N">\n<HTML>\n<HEAD>\n<TITLE></TITLE>\n</HEAD>\n<BODY>\n<h3>Not Sure Yet vs.
	 Los Luchadores</h3>Plus d'info : <a href="https://www.golnetwork.com/game/
	v/28658/">#16</a>\n\n</BODY>\n</HTML>
STATUS:CONFIRMED
CLASS:PUBLIC
URL:https://www.golnetwork.com/game/v/28658/
X-MICROSOFT-CDO-BUSYSTATUS:BUSY
X-MICROSOFT-CDO-IMPORTANCE:1
END:VEVENT
BEGIN:VEVENT
UID:g309o@games.golnetwork.com
LOCATION:Lamport Stadium Field 2
GEO:43.639337;-79.4248954
CREATED:20130502T025020Z
DTSTART:20130506T020000Z
DTEND:20130506T030000Z
DTSTAMP:20260423T235853Z
SUMMARY:KICK A$$ MISFITS vs. Something FC (White)
DESCRIPTION:Something FC (White) vs. KICK A$$ MISFITSPlus d'info : #18
X-ALT-DESC;FMTTYPE=text/html:<!DOCTYPE HTML PUBLIC "-//W3C//DTD HTML 3.2//E
	N">\n<HTML>\n<HEAD>\n<TITLE></TITLE>\n</HEAD>\n<BODY>\n<h3>Something FC (Wh
	ite) vs. KICK A$$ MISFITS</h3>Plus d'info : <a href="https://www.golnetwork
	.com/game/v/28659/">#18</a>\n\n</BODY>\n</HTML>
STATUS:CONFIRMED
CLASS:PUBLIC
URL:https://www.golnetwork.com/game/v/28659/
X-MICROSOFT-CDO-BUSYSTATUS:BUSY
X-MICROSOFT-CDO-IMPORTANCE:1
END:VEVENT
BEGIN:VEVENT
UID:g309q@games.golnetwork.com
LOCATION:Lamport Stadium Field 2
GEO:43.639337;-79.4248954
CREATED:20130502T025020Z
DTSTART:20130513T000000Z
DTEND:20130513T010000Z
DTSTAMP:20260423T235853Z
SUMMARY:Las Vacas vs. Los Luchadores
DESCRIPTION:Los Luchadores vs. Las VacasPlus d'info : #43
X-ALT-DESC;FMTTYPE=text/html:<!DOCTYPE HTML PUBLIC "-//W3C//DTD HTML 3.2//E
	N">\n<HTML>\n<HEAD>\n<TITLE></TITLE>\n</HEAD>\n<BODY>\n<h3>Los Luchadores v
	s. Las Vacas</h3>Plus d'info : <a href="https://www.golnetwork.com/game/v/2
	8660/">#43</a>\n\n</BODY>\n</HTML>
STATUS:CONFIRMED
CLASS:PUBLIC
URL:https://www.golnetwork.com/game/v/28660/
X-MICROSOFT-CDO-BUSYSTATUS:BUSY
X-MICROSOFT-CDO-IMPORTANCE:1
END:VEVENT
BEGIN:VEVENT
UID:g30ch@games.golnetwork.com
LOCATION:Lamport Stadium Field 1
GEO:43.639337;-79.4248954
CREATED:20130502T035007Z
DTSTART:20130513T010000Z
DTEND:20130513T020000Z
DTSTAMP:20260423T235853Z
SUMMARY:Las Vacas vs. KICK A$$ MISFITS
DESCRIPTION:KICK A$$ MISFITS vs. Las VacasPlus d'info : #45
X-ALT-DESC;FMTTYPE=text/html:<!DOCTYPE HTML PUBLIC "-//W3C//DTD HTML 3.2//E
	N">\n<HTML>\n<HEAD>\n<TITLE></TITLE>\n</HEAD>\n<BODY>\n<h3>KICK A$$ MISFITS
	 vs. Las Vacas</h3>Plus d'info : <a href="https://www.golnetwork.com/game/v
	/28696/">#45</a>\n\n</BODY>\n</HTML>
STATUS:CONFIRMED
CLASS:PUBLIC
URL:https://www.golnetwork.com/game/v/28696/
X-MICROSOFT-CDO-BUSYSTATUS:BUSY
X-MICROSOFT-CDO-IMPORTANCE:1
END:VEVENT
BEGIN:VEVENT
UID:g30a1@games.golnetwork.com
LOCATION:Lamport Stadium Field 2
GEO:43.639337;-79.4248954
CREATED:20130502T025020Z
DTSTART:20130513T010000Z
DTEND:20130513T020000Z
DTSTAMP:20260423T235853Z
SUMMARY:Something FC (White) vs. Not Sure Yet
DESCRIPTION:Not Sure Yet vs. Something FC (White)Plus d'info : #46
X-ALT-DESC;FMTTYPE=text/html:<!DOCTYPE HTML PUBLIC "-//W3C//DTD HTML 3.2//E
	N">\n<HTML>\n<HEAD>\n<TITLE></TITLE>\n</HEAD>\n<BODY>\n<h3>Not Sure Yet vs.
	 Something FC (White)</h3>Plus d'info : <a href="https://www.golnetwork.com
	/game/v/28661/">#46</a>\n\n</BODY>\n</HTML>
STATUS:CONFIRMED
CLASS:PUBLIC
URL:https://www.golnetwork.com/game/v/28661/
X-MICROSOFT-CDO-BUSYSTATUS:BUSY
X-MICROSOFT-CDO-IMPORTANCE:1
END:VEVENT
BEGIN:VEVENT
UID:g30cd@games.golnetwork.com
LOCATION:Lamport Stadium Field 1
GEO:43.639337;-79.4248954
CREATED:20130502T033816Z
DTSTART:20130513T020000Z
DTEND:20130513T030000Z
DTSTAMP:20260423T235853Z
SUMMARY:KICK A$$ MISFITS vs. Cat Daddy's
DESCRIPTION:Cat Daddy's vs. KICK A$$ MISFITSPlus d'info : #47
X-ALT-DESC;FMTTYPE=text/html:<!DOCTYPE HTML PUBLIC "-//W3C//DTD HTML 3.2//E
	N">\n<HTML>\n<HEAD>\n<TITLE></TITLE>\n</HEAD>\n<BODY>\n<h3>Cat Daddy's vs. 
	KICK A$$ MISFITS</h3>Plus d'info : <a href="https://www.golnetwork.com/game
	/v/28694/">#47</a>\n\n</BODY>\n</HTML>
STATUS:CONFIRMED
CLASS:PUBLIC
URL:https://www.golnetwork.com/game/v/28694/
X-MICROSOFT-CDO-BUSYSTATUS:BUSY
X-MICROSOFT-CDO-IMPORTANCE:1
END:VEVENT
BEGIN:VEVENT
UID:g30a3@games.golnetwork.com
LOCATION:Lamport Stadium Field 2
GEO:43.639337;-79.4248954
CREATED:20130502T025020Z
DTSTART:20130513T020000Z
DTEND:20130513T030000Z
DTSTAMP:20260423T235853Z
SUMMARY:Something FC (White) vs. Los Luchadores
DESCRIPTION:Los Luchadores vs. Something FC (White)Plus d'info : #48
X-ALT-DESC;FMTTYPE=text/html:<!DOCTYPE HTML PUBLIC "-//W3C//DTD HTML 3.2//E
	N">\n<HTML>\n<HEAD>\n<TITLE></TITLE>\n</HEAD>\n<BODY>\n<h3>Los Luchadores v
	s. Something FC (White)</h3>Plus d'info : <a href="https://www.golnetwork.c
	om/game/v/28662/">#48</a>\n\n</BODY>\n</HTML>
STATUS:CONFIRMED
CLASS:PUBLIC
URL:https://www.golnetwork.com/game/v/28662/
X-MICROSOFT-CDO-BUSYSTATUS:BUSY
X-MICROSOFT-CDO-IMPORTANCE:1
END:VEVENT
BEGIN:VEVENT
UID:g30ab@games.golnetwork.com
LOCATION:Lamport Stadium Field 2
GEO:43.639337;-79.4248954
CREATED:20130502T025020Z
DTSTART:20130527T000000Z
DTEND:20130527T010000Z
DTSTAMP:20260423T235853Z
SUMMARY:Something FC (White) vs. Las Vacas
DESCRIPTION:Las Vacas vs. Something FC (White)Plus d'info : #122
X-ALT-DESC;FMTTYPE=text/html:<!DOCTYPE HTML PUBLIC "-//W3C//DTD HTML 3.2//E
	N">\n<HTML>\n<HEAD>\n<TITLE></TITLE>\n</HEAD>\n<BODY>\n<h3>Las Vacas vs. So
	mething FC (White)</h3>Plus d'info : <a href="https://www.golnetwork.com/ga
	me/v/28666/">#122</a>\n\n</BODY>\n</HTML>
STATUS:CONFIRMED
CLASS:PUBLIC
URL:https://www.golnetwork.com/game/v/28666/
X-MICROSOFT-CDO-BUSYSTATUS:BUSY
X-MICROSOFT-CDO-IMPORTANCE:1
END:VEVENT
BEGIN:VEVENT
UID:g30ad@games.golnetwork.com
LOCATION:Lamport Stadium Field 2
GEO:43.639337;-79.4248954
CREATED:20130502T025020Z
DTSTART:20130527T010000Z
DTEND:20130527T020000Z
DTSTAMP:20260423T235853Z
SUMMARY:Not Sure Yet vs. KICK A$$ MISFITS
DESCRIPTION:KICK A$$ MISFITS vs. Not Sure YetPlus d'info : #125
X-ALT-DESC;FMTTYPE=text/html:<!DOCTYPE HTML PUBLIC "-//W3C//DTD HTML 3.2//E
	N">\n<HTML>\n<HEAD>\n<TITLE></TITLE>\n</HEAD>\n<BODY>\n<h3>KICK A$$ MISFITS
	 vs. Not Sure Yet</h3>Plus d'info : <a href="https://www.golnetwork.com/gam
	e/v/28667/">#125</a>\n\n</BODY>\n</HTML>
STATUS:CONFIRMED
CLASS:PUBLIC
URL:https://www.golnetwork.com/game/v/28667/
X-MICROSOFT-CDO-BUSYSTATUS:BUSY
X-MICROSOFT-CDO-IMPORTANCE:1
END:VEVENT
BEGIN:VEVENT
UID:g30af@games.golnetwork.com
LOCATION:Lamport Stadium Field 2
GEO:43.639337;-79.4248954
CREATED:20130502T025020Z
DTSTART:20130527T020000Z
DTEND:20130527T030000Z
DTSTAMP:20260423T235853Z
SUMMARY:Cat Daddy's vs. Los Luchadores
DESCRIPTION:Los Luchadores vs. Cat Daddy'sPlus d'info : #127
X-ALT-DESC;FMTTYPE=text/html:<!DOCTYPE HTML PUBLIC "-//W3C//DTD HTML 3.2//E
	N">\n<HTML>\n<HEAD>\n<TITLE></TITLE>\n</HEAD>\n<BODY>\n<h3>Los Luchadores v
	s. Cat Daddy's</h3>Plus d'info : <a href="https://www.golnetwork.com/game/v
	/28668/">#127</a>\n\n</BODY>\n</HTML>
STATUS:CONFIRMED
CLASS:PUBLIC
URL:https://www.golnetwork.com/game/v/28668/
X-MICROSOFT-CDO-BUSYSTATUS:BUSY
X-MICROSOFT-CDO-IMPORTANCE:1
END:VEVENT
BEGIN:VEVENT
UID:g30ah@games.golnetwork.com
LOCATION:Lamport Stadium Field 2
GEO:43.639337;-79.4248954
CREATED:20130502T025020Z
DTSTART:20130603T000000Z
DTEND:20130603T010000Z
DTSTAMP:20260423T235853Z
SUMMARY:Cat Daddy's vs. Something FC (White)
DESCRIPTION:Something FC (White) vs. Cat Daddy'sPlus d'info : #173
X-ALT-DESC;FMTTYPE=text/html:<!DOCTYPE HTML PUBLIC "-//W3C//DTD HTML 3.2//E
	N">\n<HTML>\n<HEAD>\n<TITLE></TITLE>\n</HEAD>\n<BODY>\n<h3>Something FC (Wh
	ite) vs. Cat Daddy's</h3>Plus d'info : <a href="https://www.golnetwork.com/
	game/v/28669/">#173</a>\n\n</BODY>\n</HTML>
STATUS:CONFIRMED
CLASS:PUBLIC
URL:https://www.golnetwork.com/game/v/28669/
X-MICROSOFT-CDO-BUSYSTATUS:BUSY
X-MICROSOFT-CDO-IMPORTANCE:1
END:VEVENT
BEGIN:VEVENT
UID:g30aj@games.golnetwork.com
LOCATION:Lamport Stadium Field 2
GEO:43.639337;-79.4248954
CREATED:20130502T025020Z
DTSTART:20130603T010000Z
DTEND:20130603T020000Z
DTSTAMP:20260423T235853Z
SUMMARY:Cat Daddy's vs. Not Sure Yet
DESCRIPTION:Not Sure Yet vs. Cat Daddy'sPlus d'info : #176
X-ALT-DESC;FMTTYPE=text/html:<!DOCTYPE HTML PUBLIC "-//W3C//DTD HTML 3.2//E
	N">\n<HTML>\n<HEAD>\n<TITLE></TITLE>\n</HEAD>\n<BODY>\n<h3>Not Sure Yet vs.
	 Cat Daddy's</h3>Plus d'info : <a href="https://www.golnetwork.com/game/v/2
	8670/">#176</a>\n\n</BODY>\n</HTML>
STATUS:CONFIRMED
CLASS:PUBLIC
URL:https://www.golnetwork.com/game/v/28670/
X-MICROSOFT-CDO-BUSYSTATUS:BUSY
X-MICROSOFT-CDO-IMPORTANCE:1
END:VEVENT
BEGIN:VEVENT
UID:g30bq@games.golnetwork.com
LOCATION:Lamport Stadium Field 1
GEO:43.639337;-79.4248954
CREATED:20130502T025142Z
DTSTART:20130603T020000Z
DTEND:20130603T030000Z
DTSTAMP:20260423T235853Z
SUMMARY:Los Luchadores vs. KICK A$$ MISFITS
DESCRIPTION:KICK A$$ MISFITS vs. Los LuchadoresPlus d'info : #177
X-ALT-DESC;FMTTYPE=text/html:<!DOCTYPE HTML PUBLIC "-//W3C//DTD HTML 3.2//E
	N">\n<HTML>\n<HEAD>\n<TITLE></TITLE>\n</HEAD>\n<BODY>\n<h3>KICK A$$ MISFITS
	 vs. Los Luchadores</h3>Plus d'info : <a href="https://www.golnetwork.com/g
	ame/v/28687/">#177</a>\n\n</BODY>\n</HTML>
STATUS:CONFIRMED
CLASS:PUBLIC
URL:https://www.golnetwork.com/game/v/28687/
X-MICROSOFT-CDO-BUSYSTATUS:BUSY
X-MICROSOFT-CDO-IMPORTANCE:1
END:VEVENT
BEGIN:VEVENT
UID:g30al@games.golnetwork.com
LOCATION:Lamport Stadium Field 2
GEO:43.639337;-79.4248954
CREATED:20130502T025020Z
DTSTART:20130603T020000Z
DTEND:20130603T030000Z
DTSTAMP:20260423T235853Z
SUMMARY:Las Vacas vs. Not Sure Yet
DESCRIPTION:Not Sure Yet vs. Las VacasPlus d'info : #178
X-ALT-DESC;FMTTYPE=text/html:<!DOCTYPE HTML PUBLIC "-//W3C//DTD HTML 3.2//E
	N">\n<HTML>\n<HEAD>\n<TITLE></TITLE>\n</HEAD>\n<BODY>\n<h3>Not Sure Yet vs.
	 Las Vacas</h3>Plus d'info : <a href="https://www.golnetwork.com/game/v/286
	71/">#178</a>\n\n</BODY>\n</HTML>
STATUS:CONFIRMED
CLASS:PUBLIC
URL:https://www.golnetwork.com/game/v/28671/
X-MICROSOFT-CDO-BUSYSTATUS:BUSY
X-MICROSOFT-CDO-IMPORTANCE:1
END:VEVENT
BEGIN:VEVENT
UID:g30an@games.golnetwork.com
LOCATION:Lamport Stadium Field 2
GEO:43.639337;-79.4248954
CREATED:20130502T025020Z
DTSTART:20130610T000000Z
DTEND:20130610T010000Z
DTSTAMP:20260423T235853Z
SUMMARY:Los Luchadores vs. Las Vacas
DESCRIPTION:Las Vacas vs. Los LuchadoresPlus d'info : #219
X-ALT-DESC;FMTTYPE=text/html:<!DOCTYPE HTML PUBLIC "-//W3C//DTD HTML 3.2//E
	N">\n<HTML>\n<HEAD>\n<TITLE></TITLE>\n</HEAD>\n<BODY>\n<h3>Las Vacas vs. Lo
	s Luchadores</h3>Plus d'info : <a href="https://www.golnetwork.com/game/v/2
	8672/">#219</a>\n\n</BODY>\n</HTML>
STATUS:CONFIRMED
CLASS:PUBLIC
URL:https://www.golnetwork.com/game/v/28672/
X-MICROSOFT-CDO-BUSYSTATUS:BUSY
X-MICROSOFT-CDO-IMPORTANCE:1
END:VEVENT
BEGIN:VEVENT
UID:g30ap@games.golnetwork.com
LOCATION:Lamport Stadium Field 2
GEO:43.639337;-79.4248954
CREATED:20130502T025020Z
DTSTART:20130610T010000Z
DTEND:20130610T020000Z
DTSTAMP:20260423T235853Z
SUMMARY:Cat Daddy's vs. KICK A$$ MISFITS
DESCRIPTION:KICK A$$ MISFITS vs. Cat Daddy'sPlus d'info : #222
X-ALT-DESC;FMTTYPE=text/html:<!DOCTYPE HTML PUBLIC "-//W3C//DTD HTML 3.2//E
	N">\n<HTML>\n<HEAD>\n<TITLE></TITLE>\n</HEAD>\n<BODY>\n<h3>KICK A$$ MISFITS
	 vs. Cat Daddy's</h3>Plus d'info : <a href="https://www.golnetwork.com/game
	/v/28673/">#222</a>\n\n</BODY>\n</HTML>
STATUS:CONFIRMED
CLASS:PUBLIC
URL:https://www.golnetwork.com/game/v/28673/
X-MICROSOFT-CDO-BUSYSTATUS:BUSY
X-MICROSOFT-CDO-IMPORTANCE:1
END:VEVENT
BEGIN:VEVENT
UID:g30b0@games.golnetwork.com
LOCATION:Lamport Stadium Field 2
GEO:43.639337;-79.4248954
CREATED:20130502T025020Z
DTSTART:20130610T020000Z
DTEND:20130610T030000Z
DTSTAMP:20260423T235853Z
SUMMARY:Not Sure Yet vs. Something FC (White)
DESCRIPTION:Something FC (White) vs. Not Sure YetPlus d'info : #224
X-ALT-DESC;FMTTYPE=text/html:<!DOCTYPE HTML PUBLIC "-//W3C//DTD HTML 3.2//E
	N">\n<HTML>\n<HEAD>\n<TITLE></TITLE>\n</HEAD>\n<BODY>\n<h3>Something FC (Wh
	ite) vs. Not Sure Yet</h3>Plus d'info : <a href="https://www.golnetwork.com
	/game/v/28674/">#224</a>\n\n</BODY>\n</HTML>
STATUS:CONFIRMED
CLASS:PUBLIC
URL:https://www.golnetwork.com/game/v/28674/
X-MICROSOFT-CDO-BUSYSTATUS:BUSY
X-MICROSOFT-CDO-IMPORTANCE:1
END:VEVENT
BEGIN:VEVENT
UID:g30b2@games.golnetwork.com
LOCATION:Lamport Stadium Field 2
GEO:43.639337;-79.4248954
CREATED:20130502T025020Z
DTSTART:20130617T000000Z
DTEND:20130617T010000Z
DTSTAMP:20260423T235853Z
SUMMARY:Cat Daddy's vs. Las Vacas
DESCRIPTION:Las Vacas vs. Cat Daddy'sPlus d'info : #263
X-ALT-DESC;FMTTYPE=text/html:<!DOCTYPE HTML PUBLIC "-//W3C//DTD HTML 3.2//E
	N">\n<HTML>\n<HEAD>\n<TITLE></TITLE>\n</HEAD>\n<BODY>\n<h3>Las Vacas vs. Ca
	t Daddy's</h3>Plus d'info : <a href="https://www.golnetwork.com/game/v/2867
	5/">#263</a>\n\n</BODY>\n</HTML>
STATUS:CONFIRMED
CLASS:PUBLIC
URL:https://www.golnetwork.com/game/v/28675/
X-MICROSOFT-CDO-BUSYSTATUS:BUSY
X-MICROSOFT-CDO-IMPORTANCE:1
END:VEVENT
BEGIN:VEVENT
UID:g30b4@games.golnetwork.com
LOCATION:Lamport Stadium Field 2
GEO:43.639337;-79.4248954
CREATED:20130502T025020Z
DTSTART:20130617T010000Z
DTEND:20130617T020000Z
DTSTAMP:20260423T235853Z
SUMMARY:Los Luchadores vs. Not Sure Yet
DESCRIPTION:Not Sure Yet vs. Los LuchadoresPlus d'info : #266
X-ALT-DESC;FMTTYPE=text/html:<!DOCTYPE HTML PUBLIC "-//W3C//DTD HTML 3.2//E
	N">\n<HTML>\n<HEAD>\n<TITLE></TITLE>\n</HEAD>\n<BODY>\n<h3>Not Sure Yet vs.
	 Los Luchadores</h3>Plus d'info : <a href="https://www.golnetwork.com/game/
	v/28676/">#266</a>\n\n</BODY>\n</HTML>
STATUS:CONFIRMED
CLASS:PUBLIC
URL:https://www.golnetwork.com/game/v/28676/
X-MICROSOFT-CDO-BUSYSTATUS:BUSY
X-MICROSOFT-CDO-IMPORTANCE:1
END:VEVENT
BEGIN:VEVENT
UID:g30b6@games.golnetwork.com
LOCATION:Lamport Stadium Field 2
GEO:43.639337;-79.4248954
CREATED:20130502T025020Z
DTSTART:20130617T020000Z
DTEND:20130617T030000Z
DTSTAMP:20260423T235853Z
SUMMARY:Something FC (White) vs. KICK A$$ MISFITS
DESCRIPTION:KICK A$$ MISFITS vs. Something FC (White)Plus d'info : #268
X-ALT-DESC;FMTTYPE=text/html:<!DOCTYPE HTML PUBLIC "-//W3C//DTD HTML 3.2//E
	N">\n<HTML>\n<HEAD>\n<TITLE></TITLE>\n</HEAD>\n<BODY>\n<h3>KICK A$$ MISFITS
	 vs. Something FC (White)</h3>Plus d'info : <a href="https://www.golnetwork
	.com/game/v/28677/">#268</a>\n\n</BODY>\n</HTML>
STATUS:CONFIRMED
CLASS:PUBLIC
URL:https://www.golnetwork.com/game/v/28677/
X-MICROSOFT-CDO-BUSYSTATUS:BUSY
X-MICROSOFT-CDO-IMPORTANCE:1
END:VEVENT
BEGIN:VEVENT
UID:g30b8@games.golnetwork.com
LOCATION:Lamport Stadium Field 2
GEO:43.639337;-79.4248954
CREATED:20130502T025020Z
DTSTART:20130624T000000Z
DTEND:20130624T010000Z
DTSTAMP:20260423T235853Z
SUMMARY:Los Luchadores vs. Cat Daddy's
DESCRIPTION:Cat Daddy's vs. Los LuchadoresPlus d'info : #307
X-ALT-DESC;FMTTYPE=text/html:<!DOCTYPE HTML PUBLIC "-//W3C//DTD HTML 3.2//E
	N">\n<HTML>\n<HEAD>\n<TITLE></TITLE>\n</HEAD>\n<BODY>\n<h3>Cat Daddy's vs. 
	Los Luchadores</h3>Plus d'info : <a href="https://www.golnetwork.com/game/v
	/28678/">#307</a>\n\n</BODY>\n</HTML>
STATUS:CONFIRMED
CLASS:PUBLIC
URL:https://www.golnetwork.com/game/v/28678/
X-MICROSOFT-CDO-BUSYSTATUS:BUSY
X-MICROSOFT-CDO-IMPORTANCE:1
END:VEVENT
BEGIN:VEVENT
UID:g30ba@games.golnetwork.com
LOCATION:Lamport Stadium Field 2
GEO:43.639337;-79.4248954
CREATED:20130502T025020Z
DTSTART:20130624T010000Z
DTEND:20130624T020000Z
DTSTAMP:20260423T235853Z
SUMMARY:Not Sure Yet vs. Las Vacas
DESCRIPTION:Las Vacas vs. Not Sure YetPlus d'info : #310
X-ALT-DESC;FMTTYPE=text/html:<!DOCTYPE HTML PUBLIC "-//W3C//DTD HTML 3.2//E
	N">\n<HTML>\n<HEAD>\n<TITLE></TITLE>\n</HEAD>\n<BODY>\n<h3>Las Vacas vs. No
	t Sure Yet</h3>Plus d'info : <a href="https://www.golnetwork.com/game/v/286
	79/">#310</a>\n\n</BODY>\n</HTML>
STATUS:CONFIRMED
CLASS:PUBLIC
URL:https://www.golnetwork.com/game/v/28679/
X-MICROSOFT-CDO-BUSYSTATUS:BUSY
X-MICROSOFT-CDO-IMPORTANCE:1
END:VEVENT
BEGIN:VEVENT
UID:g30bc@games.golnetwork.com
LOCATION:Lamport Stadium Field 2
GEO:43.639337;-79.4248954
CREATED:20130502T025020Z
DTSTART:20130624T020000Z
DTEND:20130624T030000Z
DTSTAMP:20260423T235853Z
SUMMARY:Something FC (White) vs. KICK A$$ MISFITS
DESCRIPTION:KICK A$$ MISFITS vs. Something FC (White)Plus d'info : #312
X-ALT-DESC;FMTTYPE=text/html:<!DOCTYPE HTML PUBLIC "-//W3C//DTD HTML 3.2//E
	N">\n<HTML>\n<HEAD>\n<TITLE></TITLE>\n</HEAD>\n<BODY>\n<h3>KICK A$$ MISFITS
	 vs. Something FC (White)</h3>Plus d'info : <a href="https://www.golnetwork
	.com/game/v/28680/">#312</a>\n\n</BODY>\n</HTML>
STATUS:CONFIRMED
CLASS:PUBLIC
URL:https://www.golnetwork.com/game/v/28680/
X-MICROSOFT-CDO-BUSYSTATUS:BUSY
X-MICROSOFT-CDO-IMPORTANCE:1
END:VEVENT
BEGIN:VEVENT
UID:g30bk@games.golnetwork.com
LOCATION:Lamport Stadium Field 2
GEO:43.639337;-79.4248954
CREATED:20130502T025020Z
DTSTART:20130708T000000Z
DTEND:20130708T010000Z
DTSTAMP:20260423T235853Z
SUMMARY:Las Vacas vs. Cat Daddy's
DESCRIPTION:Cat Daddy's vs. Las VacasPlus d'info : #366
X-ALT-DESC;FMTTYPE=text/html:<!DOCTYPE HTML PUBLIC "-//W3C//DTD HTML 3.2//E
	N">\n<HTML>\n<HEAD>\n<TITLE></TITLE>\n</HEAD>\n<BODY>\n<h3>Cat Daddy's vs. 
	Las Vacas</h3>Plus d'info : <a href="https://www.golnetwork.com/game/v/2868
	4/">#366</a>\n\n</BODY>\n</HTML>
STATUS:CONFIRMED
CLASS:PUBLIC
URL:https://www.golnetwork.com/game/v/28684/
X-MICROSOFT-CDO-BUSYSTATUS:BUSY
X-MICROSOFT-CDO-IMPORTANCE:1
END:VEVENT
BEGIN:VEVENT
UID:g30bm@games.golnetwork.com
LOCATION:Lamport Stadium Field 2
GEO:43.639337;-79.4248954
CREATED:20130502T025020Z
DTSTART:20130708T010000Z
DTEND:20130708T020000Z
DTSTAMP:20260423T235853Z
SUMMARY:Something FC (White) vs. Los Luchadores
DESCRIPTION:Los Luchadores vs. Something FC (White)Plus d'info : #368
X-ALT-DESC;FMTTYPE=text/html:<!DOCTYPE HTML PUBLIC "-//W3C//DTD HTML 3.2//E
	N">\n<HTML>\n<HEAD>\n<TITLE></TITLE>\n</HEAD>\n<BODY>\n<h3>Los Luchadores v
	s. Something FC (White)</h3>Plus d'info : <a href="https://www.golnetwork.c
	om/game/v/28685/">#368</a>\n\n</BODY>\n</HTML>
STATUS:CONFIRMED
CLASS:PUBLIC
URL:https://www.golnetwork.com/game/v/28685/
X-MICROSOFT-CDO-BUSYSTATUS:BUSY
X-MICROSOFT-CDO-IMPORTANCE:1
END:VEVENT
BEGIN:VEVENT
UID:g30bo@games.golnetwork.com
LOCATION:Lamport Stadium Field 2
GEO:43.639337;-79.4248954
CREATED:20130502T025020Z
DTSTART:20130708T020000Z
DTEND:20130708T030000Z
DTSTAMP:20260423T235853Z
SUMMARY:Not Sure Yet vs. KICK A$$ MISFITS
DESCRIPTION:KICK A$$ MISFITS vs. Not Sure YetPlus d'info : #370
X-ALT-DESC;FMTTYPE=text/html:<!DOCTYPE HTML PUBLIC "-//W3C//DTD HTML 3.2//E
	N">\n<HTML>\n<HEAD>\n<TITLE></TITLE>\n</HEAD>\n<BODY>\n<h3>KICK A$$ MISFITS
	 vs. Not Sure Yet</h3>Plus d'info : <a href="https://www.golnetwork.com/gam
	e/v/28686/">#370</a>\n\n</BODY>\n</HTML>
STATUS:CONFIRMED
CLASS:PUBLIC
URL:https://www.golnetwork.com/game/v/28686/
X-MICROSOFT-CDO-BUSYSTATUS:BUSY
X-MICROSOFT-CDO-IMPORTANCE:1
END:VEVENT
END:VCALENDAR
