BEGIN:VCALENDAR
PRODID:-//gdesolutions.com//MV Framework 1.0.0.1607 Calendar//EN
VERSION:2.0
METHOD:PUBLISH
CALSCALE:GREGORIAN
BEGIN:VEVENT
UID:g3065@games.golnetwork.com
LOCATION:Lamport Stadium Field 2
GEO:43.639337;-79.4248954
CREATED:20130502T013348Z
DTSTART:20130505T220000Z
DTEND:20130505T230000Z
DTSTAMP:20260421T221549Z
SUMMARY:Magos vs. Tree FC
DESCRIPTION:Tree FC vs. MagosPlus d'info : #8
X-ALT-DESC;FMTTYPE=text/html:<!DOCTYPE HTML PUBLIC "-//W3C//DTD HTML 3.2//E
	N">\n<HTML>\n<HEAD>\n<TITLE></TITLE>\n</HEAD>\n<BODY>\n<h3>Tree FC vs. Mago
	s</h3>Plus d'info : <a href="https://www.golnetwork.com/game/v/28609/">#8</
	a>\n\n</BODY>\n</HTML>
STATUS:CONFIRMED
CLASS:PUBLIC
URL:https://www.golnetwork.com/game/v/28609/
X-MICROSOFT-CDO-BUSYSTATUS:BUSY
X-MICROSOFT-CDO-IMPORTANCE:1
END:VEVENT
BEGIN:VEVENT
UID:g3067@games.golnetwork.com
LOCATION:Lamport Stadium Field 2
GEO:43.639337;-79.4248954
CREATED:20130502T013348Z
DTSTART:20130505T230000Z
DTEND:20130506T000000Z
DTSTAMP:20260421T221549Z
SUMMARY:Galo FC vs. XTSC Rebels
DESCRIPTION:XTSC Rebels vs. Galo FCPlus d'info : #11
X-ALT-DESC;FMTTYPE=text/html:<!DOCTYPE HTML PUBLIC "-//W3C//DTD HTML 3.2//E
	N">\n<HTML>\n<HEAD>\n<TITLE></TITLE>\n</HEAD>\n<BODY>\n<h3>XTSC Rebels vs. 
	Galo FC</h3>Plus d'info : <a href="https://www.golnetwork.com/game/v/28610/
	">#11</a>\n\n</BODY>\n</HTML>
STATUS:CONFIRMED
CLASS:PUBLIC
URL:https://www.golnetwork.com/game/v/28610/
X-MICROSOFT-CDO-BUSYSTATUS:BUSY
X-MICROSOFT-CDO-IMPORTANCE:1
END:VEVENT
BEGIN:VEVENT
UID:g3069@games.golnetwork.com
LOCATION:Lamport Stadium Field 1
GEO:43.639337;-79.4248954
CREATED:20130502T013348Z
DTSTART:20130506T010000Z
DTEND:20130506T020000Z
DTSTAMP:20260421T221549Z
SUMMARY:Emergency FC vs. XTSC Penalty Box Heroes
DESCRIPTION:XTSC Penalty Box Heroes vs. Emergency FCPlus d'info : #15
X-ALT-DESC;FMTTYPE=text/html:<!DOCTYPE HTML PUBLIC "-//W3C//DTD HTML 3.2//E
	N">\n<HTML>\n<HEAD>\n<TITLE></TITLE>\n</HEAD>\n<BODY>\n<h3>XTSC Penalty Box
	 Heroes vs. Emergency FC</h3>Plus d'info : <a href="https://www.golnetwork.
	com/game/v/28611/">#15</a>\n\n</BODY>\n</HTML>
STATUS:CONFIRMED
CLASS:PUBLIC
URL:https://www.golnetwork.com/game/v/28611/
X-MICROSOFT-CDO-BUSYSTATUS:BUSY
X-MICROSOFT-CDO-IMPORTANCE:1
END:VEVENT
BEGIN:VEVENT
UID:g306b@games.golnetwork.com
LOCATION:Lamport Stadium Field 1
GEO:43.639337;-79.4248954
CREATED:20130502T013348Z
DTSTART:20130506T020000Z
DTEND:20130506T030000Z
DTSTAMP:20260421T221549Z
SUMMARY:District 12 vs. Milo Casting FC
DESCRIPTION:Milo Casting FC vs. District 12Plus d'info : #17
X-ALT-DESC;FMTTYPE=text/html:<!DOCTYPE HTML PUBLIC "-//W3C//DTD HTML 3.2//E
	N">\n<HTML>\n<HEAD>\n<TITLE></TITLE>\n</HEAD>\n<BODY>\n<h3>Milo Casting FC 
	vs. District 12</h3>Plus d'info : <a href="https://www.golnetwork.com/game/
	v/28612/">#17</a>\n\n</BODY>\n</HTML>
STATUS:CONFIRMED
CLASS:PUBLIC
URL:https://www.golnetwork.com/game/v/28612/
X-MICROSOFT-CDO-BUSYSTATUS:BUSY
X-MICROSOFT-CDO-IMPORTANCE:1
END:VEVENT
BEGIN:VEVENT
UID:g30cb@games.golnetwork.com
LOCATION:Lamport Stadium Field 2
GEO:43.639337;-79.4248954
CREATED:20130502T032738Z
DTSTART:20130512T190000Z
DTEND:20130512T200000Z
DTSTAMP:20260421T221549Z
SUMMARY:District 12 vs. XTSC Rebels
DESCRIPTION:XTSC Rebels vs. District 12Plus d'info : #27
X-ALT-DESC;FMTTYPE=text/html:<!DOCTYPE HTML PUBLIC "-//W3C//DTD HTML 3.2//E
	N">\n<HTML>\n<HEAD>\n<TITLE></TITLE>\n</HEAD>\n<BODY>\n<h3>XTSC Rebels vs. 
	District 12</h3>Plus d'info : <a href="https://www.golnetwork.com/game/v/28
	693/">#27</a>\n\n</BODY>\n</HTML>
STATUS:CONFIRMED
CLASS:PUBLIC
URL:https://www.golnetwork.com/game/v/28693/
X-MICROSOFT-CDO-BUSYSTATUS:BUSY
X-MICROSOFT-CDO-IMPORTANCE:1
END:VEVENT
BEGIN:VEVENT
UID:g3096@games.golnetwork.com
LOCATION:Lamport Stadium Field 2
GEO:43.639337;-79.4248954
CREATED:20130502T014334Z
DTSTART:20130512T200000Z
DTEND:20130512T210000Z
DTSTAMP:20260421T221549Z
SUMMARY:Galo FC vs. Magos
DESCRIPTION:Magos vs. Galo FCPlus d'info : #28
X-ALT-DESC;FMTTYPE=text/html:<!DOCTYPE HTML PUBLIC "-//W3C//DTD HTML 3.2//E
	N">\n<HTML>\n<HEAD>\n<TITLE></TITLE>\n</HEAD>\n<BODY>\n<h3>Magos vs. Galo F
	C</h3>Plus d'info : <a href="https://www.golnetwork.com/game/v/28650/">#28<
	/a>\n\n</BODY>\n</HTML>
STATUS:CONFIRMED
CLASS:PUBLIC
URL:https://www.golnetwork.com/game/v/28650/
X-MICROSOFT-CDO-BUSYSTATUS:BUSY
X-MICROSOFT-CDO-IMPORTANCE:1
END:VEVENT
BEGIN:VEVENT
UID:g3098@games.golnetwork.com
LOCATION:Lamport Stadium Field 2
GEO:43.639337;-79.4248954
CREATED:20130502T014345Z
DTSTART:20130512T210000Z
DTEND:20130512T220000Z
DTSTAMP:20260421T221549Z
SUMMARY:Emergency FC vs. Tree FC
DESCRIPTION:Tree FC vs. Emergency FCPlus d'info : #32
X-ALT-DESC;FMTTYPE=text/html:<!DOCTYPE HTML PUBLIC "-//W3C//DTD HTML 3.2//E
	N">\n<HTML>\n<HEAD>\n<TITLE></TITLE>\n</HEAD>\n<BODY>\n<h3>Tree FC vs. Emer
	gency FC</h3>Plus d'info : <a href="https://www.golnetwork.com/game/v/28651
	/">#32</a>\n\n</BODY>\n</HTML>
STATUS:CONFIRMED
CLASS:PUBLIC
URL:https://www.golnetwork.com/game/v/28651/
X-MICROSOFT-CDO-BUSYSTATUS:BUSY
X-MICROSOFT-CDO-IMPORTANCE:1
END:VEVENT
BEGIN:VEVENT
UID:g306d@games.golnetwork.com
LOCATION:Lamport Stadium Field 2
GEO:43.639337;-79.4248954
CREATED:20130502T013348Z
DTSTART:20130512T220000Z
DTEND:20130512T230000Z
DTSTAMP:20260421T221549Z
SUMMARY:Milo Casting FC vs. Tree FC
DESCRIPTION:Tree FC vs. Milo Casting FCPlus d'info : #37
X-ALT-DESC;FMTTYPE=text/html:<!DOCTYPE HTML PUBLIC "-//W3C//DTD HTML 3.2//E
	N">\n<HTML>\n<HEAD>\n<TITLE></TITLE>\n</HEAD>\n<BODY>\n<h3>Tree FC vs. Milo
	 Casting FC</h3>Plus d'info : <a href="https://www.golnetwork.com/game/v/28
	613/">#37</a>\n\n</BODY>\n</HTML>
STATUS:CONFIRMED
CLASS:PUBLIC
URL:https://www.golnetwork.com/game/v/28613/
X-MICROSOFT-CDO-BUSYSTATUS:BUSY
X-MICROSOFT-CDO-IMPORTANCE:1
END:VEVENT
BEGIN:VEVENT
UID:g306f@games.golnetwork.com
LOCATION:Lamport Stadium Field 2
GEO:43.639337;-79.4248954
CREATED:20130502T013348Z
DTSTART:20130512T230000Z
DTEND:20130513T000000Z
DTSTAMP:20260421T221549Z
SUMMARY:Milo Casting FC vs. XTSC Penalty Box Heroes
DESCRIPTION:XTSC Penalty Box Heroes vs. Milo Casting FCPlus d'info : #40
X-ALT-DESC;FMTTYPE=text/html:<!DOCTYPE HTML PUBLIC "-//W3C//DTD HTML 3.2//E
	N">\n<HTML>\n<HEAD>\n<TITLE></TITLE>\n</HEAD>\n<BODY>\n<h3>XTSC Penalty Box
	 Heroes vs. Milo Casting FC</h3>Plus d'info : <a href="https://www.golnetwo
	rk.com/game/v/28614/">#40</a>\n\n</BODY>\n</HTML>
STATUS:CONFIRMED
CLASS:PUBLIC
URL:https://www.golnetwork.com/game/v/28614/
X-MICROSOFT-CDO-BUSYSTATUS:BUSY
X-MICROSOFT-CDO-IMPORTANCE:1
END:VEVENT
BEGIN:VEVENT
UID:g30cf@games.golnetwork.com
LOCATION:Lamport Stadium Field 2
GEO:43.639337;-79.4248954
CREATED:20130502T034930Z
DTSTART:20130520T000000Z
DTEND:20130520T010000Z
DTSTAMP:20260421T221549Z
SUMMARY:Emergency FC vs. Magos
DESCRIPTION:Magos vs. Emergency FCPlus d'info : #82
X-ALT-DESC;FMTTYPE=text/html:<!DOCTYPE HTML PUBLIC "-//W3C//DTD HTML 3.2//E
	N">\n<HTML>\n<HEAD>\n<TITLE></TITLE>\n</HEAD>\n<BODY>\n<h3>Magos vs. Emerge
	ncy FC</h3>Plus d'info : <a href="https://www.golnetwork.com/game/v/28695/"
	>#82</a>\n\n</BODY>\n</HTML>
STATUS:CONFIRMED
CLASS:PUBLIC
URL:https://www.golnetwork.com/game/v/28695/
X-MICROSOFT-CDO-BUSYSTATUS:BUSY
X-MICROSOFT-CDO-IMPORTANCE:1
END:VEVENT
BEGIN:VEVENT
UID:g3072@games.golnetwork.com
LOCATION:Lamport Stadium Field 2
GEO:43.639337;-79.4248954
CREATED:20130502T013348Z
DTSTART:20130526T220000Z
DTEND:20130526T230000Z
DTSTAMP:20260421T221549Z
SUMMARY:District 12 vs. Magos
DESCRIPTION:Magos vs. District 12Plus d'info : #116
X-ALT-DESC;FMTTYPE=text/html:<!DOCTYPE HTML PUBLIC "-//W3C//DTD HTML 3.2//E
	N">\n<HTML>\n<HEAD>\n<TITLE></TITLE>\n</HEAD>\n<BODY>\n<h3>Magos vs. Distri
	ct 12</h3>Plus d'info : <a href="https://www.golnetwork.com/game/v/28621/">
	#116</a>\n\n</BODY>\n</HTML>
STATUS:CONFIRMED
CLASS:PUBLIC
URL:https://www.golnetwork.com/game/v/28621/
X-MICROSOFT-CDO-BUSYSTATUS:BUSY
X-MICROSOFT-CDO-IMPORTANCE:1
END:VEVENT
BEGIN:VEVENT
UID:g3074@games.golnetwork.com
LOCATION:Lamport Stadium Field 2
GEO:43.639337;-79.4248954
CREATED:20130502T013348Z
DTSTART:20130526T230000Z
DTEND:20130527T000000Z
DTSTAMP:20260421T221549Z
SUMMARY:Milo Casting FC vs. Emergency FC
DESCRIPTION:Emergency FC vs. Milo Casting FCPlus d'info : #119
X-ALT-DESC;FMTTYPE=text/html:<!DOCTYPE HTML PUBLIC "-//W3C//DTD HTML 3.2//E
	N">\n<HTML>\n<HEAD>\n<TITLE></TITLE>\n</HEAD>\n<BODY>\n<h3>Emergency FC vs.
	 Milo Casting FC</h3>Plus d'info : <a href="https://www.golnetwork.com/game
	/v/28622/">#119</a>\n\n</BODY>\n</HTML>
STATUS:CONFIRMED
CLASS:PUBLIC
URL:https://www.golnetwork.com/game/v/28622/
X-MICROSOFT-CDO-BUSYSTATUS:BUSY
X-MICROSOFT-CDO-IMPORTANCE:1
END:VEVENT
BEGIN:VEVENT
UID:g3076@games.golnetwork.com
LOCATION:Lamport Stadium Field 1
GEO:43.639337;-79.4248954
CREATED:20130502T013348Z
DTSTART:20130527T010000Z
DTEND:20130527T020000Z
DTSTAMP:20260421T221549Z
SUMMARY:XTSC Penalty Box Heroes vs. Galo FC
DESCRIPTION:Galo FC vs. XTSC Penalty Box HeroesPlus d'info : #124
X-ALT-DESC;FMTTYPE=text/html:<!DOCTYPE HTML PUBLIC "-//W3C//DTD HTML 3.2//E
	N">\n<HTML>\n<HEAD>\n<TITLE></TITLE>\n</HEAD>\n<BODY>\n<h3>Galo FC vs. XTSC
	 Penalty Box Heroes</h3>Plus d'info : <a href="https://www.golnetwork.com/g
	ame/v/28623/">#124</a>\n\n</BODY>\n</HTML>
STATUS:CONFIRMED
CLASS:PUBLIC
URL:https://www.golnetwork.com/game/v/28623/
X-MICROSOFT-CDO-BUSYSTATUS:BUSY
X-MICROSOFT-CDO-IMPORTANCE:1
END:VEVENT
BEGIN:VEVENT
UID:g3078@games.golnetwork.com
LOCATION:Lamport Stadium Field 1
GEO:43.639337;-79.4248954
CREATED:20130502T013348Z
DTSTART:20130527T020000Z
DTEND:20130527T030000Z
DTSTAMP:20260421T221549Z
SUMMARY:XTSC Rebels vs. Tree FC
DESCRIPTION:Tree FC vs. XTSC RebelsPlus d'info : #126
X-ALT-DESC;FMTTYPE=text/html:<!DOCTYPE HTML PUBLIC "-//W3C//DTD HTML 3.2//E
	N">\n<HTML>\n<HEAD>\n<TITLE></TITLE>\n</HEAD>\n<BODY>\n<h3>Tree FC vs. XTSC
	 Rebels</h3>Plus d'info : <a href="https://www.golnetwork.com/game/v/28624/
	">#126</a>\n\n</BODY>\n</HTML>
STATUS:CONFIRMED
CLASS:PUBLIC
URL:https://www.golnetwork.com/game/v/28624/
X-MICROSOFT-CDO-BUSYSTATUS:BUSY
X-MICROSOFT-CDO-IMPORTANCE:1
END:VEVENT
BEGIN:VEVENT
UID:g309i@games.golnetwork.com
LOCATION:Lamport Stadium Field 2
GEO:43.639337;-79.4248954
CREATED:20130502T015516Z
DTSTART:20130602T190000Z
DTEND:20130602T200000Z
DTSTAMP:20260421T221549Z
SUMMARY:XTSC Rebels vs. Emergency FC
DESCRIPTION:Emergency FC vs. XTSC RebelsPlus d'info : #155
X-ALT-DESC;FMTTYPE=text/html:<!DOCTYPE HTML PUBLIC "-//W3C//DTD HTML 3.2//E
	N">\n<HTML>\n<HEAD>\n<TITLE></TITLE>\n</HEAD>\n<BODY>\n<h3>Emergency FC vs.
	 XTSC Rebels</h3>Plus d'info : <a href="https://www.golnetwork.com/game/v/2
	8656/">#155</a>\n\n</BODY>\n</HTML>
STATUS:CONFIRMED
CLASS:PUBLIC
URL:https://www.golnetwork.com/game/v/28656/
X-MICROSOFT-CDO-BUSYSTATUS:BUSY
X-MICROSOFT-CDO-IMPORTANCE:1
END:VEVENT
BEGIN:VEVENT
UID:g309e@games.golnetwork.com
LOCATION:Lamport Stadium Field 2
GEO:43.639337;-79.4248954
CREATED:20130502T015447Z
DTSTART:20130602T200000Z
DTEND:20130602T210000Z
DTSTAMP:20260421T221549Z
SUMMARY:XTSC Rebels vs. XTSC Penalty Box Heroes
DESCRIPTION:XTSC Penalty Box Heroes vs. XTSC RebelsPlus d'info : #157
X-ALT-DESC;FMTTYPE=text/html:<!DOCTYPE HTML PUBLIC "-//W3C//DTD HTML 3.2//E
	N">\n<HTML>\n<HEAD>\n<TITLE></TITLE>\n</HEAD>\n<BODY>\n<h3>XTSC Penalty Box
	 Heroes vs. XTSC Rebels</h3>Plus d'info : <a href="https://www.golnetwork.c
	om/game/v/28654/">#157</a>\n\n</BODY>\n</HTML>
STATUS:CONFIRMED
CLASS:PUBLIC
URL:https://www.golnetwork.com/game/v/28654/
X-MICROSOFT-CDO-BUSYSTATUS:BUSY
X-MICROSOFT-CDO-IMPORTANCE:1
END:VEVENT
BEGIN:VEVENT
UID:g309g@games.golnetwork.com
LOCATION:Lamport Stadium Field 2
GEO:43.639337;-79.4248954
CREATED:20130502T015454Z
DTSTART:20130602T210000Z
DTEND:20130602T220000Z
DTSTAMP:20260421T221549Z
SUMMARY:District 12 vs. XTSC Penalty Box Heroes
DESCRIPTION:XTSC Penalty Box Heroes vs. District 12Plus d'info : #162
X-ALT-DESC;FMTTYPE=text/html:<!DOCTYPE HTML PUBLIC "-//W3C//DTD HTML 3.2//E
	N">\n<HTML>\n<HEAD>\n<TITLE></TITLE>\n</HEAD>\n<BODY>\n<h3>XTSC Penalty Box
	 Heroes vs. District 12</h3>Plus d'info : <a href="https://www.golnetwork.c
	om/game/v/28655/">#162</a>\n\n</BODY>\n</HTML>
STATUS:CONFIRMED
CLASS:PUBLIC
URL:https://www.golnetwork.com/game/v/28655/
X-MICROSOFT-CDO-BUSYSTATUS:BUSY
X-MICROSOFT-CDO-IMPORTANCE:1
END:VEVENT
BEGIN:VEVENT
UID:g307a@games.golnetwork.com
LOCATION:Lamport Stadium Field 2
GEO:43.639337;-79.4248954
CREATED:20130502T013348Z
DTSTART:20130602T220000Z
DTEND:20130602T230000Z
DTSTAMP:20260421T221549Z
SUMMARY:District 12 vs. Galo FC
DESCRIPTION:Galo FC vs. District 12Plus d'info : #167
X-ALT-DESC;FMTTYPE=text/html:<!DOCTYPE HTML PUBLIC "-//W3C//DTD HTML 3.2//E
	N">\n<HTML>\n<HEAD>\n<TITLE></TITLE>\n</HEAD>\n<BODY>\n<h3>Galo FC vs. Dist
	rict 12</h3>Plus d'info : <a href="https://www.golnetwork.com/game/v/28625/
	">#167</a>\n\n</BODY>\n</HTML>
STATUS:CONFIRMED
CLASS:PUBLIC
URL:https://www.golnetwork.com/game/v/28625/
X-MICROSOFT-CDO-BUSYSTATUS:BUSY
X-MICROSOFT-CDO-IMPORTANCE:1
END:VEVENT
BEGIN:VEVENT
UID:g307c@games.golnetwork.com
LOCATION:Lamport Stadium Field 2
GEO:43.639337;-79.4248954
CREATED:20130502T013348Z
DTSTART:20130602T230000Z
DTEND:20130603T000000Z
DTSTAMP:20260421T221549Z
SUMMARY:Tree FC vs. Galo FC
DESCRIPTION:Galo FC vs. Tree FCPlus d'info : #170
X-ALT-DESC;FMTTYPE=text/html:<!DOCTYPE HTML PUBLIC "-//W3C//DTD HTML 3.2//E
	N">\n<HTML>\n<HEAD>\n<TITLE></TITLE>\n</HEAD>\n<BODY>\n<h3>Galo FC vs. Tree
	 FC</h3>Plus d'info : <a href="https://www.golnetwork.com/game/v/28626/">#1
	70</a>\n\n</BODY>\n</HTML>
STATUS:CONFIRMED
CLASS:PUBLIC
URL:https://www.golnetwork.com/game/v/28626/
X-MICROSOFT-CDO-BUSYSTATUS:BUSY
X-MICROSOFT-CDO-IMPORTANCE:1
END:VEVENT
BEGIN:VEVENT
UID:g307e@games.golnetwork.com
LOCATION:Lamport Stadium Field 1
GEO:43.639337;-79.4248954
CREATED:20130502T013348Z
DTSTART:20130603T010000Z
DTEND:20130603T020000Z
DTSTAMP:20260421T221549Z
SUMMARY:Milo Casting FC vs. Magos
DESCRIPTION:Magos vs. Milo Casting FCPlus d'info : #175
X-ALT-DESC;FMTTYPE=text/html:<!DOCTYPE HTML PUBLIC "-//W3C//DTD HTML 3.2//E
	N">\n<HTML>\n<HEAD>\n<TITLE></TITLE>\n</HEAD>\n<BODY>\n<h3>Magos vs. Milo C
	asting FC</h3>Plus d'info : <a href="https://www.golnetwork.com/game/v/2862
	7/">#175</a>\n\n</BODY>\n</HTML>
STATUS:CONFIRMED
CLASS:PUBLIC
URL:https://www.golnetwork.com/game/v/28627/
X-MICROSOFT-CDO-BUSYSTATUS:BUSY
X-MICROSOFT-CDO-IMPORTANCE:1
END:VEVENT
BEGIN:VEVENT
UID:g307i@games.golnetwork.com
LOCATION:Lamport Stadium Field 2
GEO:43.639337;-79.4248954
CREATED:20130502T013348Z
DTSTART:20130609T220000Z
DTEND:20130609T230000Z
DTSTAMP:20260421T221549Z
SUMMARY:XTSC Penalty Box Heroes vs. Magos
DESCRIPTION:Magos vs. XTSC Penalty Box HeroesPlus d'info : #213
X-ALT-DESC;FMTTYPE=text/html:<!DOCTYPE HTML PUBLIC "-//W3C//DTD HTML 3.2//E
	N">\n<HTML>\n<HEAD>\n<TITLE></TITLE>\n</HEAD>\n<BODY>\n<h3>Magos vs. XTSC P
	enalty Box Heroes</h3>Plus d'info : <a href="https://www.golnetwork.com/gam
	e/v/28629/">#213</a>\n\n</BODY>\n</HTML>
STATUS:CONFIRMED
CLASS:PUBLIC
URL:https://www.golnetwork.com/game/v/28629/
X-MICROSOFT-CDO-BUSYSTATUS:BUSY
X-MICROSOFT-CDO-IMPORTANCE:1
END:VEVENT
BEGIN:VEVENT
UID:g307k@games.golnetwork.com
LOCATION:Lamport Stadium Field 2
GEO:43.639337;-79.4248954
CREATED:20130502T013348Z
DTSTART:20130609T230000Z
DTEND:20130610T000000Z
DTSTAMP:20260421T221549Z
SUMMARY:XTSC Rebels vs. Milo Casting FC
DESCRIPTION:Milo Casting FC vs. XTSC RebelsPlus d'info : #216
X-ALT-DESC;FMTTYPE=text/html:<!DOCTYPE HTML PUBLIC "-//W3C//DTD HTML 3.2//E
	N">\n<HTML>\n<HEAD>\n<TITLE></TITLE>\n</HEAD>\n<BODY>\n<h3>Milo Casting FC 
	vs. XTSC Rebels</h3>Plus d'info : <a href="https://www.golnetwork.com/game/
	v/28630/">#216</a>\n\n</BODY>\n</HTML>
STATUS:CONFIRMED
CLASS:PUBLIC
URL:https://www.golnetwork.com/game/v/28630/
X-MICROSOFT-CDO-BUSYSTATUS:BUSY
X-MICROSOFT-CDO-IMPORTANCE:1
END:VEVENT
BEGIN:VEVENT
UID:g307m@games.golnetwork.com
LOCATION:Lamport Stadium Field 1
GEO:43.639337;-79.4248954
CREATED:20130502T013348Z
DTSTART:20130610T010000Z
DTEND:20130610T020000Z
DTSTAMP:20260421T221549Z
SUMMARY:Tree FC vs. District 12
DESCRIPTION:District 12 vs. Tree FCPlus d'info : #221
X-ALT-DESC;FMTTYPE=text/html:<!DOCTYPE HTML PUBLIC "-//W3C//DTD HTML 3.2//E
	N">\n<HTML>\n<HEAD>\n<TITLE></TITLE>\n</HEAD>\n<BODY>\n<h3>District 12 vs. 
	Tree FC</h3>Plus d'info : <a href="https://www.golnetwork.com/game/v/28631/
	">#221</a>\n\n</BODY>\n</HTML>
STATUS:CONFIRMED
CLASS:PUBLIC
URL:https://www.golnetwork.com/game/v/28631/
X-MICROSOFT-CDO-BUSYSTATUS:BUSY
X-MICROSOFT-CDO-IMPORTANCE:1
END:VEVENT
BEGIN:VEVENT
UID:g307o@games.golnetwork.com
LOCATION:Lamport Stadium Field 1
GEO:43.639337;-79.4248954
CREATED:20130502T013348Z
DTSTART:20130610T020000Z
DTEND:20130610T030000Z
DTSTAMP:20260421T221549Z
SUMMARY:Galo FC vs. Emergency FC
DESCRIPTION:Emergency FC vs. Galo FCPlus d'info : #223
X-ALT-DESC;FMTTYPE=text/html:<!DOCTYPE HTML PUBLIC "-//W3C//DTD HTML 3.2//E
	N">\n<HTML>\n<HEAD>\n<TITLE></TITLE>\n</HEAD>\n<BODY>\n<h3>Emergency FC vs.
	 Galo FC</h3>Plus d'info : <a href="https://www.golnetwork.com/game/v/28632
	/">#223</a>\n\n</BODY>\n</HTML>
STATUS:CONFIRMED
CLASS:PUBLIC
URL:https://www.golnetwork.com/game/v/28632/
X-MICROSOFT-CDO-BUSYSTATUS:BUSY
X-MICROSOFT-CDO-IMPORTANCE:1
END:VEVENT
BEGIN:VEVENT
UID:g307q@games.golnetwork.com
LOCATION:Lamport Stadium Field 2
GEO:43.639337;-79.4248954
CREATED:20130502T013348Z
DTSTART:20130616T220000Z
DTEND:20130616T230000Z
DTSTAMP:20260421T221549Z
SUMMARY:Magos vs. XTSC Rebels
DESCRIPTION:XTSC Rebels vs. MagosPlus d'info : #257
X-ALT-DESC;FMTTYPE=text/html:<!DOCTYPE HTML PUBLIC "-//W3C//DTD HTML 3.2//E
	N">\n<HTML>\n<HEAD>\n<TITLE></TITLE>\n</HEAD>\n<BODY>\n<h3>XTSC Rebels vs. 
	Magos</h3>Plus d'info : <a href="https://www.golnetwork.com/game/v/28633/">
	#257</a>\n\n</BODY>\n</HTML>
STATUS:CONFIRMED
CLASS:PUBLIC
URL:https://www.golnetwork.com/game/v/28633/
X-MICROSOFT-CDO-BUSYSTATUS:BUSY
X-MICROSOFT-CDO-IMPORTANCE:1
END:VEVENT
BEGIN:VEVENT
UID:g3081@games.golnetwork.com
LOCATION:Lamport Stadium Field 2
GEO:43.639337;-79.4248954
CREATED:20130502T013348Z
DTSTART:20130616T230000Z
DTEND:20130617T000000Z
DTSTAMP:20260421T221549Z
SUMMARY:Tree FC vs. XTSC Penalty Box Heroes
DESCRIPTION:XTSC Penalty Box Heroes vs. Tree FCPlus d'info : #260
X-ALT-DESC;FMTTYPE=text/html:<!DOCTYPE HTML PUBLIC "-//W3C//DTD HTML 3.2//E
	N">\n<HTML>\n<HEAD>\n<TITLE></TITLE>\n</HEAD>\n<BODY>\n<h3>XTSC Penalty Box
	 Heroes vs. Tree FC</h3>Plus d'info : <a href="https://www.golnetwork.com/g
	ame/v/28634/">#260</a>\n\n</BODY>\n</HTML>
STATUS:CONFIRMED
CLASS:PUBLIC
URL:https://www.golnetwork.com/game/v/28634/
X-MICROSOFT-CDO-BUSYSTATUS:BUSY
X-MICROSOFT-CDO-IMPORTANCE:1
END:VEVENT
BEGIN:VEVENT
UID:g3083@games.golnetwork.com
LOCATION:Lamport Stadium Field 1
GEO:43.639337;-79.4248954
CREATED:20130502T013348Z
DTSTART:20130617T010000Z
DTEND:20130617T020000Z
DTSTAMP:20260421T221549Z
SUMMARY:Galo FC vs. Milo Casting FC
DESCRIPTION:Milo Casting FC vs. Galo FCPlus d'info : #265
X-ALT-DESC;FMTTYPE=text/html:<!DOCTYPE HTML PUBLIC "-//W3C//DTD HTML 3.2//E
	N">\n<HTML>\n<HEAD>\n<TITLE></TITLE>\n</HEAD>\n<BODY>\n<h3>Milo Casting FC 
	vs. Galo FC</h3>Plus d'info : <a href="https://www.golnetwork.com/game/v/28
	635/">#265</a>\n\n</BODY>\n</HTML>
STATUS:CONFIRMED
CLASS:PUBLIC
URL:https://www.golnetwork.com/game/v/28635/
X-MICROSOFT-CDO-BUSYSTATUS:BUSY
X-MICROSOFT-CDO-IMPORTANCE:1
END:VEVENT
BEGIN:VEVENT
UID:g3085@games.golnetwork.com
LOCATION:Lamport Stadium Field 1
GEO:43.639337;-79.4248954
CREATED:20130502T013348Z
DTSTART:20130617T020000Z
DTEND:20130617T030000Z
DTSTAMP:20260421T221549Z
SUMMARY:Emergency FC vs. District 12
DESCRIPTION:District 12 vs. Emergency FCPlus d'info : #267
X-ALT-DESC;FMTTYPE=text/html:<!DOCTYPE HTML PUBLIC "-//W3C//DTD HTML 3.2//E
	N">\n<HTML>\n<HEAD>\n<TITLE></TITLE>\n</HEAD>\n<BODY>\n<h3>District 12 vs. 
	Emergency FC</h3>Plus d'info : <a href="https://www.golnetwork.com/game/v/2
	8636/">#267</a>\n\n</BODY>\n</HTML>
STATUS:CONFIRMED
CLASS:PUBLIC
URL:https://www.golnetwork.com/game/v/28636/
X-MICROSOFT-CDO-BUSYSTATUS:BUSY
X-MICROSOFT-CDO-IMPORTANCE:1
END:VEVENT
BEGIN:VEVENT
UID:g3087@games.golnetwork.com
LOCATION:Lamport Stadium Field 2
GEO:43.639337;-79.4248954
CREATED:20130502T013348Z
DTSTART:20130623T220000Z
DTEND:20130623T230000Z
DTSTAMP:20260421T221549Z
SUMMARY:XTSC Penalty Box Heroes vs. Magos
DESCRIPTION:Magos vs. XTSC Penalty Box HeroesPlus d'info : #295
X-ALT-DESC;FMTTYPE=text/html:<!DOCTYPE HTML PUBLIC "-//W3C//DTD HTML 3.2//E
	N">\n<HTML>\n<HEAD>\n<TITLE></TITLE>\n</HEAD>\n<BODY>\n<h3>Magos vs. XTSC P
	enalty Box Heroes</h3>Plus d'info : <a href="https://www.golnetwork.com/gam
	e/v/28637/">#295</a>\n\n</BODY>\n</HTML>
STATUS:CONFIRMED
CLASS:PUBLIC
URL:https://www.golnetwork.com/game/v/28637/
X-MICROSOFT-CDO-BUSYSTATUS:BUSY
X-MICROSOFT-CDO-IMPORTANCE:1
END:VEVENT
BEGIN:VEVENT
UID:g3089@games.golnetwork.com
LOCATION:Lamport Stadium Field 2
GEO:43.639337;-79.4248954
CREATED:20130502T013348Z
DTSTART:20130623T230000Z
DTEND:20130624T000000Z
DTSTAMP:20260421T221549Z
SUMMARY:XTSC Rebels vs. Milo Casting FC
DESCRIPTION:Milo Casting FC vs. XTSC RebelsPlus d'info : #301
X-ALT-DESC;FMTTYPE=text/html:<!DOCTYPE HTML PUBLIC "-//W3C//DTD HTML 3.2//E
	N">\n<HTML>\n<HEAD>\n<TITLE></TITLE>\n</HEAD>\n<BODY>\n<h3>Milo Casting FC 
	vs. XTSC Rebels</h3>Plus d'info : <a href="https://www.golnetwork.com/game/
	v/28638/">#301</a>\n\n</BODY>\n</HTML>
STATUS:CONFIRMED
CLASS:PUBLIC
URL:https://www.golnetwork.com/game/v/28638/
X-MICROSOFT-CDO-BUSYSTATUS:BUSY
X-MICROSOFT-CDO-IMPORTANCE:1
END:VEVENT
BEGIN:VEVENT
UID:g308b@games.golnetwork.com
LOCATION:Lamport Stadium Field 1
GEO:43.639337;-79.4248954
CREATED:20130502T013348Z
DTSTART:20130624T010000Z
DTEND:20130624T020000Z
DTSTAMP:20260421T221549Z
SUMMARY:Tree FC vs. Emergency FC
DESCRIPTION:Emergency FC vs. Tree FCPlus d'info : #309
X-ALT-DESC;FMTTYPE=text/html:<!DOCTYPE HTML PUBLIC "-//W3C//DTD HTML 3.2//E
	N">\n<HTML>\n<HEAD>\n<TITLE></TITLE>\n</HEAD>\n<BODY>\n<h3>Emergency FC vs.
	 Tree FC</h3>Plus d'info : <a href="https://www.golnetwork.com/game/v/28639
	/">#309</a>\n\n</BODY>\n</HTML>
STATUS:CONFIRMED
CLASS:PUBLIC
URL:https://www.golnetwork.com/game/v/28639/
X-MICROSOFT-CDO-BUSYSTATUS:BUSY
X-MICROSOFT-CDO-IMPORTANCE:1
END:VEVENT
BEGIN:VEVENT
UID:g308d@games.golnetwork.com
LOCATION:Lamport Stadium Field 1
GEO:43.639337;-79.4248954
CREATED:20130502T013348Z
DTSTART:20130624T020000Z
DTEND:20130624T030000Z
DTSTAMP:20260421T221549Z
SUMMARY:District 12 vs. Galo FC
DESCRIPTION:Galo FC vs. District 12Plus d'info : #311
X-ALT-DESC;FMTTYPE=text/html:<!DOCTYPE HTML PUBLIC "-//W3C//DTD HTML 3.2//E
	N">\n<HTML>\n<HEAD>\n<TITLE></TITLE>\n</HEAD>\n<BODY>\n<h3>Galo FC vs. Dist
	rict 12</h3>Plus d'info : <a href="https://www.golnetwork.com/game/v/28640/
	">#311</a>\n\n</BODY>\n</HTML>
STATUS:CONFIRMED
CLASS:PUBLIC
URL:https://www.golnetwork.com/game/v/28640/
X-MICROSOFT-CDO-BUSYSTATUS:BUSY
X-MICROSOFT-CDO-IMPORTANCE:1
END:VEVENT
BEGIN:VEVENT
UID:g308n@games.golnetwork.com
LOCATION:Lamport Stadium Field 2
GEO:43.639337;-79.4248954
CREATED:20130502T013348Z
DTSTART:20130707T220000Z
DTEND:20130707T230000Z
DTSTAMP:20260421T221549Z
SUMMARY:Tree FC vs. Galo FC
DESCRIPTION:Galo FC vs. Tree FCPlus d'info : #356
X-ALT-DESC;FMTTYPE=text/html:<!DOCTYPE HTML PUBLIC "-//W3C//DTD HTML 3.2//E
	N">\n<HTML>\n<HEAD>\n<TITLE></TITLE>\n</HEAD>\n<BODY>\n<h3>Galo FC vs. Tree
	 FC</h3>Plus d'info : <a href="https://www.golnetwork.com/game/v/28645/">#3
	56</a>\n\n</BODY>\n</HTML>
STATUS:CONFIRMED
CLASS:PUBLIC
URL:https://www.golnetwork.com/game/v/28645/
X-MICROSOFT-CDO-BUSYSTATUS:BUSY
X-MICROSOFT-CDO-IMPORTANCE:1
END:VEVENT
BEGIN:VEVENT
UID:g308p@games.golnetwork.com
LOCATION:Lamport Stadium Field 2
GEO:43.639337;-79.4248954
CREATED:20130502T013348Z
DTSTART:20130707T230000Z
DTEND:20130708T000000Z
DTSTAMP:20260421T221549Z
SUMMARY:XTSC Penalty Box Heroes vs. Milo Casting FC
DESCRIPTION:Milo Casting FC vs. XTSC Penalty Box HeroesPlus d'info : #361
X-ALT-DESC;FMTTYPE=text/html:<!DOCTYPE HTML PUBLIC "-//W3C//DTD HTML 3.2//E
	N">\n<HTML>\n<HEAD>\n<TITLE></TITLE>\n</HEAD>\n<BODY>\n<h3>Milo Casting FC 
	vs. XTSC Penalty Box Heroes</h3>Plus d'info : <a href="https://www.golnetwo
	rk.com/game/v/28646/">#361</a>\n\n</BODY>\n</HTML>
STATUS:CONFIRMED
CLASS:PUBLIC
URL:https://www.golnetwork.com/game/v/28646/
X-MICROSOFT-CDO-BUSYSTATUS:BUSY
X-MICROSOFT-CDO-IMPORTANCE:1
END:VEVENT
BEGIN:VEVENT
UID:g3090@games.golnetwork.com
LOCATION:Lamport Stadium Field 1
GEO:43.639337;-79.4248954
CREATED:20130502T013348Z
DTSTART:20130708T010000Z
DTEND:20130708T020000Z
DTSTAMP:20260421T221549Z
SUMMARY:XTSC Rebels vs. Magos
DESCRIPTION:Magos vs. XTSC RebelsPlus d'info : #367
X-ALT-DESC;FMTTYPE=text/html:<!DOCTYPE HTML PUBLIC "-//W3C//DTD HTML 3.2//E
	N">\n<HTML>\n<HEAD>\n<TITLE></TITLE>\n</HEAD>\n<BODY>\n<h3>Magos vs. XTSC R
	ebels</h3>Plus d'info : <a href="https://www.golnetwork.com/game/v/28647/">
	#367</a>\n\n</BODY>\n</HTML>
STATUS:CONFIRMED
CLASS:PUBLIC
URL:https://www.golnetwork.com/game/v/28647/
X-MICROSOFT-CDO-BUSYSTATUS:BUSY
X-MICROSOFT-CDO-IMPORTANCE:1
END:VEVENT
BEGIN:VEVENT
UID:g3092@games.golnetwork.com
LOCATION:Lamport Stadium Field 1
GEO:43.639337;-79.4248954
CREATED:20130502T013348Z
DTSTART:20130708T020000Z
DTEND:20130708T030000Z
DTSTAMP:20260421T221549Z
SUMMARY:District 12 vs. Emergency FC
DESCRIPTION:Emergency FC vs. District 12Plus d'info : #369
X-ALT-DESC;FMTTYPE=text/html:<!DOCTYPE HTML PUBLIC "-//W3C//DTD HTML 3.2//E
	N">\n<HTML>\n<HEAD>\n<TITLE></TITLE>\n</HEAD>\n<BODY>\n<h3>Emergency FC vs.
	 District 12</h3>Plus d'info : <a href="https://www.golnetwork.com/game/v/2
	8648/">#369</a>\n\n</BODY>\n</HTML>
STATUS:CONFIRMED
CLASS:PUBLIC
URL:https://www.golnetwork.com/game/v/28648/
X-MICROSOFT-CDO-BUSYSTATUS:BUSY
X-MICROSOFT-CDO-IMPORTANCE:1
END:VEVENT
END:VCALENDAR
