BEGIN:VCALENDAR
PRODID:-//gdesolutions.com//MV Framework 1.0.0.1607 Calendar//EN
VERSION:2.0
METHOD:PUBLISH
CALSCALE:GREGORIAN
BEGIN:VEVENT
UID:g30o5@games.golnetwork.com
LOCATION:North Toronto CI - Feild 1
GEO:43.7098942;-79.3965038
CREATED:20130503T010207Z
DTSTART:20130505T220000Z
DTEND:20130505T231500Z
DTSTAMP:20260421T015323Z
SUMMARY:XTSC's Yonge & Eligible vs. Sunday School Samba!
DESCRIPTION:Sunday School Samba! vs. XTSC's Yonge & EligiblePlus d'info : #
	9
X-ALT-DESC;FMTTYPE=text/html:<!DOCTYPE HTML PUBLIC "-//W3C//DTD HTML 3.2//E
	N">\n<HTML>\n<HEAD>\n<TITLE></TITLE>\n</HEAD>\n<BODY>\n<h3>Sunday School Sa
	mba! vs. XTSC's Yonge & Eligible</h3>Plus d'info : <a href="https://www.gol
	network.com/game/v/28852/">#9</a>\n\n</BODY>\n</HTML>
STATUS:CONFIRMED
CLASS:PUBLIC
URL:https://www.golnetwork.com/game/v/28852/
X-MICROSOFT-CDO-BUSYSTATUS:BUSY
X-MICROSOFT-CDO-IMPORTANCE:1
END:VEVENT
BEGIN:VEVENT
UID:g30o7@games.golnetwork.com
LOCATION:North Toronto CI - Feild 1
GEO:43.7098942;-79.3965038
CREATED:20130503T010207Z
DTSTART:20130505T231500Z
DTEND:20130506T003000Z
DTSTAMP:20260421T015323Z
SUMMARY:The Truncated Icosahedrons vs. Revolution
DESCRIPTION:Revolution vs. The Truncated IcosahedronsPlus d'info : #12
X-ALT-DESC;FMTTYPE=text/html:<!DOCTYPE HTML PUBLIC "-//W3C//DTD HTML 3.2//E
	N">\n<HTML>\n<HEAD>\n<TITLE></TITLE>\n</HEAD>\n<BODY>\n<h3>Revolution vs. T
	he Truncated Icosahedrons</h3>Plus d'info : <a href="https://www.golnetwork
	.com/game/v/28853/">#12</a>\n\n</BODY>\n</HTML>
STATUS:CONFIRMED
CLASS:PUBLIC
URL:https://www.golnetwork.com/game/v/28853/
X-MICROSOFT-CDO-BUSYSTATUS:BUSY
X-MICROSOFT-CDO-IMPORTANCE:1
END:VEVENT
BEGIN:VEVENT
UID:g323e@games.golnetwork.com
LOCATION:North Toronto CI - Feild 1
GEO:43.7098942;-79.3965038
CREATED:20130510T190303Z
DTSTART:20130512T220000Z
DTEND:20130512T230000Z
DTSTAMP:20260421T015323Z
SUMMARY:Sunday School Samba! vs. The Truncated Icosahedrons
DESCRIPTION:The Truncated Icosahedrons vs. Sunday School Samba!Plus d'info 
	: #38
X-ALT-DESC;FMTTYPE=text/html:<!DOCTYPE HTML PUBLIC "-//W3C//DTD HTML 3.2//E
	N">\n<HTML>\n<HEAD>\n<TITLE></TITLE>\n</HEAD>\n<BODY>\n<h3>The Truncated Ic
	osahedrons vs. Sunday School Samba!</h3>Plus d'info : <a href="https://www.
	golnetwork.com/game/v/29302/">#38</a>\n\n</BODY>\n</HTML>
STATUS:CONFIRMED
CLASS:PUBLIC
URL:https://www.golnetwork.com/game/v/29302/
X-MICROSOFT-CDO-BUSYSTATUS:BUSY
X-MICROSOFT-CDO-IMPORTANCE:1
END:VEVENT
BEGIN:VEVENT
UID:g323g@games.golnetwork.com
LOCATION:North Toronto CI - Feild 1
GEO:43.7098942;-79.3965038
CREATED:20130510T190303Z
DTSTART:20130512T230000Z
DTEND:20130513T000000Z
DTSTAMP:20260421T015323Z
SUMMARY:1860 DEGEN vs. Revolution
DESCRIPTION:Revolution vs. 1860 DEGENPlus d'info : #41
X-ALT-DESC;FMTTYPE=text/html:<!DOCTYPE HTML PUBLIC "-//W3C//DTD HTML 3.2//E
	N">\n<HTML>\n<HEAD>\n<TITLE></TITLE>\n</HEAD>\n<BODY>\n<h3>Revolution vs. 1
	860 DEGEN</h3>Plus d'info : <a href="https://www.golnetwork.com/game/v/2930
	3/">#41</a>\n\n</BODY>\n</HTML>
STATUS:CONFIRMED
CLASS:PUBLIC
URL:https://www.golnetwork.com/game/v/29303/
X-MICROSOFT-CDO-BUSYSTATUS:BUSY
X-MICROSOFT-CDO-IMPORTANCE:1
END:VEVENT
BEGIN:VEVENT
UID:g323i@games.golnetwork.com
LOCATION:North Toronto CI - Feild 1
GEO:43.7098942;-79.3965038
CREATED:20130510T190303Z
DTSTART:20130513T000000Z
DTEND:20130513T010000Z
DTSTAMP:20260421T015323Z
SUMMARY:1860 DEGEN vs. XTSC's Yonge & Eligible
DESCRIPTION:XTSC's Yonge & Eligible vs. 1860 DEGENPlus d'info : #44
X-ALT-DESC;FMTTYPE=text/html:<!DOCTYPE HTML PUBLIC "-//W3C//DTD HTML 3.2//E
	N">\n<HTML>\n<HEAD>\n<TITLE></TITLE>\n</HEAD>\n<BODY>\n<h3>XTSC's Yonge & E
	ligible vs. 1860 DEGEN</h3>Plus d'info : <a href="https://www.golnetwork.co
	m/game/v/29304/">#44</a>\n\n</BODY>\n</HTML>
STATUS:CONFIRMED
CLASS:PUBLIC
URL:https://www.golnetwork.com/game/v/29304/
X-MICROSOFT-CDO-BUSYSTATUS:BUSY
X-MICROSOFT-CDO-IMPORTANCE:1
END:VEVENT
BEGIN:VEVENT
UID:g323k@games.golnetwork.com
LOCATION:North Toronto CI - Feild 1
GEO:43.7098942;-79.3965038
CREATED:20130510T190303Z
DTSTART:20130519T220000Z
DTEND:20130519T230000Z
DTSTAMP:20260421T015323Z
SUMMARY:1860 DEGEN vs. Sunday School Samba!
DESCRIPTION:Sunday School Samba! vs. 1860 DEGENPlus d'info : #79
X-ALT-DESC;FMTTYPE=text/html:<!DOCTYPE HTML PUBLIC "-//W3C//DTD HTML 3.2//E
	N">\n<HTML>\n<HEAD>\n<TITLE></TITLE>\n</HEAD>\n<BODY>\n<h3>Sunday School Sa
	mba! vs. 1860 DEGEN</h3>Plus d'info : <a href="https://www.golnetwork.com/g
	ame/v/29305/">#79</a>\n\n</BODY>\n</HTML>
STATUS:CONFIRMED
CLASS:PUBLIC
URL:https://www.golnetwork.com/game/v/29305/
X-MICROSOFT-CDO-BUSYSTATUS:BUSY
X-MICROSOFT-CDO-IMPORTANCE:1
END:VEVENT
BEGIN:VEVENT
UID:g323m@games.golnetwork.com
LOCATION:North Toronto CI - Feild 1
GEO:43.7098942;-79.3965038
CREATED:20130510T190303Z
DTSTART:20130519T230000Z
DTEND:20130520T000000Z
DTSTAMP:20260421T015323Z
SUMMARY:XTSC's Yonge & Eligible vs. The Truncated Icosahedrons
DESCRIPTION:The Truncated Icosahedrons vs. XTSC's Yonge & EligiblePlus d'in
	fo : #81
X-ALT-DESC;FMTTYPE=text/html:<!DOCTYPE HTML PUBLIC "-//W3C//DTD HTML 3.2//E
	N">\n<HTML>\n<HEAD>\n<TITLE></TITLE>\n</HEAD>\n<BODY>\n<h3>The Truncated Ic
	osahedrons vs. XTSC's Yonge & Eligible</h3>Plus d'info : <a href="https://w
	ww.golnetwork.com/game/v/29306/">#81</a>\n\n</BODY>\n</HTML>
STATUS:CONFIRMED
CLASS:PUBLIC
URL:https://www.golnetwork.com/game/v/29306/
X-MICROSOFT-CDO-BUSYSTATUS:BUSY
X-MICROSOFT-CDO-IMPORTANCE:1
END:VEVENT
BEGIN:VEVENT
UID:g323o@games.golnetwork.com
LOCATION:North Toronto CI - Feild 1
GEO:43.7098942;-79.3965038
CREATED:20130510T190303Z
DTSTART:20130520T000000Z
DTEND:20130520T010000Z
DTSTAMP:20260421T015323Z
SUMMARY:XTSC's Yonge & Eligible vs. Revolution
DESCRIPTION:Revolution vs. XTSC's Yonge & EligiblePlus d'info : #83
X-ALT-DESC;FMTTYPE=text/html:<!DOCTYPE HTML PUBLIC "-//W3C//DTD HTML 3.2//E
	N">\n<HTML>\n<HEAD>\n<TITLE></TITLE>\n</HEAD>\n<BODY>\n<h3>Revolution vs. X
	TSC's Yonge & Eligible</h3>Plus d'info : <a href="https://www.golnetwork.co
	m/game/v/29307/">#83</a>\n\n</BODY>\n</HTML>
STATUS:CONFIRMED
CLASS:PUBLIC
URL:https://www.golnetwork.com/game/v/29307/
X-MICROSOFT-CDO-BUSYSTATUS:BUSY
X-MICROSOFT-CDO-IMPORTANCE:1
END:VEVENT
BEGIN:VEVENT
UID:g323q@games.golnetwork.com
LOCATION:North Toronto CI - Feild 1
GEO:43.7098942;-79.3965038
CREATED:20130510T190303Z
DTSTART:20130526T220000Z
DTEND:20130526T230000Z
DTSTAMP:20260421T015323Z
SUMMARY:Revolution vs. The Truncated Icosahedrons
DESCRIPTION:The Truncated Icosahedrons vs. RevolutionPlus d'info : #117
X-ALT-DESC;FMTTYPE=text/html:<!DOCTYPE HTML PUBLIC "-//W3C//DTD HTML 3.2//E
	N">\n<HTML>\n<HEAD>\n<TITLE></TITLE>\n</HEAD>\n<BODY>\n<h3>The Truncated Ic
	osahedrons vs. Revolution</h3>Plus d'info : <a href="https://www.golnetwork
	.com/game/v/29308/">#117</a>\n\n</BODY>\n</HTML>
STATUS:CONFIRMED
CLASS:PUBLIC
URL:https://www.golnetwork.com/game/v/29308/
X-MICROSOFT-CDO-BUSYSTATUS:BUSY
X-MICROSOFT-CDO-IMPORTANCE:1
END:VEVENT
BEGIN:VEVENT
UID:g3241@games.golnetwork.com
LOCATION:North Toronto CI - Feild 1
GEO:43.7098942;-79.3965038
CREATED:20130510T190303Z
DTSTART:20130526T230000Z
DTEND:20130527T000000Z
DTSTAMP:20260421T015323Z
SUMMARY:Sunday School Samba! vs. The Truncated Icosahedrons
DESCRIPTION:The Truncated Icosahedrons vs. Sunday School Samba!Plus d'info 
	: #120
X-ALT-DESC;FMTTYPE=text/html:<!DOCTYPE HTML PUBLIC "-//W3C//DTD HTML 3.2//E
	N">\n<HTML>\n<HEAD>\n<TITLE></TITLE>\n</HEAD>\n<BODY>\n<h3>The Truncated Ic
	osahedrons vs. Sunday School Samba!</h3>Plus d'info : <a href="https://www.
	golnetwork.com/game/v/29309/">#120</a>\n\n</BODY>\n</HTML>
STATUS:CONFIRMED
CLASS:PUBLIC
URL:https://www.golnetwork.com/game/v/29309/
X-MICROSOFT-CDO-BUSYSTATUS:BUSY
X-MICROSOFT-CDO-IMPORTANCE:1
END:VEVENT
BEGIN:VEVENT
UID:g3243@games.golnetwork.com
LOCATION:North Toronto CI - Feild 1
GEO:43.7098942;-79.3965038
CREATED:20130510T190303Z
DTSTART:20130527T000000Z
DTEND:20130527T010000Z
DTSTAMP:20260421T015323Z
SUMMARY:XTSC's Yonge & Eligible vs. 1860 DEGEN
DESCRIPTION:1860 DEGEN vs. XTSC's Yonge & EligiblePlus d'info : #123
X-ALT-DESC;FMTTYPE=text/html:<!DOCTYPE HTML PUBLIC "-//W3C//DTD HTML 3.2//E
	N">\n<HTML>\n<HEAD>\n<TITLE></TITLE>\n</HEAD>\n<BODY>\n<h3>1860 DEGEN vs. X
	TSC's Yonge & Eligible</h3>Plus d'info : <a href="https://www.golnetwork.co
	m/game/v/29310/">#123</a>\n\n</BODY>\n</HTML>
STATUS:CONFIRMED
CLASS:PUBLIC
URL:https://www.golnetwork.com/game/v/29310/
X-MICROSOFT-CDO-BUSYSTATUS:BUSY
X-MICROSOFT-CDO-IMPORTANCE:1
END:VEVENT
BEGIN:VEVENT
UID:g3245@games.golnetwork.com
LOCATION:North Toronto CI - Feild 1
GEO:43.7098942;-79.3965038
CREATED:20130510T190303Z
DTSTART:20130602T220000Z
DTEND:20130602T230000Z
DTSTAMP:20260421T015323Z
SUMMARY:1860 DEGEN vs. Sunday School Samba!
DESCRIPTION:Sunday School Samba! vs. 1860 DEGENPlus d'info : #168
X-ALT-DESC;FMTTYPE=text/html:<!DOCTYPE HTML PUBLIC "-//W3C//DTD HTML 3.2//E
	N">\n<HTML>\n<HEAD>\n<TITLE></TITLE>\n</HEAD>\n<BODY>\n<h3>Sunday School Sa
	mba! vs. 1860 DEGEN</h3>Plus d'info : <a href="https://www.golnetwork.com/g
	ame/v/29311/">#168</a>\n\n</BODY>\n</HTML>
STATUS:CONFIRMED
CLASS:PUBLIC
URL:https://www.golnetwork.com/game/v/29311/
X-MICROSOFT-CDO-BUSYSTATUS:BUSY
X-MICROSOFT-CDO-IMPORTANCE:1
END:VEVENT
BEGIN:VEVENT
UID:g3247@games.golnetwork.com
LOCATION:North Toronto CI - Feild 1
GEO:43.7098942;-79.3965038
CREATED:20130510T190303Z
DTSTART:20130602T230000Z
DTEND:20130603T000000Z
DTSTAMP:20260421T015323Z
SUMMARY:Revolution vs. Sunday School Samba!
DESCRIPTION:Sunday School Samba! vs. RevolutionPlus d'info : #171
X-ALT-DESC;FMTTYPE=text/html:<!DOCTYPE HTML PUBLIC "-//W3C//DTD HTML 3.2//E
	N">\n<HTML>\n<HEAD>\n<TITLE></TITLE>\n</HEAD>\n<BODY>\n<h3>Sunday School Sa
	mba! vs. Revolution</h3>Plus d'info : <a href="https://www.golnetwork.com/g
	ame/v/29312/">#171</a>\n\n</BODY>\n</HTML>
STATUS:CONFIRMED
CLASS:PUBLIC
URL:https://www.golnetwork.com/game/v/29312/
X-MICROSOFT-CDO-BUSYSTATUS:BUSY
X-MICROSOFT-CDO-IMPORTANCE:1
END:VEVENT
BEGIN:VEVENT
UID:g3249@games.golnetwork.com
LOCATION:North Toronto CI - Feild 1
GEO:43.7098942;-79.3965038
CREATED:20130510T190303Z
DTSTART:20130603T000000Z
DTEND:20130603T010000Z
DTSTAMP:20260421T015323Z
SUMMARY:The Truncated Icosahedrons vs. XTSC's Yonge & Eligible
DESCRIPTION:XTSC's Yonge & Eligible vs. The Truncated IcosahedronsPlus d'in
	fo : #174
X-ALT-DESC;FMTTYPE=text/html:<!DOCTYPE HTML PUBLIC "-//W3C//DTD HTML 3.2//E
	N">\n<HTML>\n<HEAD>\n<TITLE></TITLE>\n</HEAD>\n<BODY>\n<h3>XTSC's Yonge & E
	ligible vs. The Truncated Icosahedrons</h3>Plus d'info : <a href="https://w
	ww.golnetwork.com/game/v/29313/">#174</a>\n\n</BODY>\n</HTML>
STATUS:CONFIRMED
CLASS:PUBLIC
URL:https://www.golnetwork.com/game/v/29313/
X-MICROSOFT-CDO-BUSYSTATUS:BUSY
X-MICROSOFT-CDO-IMPORTANCE:1
END:VEVENT
BEGIN:VEVENT
UID:g324b@games.golnetwork.com
LOCATION:North Toronto CI - Feild 1
GEO:43.7098942;-79.3965038
CREATED:20130510T190303Z
DTSTART:20130609T220000Z
DTEND:20130609T230000Z
DTSTAMP:20260421T015323Z
SUMMARY:Sunday School Samba! vs. XTSC's Yonge & Eligible
DESCRIPTION:XTSC's Yonge & Eligible vs. Sunday School Samba!Plus d'info : #
	214
X-ALT-DESC;FMTTYPE=text/html:<!DOCTYPE HTML PUBLIC "-//W3C//DTD HTML 3.2//E
	N">\n<HTML>\n<HEAD>\n<TITLE></TITLE>\n</HEAD>\n<BODY>\n<h3>XTSC's Yonge & E
	ligible vs. Sunday School Samba!</h3>Plus d'info : <a href="https://www.gol
	network.com/game/v/29314/">#214</a>\n\n</BODY>\n</HTML>
STATUS:CONFIRMED
CLASS:PUBLIC
URL:https://www.golnetwork.com/game/v/29314/
X-MICROSOFT-CDO-BUSYSTATUS:BUSY
X-MICROSOFT-CDO-IMPORTANCE:1
END:VEVENT
BEGIN:VEVENT
UID:g324d@games.golnetwork.com
LOCATION:North Toronto CI - Feild 1
GEO:43.7098942;-79.3965038
CREATED:20130510T190303Z
DTSTART:20130609T230000Z
DTEND:20130610T000000Z
DTSTAMP:20260421T015323Z
SUMMARY:1860 DEGEN vs. Revolution
DESCRIPTION:Revolution vs. 1860 DEGENPlus d'info : #217
X-ALT-DESC;FMTTYPE=text/html:<!DOCTYPE HTML PUBLIC "-//W3C//DTD HTML 3.2//E
	N">\n<HTML>\n<HEAD>\n<TITLE></TITLE>\n</HEAD>\n<BODY>\n<h3>Revolution vs. 1
	860 DEGEN</h3>Plus d'info : <a href="https://www.golnetwork.com/game/v/2931
	5/">#217</a>\n\n</BODY>\n</HTML>
STATUS:CONFIRMED
CLASS:PUBLIC
URL:https://www.golnetwork.com/game/v/29315/
X-MICROSOFT-CDO-BUSYSTATUS:BUSY
X-MICROSOFT-CDO-IMPORTANCE:1
END:VEVENT
BEGIN:VEVENT
UID:g324f@games.golnetwork.com
LOCATION:North Toronto CI - Feild 1
GEO:43.7098942;-79.3965038
CREATED:20130510T190303Z
DTSTART:20130610T000000Z
DTEND:20130610T010000Z
DTSTAMP:20260421T015323Z
SUMMARY:1860 DEGEN vs. The Truncated Icosahedrons
DESCRIPTION:The Truncated Icosahedrons vs. 1860 DEGENPlus d'info : #220
X-ALT-DESC;FMTTYPE=text/html:<!DOCTYPE HTML PUBLIC "-//W3C//DTD HTML 3.2//E
	N">\n<HTML>\n<HEAD>\n<TITLE></TITLE>\n</HEAD>\n<BODY>\n<h3>The Truncated Ic
	osahedrons vs. 1860 DEGEN</h3>Plus d'info : <a href="https://www.golnetwork
	.com/game/v/29316/">#220</a>\n\n</BODY>\n</HTML>
STATUS:CONFIRMED
CLASS:PUBLIC
URL:https://www.golnetwork.com/game/v/29316/
X-MICROSOFT-CDO-BUSYSTATUS:BUSY
X-MICROSOFT-CDO-IMPORTANCE:1
END:VEVENT
BEGIN:VEVENT
UID:g324h@games.golnetwork.com
LOCATION:North Toronto CI - Feild 1
GEO:43.7098942;-79.3965038
CREATED:20130510T190303Z
DTSTART:20130616T220000Z
DTEND:20130616T230000Z
DTSTAMP:20260421T015323Z
SUMMARY:Sunday School Samba! vs. The Truncated Icosahedrons
DESCRIPTION:The Truncated Icosahedrons vs. Sunday School Samba!Plus d'info 
	: #258
X-ALT-DESC;FMTTYPE=text/html:<!DOCTYPE HTML PUBLIC "-//W3C//DTD HTML 3.2//E
	N">\n<HTML>\n<HEAD>\n<TITLE></TITLE>\n</HEAD>\n<BODY>\n<h3>The Truncated Ic
	osahedrons vs. Sunday School Samba!</h3>Plus d'info : <a href="https://www.
	golnetwork.com/game/v/29317/">#258</a>\n\n</BODY>\n</HTML>
STATUS:CONFIRMED
CLASS:PUBLIC
URL:https://www.golnetwork.com/game/v/29317/
X-MICROSOFT-CDO-BUSYSTATUS:BUSY
X-MICROSOFT-CDO-IMPORTANCE:1
END:VEVENT
BEGIN:VEVENT
UID:g324j@games.golnetwork.com
LOCATION:North Toronto CI - Feild 1
GEO:43.7098942;-79.3965038
CREATED:20130510T190303Z
DTSTART:20130616T230000Z
DTEND:20130617T000000Z
DTSTAMP:20260421T015323Z
SUMMARY:XTSC's Yonge & Eligible vs. Revolution
DESCRIPTION:Revolution vs. XTSC's Yonge & EligiblePlus d'info : #261
X-ALT-DESC;FMTTYPE=text/html:<!DOCTYPE HTML PUBLIC "-//W3C//DTD HTML 3.2//E
	N">\n<HTML>\n<HEAD>\n<TITLE></TITLE>\n</HEAD>\n<BODY>\n<h3>Revolution vs. X
	TSC's Yonge & Eligible</h3>Plus d'info : <a href="https://www.golnetwork.co
	m/game/v/29318/">#261</a>\n\n</BODY>\n</HTML>
STATUS:CONFIRMED
CLASS:PUBLIC
URL:https://www.golnetwork.com/game/v/29318/
X-MICROSOFT-CDO-BUSYSTATUS:BUSY
X-MICROSOFT-CDO-IMPORTANCE:1
END:VEVENT
BEGIN:VEVENT
UID:g324l@games.golnetwork.com
LOCATION:North Toronto CI - Feild 1
GEO:43.7098942;-79.3965038
CREATED:20130510T190303Z
DTSTART:20130617T000000Z
DTEND:20130617T010000Z
DTSTAMP:20260421T015323Z
SUMMARY:1860 DEGEN vs. Revolution
DESCRIPTION:Revolution vs. 1860 DEGENPlus d'info : #264
X-ALT-DESC;FMTTYPE=text/html:<!DOCTYPE HTML PUBLIC "-//W3C//DTD HTML 3.2//E
	N">\n<HTML>\n<HEAD>\n<TITLE></TITLE>\n</HEAD>\n<BODY>\n<h3>Revolution vs. 1
	860 DEGEN</h3>Plus d'info : <a href="https://www.golnetwork.com/game/v/2931
	9/">#264</a>\n\n</BODY>\n</HTML>
STATUS:CONFIRMED
CLASS:PUBLIC
URL:https://www.golnetwork.com/game/v/29319/
X-MICROSOFT-CDO-BUSYSTATUS:BUSY
X-MICROSOFT-CDO-IMPORTANCE:1
END:VEVENT
BEGIN:VEVENT
UID:g324n@games.golnetwork.com
LOCATION:North Toronto CI - Feild 1
GEO:43.7098942;-79.3965038
CREATED:20130510T190303Z
DTSTART:20130623T220000Z
DTEND:20130623T230000Z
DTSTAMP:20260421T015323Z
SUMMARY:Revolution vs. The Truncated Icosahedrons
DESCRIPTION:The Truncated Icosahedrons vs. RevolutionPlus d'info : #296
X-ALT-DESC;FMTTYPE=text/html:<!DOCTYPE HTML PUBLIC "-//W3C//DTD HTML 3.2//E
	N">\n<HTML>\n<HEAD>\n<TITLE></TITLE>\n</HEAD>\n<BODY>\n<h3>The Truncated Ic
	osahedrons vs. Revolution</h3>Plus d'info : <a href="https://www.golnetwork
	.com/game/v/29320/">#296</a>\n\n</BODY>\n</HTML>
STATUS:CONFIRMED
CLASS:PUBLIC
URL:https://www.golnetwork.com/game/v/29320/
X-MICROSOFT-CDO-BUSYSTATUS:BUSY
X-MICROSOFT-CDO-IMPORTANCE:1
END:VEVENT
BEGIN:VEVENT
UID:g324p@games.golnetwork.com
LOCATION:North Toronto CI - Feild 1
GEO:43.7098942;-79.3965038
CREATED:20130510T190303Z
DTSTART:20130623T230000Z
DTEND:20130624T000000Z
DTSTAMP:20260421T015323Z
SUMMARY:XTSC's Yonge & Eligible vs. Sunday School Samba!
DESCRIPTION:Sunday School Samba! vs. XTSC's Yonge & EligiblePlus d'info : #
	302
X-ALT-DESC;FMTTYPE=text/html:<!DOCTYPE HTML PUBLIC "-//W3C//DTD HTML 3.2//E
	N">\n<HTML>\n<HEAD>\n<TITLE></TITLE>\n</HEAD>\n<BODY>\n<h3>Sunday School Sa
	mba! vs. XTSC's Yonge & Eligible</h3>Plus d'info : <a href="https://www.gol
	network.com/game/v/29321/">#302</a>\n\n</BODY>\n</HTML>
STATUS:CONFIRMED
CLASS:PUBLIC
URL:https://www.golnetwork.com/game/v/29321/
X-MICROSOFT-CDO-BUSYSTATUS:BUSY
X-MICROSOFT-CDO-IMPORTANCE:1
END:VEVENT
BEGIN:VEVENT
UID:g3250@games.golnetwork.com
LOCATION:North Toronto CI - Feild 1
GEO:43.7098942;-79.3965038
CREATED:20130510T190303Z
DTSTART:20130624T000000Z
DTEND:20130624T010000Z
DTSTAMP:20260421T015323Z
SUMMARY:1860 DEGEN vs. Sunday School Samba!
DESCRIPTION:Sunday School Samba! vs. 1860 DEGENPlus d'info : #308
X-ALT-DESC;FMTTYPE=text/html:<!DOCTYPE HTML PUBLIC "-//W3C//DTD HTML 3.2//E
	N">\n<HTML>\n<HEAD>\n<TITLE></TITLE>\n</HEAD>\n<BODY>\n<h3>Sunday School Sa
	mba! vs. 1860 DEGEN</h3>Plus d'info : <a href="https://www.golnetwork.com/g
	ame/v/29322/">#308</a>\n\n</BODY>\n</HTML>
STATUS:CONFIRMED
CLASS:PUBLIC
URL:https://www.golnetwork.com/game/v/29322/
X-MICROSOFT-CDO-BUSYSTATUS:BUSY
X-MICROSOFT-CDO-IMPORTANCE:1
END:VEVENT
END:VCALENDAR
