BEGIN:VCALENDAR
PRODID:-//gdesolutions.com//MV Framework 1.0.0.1607 Calendar//EN
VERSION:2.0
METHOD:PUBLISH
CALSCALE:GREGORIAN
BEGIN:VEVENT
UID:g3137@games.golnetwork.com
LOCATION:Cherry Beach West 1
CREATED:20130507T225851Z
DTSTART:20130512T210000Z
DTEND:20130512T220000Z
DTSTAMP:20260424T052603Z
SUMMARY:Flying Diegos vs. He Haw the Donkeys
DESCRIPTION:He Haw the Donkeys vs. Flying DiegosPlus d'info : #29
X-ALT-DESC;FMTTYPE=text/html:<!DOCTYPE HTML PUBLIC "-//W3C//DTD HTML 3.2//E
	N">\n<HTML>\n<HEAD>\n<TITLE></TITLE>\n</HEAD>\n<BODY>\n<h3>He Haw the Donke
	ys vs. Flying Diegos</h3>Plus d'info : <a href="https://www.golnetwork.com/
	game/v/28934/">#29</a>\n\n</BODY>\n</HTML>
STATUS:CONFIRMED
CLASS:PUBLIC
URL:https://www.golnetwork.com/game/v/28934/
X-MICROSOFT-CDO-BUSYSTATUS:BUSY
X-MICROSOFT-CDO-IMPORTANCE:1
END:VEVENT
BEGIN:VEVENT
UID:g3139@games.golnetwork.com
LOCATION:Cherry Beach West 2
CREATED:20130507T225851Z
DTSTART:20130512T210000Z
DTEND:20130512T220000Z
DTSTAMP:20260424T052603Z
SUMMARY:Whistle FC vs.  www.redrobinmasonry.com
DESCRIPTION: www.redrobinmasonry.com vs. Whistle FCPlus d'info : #30
X-ALT-DESC;FMTTYPE=text/html:<!DOCTYPE HTML PUBLIC "-//W3C//DTD HTML 3.2//E
	N">\n<HTML>\n<HEAD>\n<TITLE></TITLE>\n</HEAD>\n<BODY>\n<h3> www.redrobinmas
	onry.com vs. Whistle FC</h3>Plus d'info : <a href="https://www.golnetwork.c
	om/game/v/28935/">#30</a>\n\n</BODY>\n</HTML>
STATUS:CONFIRMED
CLASS:PUBLIC
URL:https://www.golnetwork.com/game/v/28935/
X-MICROSOFT-CDO-BUSYSTATUS:BUSY
X-MICROSOFT-CDO-IMPORTANCE:1
END:VEVENT
BEGIN:VEVENT
UID:g313b@games.golnetwork.com
LOCATION:Cherry Beach West 3
CREATED:20130507T225851Z
DTSTART:20130512T210000Z
DTEND:20130512T220000Z
DTSTAMP:20260424T052603Z
SUMMARY:Boro FC vs. Shot In The Dark
DESCRIPTION:Shot In The Dark vs. Boro FCPlus d'info : #31
X-ALT-DESC;FMTTYPE=text/html:<!DOCTYPE HTML PUBLIC "-//W3C//DTD HTML 3.2//E
	N">\n<HTML>\n<HEAD>\n<TITLE></TITLE>\n</HEAD>\n<BODY>\n<h3>Shot In The Dark
	 vs. Boro FC</h3>Plus d'info : <a href="https://www.golnetwork.com/game/v/2
	8936/">#31</a>\n\n</BODY>\n</HTML>
STATUS:CONFIRMED
CLASS:PUBLIC
URL:https://www.golnetwork.com/game/v/28936/
X-MICROSOFT-CDO-BUSYSTATUS:BUSY
X-MICROSOFT-CDO-IMPORTANCE:1
END:VEVENT
BEGIN:VEVENT
UID:g313d@games.golnetwork.com
LOCATION:Cherry Beach West 1
CREATED:20130507T225851Z
DTSTART:20130519T210000Z
DTEND:20130519T220000Z
DTSTAMP:20260424T052603Z
SUMMARY:Whistle FC vs. Flying Diegos
DESCRIPTION:Flying Diegos vs. Whistle FCPlus d'info : #73
X-ALT-DESC;FMTTYPE=text/html:<!DOCTYPE HTML PUBLIC "-//W3C//DTD HTML 3.2//E
	N">\n<HTML>\n<HEAD>\n<TITLE></TITLE>\n</HEAD>\n<BODY>\n<h3>Flying Diegos vs
	. Whistle FC</h3>Plus d'info : <a href="https://www.golnetwork.com/game/v/2
	8937/">#73</a>\n\n</BODY>\n</HTML>
STATUS:CONFIRMED
CLASS:PUBLIC
URL:https://www.golnetwork.com/game/v/28937/
X-MICROSOFT-CDO-BUSYSTATUS:BUSY
X-MICROSOFT-CDO-IMPORTANCE:1
END:VEVENT
BEGIN:VEVENT
UID:g313f@games.golnetwork.com
LOCATION:Cherry Beach West 2
CREATED:20130507T225851Z
DTSTART:20130519T210000Z
DTEND:20130519T220000Z
DTSTAMP:20260424T052603Z
SUMMARY:Boro FC vs. He Haw the Donkeys
DESCRIPTION:He Haw the Donkeys vs. Boro FCPlus d'info : #74
X-ALT-DESC;FMTTYPE=text/html:<!DOCTYPE HTML PUBLIC "-//W3C//DTD HTML 3.2//E
	N">\n<HTML>\n<HEAD>\n<TITLE></TITLE>\n</HEAD>\n<BODY>\n<h3>He Haw the Donke
	ys vs. Boro FC</h3>Plus d'info : <a href="https://www.golnetwork.com/game/v
	/28938/">#74</a>\n\n</BODY>\n</HTML>
STATUS:CONFIRMED
CLASS:PUBLIC
URL:https://www.golnetwork.com/game/v/28938/
X-MICROSOFT-CDO-BUSYSTATUS:BUSY
X-MICROSOFT-CDO-IMPORTANCE:1
END:VEVENT
BEGIN:VEVENT
UID:g313h@games.golnetwork.com
LOCATION:Cherry Beach West 3
CREATED:20130507T225851Z
DTSTART:20130519T210000Z
DTEND:20130519T220000Z
DTSTAMP:20260424T052603Z
SUMMARY:Shot In The Dark vs.  www.redrobinmasonry.com
DESCRIPTION: www.redrobinmasonry.com vs. Shot In The DarkPlus d'info : #75
X-ALT-DESC;FMTTYPE=text/html:<!DOCTYPE HTML PUBLIC "-//W3C//DTD HTML 3.2//E
	N">\n<HTML>\n<HEAD>\n<TITLE></TITLE>\n</HEAD>\n<BODY>\n<h3> www.redrobinmas
	onry.com vs. Shot In The Dark</h3>Plus d'info : <a href="https://www.golnet
	work.com/game/v/28939/">#75</a>\n\n</BODY>\n</HTML>
STATUS:CONFIRMED
CLASS:PUBLIC
URL:https://www.golnetwork.com/game/v/28939/
X-MICROSOFT-CDO-BUSYSTATUS:BUSY
X-MICROSOFT-CDO-IMPORTANCE:1
END:VEVENT
BEGIN:VEVENT
UID:g313j@games.golnetwork.com
LOCATION:Cherry Beach West 1
CREATED:20130507T225851Z
DTSTART:20130526T210000Z
DTEND:20130526T220000Z
DTSTAMP:20260424T052603Z
SUMMARY:Flying Diegos vs. Boro FC
DESCRIPTION:Boro FC vs. Flying DiegosPlus d'info : #109
X-ALT-DESC;FMTTYPE=text/html:<!DOCTYPE HTML PUBLIC "-//W3C//DTD HTML 3.2//E
	N">\n<HTML>\n<HEAD>\n<TITLE></TITLE>\n</HEAD>\n<BODY>\n<h3>Boro FC vs. Flyi
	ng Diegos</h3>Plus d'info : <a href="https://www.golnetwork.com/game/v/2894
	0/">#109</a>\n\n</BODY>\n</HTML>
STATUS:CONFIRMED
CLASS:PUBLIC
URL:https://www.golnetwork.com/game/v/28940/
X-MICROSOFT-CDO-BUSYSTATUS:BUSY
X-MICROSOFT-CDO-IMPORTANCE:1
END:VEVENT
BEGIN:VEVENT
UID:g313l@games.golnetwork.com
LOCATION:Cherry Beach West 2
CREATED:20130507T225851Z
DTSTART:20130526T210000Z
DTEND:20130526T220000Z
DTSTAMP:20260424T052603Z
SUMMARY:Shot In The Dark vs. Whistle FC
DESCRIPTION:Whistle FC vs. Shot In The DarkPlus d'info : #110
X-ALT-DESC;FMTTYPE=text/html:<!DOCTYPE HTML PUBLIC "-//W3C//DTD HTML 3.2//E
	N">\n<HTML>\n<HEAD>\n<TITLE></TITLE>\n</HEAD>\n<BODY>\n<h3>Whistle FC vs. S
	hot In The Dark</h3>Plus d'info : <a href="https://www.golnetwork.com/game/
	v/28941/">#110</a>\n\n</BODY>\n</HTML>
STATUS:CONFIRMED
CLASS:PUBLIC
URL:https://www.golnetwork.com/game/v/28941/
X-MICROSOFT-CDO-BUSYSTATUS:BUSY
X-MICROSOFT-CDO-IMPORTANCE:1
END:VEVENT
BEGIN:VEVENT
UID:g34p8@games.golnetwork.com
LOCATION:Cherry Beach West 3
CREATED:20130527T130220Z
DTSTART:20130526T210000Z
DTEND:20130526T220000Z
DTSTAMP:20260424T052603Z
SUMMARY:He Haw the Donkeys vs.  www.redrobinmasonry.com
DESCRIPTION: www.redrobinmasonry.com vs. He Haw the DonkeysPlus d'info : #1
	11
X-ALT-DESC;FMTTYPE=text/html:<!DOCTYPE HTML PUBLIC "-//W3C//DTD HTML 3.2//E
	N">\n<HTML>\n<HEAD>\n<TITLE></TITLE>\n</HEAD>\n<BODY>\n<h3> www.redrobinmas
	onry.com vs. He Haw the Donkeys</h3>Plus d'info : <a href="https://www.goln
	etwork.com/game/v/30325/">#111</a>\n\n</BODY>\n</HTML>
STATUS:CONFIRMED
CLASS:PUBLIC
URL:https://www.golnetwork.com/game/v/30325/
X-MICROSOFT-CDO-BUSYSTATUS:BUSY
X-MICROSOFT-CDO-IMPORTANCE:1
END:VEVENT
BEGIN:VEVENT
UID:g313p@games.golnetwork.com
LOCATION:Cherry Beach West 1
CREATED:20130507T225851Z
DTSTART:20130602T210000Z
DTEND:20130602T220000Z
DTSTAMP:20260424T052603Z
SUMMARY:Shot In The Dark vs. Flying Diegos
DESCRIPTION:Flying Diegos vs. Shot In The DarkPlus d'info : #158
X-ALT-DESC;FMTTYPE=text/html:<!DOCTYPE HTML PUBLIC "-//W3C//DTD HTML 3.2//E
	N">\n<HTML>\n<HEAD>\n<TITLE></TITLE>\n</HEAD>\n<BODY>\n<h3>Flying Diegos vs
	. Shot In The Dark</h3>Plus d'info : <a href="https://www.golnetwork.com/ga
	me/v/28943/">#158</a>\n\n</BODY>\n</HTML>
STATUS:CONFIRMED
CLASS:PUBLIC
URL:https://www.golnetwork.com/game/v/28943/
X-MICROSOFT-CDO-BUSYSTATUS:BUSY
X-MICROSOFT-CDO-IMPORTANCE:1
END:VEVENT
BEGIN:VEVENT
UID:g3140@games.golnetwork.com
LOCATION:Cherry Beach West 2
CREATED:20130507T225851Z
DTSTART:20130602T210000Z
DTEND:20130602T220000Z
DTSTAMP:20260424T052603Z
SUMMARY: www.redrobinmasonry.com vs. Boro FC
DESCRIPTION:Boro FC vs.  www.redrobinmasonry.comPlus d'info : #159
X-ALT-DESC;FMTTYPE=text/html:<!DOCTYPE HTML PUBLIC "-//W3C//DTD HTML 3.2//E
	N">\n<HTML>\n<HEAD>\n<TITLE></TITLE>\n</HEAD>\n<BODY>\n<h3>Boro FC vs.  www
	.redrobinmasonry.com</h3>Plus d'info : <a href="https://www.golnetwork.com/
	game/v/28944/">#159</a>\n\n</BODY>\n</HTML>
STATUS:CONFIRMED
CLASS:PUBLIC
URL:https://www.golnetwork.com/game/v/28944/
X-MICROSOFT-CDO-BUSYSTATUS:BUSY
X-MICROSOFT-CDO-IMPORTANCE:1
END:VEVENT
BEGIN:VEVENT
UID:g3142@games.golnetwork.com
LOCATION:Cherry Beach West 3
CREATED:20130507T225851Z
DTSTART:20130602T210000Z
DTEND:20130602T220000Z
DTSTAMP:20260424T052603Z
SUMMARY:He Haw the Donkeys vs. Whistle FC
DESCRIPTION:Whistle FC vs. He Haw the DonkeysPlus d'info : #160
X-ALT-DESC;FMTTYPE=text/html:<!DOCTYPE HTML PUBLIC "-//W3C//DTD HTML 3.2//E
	N">\n<HTML>\n<HEAD>\n<TITLE></TITLE>\n</HEAD>\n<BODY>\n<h3>Whistle FC vs. H
	e Haw the Donkeys</h3>Plus d'info : <a href="https://www.golnetwork.com/gam
	e/v/28945/">#160</a>\n\n</BODY>\n</HTML>
STATUS:CONFIRMED
CLASS:PUBLIC
URL:https://www.golnetwork.com/game/v/28945/
X-MICROSOFT-CDO-BUSYSTATUS:BUSY
X-MICROSOFT-CDO-IMPORTANCE:1
END:VEVENT
BEGIN:VEVENT
UID:g3144@games.golnetwork.com
LOCATION:Cherry Beach West 1
CREATED:20130507T225851Z
DTSTART:20130609T210000Z
DTEND:20130609T220000Z
DTSTAMP:20260424T052603Z
SUMMARY:Flying Diegos vs.  www.redrobinmasonry.com
DESCRIPTION: www.redrobinmasonry.com vs. Flying DiegosPlus d'info : #206
X-ALT-DESC;FMTTYPE=text/html:<!DOCTYPE HTML PUBLIC "-//W3C//DTD HTML 3.2//E
	N">\n<HTML>\n<HEAD>\n<TITLE></TITLE>\n</HEAD>\n<BODY>\n<h3> www.redrobinmas
	onry.com vs. Flying Diegos</h3>Plus d'info : <a href="https://www.golnetwor
	k.com/game/v/28946/">#206</a>\n\n</BODY>\n</HTML>
STATUS:CONFIRMED
CLASS:PUBLIC
URL:https://www.golnetwork.com/game/v/28946/
X-MICROSOFT-CDO-BUSYSTATUS:BUSY
X-MICROSOFT-CDO-IMPORTANCE:1
END:VEVENT
BEGIN:VEVENT
UID:g3146@games.golnetwork.com
LOCATION:Cherry Beach West 2
CREATED:20130507T225851Z
DTSTART:20130609T210000Z
DTEND:20130609T220000Z
DTSTAMP:20260424T052603Z
SUMMARY:He Haw the Donkeys vs. Shot In The Dark
DESCRIPTION:Shot In The Dark vs. He Haw the DonkeysPlus d'info : #207
X-ALT-DESC;FMTTYPE=text/html:<!DOCTYPE HTML PUBLIC "-//W3C//DTD HTML 3.2//E
	N">\n<HTML>\n<HEAD>\n<TITLE></TITLE>\n</HEAD>\n<BODY>\n<h3>Shot In The Dark
	 vs. He Haw the Donkeys</h3>Plus d'info : <a href="https://www.golnetwork.c
	om/game/v/28947/">#207</a>\n\n</BODY>\n</HTML>
STATUS:CONFIRMED
CLASS:PUBLIC
URL:https://www.golnetwork.com/game/v/28947/
X-MICROSOFT-CDO-BUSYSTATUS:BUSY
X-MICROSOFT-CDO-IMPORTANCE:1
END:VEVENT
BEGIN:VEVENT
UID:g3148@games.golnetwork.com
LOCATION:Cherry Beach West 3
CREATED:20130507T225851Z
DTSTART:20130609T210000Z
DTEND:20130609T220000Z
DTSTAMP:20260424T052603Z
SUMMARY:Whistle FC vs. Boro FC
DESCRIPTION:Boro FC vs. Whistle FCPlus d'info : #208
X-ALT-DESC;FMTTYPE=text/html:<!DOCTYPE HTML PUBLIC "-//W3C//DTD HTML 3.2//E
	N">\n<HTML>\n<HEAD>\n<TITLE></TITLE>\n</HEAD>\n<BODY>\n<h3>Boro FC vs. Whis
	tle FC</h3>Plus d'info : <a href="https://www.golnetwork.com/game/v/28948/"
	>#208</a>\n\n</BODY>\n</HTML>
STATUS:CONFIRMED
CLASS:PUBLIC
URL:https://www.golnetwork.com/game/v/28948/
X-MICROSOFT-CDO-BUSYSTATUS:BUSY
X-MICROSOFT-CDO-IMPORTANCE:1
END:VEVENT
BEGIN:VEVENT
UID:g314a@games.golnetwork.com
LOCATION:Cherry Beach West 1
CREATED:20130507T225851Z
DTSTART:20130616T210000Z
DTEND:20130616T220000Z
DTSTAMP:20260424T052603Z
SUMMARY:He Haw the Donkeys vs. Shot In The Dark
DESCRIPTION:Shot In The Dark vs. He Haw the DonkeysPlus d'info : #250
X-ALT-DESC;FMTTYPE=text/html:<!DOCTYPE HTML PUBLIC "-//W3C//DTD HTML 3.2//E
	N">\n<HTML>\n<HEAD>\n<TITLE></TITLE>\n</HEAD>\n<BODY>\n<h3>Shot In The Dark
	 vs. He Haw the Donkeys</h3>Plus d'info : <a href="https://www.golnetwork.c
	om/game/v/28949/">#250</a>\n\n</BODY>\n</HTML>
STATUS:CONFIRMED
CLASS:PUBLIC
URL:https://www.golnetwork.com/game/v/28949/
X-MICROSOFT-CDO-BUSYSTATUS:BUSY
X-MICROSOFT-CDO-IMPORTANCE:1
END:VEVENT
BEGIN:VEVENT
UID:g314c@games.golnetwork.com
LOCATION:Cherry Beach West 2
CREATED:20130507T225851Z
DTSTART:20130616T210000Z
DTEND:20130616T220000Z
DTSTAMP:20260424T052603Z
SUMMARY:Flying Diegos vs. Whistle FC
DESCRIPTION:Whistle FC vs. Flying DiegosPlus d'info : #251
X-ALT-DESC;FMTTYPE=text/html:<!DOCTYPE HTML PUBLIC "-//W3C//DTD HTML 3.2//E
	N">\n<HTML>\n<HEAD>\n<TITLE></TITLE>\n</HEAD>\n<BODY>\n<h3>Whistle FC vs. F
	lying Diegos</h3>Plus d'info : <a href="https://www.golnetwork.com/game/v/2
	8950/">#251</a>\n\n</BODY>\n</HTML>
STATUS:CONFIRMED
CLASS:PUBLIC
URL:https://www.golnetwork.com/game/v/28950/
X-MICROSOFT-CDO-BUSYSTATUS:BUSY
X-MICROSOFT-CDO-IMPORTANCE:1
END:VEVENT
BEGIN:VEVENT
UID:g314e@games.golnetwork.com
LOCATION:Cherry Beach West 3
CREATED:20130507T225851Z
DTSTART:20130616T210000Z
DTEND:20130616T220000Z
DTSTAMP:20260424T052603Z
SUMMARY: www.redrobinmasonry.com vs. Boro FC
DESCRIPTION:Boro FC vs.  www.redrobinmasonry.comPlus d'info : #252
X-ALT-DESC;FMTTYPE=text/html:<!DOCTYPE HTML PUBLIC "-//W3C//DTD HTML 3.2//E
	N">\n<HTML>\n<HEAD>\n<TITLE></TITLE>\n</HEAD>\n<BODY>\n<h3>Boro FC vs.  www
	.redrobinmasonry.com</h3>Plus d'info : <a href="https://www.golnetwork.com/
	game/v/28951/">#252</a>\n\n</BODY>\n</HTML>
STATUS:CONFIRMED
CLASS:PUBLIC
URL:https://www.golnetwork.com/game/v/28951/
X-MICROSOFT-CDO-BUSYSTATUS:BUSY
X-MICROSOFT-CDO-IMPORTANCE:1
END:VEVENT
BEGIN:VEVENT
UID:g314g@games.golnetwork.com
LOCATION:Cherry Beach West 1
CREATED:20130507T225851Z
DTSTART:20130623T223000Z
DTEND:20130623T233000Z
DTSTAMP:20260424T052603Z
SUMMARY:Flying Diegos vs. He Haw the Donkeys
DESCRIPTION:He Haw the Donkeys vs. Flying DiegosPlus d'info : #297
X-ALT-DESC;FMTTYPE=text/html:<!DOCTYPE HTML PUBLIC "-//W3C//DTD HTML 3.2//E
	N">\n<HTML>\n<HEAD>\n<TITLE></TITLE>\n</HEAD>\n<BODY>\n<h3>He Haw the Donke
	ys vs. Flying Diegos</h3>Plus d'info : <a href="https://www.golnetwork.com/
	game/v/28952/">#297</a>\n\n</BODY>\n</HTML>
STATUS:CONFIRMED
CLASS:PUBLIC
URL:https://www.golnetwork.com/game/v/28952/
X-MICROSOFT-CDO-BUSYSTATUS:BUSY
X-MICROSOFT-CDO-IMPORTANCE:1
END:VEVENT
BEGIN:VEVENT
UID:g314i@games.golnetwork.com
LOCATION:Cherry Beach West 2
CREATED:20130507T225851Z
DTSTART:20130623T223000Z
DTEND:20130623T233000Z
DTSTAMP:20260424T052603Z
SUMMARY: www.redrobinmasonry.com vs. Shot In The Dark
DESCRIPTION:Shot In The Dark vs.  www.redrobinmasonry.comPlus d'info : #298
X-ALT-DESC;FMTTYPE=text/html:<!DOCTYPE HTML PUBLIC "-//W3C//DTD HTML 3.2//E
	N">\n<HTML>\n<HEAD>\n<TITLE></TITLE>\n</HEAD>\n<BODY>\n<h3>Shot In The Dark
	 vs.  www.redrobinmasonry.com</h3>Plus d'info : <a href="https://www.golnet
	work.com/game/v/28953/">#298</a>\n\n</BODY>\n</HTML>
STATUS:CONFIRMED
CLASS:PUBLIC
URL:https://www.golnetwork.com/game/v/28953/
X-MICROSOFT-CDO-BUSYSTATUS:BUSY
X-MICROSOFT-CDO-IMPORTANCE:1
END:VEVENT
BEGIN:VEVENT
UID:g314k@games.golnetwork.com
LOCATION:Cherry Beach West 3
CREATED:20130507T225851Z
DTSTART:20130623T223000Z
DTEND:20130623T233000Z
DTSTAMP:20260424T052603Z
SUMMARY:Boro FC vs. Whistle FC
DESCRIPTION:Whistle FC vs. Boro FCPlus d'info : #299
X-ALT-DESC;FMTTYPE=text/html:<!DOCTYPE HTML PUBLIC "-//W3C//DTD HTML 3.2//E
	N">\n<HTML>\n<HEAD>\n<TITLE></TITLE>\n</HEAD>\n<BODY>\n<h3>Whistle FC vs. B
	oro FC</h3>Plus d'info : <a href="https://www.golnetwork.com/game/v/28954/"
	>#299</a>\n\n</BODY>\n</HTML>
STATUS:CONFIRMED
CLASS:PUBLIC
URL:https://www.golnetwork.com/game/v/28954/
X-MICROSOFT-CDO-BUSYSTATUS:BUSY
X-MICROSOFT-CDO-IMPORTANCE:1
END:VEVENT
BEGIN:VEVENT
UID:g3151@games.golnetwork.com
LOCATION:Cherry Beach West 1
CREATED:20130507T225851Z
DTSTART:20130707T223000Z
DTEND:20130707T233000Z
DTSTAMP:20260424T052603Z
SUMMARY:He Haw the Donkeys vs. Shot In The Dark
DESCRIPTION:Shot In The Dark vs. He Haw the DonkeysPlus d'info : #357
X-ALT-DESC;FMTTYPE=text/html:<!DOCTYPE HTML PUBLIC "-//W3C//DTD HTML 3.2//E
	N">\n<HTML>\n<HEAD>\n<TITLE></TITLE>\n</HEAD>\n<BODY>\n<h3>Shot In The Dark
	 vs. He Haw the Donkeys</h3>Plus d'info : <a href="https://www.golnetwork.c
	om/game/v/28958/">#357</a>\n\n</BODY>\n</HTML>
STATUS:CONFIRMED
CLASS:PUBLIC
URL:https://www.golnetwork.com/game/v/28958/
X-MICROSOFT-CDO-BUSYSTATUS:BUSY
X-MICROSOFT-CDO-IMPORTANCE:1
END:VEVENT
BEGIN:VEVENT
UID:g3153@games.golnetwork.com
LOCATION:Cherry Beach West 2
CREATED:20130507T225851Z
DTSTART:20130707T223000Z
DTEND:20130707T233000Z
DTSTAMP:20260424T052603Z
SUMMARY:Flying Diegos vs. Boro FC
DESCRIPTION:Boro FC vs. Flying DiegosPlus d'info : #358
X-ALT-DESC;FMTTYPE=text/html:<!DOCTYPE HTML PUBLIC "-//W3C//DTD HTML 3.2//E
	N">\n<HTML>\n<HEAD>\n<TITLE></TITLE>\n</HEAD>\n<BODY>\n<h3>Boro FC vs. Flyi
	ng Diegos</h3>Plus d'info : <a href="https://www.golnetwork.com/game/v/2895
	9/">#358</a>\n\n</BODY>\n</HTML>
STATUS:CONFIRMED
CLASS:PUBLIC
URL:https://www.golnetwork.com/game/v/28959/
X-MICROSOFT-CDO-BUSYSTATUS:BUSY
X-MICROSOFT-CDO-IMPORTANCE:1
END:VEVENT
BEGIN:VEVENT
UID:g3155@games.golnetwork.com
LOCATION:Cherry Beach West 3
CREATED:20130507T225851Z
DTSTART:20130707T223000Z
DTEND:20130707T233000Z
DTSTAMP:20260424T052603Z
SUMMARY:Whistle FC vs.  www.redrobinmasonry.com
DESCRIPTION: www.redrobinmasonry.com vs. Whistle FCPlus d'info : #359
X-ALT-DESC;FMTTYPE=text/html:<!DOCTYPE HTML PUBLIC "-//W3C//DTD HTML 3.2//E
	N">\n<HTML>\n<HEAD>\n<TITLE></TITLE>\n</HEAD>\n<BODY>\n<h3> www.redrobinmas
	onry.com vs. Whistle FC</h3>Plus d'info : <a href="https://www.golnetwork.c
	om/game/v/28960/">#359</a>\n\n</BODY>\n</HTML>
STATUS:CONFIRMED
CLASS:PUBLIC
URL:https://www.golnetwork.com/game/v/28960/
X-MICROSOFT-CDO-BUSYSTATUS:BUSY
X-MICROSOFT-CDO-IMPORTANCE:1
END:VEVENT
BEGIN:VEVENT
UID:g317h@games.golnetwork.com
LOCATION:Cherry Beach West 1
CREATED:20130507T230314Z
DTSTART:20130714T223000Z
DTEND:20130714T233000Z
DTSTAMP:20260424T052603Z
SUMMARY:He Haw the Donkeys vs. Boro FC
DESCRIPTION:Boro FC vs. He Haw the DonkeysPlus d'info : #383
X-ALT-DESC;FMTTYPE=text/html:<!DOCTYPE HTML PUBLIC "-//W3C//DTD HTML 3.2//E
	N">\n<HTML>\n<HEAD>\n<TITLE></TITLE>\n</HEAD>\n<BODY>\n<h3>Boro FC vs. He H
	aw the Donkeys</h3>Plus d'info : <a href="https://www.golnetwork.com/game/v
	/28993/">#383</a>\n\n</BODY>\n</HTML>
STATUS:CONFIRMED
CLASS:PUBLIC
URL:https://www.golnetwork.com/game/v/28993/
X-MICROSOFT-CDO-BUSYSTATUS:BUSY
X-MICROSOFT-CDO-IMPORTANCE:1
END:VEVENT
BEGIN:VEVENT
UID:g317f@games.golnetwork.com
LOCATION:Cherry Beach West 2
CREATED:20130507T230308Z
DTSTART:20130714T223000Z
DTEND:20130714T233000Z
DTSTAMP:20260424T052603Z
SUMMARY:Whistle FC vs. Shot In The Dark
DESCRIPTION:Shot In The Dark vs. Whistle FCPlus d'info : #384
X-ALT-DESC;FMTTYPE=text/html:<!DOCTYPE HTML PUBLIC "-//W3C//DTD HTML 3.2//E
	N">\n<HTML>\n<HEAD>\n<TITLE></TITLE>\n</HEAD>\n<BODY>\n<h3>Shot In The Dark
	 vs. Whistle FC</h3>Plus d'info : <a href="https://www.golnetwork.com/game/
	v/28992/">#384</a>\n\n</BODY>\n</HTML>
STATUS:CONFIRMED
CLASS:PUBLIC
URL:https://www.golnetwork.com/game/v/28992/
X-MICROSOFT-CDO-BUSYSTATUS:BUSY
X-MICROSOFT-CDO-IMPORTANCE:1
END:VEVENT
BEGIN:VEVENT
UID:g317d@games.golnetwork.com
LOCATION:Cherry Beach West 3
CREATED:20130507T230301Z
DTSTART:20130714T223000Z
DTEND:20130714T233000Z
DTSTAMP:20260424T052603Z
SUMMARY:Flying Diegos vs.  www.redrobinmasonry.com
DESCRIPTION: www.redrobinmasonry.com vs. Flying DiegosPlus d'info : #385
X-ALT-DESC;FMTTYPE=text/html:<!DOCTYPE HTML PUBLIC "-//W3C//DTD HTML 3.2//E
	N">\n<HTML>\n<HEAD>\n<TITLE></TITLE>\n</HEAD>\n<BODY>\n<h3> www.redrobinmas
	onry.com vs. Flying Diegos</h3>Plus d'info : <a href="https://www.golnetwor
	k.com/game/v/28991/">#385</a>\n\n</BODY>\n</HTML>
STATUS:CONFIRMED
CLASS:PUBLIC
URL:https://www.golnetwork.com/game/v/28991/
X-MICROSOFT-CDO-BUSYSTATUS:BUSY
X-MICROSOFT-CDO-IMPORTANCE:1
END:VEVENT
END:VCALENDAR
