BEGIN:VCALENDAR
PRODID:-//gdesolutions.com//MV Framework 1.0.0.1607 Calendar//EN
VERSION:2.0
METHOD:PUBLISH
CALSCALE:GREGORIAN
BEGIN:VEVENT
UID:g350q@games.golnetwork.com
LOCATION:Lamport Stadium Field 1
GEO:43.639337;-79.4248954
CREATED:20130527T184817Z
DTSTART:20130601T000000Z
DTEND:20130601T010000Z
DTSTAMP:20260422T041510Z
SUMMARY:KAZEMI Enterprises Inc vs. XTSC Friday Night Light's
DESCRIPTION:XTSC Friday Night Light's vs. KAZEMI Enterprises IncPlus d'info
	 : #153
X-ALT-DESC;FMTTYPE=text/html:<!DOCTYPE HTML PUBLIC "-//W3C//DTD HTML 3.2//E
	N">\n<HTML>\n<HEAD>\n<TITLE></TITLE>\n</HEAD>\n<BODY>\n<h3>XTSC Friday Nigh
	t Light's vs. KAZEMI Enterprises Inc</h3>Plus d'info : <a href="https://www
	.golnetwork.com/game/v/30361/">#153</a>\n\n</BODY>\n</HTML>
STATUS:CONFIRMED
CLASS:PUBLIC
URL:https://www.golnetwork.com/game/v/30361/
X-MICROSOFT-CDO-BUSYSTATUS:BUSY
X-MICROSOFT-CDO-IMPORTANCE:1
END:VEVENT
BEGIN:VEVENT
UID:g3511@games.golnetwork.com
LOCATION:Lamport Stadium Field 1
GEO:43.639337;-79.4248954
CREATED:20130527T184817Z
DTSTART:20130601T010000Z
DTEND:20130601T020000Z
DTSTAMP:20260422T041510Z
SUMMARY:Desperados vs. Bandidos Locos
DESCRIPTION:Bandidos Locos vs. DesperadosPlus d'info : #154
X-ALT-DESC;FMTTYPE=text/html:<!DOCTYPE HTML PUBLIC "-//W3C//DTD HTML 3.2//E
	N">\n<HTML>\n<HEAD>\n<TITLE></TITLE>\n</HEAD>\n<BODY>\n<h3>Bandidos Locos v
	s. Desperados</h3>Plus d'info : <a href="https://www.golnetwork.com/game/v/
	30362/">#154</a>\n\n</BODY>\n</HTML>
STATUS:CONFIRMED
CLASS:PUBLIC
URL:https://www.golnetwork.com/game/v/30362/
X-MICROSOFT-CDO-BUSYSTATUS:BUSY
X-MICROSOFT-CDO-IMPORTANCE:1
END:VEVENT
BEGIN:VEVENT
UID:g3515@games.golnetwork.com
LOCATION:Lamport Stadium Field 1
GEO:43.639337;-79.4248954
CREATED:20130527T184817Z
DTSTART:20130608T000000Z
DTEND:20130608T010000Z
DTSTAMP:20260422T041510Z
SUMMARY:Bandidos Locos vs. XTSC Friday Night Light's
DESCRIPTION:XTSC Friday Night Light's vs. Bandidos LocosPlus d'info : #204
X-ALT-DESC;FMTTYPE=text/html:<!DOCTYPE HTML PUBLIC "-//W3C//DTD HTML 3.2//E
	N">\n<HTML>\n<HEAD>\n<TITLE></TITLE>\n</HEAD>\n<BODY>\n<h3>XTSC Friday Nigh
	t Light's vs. Bandidos Locos</h3>Plus d'info : <a href="https://www.golnetw
	ork.com/game/v/30364/">#204</a>\n\n</BODY>\n</HTML>
STATUS:CONFIRMED
CLASS:PUBLIC
URL:https://www.golnetwork.com/game/v/30364/
X-MICROSOFT-CDO-BUSYSTATUS:BUSY
X-MICROSOFT-CDO-IMPORTANCE:1
END:VEVENT
BEGIN:VEVENT
UID:g3513@games.golnetwork.com
LOCATION:Lamport Stadium Field 1
GEO:43.639337;-79.4248954
CREATED:20130527T184817Z
DTSTART:20130608T010000Z
DTEND:20130608T020000Z
DTSTAMP:20260422T041510Z
SUMMARY:Desperados vs. KAZEMI Enterprises Inc
DESCRIPTION:KAZEMI Enterprises Inc vs. DesperadosPlus d'info : #205
X-ALT-DESC;FMTTYPE=text/html:<!DOCTYPE HTML PUBLIC "-//W3C//DTD HTML 3.2//E
	N">\n<HTML>\n<HEAD>\n<TITLE></TITLE>\n</HEAD>\n<BODY>\n<h3>KAZEMI Enterpris
	es Inc vs. Desperados</h3>Plus d'info : <a href="https://www.golnetwork.com
	/game/v/30363/">#205</a>\n\n</BODY>\n</HTML>
STATUS:CONFIRMED
CLASS:PUBLIC
URL:https://www.golnetwork.com/game/v/30363/
X-MICROSOFT-CDO-BUSYSTATUS:BUSY
X-MICROSOFT-CDO-IMPORTANCE:1
END:VEVENT
BEGIN:VEVENT
UID:g3517@games.golnetwork.com
LOCATION:Lamport Stadium Field 1
GEO:43.639337;-79.4248954
CREATED:20130527T184817Z
DTSTART:20130615T000000Z
DTEND:20130615T010000Z
DTSTAMP:20260422T041510Z
SUMMARY:KAZEMI Enterprises Inc vs. Bandidos Locos
DESCRIPTION:Bandidos Locos vs. KAZEMI Enterprises IncPlus d'info : #248
X-ALT-DESC;FMTTYPE=text/html:<!DOCTYPE HTML PUBLIC "-//W3C//DTD HTML 3.2//E
	N">\n<HTML>\n<HEAD>\n<TITLE></TITLE>\n</HEAD>\n<BODY>\n<h3>Bandidos Locos v
	s. KAZEMI Enterprises Inc</h3>Plus d'info : <a href="https://www.golnetwork
	.com/game/v/30365/">#248</a>\n\n</BODY>\n</HTML>
STATUS:CONFIRMED
CLASS:PUBLIC
URL:https://www.golnetwork.com/game/v/30365/
X-MICROSOFT-CDO-BUSYSTATUS:BUSY
X-MICROSOFT-CDO-IMPORTANCE:1
END:VEVENT
BEGIN:VEVENT
UID:g3519@games.golnetwork.com
LOCATION:Lamport Stadium Field 1
GEO:43.639337;-79.4248954
CREATED:20130527T184817Z
DTSTART:20130615T010000Z
DTEND:20130615T020000Z
DTSTAMP:20260422T041510Z
SUMMARY:XTSC Friday Night Light's vs. Desperados
DESCRIPTION:Desperados vs. XTSC Friday Night Light'sPlus d'info : #249
X-ALT-DESC;FMTTYPE=text/html:<!DOCTYPE HTML PUBLIC "-//W3C//DTD HTML 3.2//E
	N">\n<HTML>\n<HEAD>\n<TITLE></TITLE>\n</HEAD>\n<BODY>\n<h3>Desperados vs. X
	TSC Friday Night Light's</h3>Plus d'info : <a href="https://www.golnetwork.
	com/game/v/30366/">#249</a>\n\n</BODY>\n</HTML>
STATUS:CONFIRMED
CLASS:PUBLIC
URL:https://www.golnetwork.com/game/v/30366/
X-MICROSOFT-CDO-BUSYSTATUS:BUSY
X-MICROSOFT-CDO-IMPORTANCE:1
END:VEVENT
BEGIN:VEVENT
UID:g351b@games.golnetwork.com
LOCATION:Lamport Stadium Field 1
GEO:43.639337;-79.4248954
CREATED:20130527T184817Z
DTSTART:20130622T000000Z
DTEND:20130622T010000Z
DTSTAMP:20260422T041510Z
SUMMARY:Bandidos Locos vs. XTSC Friday Night Light's
DESCRIPTION:XTSC Friday Night Light's vs. Bandidos LocosPlus d'info : #292
X-ALT-DESC;FMTTYPE=text/html:<!DOCTYPE HTML PUBLIC "-//W3C//DTD HTML 3.2//E
	N">\n<HTML>\n<HEAD>\n<TITLE></TITLE>\n</HEAD>\n<BODY>\n<h3>XTSC Friday Nigh
	t Light's vs. Bandidos Locos</h3>Plus d'info : <a href="https://www.golnetw
	ork.com/game/v/30367/">#292</a>\n\n</BODY>\n</HTML>
STATUS:CONFIRMED
CLASS:PUBLIC
URL:https://www.golnetwork.com/game/v/30367/
X-MICROSOFT-CDO-BUSYSTATUS:BUSY
X-MICROSOFT-CDO-IMPORTANCE:1
END:VEVENT
BEGIN:VEVENT
UID:g351d@games.golnetwork.com
LOCATION:Lamport Stadium Field 1
GEO:43.639337;-79.4248954
CREATED:20130527T184817Z
DTSTART:20130622T010000Z
DTEND:20130622T020000Z
DTSTAMP:20260422T041510Z
SUMMARY:KAZEMI Enterprises Inc vs. Desperados
DESCRIPTION:Desperados vs. KAZEMI Enterprises IncPlus d'info : #293
X-ALT-DESC;FMTTYPE=text/html:<!DOCTYPE HTML PUBLIC "-//W3C//DTD HTML 3.2//E
	N">\n<HTML>\n<HEAD>\n<TITLE></TITLE>\n</HEAD>\n<BODY>\n<h3>Desperados vs. K
	AZEMI Enterprises Inc</h3>Plus d'info : <a href="https://www.golnetwork.com
	/game/v/30368/">#293</a>\n\n</BODY>\n</HTML>
STATUS:CONFIRMED
CLASS:PUBLIC
URL:https://www.golnetwork.com/game/v/30368/
X-MICROSOFT-CDO-BUSYSTATUS:BUSY
X-MICROSOFT-CDO-IMPORTANCE:1
END:VEVENT
BEGIN:VEVENT
UID:g351j@games.golnetwork.com
LOCATION:Lamport Stadium Field 1
GEO:43.639337;-79.4248954
CREATED:20130527T184817Z
DTSTART:20130706T000000Z
DTEND:20130706T010000Z
DTSTAMP:20260422T041510Z
SUMMARY:Bandidos Locos vs. Desperados
DESCRIPTION:Desperados vs. Bandidos LocosPlus d'info : #353
X-ALT-DESC;FMTTYPE=text/html:<!DOCTYPE HTML PUBLIC "-//W3C//DTD HTML 3.2//E
	N">\n<HTML>\n<HEAD>\n<TITLE></TITLE>\n</HEAD>\n<BODY>\n<h3>Desperados vs. B
	andidos Locos</h3>Plus d'info : <a href="https://www.golnetwork.com/game/v/
	30371/">#353</a>\n\n</BODY>\n</HTML>
STATUS:CONFIRMED
CLASS:PUBLIC
URL:https://www.golnetwork.com/game/v/30371/
X-MICROSOFT-CDO-BUSYSTATUS:BUSY
X-MICROSOFT-CDO-IMPORTANCE:1
END:VEVENT
BEGIN:VEVENT
UID:g351l@games.golnetwork.com
LOCATION:Lamport Stadium Field 1
GEO:43.639337;-79.4248954
CREATED:20130527T184817Z
DTSTART:20130706T010000Z
DTEND:20130706T020000Z
DTSTAMP:20260422T041510Z
SUMMARY:XTSC Friday Night Light's vs. KAZEMI Enterprises Inc
DESCRIPTION:KAZEMI Enterprises Inc vs. XTSC Friday Night Light'sPlus d'info
	 : #354
X-ALT-DESC;FMTTYPE=text/html:<!DOCTYPE HTML PUBLIC "-//W3C//DTD HTML 3.2//E
	N">\n<HTML>\n<HEAD>\n<TITLE></TITLE>\n</HEAD>\n<BODY>\n<h3>KAZEMI Enterpris
	es Inc vs. XTSC Friday Night Light's</h3>Plus d'info : <a href="https://www
	.golnetwork.com/game/v/30372/">#354</a>\n\n</BODY>\n</HTML>
STATUS:CONFIRMED
CLASS:PUBLIC
URL:https://www.golnetwork.com/game/v/30372/
X-MICROSOFT-CDO-BUSYSTATUS:BUSY
X-MICROSOFT-CDO-IMPORTANCE:1
END:VEVENT
BEGIN:VEVENT
UID:g351n@games.golnetwork.com
LOCATION:Lamport Stadium Field 1
GEO:43.639337;-79.4248954
CREATED:20130527T184817Z
DTSTART:20130713T000000Z
DTEND:20130713T010000Z
DTSTAMP:20260422T041510Z
SUMMARY:XTSC Friday Night Light's vs. Desperados
DESCRIPTION:Desperados vs. XTSC Friday Night Light'sPlus d'info : #379
X-ALT-DESC;FMTTYPE=text/html:<!DOCTYPE HTML PUBLIC "-//W3C//DTD HTML 3.2//E
	N">\n<HTML>\n<HEAD>\n<TITLE></TITLE>\n</HEAD>\n<BODY>\n<h3>Desperados vs. X
	TSC Friday Night Light's</h3>Plus d'info : <a href="https://www.golnetwork.
	com/game/v/30373/">#379</a>\n\n</BODY>\n</HTML>
STATUS:CONFIRMED
CLASS:PUBLIC
URL:https://www.golnetwork.com/game/v/30373/
X-MICROSOFT-CDO-BUSYSTATUS:BUSY
X-MICROSOFT-CDO-IMPORTANCE:1
END:VEVENT
BEGIN:VEVENT
UID:g3623@games.golnetwork.com
LOCATION:Lamport Stadium Field 2
GEO:43.639337;-79.4248954
CREATED:20130623T165519Z
DTSTART:20130713T000000Z
DTEND:20130713T010000Z
DTSTAMP:20260422T041510Z
SUMMARY:KAZEMI Enterprises Inc vs. Bandidos Locos
DESCRIPTION:Bandidos Locos vs. KAZEMI Enterprises IncPlus d'info : #380
X-ALT-DESC;FMTTYPE=text/html:<!DOCTYPE HTML PUBLIC "-//W3C//DTD HTML 3.2//E
	N">\n<HTML>\n<HEAD>\n<TITLE></TITLE>\n</HEAD>\n<BODY>\n<h3>Bandidos Locos v
	s. KAZEMI Enterprises Inc</h3>Plus d'info : <a href="https://www.golnetwork
	.com/game/v/30741/">#380</a>\n\n</BODY>\n</HTML>
STATUS:CONFIRMED
CLASS:PUBLIC
URL:https://www.golnetwork.com/game/v/30741/
X-MICROSOFT-CDO-BUSYSTATUS:BUSY
X-MICROSOFT-CDO-IMPORTANCE:1
END:VEVENT
BEGIN:VEVENT
UID:g351p@games.golnetwork.com
LOCATION:Lamport Stadium Field 1
GEO:43.639337;-79.4248954
CREATED:20130527T184817Z
DTSTART:20130713T010000Z
DTEND:20130713T020000Z
DTSTAMP:20260422T041510Z
SUMMARY:Desperados vs. KAZEMI Enterprises Inc
DESCRIPTION:KAZEMI Enterprises Inc vs. DesperadosPlus d'info : #381
X-ALT-DESC;FMTTYPE=text/html:<!DOCTYPE HTML PUBLIC "-//W3C//DTD HTML 3.2//E
	N">\n<HTML>\n<HEAD>\n<TITLE></TITLE>\n</HEAD>\n<BODY>\n<h3>KAZEMI Enterpris
	es Inc vs. Desperados</h3>Plus d'info : <a href="https://www.golnetwork.com
	/game/v/30374/">#381</a>\n\n</BODY>\n</HTML>
STATUS:CONFIRMED
CLASS:PUBLIC
URL:https://www.golnetwork.com/game/v/30374/
X-MICROSOFT-CDO-BUSYSTATUS:BUSY
X-MICROSOFT-CDO-IMPORTANCE:1
END:VEVENT
BEGIN:VEVENT
UID:g3625@games.golnetwork.com
LOCATION:Lamport Stadium Field 2
GEO:43.639337;-79.4248954
CREATED:20130623T165530Z
DTSTART:20130713T010000Z
DTEND:20130713T020000Z
DTSTAMP:20260422T041510Z
SUMMARY:Bandidos Locos vs. XTSC Friday Night Light's
DESCRIPTION:XTSC Friday Night Light's vs. Bandidos LocosPlus d'info : #382
X-ALT-DESC;FMTTYPE=text/html:<!DOCTYPE HTML PUBLIC "-//W3C//DTD HTML 3.2//E
	N">\n<HTML>\n<HEAD>\n<TITLE></TITLE>\n</HEAD>\n<BODY>\n<h3>XTSC Friday Nigh
	t Light's vs. Bandidos Locos</h3>Plus d'info : <a href="https://www.golnetw
	ork.com/game/v/30742/">#382</a>\n\n</BODY>\n</HTML>
STATUS:CONFIRMED
CLASS:PUBLIC
URL:https://www.golnetwork.com/game/v/30742/
X-MICROSOFT-CDO-BUSYSTATUS:BUSY
X-MICROSOFT-CDO-IMPORTANCE:1
END:VEVENT
BEGIN:VEVENT
UID:g3520@games.golnetwork.com
LOCATION:Lamport Stadium Field 1
GEO:43.639337;-79.4248954
CREATED:20130527T184817Z
DTSTART:20130720T000000Z
DTEND:20130720T010000Z
DTSTAMP:20260422T041510Z
SUMMARY:Desperados vs. XTSC Friday Night Light's
DESCRIPTION:XTSC Friday Night Light's vs. DesperadosPlus d'info : #398
X-ALT-DESC;FMTTYPE=text/html:<!DOCTYPE HTML PUBLIC "-//W3C//DTD HTML 3.2//E
	N">\n<HTML>\n<HEAD>\n<TITLE></TITLE>\n</HEAD>\n<BODY>\n<h3>XTSC Friday Nigh
	t Light's vs. Desperados</h3>Plus d'info : <a href="https://www.golnetwork.
	com/game/v/30375/">#398</a>\n\n</BODY>\n</HTML>
STATUS:CONFIRMED
CLASS:PUBLIC
URL:https://www.golnetwork.com/game/v/30375/
X-MICROSOFT-CDO-BUSYSTATUS:BUSY
X-MICROSOFT-CDO-IMPORTANCE:1
END:VEVENT
BEGIN:VEVENT
UID:g38h0@games.golnetwork.com
LOCATION:Lamport Stadium Field 2
GEO:43.639337;-79.4248954
CREATED:20130715T144830Z
DTSTART:20130720T000000Z
DTEND:20130720T010000Z
DTSTAMP:20260422T041510Z
SUMMARY:Bandidos Locos vs. KAZEMI Enterprises Inc
DESCRIPTION:KAZEMI Enterprises Inc vs. Bandidos LocosPlus d'info : #399
X-ALT-DESC;FMTTYPE=text/html:<!DOCTYPE HTML PUBLIC "-//W3C//DTD HTML 3.2//E
	N">\n<HTML>\n<HEAD>\n<TITLE></TITLE>\n</HEAD>\n<BODY>\n<h3>KAZEMI Enterpris
	es Inc vs. Bandidos Locos</h3>Plus d'info : <a href="https://www.golnetwork
	.com/game/v/31671/">#399</a>\n\n</BODY>\n</HTML>
STATUS:CONFIRMED
CLASS:PUBLIC
URL:https://www.golnetwork.com/game/v/31671/
X-MICROSOFT-CDO-BUSYSTATUS:BUSY
X-MICROSOFT-CDO-IMPORTANCE:1
END:VEVENT
BEGIN:VEVENT
UID:g3522@games.golnetwork.com
LOCATION:Lamport Stadium Field 1
GEO:43.639337;-79.4248954
CREATED:20130527T184817Z
DTSTART:20130720T010000Z
DTEND:20130720T020000Z
DTSTAMP:20260422T041510Z
SUMMARY:KAZEMI Enterprises Inc vs. XTSC Friday Night Light's
DESCRIPTION:XTSC Friday Night Light's vs. KAZEMI Enterprises IncPlus d'info
	 : #400
X-ALT-DESC;FMTTYPE=text/html:<!DOCTYPE HTML PUBLIC "-//W3C//DTD HTML 3.2//E
	N">\n<HTML>\n<HEAD>\n<TITLE></TITLE>\n</HEAD>\n<BODY>\n<h3>XTSC Friday Nigh
	t Light's vs. KAZEMI Enterprises Inc</h3>Plus d'info : <a href="https://www
	.golnetwork.com/game/v/30376/">#400</a>\n\n</BODY>\n</HTML>
STATUS:CONFIRMED
CLASS:PUBLIC
URL:https://www.golnetwork.com/game/v/30376/
X-MICROSOFT-CDO-BUSYSTATUS:BUSY
X-MICROSOFT-CDO-IMPORTANCE:1
END:VEVENT
BEGIN:VEVENT
UID:g38gp@games.golnetwork.com
LOCATION:Lamport Stadium Field 2
GEO:43.639337;-79.4248954
CREATED:20130715T144820Z
DTSTART:20130720T010000Z
DTEND:20130720T020000Z
DTSTAMP:20260422T041510Z
SUMMARY:Desperados vs. Bandidos Locos
DESCRIPTION:Bandidos Locos vs. DesperadosPlus d'info : #401
X-ALT-DESC;FMTTYPE=text/html:<!DOCTYPE HTML PUBLIC "-//W3C//DTD HTML 3.2//E
	N">\n<HTML>\n<HEAD>\n<TITLE></TITLE>\n</HEAD>\n<BODY>\n<h3>Bandidos Locos v
	s. Desperados</h3>Plus d'info : <a href="https://www.golnetwork.com/game/v/
	31670/">#401</a>\n\n</BODY>\n</HTML>
STATUS:CONFIRMED
CLASS:PUBLIC
URL:https://www.golnetwork.com/game/v/31670/
X-MICROSOFT-CDO-BUSYSTATUS:BUSY
X-MICROSOFT-CDO-IMPORTANCE:1
END:VEVENT
END:VCALENDAR
