BEGIN:VCALENDAR
PRODID:-//gdesolutions.com//MV Framework 1.0.0.1607 Calendar//EN
VERSION:2.0
METHOD:PUBLISH
CALSCALE:GREGORIAN
BEGIN:VEVENT
UID:g3j84@games.golnetwork.com
LOCATION:East York CI
GEO:45.10662;-94.578209
CREATED:20131001T024029Z
DTSTART:20131003T223000Z
DTEND:20131003T233000Z
DTSTAMP:20260426T010313Z
SUMMARY:Bredrin FC vs. A Swift Kick To The Nets
DESCRIPTION:A Swift Kick To The Nets vs. Bredrin FCPlus d'info : #55
X-ALT-DESC;FMTTYPE=text/html:<!DOCTYPE HTML PUBLIC "-//W3C//DTD HTML 3.2//E
	N">\n<HTML>\n<HEAD>\n<TITLE></TITLE>\n</HEAD>\n<BODY>\n<h3>A Swift Kick To 
	The Nets vs. Bredrin FC</h3>Plus d'info : <a href="https://www.golnetwork.c
	om/game/v/35561/">#55</a>\n\n</BODY>\n</HTML>
STATUS:CONFIRMED
CLASS:PUBLIC
URL:https://www.golnetwork.com/game/v/35561/
X-MICROSOFT-CDO-BUSYSTATUS:BUSY
X-MICROSOFT-CDO-IMPORTANCE:1
END:VEVENT
BEGIN:VEVENT
UID:g3j86@games.golnetwork.com
LOCATION:East York CI
GEO:45.10662;-94.578209
CREATED:20131001T024029Z
DTSTART:20131003T233000Z
DTEND:20131004T003000Z
DTSTAMP:20260426T010313Z
SUMMARY:Rice (White) vs. Barely Athletic FC
DESCRIPTION:Barely Athletic FC vs. Rice (White)Plus d'info : #56
X-ALT-DESC;FMTTYPE=text/html:<!DOCTYPE HTML PUBLIC "-//W3C//DTD HTML 3.2//E
	N">\n<HTML>\n<HEAD>\n<TITLE></TITLE>\n</HEAD>\n<BODY>\n<h3>Barely Athletic 
	FC vs. Rice (White)</h3>Plus d'info : <a href="https://www.golnetwork.com/g
	ame/v/35562/">#56</a>\n\n</BODY>\n</HTML>
STATUS:CONFIRMED
CLASS:PUBLIC
URL:https://www.golnetwork.com/game/v/35562/
X-MICROSOFT-CDO-BUSYSTATUS:BUSY
X-MICROSOFT-CDO-IMPORTANCE:1
END:VEVENT
BEGIN:VEVENT
UID:g3j8g@games.golnetwork.com
LOCATION:East York CI
GEO:45.10662;-94.578209
CREATED:20131001T024029Z
DTSTART:20131024T223000Z
DTEND:20131024T233000Z
DTSTAMP:20260426T010313Z
SUMMARY:A Swift Kick To The Nets vs. Rice (White)
DESCRIPTION:Rice (White) vs. A Swift Kick To The NetsPlus d'info : #93
X-ALT-DESC;FMTTYPE=text/html:<!DOCTYPE HTML PUBLIC "-//W3C//DTD HTML 3.2//E
	N">\n<HTML>\n<HEAD>\n<TITLE></TITLE>\n</HEAD>\n<BODY>\n<h3>Rice (White) vs.
	 A Swift Kick To The Nets</h3>Plus d'info : <a href="https://www.golnetwork
	.com/game/v/35567/">#93</a>\n\n</BODY>\n</HTML>
STATUS:CONFIRMED
CLASS:PUBLIC
URL:https://www.golnetwork.com/game/v/35567/
X-MICROSOFT-CDO-BUSYSTATUS:BUSY
X-MICROSOFT-CDO-IMPORTANCE:1
END:VEVENT
BEGIN:VEVENT
UID:g3j8i@games.golnetwork.com
LOCATION:East York CI
GEO:45.10662;-94.578209
CREATED:20131001T024029Z
DTSTART:20131024T233000Z
DTEND:20131025T003000Z
DTSTAMP:20260426T010313Z
SUMMARY:Bredrin FC vs. Barely Athletic FC
DESCRIPTION:Barely Athletic FC vs. Bredrin FCPlus d'info : #94
X-ALT-DESC;FMTTYPE=text/html:<!DOCTYPE HTML PUBLIC "-//W3C//DTD HTML 3.2//E
	N">\n<HTML>\n<HEAD>\n<TITLE></TITLE>\n</HEAD>\n<BODY>\n<h3>Barely Athletic 
	FC vs. Bredrin FC</h3>Plus d'info : <a href="https://www.golnetwork.com/gam
	e/v/35568/">#94</a>\n\n</BODY>\n</HTML>
STATUS:CONFIRMED
CLASS:PUBLIC
URL:https://www.golnetwork.com/game/v/35568/
X-MICROSOFT-CDO-BUSYSTATUS:BUSY
X-MICROSOFT-CDO-IMPORTANCE:1
END:VEVENT
BEGIN:VEVENT
UID:g4507@games.golnetwork.com
LOCATION:East York CI
GEO:45.10662;-94.578209
CREATED:20131021T202915Z
DTSTART:20131025T003000Z
DTEND:20131025T013000Z
DTSTAMP:20260426T010313Z
SUMMARY:Brooklyn FC vs. Barely Athletic FC
DESCRIPTION:Barely Athletic FC vs. Brooklyn FCPlus d'info : #95
X-ALT-DESC;FMTTYPE=text/html:<!DOCTYPE HTML PUBLIC "-//W3C//DTD HTML 3.2//E
	N">\n<HTML>\n<HEAD>\n<TITLE></TITLE>\n</HEAD>\n<BODY>\n<h3>Barely Athletic 
	FC vs. Brooklyn FC</h3>Plus d'info : <a href="https://www.golnetwork.com/ga
	me/v/40193/">#95</a>\n\n</BODY>\n</HTML>
STATUS:CONFIRMED
CLASS:PUBLIC
URL:https://www.golnetwork.com/game/v/40193/
X-MICROSOFT-CDO-BUSYSTATUS:BUSY
X-MICROSOFT-CDO-IMPORTANCE:1
END:VEVENT
BEGIN:VEVENT
UID:g3j8k@games.golnetwork.com
LOCATION:East York CI
GEO:45.10662;-94.578209
CREATED:20131001T024029Z
DTSTART:20131031T223000Z
DTEND:20131031T233000Z
DTSTAMP:20260426T010313Z
SUMMARY:Barely Athletic FC vs. A Swift Kick To The Nets
DESCRIPTION:A Swift Kick To The Nets vs. Barely Athletic FCPlus d'info : #1
	13
X-ALT-DESC;FMTTYPE=text/html:<!DOCTYPE HTML PUBLIC "-//W3C//DTD HTML 3.2//E
	N">\n<HTML>\n<HEAD>\n<TITLE></TITLE>\n</HEAD>\n<BODY>\n<h3>A Swift Kick To 
	The Nets vs. Barely Athletic FC</h3>Plus d'info : <a href="https://www.goln
	etwork.com/game/v/35569/">#113</a>\n\n</BODY>\n</HTML>
STATUS:CONFIRMED
CLASS:PUBLIC
URL:https://www.golnetwork.com/game/v/35569/
X-MICROSOFT-CDO-BUSYSTATUS:BUSY
X-MICROSOFT-CDO-IMPORTANCE:1
END:VEVENT
BEGIN:VEVENT
UID:g3j8m@games.golnetwork.com
LOCATION:East York CI
GEO:45.10662;-94.578209
CREATED:20131001T024029Z
DTSTART:20131031T233000Z
DTEND:20131101T003000Z
DTSTAMP:20260426T010313Z
SUMMARY:Bredrin FC vs. Rice (White)
DESCRIPTION:Rice (White) vs. Bredrin FCPlus d'info : #114
X-ALT-DESC;FMTTYPE=text/html:<!DOCTYPE HTML PUBLIC "-//W3C//DTD HTML 3.2//E
	N">\n<HTML>\n<HEAD>\n<TITLE></TITLE>\n</HEAD>\n<BODY>\n<h3>Rice (White) vs.
	 Bredrin FC</h3>Plus d'info : <a href="https://www.golnetwork.com/game/v/35
	570/">#114</a>\n\n</BODY>\n</HTML>
STATUS:CONFIRMED
CLASS:PUBLIC
URL:https://www.golnetwork.com/game/v/35570/
X-MICROSOFT-CDO-BUSYSTATUS:BUSY
X-MICROSOFT-CDO-IMPORTANCE:1
END:VEVENT
BEGIN:VEVENT
UID:g4509@games.golnetwork.com
LOCATION:East York CI
GEO:45.10662;-94.578209
CREATED:20131021T202915Z
DTSTART:20131101T003000Z
DTEND:20131101T013000Z
DTSTAMP:20260426T010313Z
SUMMARY:Brooklyn FC vs. Rice (White)
DESCRIPTION:Rice (White) vs. Brooklyn FCPlus d'info : #115
X-ALT-DESC;FMTTYPE=text/html:<!DOCTYPE HTML PUBLIC "-//W3C//DTD HTML 3.2//E
	N">\n<HTML>\n<HEAD>\n<TITLE></TITLE>\n</HEAD>\n<BODY>\n<h3>Rice (White) vs.
	 Brooklyn FC</h3>Plus d'info : <a href="https://www.golnetwork.com/game/v/4
	0194/">#115</a>\n\n</BODY>\n</HTML>
STATUS:CONFIRMED
CLASS:PUBLIC
URL:https://www.golnetwork.com/game/v/40194/
X-MICROSOFT-CDO-BUSYSTATUS:BUSY
X-MICROSOFT-CDO-IMPORTANCE:1
END:VEVENT
BEGIN:VEVENT
UID:g3j8o@games.golnetwork.com
LOCATION:East York CI
GEO:45.10662;-94.578209
CREATED:20131001T024029Z
DTSTART:20131107T233000Z
DTEND:20131108T003000Z
DTSTAMP:20260426T010313Z
SUMMARY:Brooklyn FC vs. Bredrin FC
DESCRIPTION:Bredrin FC vs. Brooklyn FCPlus d'info : #126
X-ALT-DESC;FMTTYPE=text/html:<!DOCTYPE HTML PUBLIC "-//W3C//DTD HTML 3.2//E
	N">\n<HTML>\n<HEAD>\n<TITLE></TITLE>\n</HEAD>\n<BODY>\n<h3>Bredrin FC vs. B
	rooklyn FC</h3>Plus d'info : <a href="https://www.golnetwork.com/game/v/355
	71/">#126</a>\n\n</BODY>\n</HTML>
STATUS:CONFIRMED
CLASS:PUBLIC
URL:https://www.golnetwork.com/game/v/35571/
X-MICROSOFT-CDO-BUSYSTATUS:BUSY
X-MICROSOFT-CDO-IMPORTANCE:1
END:VEVENT
BEGIN:VEVENT
UID:g3j8q@games.golnetwork.com
LOCATION:East York CI
GEO:45.10662;-94.578209
CREATED:20131001T024029Z
DTSTART:20131108T003000Z
DTEND:20131108T013000Z
DTSTAMP:20260426T010313Z
SUMMARY:Brooklyn FC vs. A Swift Kick To The Nets
DESCRIPTION:A Swift Kick To The Nets vs. Brooklyn FCPlus d'info : #127
X-ALT-DESC;FMTTYPE=text/html:<!DOCTYPE HTML PUBLIC "-//W3C//DTD HTML 3.2//E
	N">\n<HTML>\n<HEAD>\n<TITLE></TITLE>\n</HEAD>\n<BODY>\n<h3>A Swift Kick To 
	The Nets vs. Brooklyn FC</h3>Plus d'info : <a href="https://www.golnetwork.
	com/game/v/35572/">#127</a>\n\n</BODY>\n</HTML>
STATUS:CONFIRMED
CLASS:PUBLIC
URL:https://www.golnetwork.com/game/v/35572/
X-MICROSOFT-CDO-BUSYSTATUS:BUSY
X-MICROSOFT-CDO-IMPORTANCE:1
END:VEVENT
BEGIN:VEVENT
UID:g450b@games.golnetwork.com
LOCATION:East York CI
GEO:45.10662;-94.578209
CREATED:20131021T202915Z
DTSTART:20131108T013000Z
DTEND:20131108T023000Z
DTSTAMP:20260426T010313Z
SUMMARY:Barely Athletic FC vs. Rice (White)
DESCRIPTION:Rice (White) vs. Barely Athletic FCPlus d'info : #128
X-ALT-DESC;FMTTYPE=text/html:<!DOCTYPE HTML PUBLIC "-//W3C//DTD HTML 3.2//E
	N">\n<HTML>\n<HEAD>\n<TITLE></TITLE>\n</HEAD>\n<BODY>\n<h3>Rice (White) vs.
	 Barely Athletic FC</h3>Plus d'info : <a href="https://www.golnetwork.com/g
	ame/v/40195/">#128</a>\n\n</BODY>\n</HTML>
STATUS:CONFIRMED
CLASS:PUBLIC
URL:https://www.golnetwork.com/game/v/40195/
X-MICROSOFT-CDO-BUSYSTATUS:BUSY
X-MICROSOFT-CDO-IMPORTANCE:1
END:VEVENT
BEGIN:VEVENT
UID:g3j91@games.golnetwork.com
LOCATION:East York CI
GEO:45.10662;-94.578209
CREATED:20131001T024029Z
DTSTART:20131114T233000Z
DTEND:20131115T003000Z
DTSTAMP:20260426T010313Z
SUMMARY:Barely Athletic FC vs. A Swift Kick To The Nets
DESCRIPTION:A Swift Kick To The Nets vs. Barely Athletic FCPlus d'info : #1
	43
X-ALT-DESC;FMTTYPE=text/html:<!DOCTYPE HTML PUBLIC "-//W3C//DTD HTML 3.2//E
	N">\n<HTML>\n<HEAD>\n<TITLE></TITLE>\n</HEAD>\n<BODY>\n<h3>A Swift Kick To 
	The Nets vs. Barely Athletic FC</h3>Plus d'info : <a href="https://www.goln
	etwork.com/game/v/35573/">#143</a>\n\n</BODY>\n</HTML>
STATUS:CONFIRMED
CLASS:PUBLIC
URL:https://www.golnetwork.com/game/v/35573/
X-MICROSOFT-CDO-BUSYSTATUS:BUSY
X-MICROSOFT-CDO-IMPORTANCE:1
END:VEVENT
BEGIN:VEVENT
UID:g3j93@games.golnetwork.com
LOCATION:East York CI
GEO:45.10662;-94.578209
CREATED:20131001T024029Z
DTSTART:20131115T003000Z
DTEND:20131115T013000Z
DTSTAMP:20260426T010313Z
SUMMARY:Bredrin FC vs. A Swift Kick To The Nets
DESCRIPTION:A Swift Kick To The Nets vs. Bredrin FCPlus d'info : #144
X-ALT-DESC;FMTTYPE=text/html:<!DOCTYPE HTML PUBLIC "-//W3C//DTD HTML 3.2//E
	N">\n<HTML>\n<HEAD>\n<TITLE></TITLE>\n</HEAD>\n<BODY>\n<h3>A Swift Kick To 
	The Nets vs. Bredrin FC</h3>Plus d'info : <a href="https://www.golnetwork.c
	om/game/v/35574/">#144</a>\n\n</BODY>\n</HTML>
STATUS:CONFIRMED
CLASS:PUBLIC
URL:https://www.golnetwork.com/game/v/35574/
X-MICROSOFT-CDO-BUSYSTATUS:BUSY
X-MICROSOFT-CDO-IMPORTANCE:1
END:VEVENT
BEGIN:VEVENT
UID:g450d@games.golnetwork.com
LOCATION:East York CI
GEO:45.10662;-94.578209
CREATED:20131021T202915Z
DTSTART:20131115T013000Z
DTEND:20131115T023000Z
DTSTAMP:20260426T010313Z
SUMMARY:Brooklyn FC vs. Rice (White)
DESCRIPTION:Rice (White) vs. Brooklyn FCPlus d'info : #145
X-ALT-DESC;FMTTYPE=text/html:<!DOCTYPE HTML PUBLIC "-//W3C//DTD HTML 3.2//E
	N">\n<HTML>\n<HEAD>\n<TITLE></TITLE>\n</HEAD>\n<BODY>\n<h3>Rice (White) vs.
	 Brooklyn FC</h3>Plus d'info : <a href="https://www.golnetwork.com/game/v/4
	0196/">#145</a>\n\n</BODY>\n</HTML>
STATUS:CONFIRMED
CLASS:PUBLIC
URL:https://www.golnetwork.com/game/v/40196/
X-MICROSOFT-CDO-BUSYSTATUS:BUSY
X-MICROSOFT-CDO-IMPORTANCE:1
END:VEVENT
BEGIN:VEVENT
UID:g3j95@games.golnetwork.com
LOCATION:East York CI
GEO:45.10662;-94.578209
CREATED:20131001T024029Z
DTSTART:20131121T230500Z
DTEND:20131122T000500Z
DTSTAMP:20260426T010313Z
SUMMARY:A Swift Kick To The Nets vs. Brooklyn FC
DESCRIPTION:Brooklyn FC vs. A Swift Kick To The NetsPlus d'info : #157
X-ALT-DESC;FMTTYPE=text/html:<!DOCTYPE HTML PUBLIC "-//W3C//DTD HTML 3.2//E
	N">\n<HTML>\n<HEAD>\n<TITLE></TITLE>\n</HEAD>\n<BODY>\n<h3>Brooklyn FC vs. 
	A Swift Kick To The Nets</h3>Plus d'info : <a href="https://www.golnetwork.
	com/game/v/35575/">#157</a>\n\n</BODY>\n</HTML>
STATUS:CONFIRMED
CLASS:PUBLIC
URL:https://www.golnetwork.com/game/v/35575/
X-MICROSOFT-CDO-BUSYSTATUS:BUSY
X-MICROSOFT-CDO-IMPORTANCE:1
END:VEVENT
BEGIN:VEVENT
UID:g3j97@games.golnetwork.com
LOCATION:East York CI
GEO:45.10662;-94.578209
CREATED:20131001T024029Z
DTSTART:20131122T000000Z
DTEND:20131122T010000Z
DTSTAMP:20260426T010313Z
SUMMARY:Barely Athletic FC vs. Brooklyn FC
DESCRIPTION:Brooklyn FC vs. Barely Athletic FCPlus d'info : #158
X-ALT-DESC;FMTTYPE=text/html:<!DOCTYPE HTML PUBLIC "-//W3C//DTD HTML 3.2//E
	N">\n<HTML>\n<HEAD>\n<TITLE></TITLE>\n</HEAD>\n<BODY>\n<h3>Brooklyn FC vs. 
	Barely Athletic FC</h3>Plus d'info : <a href="https://www.golnetwork.com/ga
	me/v/35576/">#158</a>\n\n</BODY>\n</HTML>
STATUS:CONFIRMED
CLASS:PUBLIC
URL:https://www.golnetwork.com/game/v/35576/
X-MICROSOFT-CDO-BUSYSTATUS:BUSY
X-MICROSOFT-CDO-IMPORTANCE:1
END:VEVENT
BEGIN:VEVENT
UID:g3kf6@games.golnetwork.com
LOCATION:East York CI
GEO:45.10662;-94.578209
CREATED:20131009T224019Z
DTSTART:20131122T005500Z
DTEND:20131122T015500Z
DTSTAMP:20260426T010313Z
SUMMARY:Samba All-Stars vs. Bredrin FC
DESCRIPTION:Bredrin FC vs. Samba All-StarsPlus d'info : #159
X-ALT-DESC;FMTTYPE=text/html:<!DOCTYPE HTML PUBLIC "-//W3C//DTD HTML 3.2//E
	N">\n<HTML>\n<HEAD>\n<TITLE></TITLE>\n</HEAD>\n<BODY>\n<h3>Bredrin FC vs. S
	amba All-Stars</h3>Plus d'info : <a href="https://www.golnetwork.com/game/v
	/36021/">#159</a>\n\n</BODY>\n</HTML>
STATUS:CONFIRMED
CLASS:PUBLIC
URL:https://www.golnetwork.com/game/v/36021/
X-MICROSOFT-CDO-BUSYSTATUS:BUSY
X-MICROSOFT-CDO-IMPORTANCE:1
END:VEVENT
BEGIN:VEVENT
UID:g450f@games.golnetwork.com
LOCATION:East York CI
GEO:45.10662;-94.578209
CREATED:20131021T203809Z
DTSTART:20131122T015000Z
DTEND:20131122T025000Z
DTSTAMP:20260426T010313Z
SUMMARY:Samba All-Stars vs. Rice (White)
DESCRIPTION:Rice (White) vs. Samba All-StarsPlus d'info : #160
X-ALT-DESC;FMTTYPE=text/html:<!DOCTYPE HTML PUBLIC "-//W3C//DTD HTML 3.2//E
	N">\n<HTML>\n<HEAD>\n<TITLE></TITLE>\n</HEAD>\n<BODY>\n<h3>Rice (White) vs.
	 Samba All-Stars</h3>Plus d'info : <a href="https://www.golnetwork.com/game
	/v/40197/">#160</a>\n\n</BODY>\n</HTML>
STATUS:CONFIRMED
CLASS:PUBLIC
URL:https://www.golnetwork.com/game/v/40197/
X-MICROSOFT-CDO-BUSYSTATUS:BUSY
X-MICROSOFT-CDO-IMPORTANCE:1
END:VEVENT
BEGIN:VEVENT
UID:g3j99@games.golnetwork.com
LOCATION:East York CI
GEO:45.10662;-94.578209
CREATED:20131001T024029Z
DTSTART:20131128T230500Z
DTEND:20131129T000500Z
DTSTAMP:20260426T010313Z
SUMMARY:Bredrin FC vs. Rice (White)
DESCRIPTION:Rice (White) vs. Bredrin FCPlus d'info : #174
X-ALT-DESC;FMTTYPE=text/html:<!DOCTYPE HTML PUBLIC "-//W3C//DTD HTML 3.2//E
	N">\n<HTML>\n<HEAD>\n<TITLE></TITLE>\n</HEAD>\n<BODY>\n<h3>Rice (White) vs.
	 Bredrin FC</h3>Plus d'info : <a href="https://www.golnetwork.com/game/v/35
	577/">#174</a>\n\n</BODY>\n</HTML>
STATUS:CONFIRMED
CLASS:PUBLIC
URL:https://www.golnetwork.com/game/v/35577/
X-MICROSOFT-CDO-BUSYSTATUS:BUSY
X-MICROSOFT-CDO-IMPORTANCE:1
END:VEVENT
BEGIN:VEVENT
UID:g3j9b@games.golnetwork.com
LOCATION:East York CI
GEO:45.10662;-94.578209
CREATED:20131001T024029Z
DTSTART:20131129T000000Z
DTEND:20131129T010000Z
DTSTAMP:20260426T010313Z
SUMMARY:Samba All-Stars vs. Brooklyn FC
DESCRIPTION:Brooklyn FC vs. Samba All-StarsPlus d'info : #175
X-ALT-DESC;FMTTYPE=text/html:<!DOCTYPE HTML PUBLIC "-//W3C//DTD HTML 3.2//E
	N">\n<HTML>\n<HEAD>\n<TITLE></TITLE>\n</HEAD>\n<BODY>\n<h3>Brooklyn FC vs. 
	Samba All-Stars</h3>Plus d'info : <a href="https://www.golnetwork.com/game/
	v/35578/">#175</a>\n\n</BODY>\n</HTML>
STATUS:CONFIRMED
CLASS:PUBLIC
URL:https://www.golnetwork.com/game/v/35578/
X-MICROSOFT-CDO-BUSYSTATUS:BUSY
X-MICROSOFT-CDO-IMPORTANCE:1
END:VEVENT
BEGIN:VEVENT
UID:g3kf8@games.golnetwork.com
LOCATION:East York CI
GEO:45.10662;-94.578209
CREATED:20131009T224026Z
DTSTART:20131129T005500Z
DTEND:20131129T015500Z
DTSTAMP:20260426T010313Z
SUMMARY:Samba All-Stars vs. Barely Athletic FC
DESCRIPTION:Barely Athletic FC vs. Samba All-StarsPlus d'info : #176
X-ALT-DESC;FMTTYPE=text/html:<!DOCTYPE HTML PUBLIC "-//W3C//DTD HTML 3.2//E
	N">\n<HTML>\n<HEAD>\n<TITLE></TITLE>\n</HEAD>\n<BODY>\n<h3>Barely Athletic 
	FC vs. Samba All-Stars</h3>Plus d'info : <a href="https://www.golnetwork.co
	m/game/v/36022/">#176</a>\n\n</BODY>\n</HTML>
STATUS:CONFIRMED
CLASS:PUBLIC
URL:https://www.golnetwork.com/game/v/36022/
X-MICROSOFT-CDO-BUSYSTATUS:BUSY
X-MICROSOFT-CDO-IMPORTANCE:1
END:VEVENT
BEGIN:VEVENT
UID:g450h@games.golnetwork.com
LOCATION:East York CI
GEO:45.10662;-94.578209
CREATED:20131021T203809Z
DTSTART:20131129T015000Z
DTEND:20131129T025000Z
DTSTAMP:20260426T010313Z
SUMMARY:Samba All-Stars vs. A Swift Kick To The Nets
DESCRIPTION:A Swift Kick To The Nets vs. Samba All-StarsPlus d'info : #177
X-ALT-DESC;FMTTYPE=text/html:<!DOCTYPE HTML PUBLIC "-//W3C//DTD HTML 3.2//E
	N">\n<HTML>\n<HEAD>\n<TITLE></TITLE>\n</HEAD>\n<BODY>\n<h3>A Swift Kick To 
	The Nets vs. Samba All-Stars</h3>Plus d'info : <a href="https://www.golnetw
	ork.com/game/v/40198/">#177</a>\n\n</BODY>\n</HTML>
STATUS:CONFIRMED
CLASS:PUBLIC
URL:https://www.golnetwork.com/game/v/40198/
X-MICROSOFT-CDO-BUSYSTATUS:BUSY
X-MICROSOFT-CDO-IMPORTANCE:1
END:VEVENT
BEGIN:VEVENT
UID:g3j9d@games.golnetwork.com
LOCATION:East York CI
GEO:45.10662;-94.578209
CREATED:20131001T024029Z
DTSTART:20131205T230500Z
DTEND:20131206T000500Z
DTSTAMP:20260426T010313Z
SUMMARY:Barely Athletic FC vs. Bredrin FC
DESCRIPTION:Bredrin FC vs. Barely Athletic FCPlus d'info : #191
X-ALT-DESC;FMTTYPE=text/html:<!DOCTYPE HTML PUBLIC "-//W3C//DTD HTML 3.2//E
	N">\n<HTML>\n<HEAD>\n<TITLE></TITLE>\n</HEAD>\n<BODY>\n<h3>Bredrin FC vs. B
	arely Athletic FC</h3>Plus d'info : <a href="https://www.golnetwork.com/gam
	e/v/35579/">#191</a>\n\n</BODY>\n</HTML>
STATUS:CONFIRMED
CLASS:PUBLIC
URL:https://www.golnetwork.com/game/v/35579/
X-MICROSOFT-CDO-BUSYSTATUS:BUSY
X-MICROSOFT-CDO-IMPORTANCE:1
END:VEVENT
BEGIN:VEVENT
UID:g3j9f@games.golnetwork.com
LOCATION:East York CI
GEO:45.10662;-94.578209
CREATED:20131001T024029Z
DTSTART:20131206T000000Z
DTEND:20131206T010000Z
DTSTAMP:20260426T010313Z
SUMMARY:Samba All-Stars vs. Brooklyn FC
DESCRIPTION:Brooklyn FC vs. Samba All-StarsPlus d'info : #192
X-ALT-DESC;FMTTYPE=text/html:<!DOCTYPE HTML PUBLIC "-//W3C//DTD HTML 3.2//E
	N">\n<HTML>\n<HEAD>\n<TITLE></TITLE>\n</HEAD>\n<BODY>\n<h3>Brooklyn FC vs. 
	Samba All-Stars</h3>Plus d'info : <a href="https://www.golnetwork.com/game/
	v/35580/">#192</a>\n\n</BODY>\n</HTML>
STATUS:CONFIRMED
CLASS:PUBLIC
URL:https://www.golnetwork.com/game/v/35580/
X-MICROSOFT-CDO-BUSYSTATUS:BUSY
X-MICROSOFT-CDO-IMPORTANCE:1
END:VEVENT
BEGIN:VEVENT
UID:g3kfa@games.golnetwork.com
LOCATION:East York CI
GEO:45.10662;-94.578209
CREATED:20131009T224032Z
DTSTART:20131206T005500Z
DTEND:20131206T015500Z
DTSTAMP:20260426T010313Z
SUMMARY:Samba All-Stars vs. A Swift Kick To The Nets
DESCRIPTION:A Swift Kick To The Nets vs. Samba All-StarsPlus d'info : #193
X-ALT-DESC;FMTTYPE=text/html:<!DOCTYPE HTML PUBLIC "-//W3C//DTD HTML 3.2//E
	N">\n<HTML>\n<HEAD>\n<TITLE></TITLE>\n</HEAD>\n<BODY>\n<h3>A Swift Kick To 
	The Nets vs. Samba All-Stars</h3>Plus d'info : <a href="https://www.golnetw
	ork.com/game/v/36023/">#193</a>\n\n</BODY>\n</HTML>
STATUS:CONFIRMED
CLASS:PUBLIC
URL:https://www.golnetwork.com/game/v/36023/
X-MICROSOFT-CDO-BUSYSTATUS:BUSY
X-MICROSOFT-CDO-IMPORTANCE:1
END:VEVENT
BEGIN:VEVENT
UID:g450j@games.golnetwork.com
LOCATION:East York CI
GEO:45.10662;-94.578209
CREATED:20131021T203809Z
DTSTART:20131206T015000Z
DTEND:20131206T025000Z
DTSTAMP:20260426T010313Z
SUMMARY:Samba All-Stars vs. Rice (White)
DESCRIPTION:Rice (White) vs. Samba All-StarsPlus d'info : #194
X-ALT-DESC;FMTTYPE=text/html:<!DOCTYPE HTML PUBLIC "-//W3C//DTD HTML 3.2//E
	N">\n<HTML>\n<HEAD>\n<TITLE></TITLE>\n</HEAD>\n<BODY>\n<h3>Rice (White) vs.
	 Samba All-Stars</h3>Plus d'info : <a href="https://www.golnetwork.com/game
	/v/40199/">#194</a>\n\n</BODY>\n</HTML>
STATUS:CONFIRMED
CLASS:PUBLIC
URL:https://www.golnetwork.com/game/v/40199/
X-MICROSOFT-CDO-BUSYSTATUS:BUSY
X-MICROSOFT-CDO-IMPORTANCE:1
END:VEVENT
BEGIN:VEVENT
UID:g3j9h@games.golnetwork.com
LOCATION:East York CI
GEO:45.10662;-94.578209
CREATED:20131001T024029Z
DTSTART:20131212T230500Z
DTEND:20131213T000500Z
DTSTAMP:20260426T010313Z
SUMMARY:Bredrin FC vs. Brooklyn FC
DESCRIPTION:Brooklyn FC vs. Bredrin FCPlus d'info : #208
X-ALT-DESC;FMTTYPE=text/html:<!DOCTYPE HTML PUBLIC "-//W3C//DTD HTML 3.2//E
	N">\n<HTML>\n<HEAD>\n<TITLE></TITLE>\n</HEAD>\n<BODY>\n<h3>Brooklyn FC vs. 
	Bredrin FC</h3>Plus d'info : <a href="https://www.golnetwork.com/game/v/355
	81/">#208</a>\n\n</BODY>\n</HTML>
STATUS:CONFIRMED
CLASS:PUBLIC
URL:https://www.golnetwork.com/game/v/35581/
X-MICROSOFT-CDO-BUSYSTATUS:BUSY
X-MICROSOFT-CDO-IMPORTANCE:1
END:VEVENT
BEGIN:VEVENT
UID:g3j9j@games.golnetwork.com
LOCATION:East York CI
GEO:45.10662;-94.578209
CREATED:20131001T024029Z
DTSTART:20131213T000000Z
DTEND:20131213T010000Z
DTSTAMP:20260426T010313Z
SUMMARY:Bredrin FC vs. Samba All-Stars
DESCRIPTION:Samba All-Stars vs. Bredrin FCPlus d'info : #209
X-ALT-DESC;FMTTYPE=text/html:<!DOCTYPE HTML PUBLIC "-//W3C//DTD HTML 3.2//E
	N">\n<HTML>\n<HEAD>\n<TITLE></TITLE>\n</HEAD>\n<BODY>\n<h3>Samba All-Stars 
	vs. Bredrin FC</h3>Plus d'info : <a href="https://www.golnetwork.com/game/v
	/35582/">#209</a>\n\n</BODY>\n</HTML>
STATUS:CONFIRMED
CLASS:PUBLIC
URL:https://www.golnetwork.com/game/v/35582/
X-MICROSOFT-CDO-BUSYSTATUS:BUSY
X-MICROSOFT-CDO-IMPORTANCE:1
END:VEVENT
BEGIN:VEVENT
UID:g3kfc@games.golnetwork.com
LOCATION:East York CI
GEO:45.10662;-94.578209
CREATED:20131009T224040Z
DTSTART:20131213T005500Z
DTEND:20131213T015500Z
DTSTAMP:20260426T010313Z
SUMMARY:Barely Athletic FC vs. Samba All-Stars
DESCRIPTION:Samba All-Stars vs. Barely Athletic FCPlus d'info : #210
X-ALT-DESC;FMTTYPE=text/html:<!DOCTYPE HTML PUBLIC "-//W3C//DTD HTML 3.2//E
	N">\n<HTML>\n<HEAD>\n<TITLE></TITLE>\n</HEAD>\n<BODY>\n<h3>Samba All-Stars 
	vs. Barely Athletic FC</h3>Plus d'info : <a href="https://www.golnetwork.co
	m/game/v/36024/">#210</a>\n\n</BODY>\n</HTML>
STATUS:CONFIRMED
CLASS:PUBLIC
URL:https://www.golnetwork.com/game/v/36024/
X-MICROSOFT-CDO-BUSYSTATUS:BUSY
X-MICROSOFT-CDO-IMPORTANCE:1
END:VEVENT
BEGIN:VEVENT
UID:g450l@games.golnetwork.com
LOCATION:East York CI
GEO:45.10662;-94.578209
CREATED:20131021T203809Z
DTSTART:20131213T015000Z
DTEND:20131213T025000Z
DTSTAMP:20260426T010313Z
SUMMARY:Rice (White) vs. A Swift Kick To The Nets
DESCRIPTION:A Swift Kick To The Nets vs. Rice (White)Plus d'info : #211
X-ALT-DESC;FMTTYPE=text/html:<!DOCTYPE HTML PUBLIC "-//W3C//DTD HTML 3.2//E
	N">\n<HTML>\n<HEAD>\n<TITLE></TITLE>\n</HEAD>\n<BODY>\n<h3>A Swift Kick To 
	The Nets vs. Rice (White)</h3>Plus d'info : <a href="https://www.golnetwork
	.com/game/v/40200/">#211</a>\n\n</BODY>\n</HTML>
STATUS:CONFIRMED
CLASS:PUBLIC
URL:https://www.golnetwork.com/game/v/40200/
X-MICROSOFT-CDO-BUSYSTATUS:BUSY
X-MICROSOFT-CDO-IMPORTANCE:1
END:VEVENT
BEGIN:VEVENT
UID:g4b3g@games.golnetwork.com
LOCATION:East York CI
GEO:45.10662;-94.578209
CREATED:20131213T200149Z
DTSTART:20131219T233000Z
DTEND:20131220T003000Z
DTSTAMP:20260426T010313Z
SUMMARY:A Swift Kick To The Nets vs. Barely Athletic FC
DESCRIPTION:Barely Athletic FC vs. A Swift Kick To The NetsPlus d'info : #2
	14
X-ALT-DESC;FMTTYPE=text/html:<!DOCTYPE HTML PUBLIC "-//W3C//DTD HTML 3.2//E
	N">\n<HTML>\n<HEAD>\n<TITLE></TITLE>\n</HEAD>\n<BODY>\n<h3>Barely Athletic 
	FC vs. A Swift Kick To The Nets</h3>Plus d'info : <a href="https://www.goln
	etwork.com/game/v/42425/">#214</a>\n\n</BODY>\n</HTML>
STATUS:CONFIRMED
CLASS:PUBLIC
URL:https://www.golnetwork.com/game/v/42425/
X-MICROSOFT-CDO-BUSYSTATUS:BUSY
X-MICROSOFT-CDO-IMPORTANCE:1
END:VEVENT
BEGIN:VEVENT
UID:g4b3e@games.golnetwork.com
LOCATION:East York CI
GEO:45.10662;-94.578209
CREATED:20131213T200144Z
DTSTART:20131220T003000Z
DTEND:20131220T013000Z
DTSTAMP:20260426T010313Z
SUMMARY:Brooklyn FC vs. Bredrin FC
DESCRIPTION:Bredrin FC vs. Brooklyn FCPlus d'info : #215
X-ALT-DESC;FMTTYPE=text/html:<!DOCTYPE HTML PUBLIC "-//W3C//DTD HTML 3.2//E
	N">\n<HTML>\n<HEAD>\n<TITLE></TITLE>\n</HEAD>\n<BODY>\n<h3>Bredrin FC vs. B
	rooklyn FC</h3>Plus d'info : <a href="https://www.golnetwork.com/game/v/424
	24/">#215</a>\n\n</BODY>\n</HTML>
STATUS:CONFIRMED
CLASS:PUBLIC
URL:https://www.golnetwork.com/game/v/42424/
X-MICROSOFT-CDO-BUSYSTATUS:BUSY
X-MICROSOFT-CDO-IMPORTANCE:1
END:VEVENT
BEGIN:VEVENT
UID:g4b3c@games.golnetwork.com
LOCATION:East York CI
GEO:45.10662;-94.578209
CREATED:20131213T200140Z
DTSTART:20131220T013000Z
DTEND:20131220T023000Z
DTSTAMP:20260426T010313Z
SUMMARY:Samba All-Stars vs. Rice (White)
DESCRIPTION:Rice (White) vs. Samba All-StarsPlus d'info : #216
X-ALT-DESC;FMTTYPE=text/html:<!DOCTYPE HTML PUBLIC "-//W3C//DTD HTML 3.2//E
	N">\n<HTML>\n<HEAD>\n<TITLE></TITLE>\n</HEAD>\n<BODY>\n<h3>Rice (White) vs.
	 Samba All-Stars</h3>Plus d'info : <a href="https://www.golnetwork.com/game
	/v/42423/">#216</a>\n\n</BODY>\n</HTML>
STATUS:CONFIRMED
CLASS:PUBLIC
URL:https://www.golnetwork.com/game/v/42423/
X-MICROSOFT-CDO-BUSYSTATUS:BUSY
X-MICROSOFT-CDO-IMPORTANCE:1
END:VEVENT
BEGIN:VEVENT
UID:g4b36@games.golnetwork.com
LOCATION:East York CI
GEO:45.10662;-94.578209
CREATED:20131213T200123Z
DTSTART:20140109T233000Z
DTEND:20140110T003000Z
DTSTAMP:20260426T010313Z
SUMMARY:A Swift Kick To The Nets vs. Bredrin FC
DESCRIPTION:Bredrin FC vs. A Swift Kick To The NetsPlus d'info : #221
X-ALT-DESC;FMTTYPE=text/html:<!DOCTYPE HTML PUBLIC "-//W3C//DTD HTML 3.2//E
	N">\n<HTML>\n<HEAD>\n<TITLE></TITLE>\n</HEAD>\n<BODY>\n<h3>Bredrin FC vs. A
	 Swift Kick To The Nets</h3>Plus d'info : <a href="https://www.golnetwork.c
	om/game/v/42420/">#221</a>\n\n</BODY>\n</HTML>
STATUS:CONFIRMED
CLASS:PUBLIC
URL:https://www.golnetwork.com/game/v/42420/
X-MICROSOFT-CDO-BUSYSTATUS:BUSY
X-MICROSOFT-CDO-IMPORTANCE:1
END:VEVENT
BEGIN:VEVENT
UID:g4b38@games.golnetwork.com
LOCATION:East York CI
GEO:45.10662;-94.578209
CREATED:20131213T200127Z
DTSTART:20140110T003000Z
DTEND:20140110T013000Z
DTSTAMP:20260426T010313Z
SUMMARY:A Swift Kick To The Nets vs. Rice (White)
DESCRIPTION:Rice (White) vs. A Swift Kick To The NetsPlus d'info : #222
X-ALT-DESC;FMTTYPE=text/html:<!DOCTYPE HTML PUBLIC "-//W3C//DTD HTML 3.2//E
	N">\n<HTML>\n<HEAD>\n<TITLE></TITLE>\n</HEAD>\n<BODY>\n<h3>Rice (White) vs.
	 A Swift Kick To The Nets</h3>Plus d'info : <a href="https://www.golnetwork
	.com/game/v/42421/">#222</a>\n\n</BODY>\n</HTML>
STATUS:CONFIRMED
CLASS:PUBLIC
URL:https://www.golnetwork.com/game/v/42421/
X-MICROSOFT-CDO-BUSYSTATUS:BUSY
X-MICROSOFT-CDO-IMPORTANCE:1
END:VEVENT
BEGIN:VEVENT
UID:g4d7e@games.golnetwork.com
LOCATION:East York CI
GEO:45.10662;-94.578209
CREATED:20140106T182811Z
DTSTART:20140110T014500Z
DTEND:20140110T024500Z
DTSTAMP:20260426T010313Z
SUMMARY:Brooklyn FC vs. Samba All-Stars
DESCRIPTION:Samba All-Stars vs. Brooklyn FCPlus d'info : #223
X-ALT-DESC;FMTTYPE=text/html:<!DOCTYPE HTML PUBLIC "-//W3C//DTD HTML 3.2//E
	N">\n<HTML>\n<HEAD>\n<TITLE></TITLE>\n</HEAD>\n<BODY>\n<h3>Samba All-Stars 
	vs. Brooklyn FC</h3>Plus d'info : <a href="https://www.golnetwork.com/game/
	v/43207/">#223</a>\n\n</BODY>\n</HTML>
STATUS:CONFIRMED
CLASS:PUBLIC
URL:https://www.golnetwork.com/game/v/43207/
X-MICROSOFT-CDO-BUSYSTATUS:BUSY
X-MICROSOFT-CDO-IMPORTANCE:1
END:VEVENT
END:VCALENDAR
