BEGIN:VCALENDAR
PRODID:-//gdesolutions.com//MV Framework 1.0.0.1607 Calendar//EN
VERSION:2.0
METHOD:PUBLISH
CALSCALE:GREGORIAN
BEGIN:VEVENT
UID:g4745@games.golnetwork.com
LOCATION:Lamport Stadium - Field 2
GEO:43.6390028;-79.4232104
CREATED:20131111T212012Z
DTSTART:20131116T010000Z
DTEND:20131116T020000Z
DTSTAMP:20260420T050428Z
SUMMARY:AdParlor Algos vs. Gaby's Bitches
DESCRIPTION:Gaby's Bitches vs. AdParlor AlgosPlus d'info : #44
X-ALT-DESC;FMTTYPE=text/html:<!DOCTYPE HTML PUBLIC "-//W3C//DTD HTML 3.2//E
	N">\n<HTML>\n<HEAD>\n<TITLE></TITLE>\n</HEAD>\n<BODY>\n<h3>Gaby's Bitches v
	s. AdParlor Algos</h3>Plus d'info : <a href="https://www.golnetwork.com/gam
	e/v/40975/">#44</a>\n\n</BODY>\n</HTML>
STATUS:CONFIRMED
CLASS:PUBLIC
URL:https://www.golnetwork.com/game/v/40975/
X-MICROSOFT-CDO-BUSYSTATUS:BUSY
X-MICROSOFT-CDO-IMPORTANCE:1
END:VEVENT
BEGIN:VEVENT
UID:g474b@games.golnetwork.com
LOCATION:Lamport Stadium - Field 2
GEO:43.6390028;-79.4232104
CREATED:20131111T212012Z
DTSTART:20131116T020000Z
DTEND:20131116T030000Z
DTSTAMP:20260420T050428Z
SUMMARY:Cornuttos FC vs. FC Hollywood 1888
DESCRIPTION:FC Hollywood 1888 vs. Cornuttos FCPlus d'info : #47
X-ALT-DESC;FMTTYPE=text/html:<!DOCTYPE HTML PUBLIC "-//W3C//DTD HTML 3.2//E
	N">\n<HTML>\n<HEAD>\n<TITLE></TITLE>\n</HEAD>\n<BODY>\n<h3>FC Hollywood 188
	8 vs. Cornuttos FC</h3>Plus d'info : <a href="https://www.golnetwork.com/ga
	me/v/40978/">#47</a>\n\n</BODY>\n</HTML>
STATUS:CONFIRMED
CLASS:PUBLIC
URL:https://www.golnetwork.com/game/v/40978/
X-MICROSOFT-CDO-BUSYSTATUS:BUSY
X-MICROSOFT-CDO-IMPORTANCE:1
END:VEVENT
BEGIN:VEVENT
UID:g4749@games.golnetwork.com
LOCATION:Lamport Stadium - Field 2
GEO:43.6390028;-79.4232104
CREATED:20131111T212012Z
DTSTART:20131116T030000Z
DTEND:20131116T040000Z
DTSTAMP:20260420T050428Z
SUMMARY:Aztecas vs. Screaming  Giraffes
DESCRIPTION:Screaming  Giraffes vs. AztecasPlus d'info : #50
X-ALT-DESC;FMTTYPE=text/html:<!DOCTYPE HTML PUBLIC "-//W3C//DTD HTML 3.2//E
	N">\n<HTML>\n<HEAD>\n<TITLE></TITLE>\n</HEAD>\n<BODY>\n<h3>Screaming  Giraf
	fes vs. Aztecas</h3>Plus d'info : <a href="https://www.golnetwork.com/game/
	v/40977/">#50</a>\n\n</BODY>\n</HTML>
STATUS:CONFIRMED
CLASS:PUBLIC
URL:https://www.golnetwork.com/game/v/40977/
X-MICROSOFT-CDO-BUSYSTATUS:BUSY
X-MICROSOFT-CDO-IMPORTANCE:1
END:VEVENT
BEGIN:VEVENT
UID:g474d@games.golnetwork.com
LOCATION:Lamport Stadium - Field 2
GEO:43.6390028;-79.4232104
CREATED:20131111T212012Z
DTSTART:20131123T010000Z
DTEND:20131123T020000Z
DTSTAMP:20260420T050428Z
SUMMARY:AdParlor Algos vs. Aztecas
DESCRIPTION:Aztecas vs. AdParlor AlgosPlus d'info : #84
X-ALT-DESC;FMTTYPE=text/html:<!DOCTYPE HTML PUBLIC "-//W3C//DTD HTML 3.2//E
	N">\n<HTML>\n<HEAD>\n<TITLE></TITLE>\n</HEAD>\n<BODY>\n<h3>Aztecas vs. AdPa
	rlor Algos</h3>Plus d'info : <a href="https://www.golnetwork.com/game/v/409
	79/">#84</a>\n\n</BODY>\n</HTML>
STATUS:CONFIRMED
CLASS:PUBLIC
URL:https://www.golnetwork.com/game/v/40979/
X-MICROSOFT-CDO-BUSYSTATUS:BUSY
X-MICROSOFT-CDO-IMPORTANCE:1
END:VEVENT
BEGIN:VEVENT
UID:g474j@games.golnetwork.com
LOCATION:Lamport Stadium - Field 2
GEO:43.6390028;-79.4232104
CREATED:20131111T212012Z
DTSTART:20131123T020000Z
DTEND:20131123T030000Z
DTSTAMP:20260420T050428Z
SUMMARY:FC Hollywood 1888 vs. Screaming  Giraffes
DESCRIPTION:Screaming  Giraffes vs. FC Hollywood 1888Plus d'info : #87
X-ALT-DESC;FMTTYPE=text/html:<!DOCTYPE HTML PUBLIC "-//W3C//DTD HTML 3.2//E
	N">\n<HTML>\n<HEAD>\n<TITLE></TITLE>\n</HEAD>\n<BODY>\n<h3>Screaming  Giraf
	fes vs. FC Hollywood 1888</h3>Plus d'info : <a href="https://www.golnetwork
	.com/game/v/40982/">#87</a>\n\n</BODY>\n</HTML>
STATUS:CONFIRMED
CLASS:PUBLIC
URL:https://www.golnetwork.com/game/v/40982/
X-MICROSOFT-CDO-BUSYSTATUS:BUSY
X-MICROSOFT-CDO-IMPORTANCE:1
END:VEVENT
BEGIN:VEVENT
UID:g474h@games.golnetwork.com
LOCATION:Lamport Stadium - Field 2
GEO:43.6390028;-79.4232104
CREATED:20131111T212012Z
DTSTART:20131123T030000Z
DTEND:20131123T040000Z
DTSTAMP:20260420T050428Z
SUMMARY:Cornuttos FC vs. Gaby's Bitches
DESCRIPTION:Gaby's Bitches vs. Cornuttos FCPlus d'info : #90
X-ALT-DESC;FMTTYPE=text/html:<!DOCTYPE HTML PUBLIC "-//W3C//DTD HTML 3.2//E
	N">\n<HTML>\n<HEAD>\n<TITLE></TITLE>\n</HEAD>\n<BODY>\n<h3>Gaby's Bitches v
	s. Cornuttos FC</h3>Plus d'info : <a href="https://www.golnetwork.com/game/
	v/40981/">#90</a>\n\n</BODY>\n</HTML>
STATUS:CONFIRMED
CLASS:PUBLIC
URL:https://www.golnetwork.com/game/v/40981/
X-MICROSOFT-CDO-BUSYSTATUS:BUSY
X-MICROSOFT-CDO-IMPORTANCE:1
END:VEVENT
BEGIN:VEVENT
UID:g474l@games.golnetwork.com
LOCATION:Lamport Stadium - Field 2
GEO:43.6390028;-79.4232104
CREATED:20131111T212012Z
DTSTART:20131130T010000Z
DTEND:20131130T020000Z
DTSTAMP:20260420T050428Z
SUMMARY:FC Hollywood 1888 vs. Gaby's Bitches
DESCRIPTION:Gaby's Bitches vs. FC Hollywood 1888Plus d'info : #124
X-ALT-DESC;FMTTYPE=text/html:<!DOCTYPE HTML PUBLIC "-//W3C//DTD HTML 3.2//E
	N">\n<HTML>\n<HEAD>\n<TITLE></TITLE>\n</HEAD>\n<BODY>\n<h3>Gaby's Bitches v
	s. FC Hollywood 1888</h3>Plus d'info : <a href="https://www.golnetwork.com/
	game/v/40983/">#124</a>\n\n</BODY>\n</HTML>
STATUS:CONFIRMED
CLASS:PUBLIC
URL:https://www.golnetwork.com/game/v/40983/
X-MICROSOFT-CDO-BUSYSTATUS:BUSY
X-MICROSOFT-CDO-IMPORTANCE:1
END:VEVENT
BEGIN:VEVENT
UID:g474n@games.golnetwork.com
LOCATION:Lamport Stadium - Field 2
GEO:43.6390028;-79.4232104
CREATED:20131111T212012Z
DTSTART:20131130T020000Z
DTEND:20131130T030000Z
DTSTAMP:20260420T050428Z
SUMMARY:Screaming  Giraffes vs. AdParlor Algos
DESCRIPTION:AdParlor Algos vs. Screaming  GiraffesPlus d'info : #127
X-ALT-DESC;FMTTYPE=text/html:<!DOCTYPE HTML PUBLIC "-//W3C//DTD HTML 3.2//E
	N">\n<HTML>\n<HEAD>\n<TITLE></TITLE>\n</HEAD>\n<BODY>\n<h3>AdParlor Algos v
	s. Screaming  Giraffes</h3>Plus d'info : <a href="https://www.golnetwork.co
	m/game/v/40984/">#127</a>\n\n</BODY>\n</HTML>
STATUS:CONFIRMED
CLASS:PUBLIC
URL:https://www.golnetwork.com/game/v/40984/
X-MICROSOFT-CDO-BUSYSTATUS:BUSY
X-MICROSOFT-CDO-IMPORTANCE:1
END:VEVENT
BEGIN:VEVENT
UID:g474p@games.golnetwork.com
LOCATION:Lamport Stadium - Field 2
GEO:43.6390028;-79.4232104
CREATED:20131111T212012Z
DTSTART:20131130T030000Z
DTEND:20131130T040000Z
DTSTAMP:20260420T050428Z
SUMMARY:Screaming  Giraffes vs. Aztecas
DESCRIPTION:Aztecas vs. Screaming  GiraffesPlus d'info : #130
X-ALT-DESC;FMTTYPE=text/html:<!DOCTYPE HTML PUBLIC "-//W3C//DTD HTML 3.2//E
	N">\n<HTML>\n<HEAD>\n<TITLE></TITLE>\n</HEAD>\n<BODY>\n<h3>Aztecas vs. Scre
	aming  Giraffes</h3>Plus d'info : <a href="https://www.golnetwork.com/game/
	v/40985/">#130</a>\n\n</BODY>\n</HTML>
STATUS:CONFIRMED
CLASS:PUBLIC
URL:https://www.golnetwork.com/game/v/40985/
X-MICROSOFT-CDO-BUSYSTATUS:BUSY
X-MICROSOFT-CDO-IMPORTANCE:1
END:VEVENT
BEGIN:VEVENT
UID:g4752@games.golnetwork.com
LOCATION:Lamport Stadium - Field 2
GEO:43.6390028;-79.4232104
CREATED:20131111T212012Z
DTSTART:20131207T010000Z
DTEND:20131207T020000Z
DTSTAMP:20260420T050428Z
SUMMARY:Screaming  Giraffes vs. AdParlor Algos
DESCRIPTION:AdParlor Algos vs. Screaming  GiraffesPlus d'info : #165
X-ALT-DESC;FMTTYPE=text/html:<!DOCTYPE HTML PUBLIC "-//W3C//DTD HTML 3.2//E
	N">\n<HTML>\n<HEAD>\n<TITLE></TITLE>\n</HEAD>\n<BODY>\n<h3>AdParlor Algos v
	s. Screaming  Giraffes</h3>Plus d'info : <a href="https://www.golnetwork.co
	m/game/v/40987/">#165</a>\n\n</BODY>\n</HTML>
STATUS:CONFIRMED
CLASS:PUBLIC
URL:https://www.golnetwork.com/game/v/40987/
X-MICROSOFT-CDO-BUSYSTATUS:BUSY
X-MICROSOFT-CDO-IMPORTANCE:1
END:VEVENT
BEGIN:VEVENT
UID:g4754@games.golnetwork.com
LOCATION:Lamport Stadium - Field 2
GEO:43.6390028;-79.4232104
CREATED:20131111T212012Z
DTSTART:20131207T020000Z
DTEND:20131207T030000Z
DTSTAMP:20260420T050428Z
SUMMARY:Aztecas vs. Gaby's Bitches
DESCRIPTION:Gaby's Bitches vs. AztecasPlus d'info : #168
X-ALT-DESC;FMTTYPE=text/html:<!DOCTYPE HTML PUBLIC "-//W3C//DTD HTML 3.2//E
	N">\n<HTML>\n<HEAD>\n<TITLE></TITLE>\n</HEAD>\n<BODY>\n<h3>Gaby's Bitches v
	s. Aztecas</h3>Plus d'info : <a href="https://www.golnetwork.com/game/v/409
	88/">#168</a>\n\n</BODY>\n</HTML>
STATUS:CONFIRMED
CLASS:PUBLIC
URL:https://www.golnetwork.com/game/v/40988/
X-MICROSOFT-CDO-BUSYSTATUS:BUSY
X-MICROSOFT-CDO-IMPORTANCE:1
END:VEVENT
BEGIN:VEVENT
UID:g4756@games.golnetwork.com
LOCATION:Lamport Stadium - Field 2
GEO:43.6390028;-79.4232104
CREATED:20131111T212012Z
DTSTART:20131207T030000Z
DTEND:20131207T040000Z
DTSTAMP:20260420T050428Z
SUMMARY:Aztecas vs. FC Hollywood 1888
DESCRIPTION:FC Hollywood 1888 vs. AztecasPlus d'info : #171
X-ALT-DESC;FMTTYPE=text/html:<!DOCTYPE HTML PUBLIC "-//W3C//DTD HTML 3.2//E
	N">\n<HTML>\n<HEAD>\n<TITLE></TITLE>\n</HEAD>\n<BODY>\n<h3>FC Hollywood 188
	8 vs. Aztecas</h3>Plus d'info : <a href="https://www.golnetwork.com/game/v/
	40989/">#171</a>\n\n</BODY>\n</HTML>
STATUS:CONFIRMED
CLASS:PUBLIC
URL:https://www.golnetwork.com/game/v/40989/
X-MICROSOFT-CDO-BUSYSTATUS:BUSY
X-MICROSOFT-CDO-IMPORTANCE:1
END:VEVENT
BEGIN:VEVENT
UID:g475a@games.golnetwork.com
LOCATION:Lamport Stadium - Field 2
GEO:43.6390028;-79.4232104
CREATED:20131111T212012Z
DTSTART:20131214T010000Z
DTEND:20131214T020000Z
DTSTAMP:20260420T050428Z
SUMMARY:Aztecas vs. FC Hollywood 1888
DESCRIPTION:FC Hollywood 1888 vs. AztecasPlus d'info : #206
X-ALT-DESC;FMTTYPE=text/html:<!DOCTYPE HTML PUBLIC "-//W3C//DTD HTML 3.2//E
	N">\n<HTML>\n<HEAD>\n<TITLE></TITLE>\n</HEAD>\n<BODY>\n<h3>FC Hollywood 188
	8 vs. Aztecas</h3>Plus d'info : <a href="https://www.golnetwork.com/game/v/
	40991/">#206</a>\n\n</BODY>\n</HTML>
STATUS:CONFIRMED
CLASS:PUBLIC
URL:https://www.golnetwork.com/game/v/40991/
X-MICROSOFT-CDO-BUSYSTATUS:BUSY
X-MICROSOFT-CDO-IMPORTANCE:1
END:VEVENT
BEGIN:VEVENT
UID:g475c@games.golnetwork.com
LOCATION:Lamport Stadium - Field 2
GEO:43.6390028;-79.4232104
CREATED:20131111T212012Z
DTSTART:20131214T020000Z
DTEND:20131214T030000Z
DTSTAMP:20260420T050428Z
SUMMARY:Gaby's Bitches vs. AdParlor Algos
DESCRIPTION:AdParlor Algos vs. Gaby's BitchesPlus d'info : #209
X-ALT-DESC;FMTTYPE=text/html:<!DOCTYPE HTML PUBLIC "-//W3C//DTD HTML 3.2//E
	N">\n<HTML>\n<HEAD>\n<TITLE></TITLE>\n</HEAD>\n<BODY>\n<h3>AdParlor Algos v
	s. Gaby's Bitches</h3>Plus d'info : <a href="https://www.golnetwork.com/gam
	e/v/40992/">#209</a>\n\n</BODY>\n</HTML>
STATUS:CONFIRMED
CLASS:PUBLIC
URL:https://www.golnetwork.com/game/v/40992/
X-MICROSOFT-CDO-BUSYSTATUS:BUSY
X-MICROSOFT-CDO-IMPORTANCE:1
END:VEVENT
BEGIN:VEVENT
UID:g475g@games.golnetwork.com
LOCATION:Lamport Stadium - Field 2
GEO:43.6390028;-79.4232104
CREATED:20131111T212012Z
DTSTART:20131214T030000Z
DTEND:20131214T040000Z
DTSTAMP:20260420T050428Z
SUMMARY:Gaby's Bitches vs. Screaming  Giraffes
DESCRIPTION:Screaming  Giraffes vs. Gaby's BitchesPlus d'info : #212
X-ALT-DESC;FMTTYPE=text/html:<!DOCTYPE HTML PUBLIC "-//W3C//DTD HTML 3.2//E
	N">\n<HTML>\n<HEAD>\n<TITLE></TITLE>\n</HEAD>\n<BODY>\n<h3>Screaming  Giraf
	fes vs. Gaby's Bitches</h3>Plus d'info : <a href="https://www.golnetwork.co
	m/game/v/40994/">#212</a>\n\n</BODY>\n</HTML>
STATUS:CONFIRMED
CLASS:PUBLIC
URL:https://www.golnetwork.com/game/v/40994/
X-MICROSOFT-CDO-BUSYSTATUS:BUSY
X-MICROSOFT-CDO-IMPORTANCE:1
END:VEVENT
BEGIN:VEVENT
UID:g475i@games.golnetwork.com
LOCATION:Lamport Stadium - Field 2
GEO:43.6390028;-79.4232104
CREATED:20131111T212012Z
DTSTART:20131221T010000Z
DTEND:20131221T020000Z
DTSTAMP:20260420T050428Z
SUMMARY:Gaby's Bitches vs. Aztecas
DESCRIPTION:Aztecas vs. Gaby's BitchesPlus d'info : #247
X-ALT-DESC;FMTTYPE=text/html:<!DOCTYPE HTML PUBLIC "-//W3C//DTD HTML 3.2//E
	N">\n<HTML>\n<HEAD>\n<TITLE></TITLE>\n</HEAD>\n<BODY>\n<h3>Aztecas vs. Gaby
	's Bitches</h3>Plus d'info : <a href="https://www.golnetwork.com/game/v/409
	95/">#247</a>\n\n</BODY>\n</HTML>
STATUS:CONFIRMED
CLASS:PUBLIC
URL:https://www.golnetwork.com/game/v/40995/
X-MICROSOFT-CDO-BUSYSTATUS:BUSY
X-MICROSOFT-CDO-IMPORTANCE:1
END:VEVENT
BEGIN:VEVENT
UID:g475o@games.golnetwork.com
LOCATION:Lamport Stadium - Field 2
GEO:43.6390028;-79.4232104
CREATED:20131111T212012Z
DTSTART:20131221T020000Z
DTEND:20131221T030000Z
DTSTAMP:20260420T050428Z
SUMMARY:FC Hollywood 1888 vs. Screaming  Giraffes
DESCRIPTION:Screaming  Giraffes vs. FC Hollywood 1888Plus d'info : #250
X-ALT-DESC;FMTTYPE=text/html:<!DOCTYPE HTML PUBLIC "-//W3C//DTD HTML 3.2//E
	N">\n<HTML>\n<HEAD>\n<TITLE></TITLE>\n</HEAD>\n<BODY>\n<h3>Screaming  Giraf
	fes vs. FC Hollywood 1888</h3>Plus d'info : <a href="https://www.golnetwork
	.com/game/v/40998/">#250</a>\n\n</BODY>\n</HTML>
STATUS:CONFIRMED
CLASS:PUBLIC
URL:https://www.golnetwork.com/game/v/40998/
X-MICROSOFT-CDO-BUSYSTATUS:BUSY
X-MICROSOFT-CDO-IMPORTANCE:1
END:VEVENT
BEGIN:VEVENT
UID:g475m@games.golnetwork.com
LOCATION:Lamport Stadium - Field 2
GEO:43.6390028;-79.4232104
CREATED:20131111T212012Z
DTSTART:20131221T030000Z
DTEND:20131221T040000Z
DTSTAMP:20260420T050428Z
SUMMARY:FC Hollywood 1888 vs. AdParlor Algos
DESCRIPTION:AdParlor Algos vs. FC Hollywood 1888Plus d'info : #253
X-ALT-DESC;FMTTYPE=text/html:<!DOCTYPE HTML PUBLIC "-//W3C//DTD HTML 3.2//E
	N">\n<HTML>\n<HEAD>\n<TITLE></TITLE>\n</HEAD>\n<BODY>\n<h3>AdParlor Algos v
	s. FC Hollywood 1888</h3>Plus d'info : <a href="https://www.golnetwork.com/
	game/v/40997/">#253</a>\n\n</BODY>\n</HTML>
STATUS:CONFIRMED
CLASS:PUBLIC
URL:https://www.golnetwork.com/game/v/40997/
X-MICROSOFT-CDO-BUSYSTATUS:BUSY
X-MICROSOFT-CDO-IMPORTANCE:1
END:VEVENT
BEGIN:VEVENT
UID:g4767@games.golnetwork.com
LOCATION:Lamport Stadium - Field 2
GEO:43.6390028;-79.4232104
CREATED:20131111T212012Z
DTSTART:20140104T010000Z
DTEND:20140104T020000Z
DTSTAMP:20260420T050428Z
SUMMARY:Gaby's Bitches vs. FC Hollywood 1888
DESCRIPTION:FC Hollywood 1888 vs. Gaby's BitchesPlus d'info : #268
X-ALT-DESC;FMTTYPE=text/html:<!DOCTYPE HTML PUBLIC "-//W3C//DTD HTML 3.2//E
	N">\n<HTML>\n<HEAD>\n<TITLE></TITLE>\n</HEAD>\n<BODY>\n<h3>FC Hollywood 188
	8 vs. Gaby's Bitches</h3>Plus d'info : <a href="https://www.golnetwork.com/
	game/v/41003/">#268</a>\n\n</BODY>\n</HTML>
STATUS:CONFIRMED
CLASS:PUBLIC
URL:https://www.golnetwork.com/game/v/41003/
X-MICROSOFT-CDO-BUSYSTATUS:BUSY
X-MICROSOFT-CDO-IMPORTANCE:1
END:VEVENT
BEGIN:VEVENT
UID:g4769@games.golnetwork.com
LOCATION:Lamport Stadium - Field 2
GEO:43.6390028;-79.4232104
CREATED:20131111T212012Z
DTSTART:20140104T020000Z
DTEND:20140104T030000Z
DTSTAMP:20260420T050428Z
SUMMARY:Aztecas vs. AdParlor Algos
DESCRIPTION:AdParlor Algos vs. AztecasPlus d'info : #271
X-ALT-DESC;FMTTYPE=text/html:<!DOCTYPE HTML PUBLIC "-//W3C//DTD HTML 3.2//E
	N">\n<HTML>\n<HEAD>\n<TITLE></TITLE>\n</HEAD>\n<BODY>\n<h3>AdParlor Algos v
	s. Aztecas</h3>Plus d'info : <a href="https://www.golnetwork.com/game/v/410
	04/">#271</a>\n\n</BODY>\n</HTML>
STATUS:CONFIRMED
CLASS:PUBLIC
URL:https://www.golnetwork.com/game/v/41004/
X-MICROSOFT-CDO-BUSYSTATUS:BUSY
X-MICROSOFT-CDO-IMPORTANCE:1
END:VEVENT
BEGIN:VEVENT
UID:g476b@games.golnetwork.com
LOCATION:Lamport Stadium - Field 2
GEO:43.6390028;-79.4232104
CREATED:20131111T212012Z
DTSTART:20140104T030000Z
DTEND:20140104T040000Z
DTSTAMP:20260420T050428Z
SUMMARY:Screaming  Giraffes vs. AdParlor Algos
DESCRIPTION:AdParlor Algos vs. Screaming  GiraffesPlus d'info : #274
X-ALT-DESC;FMTTYPE=text/html:<!DOCTYPE HTML PUBLIC "-//W3C//DTD HTML 3.2//E
	N">\n<HTML>\n<HEAD>\n<TITLE></TITLE>\n</HEAD>\n<BODY>\n<h3>AdParlor Algos v
	s. Screaming  Giraffes</h3>Plus d'info : <a href="https://www.golnetwork.co
	m/game/v/41005/">#274</a>\n\n</BODY>\n</HTML>
STATUS:CONFIRMED
CLASS:PUBLIC
URL:https://www.golnetwork.com/game/v/41005/
X-MICROSOFT-CDO-BUSYSTATUS:BUSY
X-MICROSOFT-CDO-IMPORTANCE:1
END:VEVENT
BEGIN:VEVENT
UID:g476f@games.golnetwork.com
LOCATION:Lamport Stadium - Field 2
GEO:43.6390028;-79.4232104
CREATED:20131111T212012Z
DTSTART:20140111T010000Z
DTEND:20140111T020000Z
DTSTAMP:20260420T050428Z
SUMMARY:Aztecas vs. FC Hollywood 1888
DESCRIPTION:FC Hollywood 1888 vs. AztecasPlus d'info : #298
X-ALT-DESC;FMTTYPE=text/html:<!DOCTYPE HTML PUBLIC "-//W3C//DTD HTML 3.2//E
	N">\n<HTML>\n<HEAD>\n<TITLE></TITLE>\n</HEAD>\n<BODY>\n<h3>FC Hollywood 188
	8 vs. Aztecas</h3>Plus d'info : <a href="https://www.golnetwork.com/game/v/
	41007/">#298</a>\n\n</BODY>\n</HTML>
STATUS:CONFIRMED
CLASS:PUBLIC
URL:https://www.golnetwork.com/game/v/41007/
X-MICROSOFT-CDO-BUSYSTATUS:BUSY
X-MICROSOFT-CDO-IMPORTANCE:1
END:VEVENT
BEGIN:VEVENT
UID:g476h@games.golnetwork.com
LOCATION:Lamport Stadium - Field 2
GEO:43.6390028;-79.4232104
CREATED:20131111T212012Z
DTSTART:20140111T020000Z
DTEND:20140111T030000Z
DTSTAMP:20260420T050428Z
SUMMARY:AdParlor Algos vs. Screaming  Giraffes
DESCRIPTION:Screaming  Giraffes vs. AdParlor AlgosPlus d'info : #301
X-ALT-DESC;FMTTYPE=text/html:<!DOCTYPE HTML PUBLIC "-//W3C//DTD HTML 3.2//E
	N">\n<HTML>\n<HEAD>\n<TITLE></TITLE>\n</HEAD>\n<BODY>\n<h3>Screaming  Giraf
	fes vs. AdParlor Algos</h3>Plus d'info : <a href="https://www.golnetwork.co
	m/game/v/41008/">#301</a>\n\n</BODY>\n</HTML>
STATUS:CONFIRMED
CLASS:PUBLIC
URL:https://www.golnetwork.com/game/v/41008/
X-MICROSOFT-CDO-BUSYSTATUS:BUSY
X-MICROSOFT-CDO-IMPORTANCE:1
END:VEVENT
BEGIN:VEVENT
UID:g476l@games.golnetwork.com
LOCATION:Lamport Stadium - Field 2
GEO:43.6390028;-79.4232104
CREATED:20131111T212012Z
DTSTART:20140111T030000Z
DTEND:20140111T040000Z
DTSTAMP:20260420T050428Z
SUMMARY:Gaby's Bitches vs. Screaming  Giraffes
DESCRIPTION:Screaming  Giraffes vs. Gaby's BitchesPlus d'info : #304
X-ALT-DESC;FMTTYPE=text/html:<!DOCTYPE HTML PUBLIC "-//W3C//DTD HTML 3.2//E
	N">\n<HTML>\n<HEAD>\n<TITLE></TITLE>\n</HEAD>\n<BODY>\n<h3>Screaming  Giraf
	fes vs. Gaby's Bitches</h3>Plus d'info : <a href="https://www.golnetwork.co
	m/game/v/41010/">#304</a>\n\n</BODY>\n</HTML>
STATUS:CONFIRMED
CLASS:PUBLIC
URL:https://www.golnetwork.com/game/v/41010/
X-MICROSOFT-CDO-BUSYSTATUS:BUSY
X-MICROSOFT-CDO-IMPORTANCE:1
END:VEVENT
BEGIN:VEVENT
UID:g46lh@games.golnetwork.com
LOCATION:Lamport Stadium - Field 2
GEO:43.6390028;-79.4232104
CREATED:20131111T194501Z
DTSTART:20140118T010000Z
DTEND:20140118T020000Z
DTSTAMP:20260420T050428Z
SUMMARY:Screaming  Giraffes vs. Aztecas
DESCRIPTION:Aztecas vs. Screaming  GiraffesPlus d'info : #328
X-ALT-DESC;FMTTYPE=text/html:<!DOCTYPE HTML PUBLIC "-//W3C//DTD HTML 3.2//E
	N">\n<HTML>\n<HEAD>\n<TITLE></TITLE>\n</HEAD>\n<BODY>\n<h3>Aztecas vs. Scre
	aming  Giraffes</h3>Plus d'info : <a href="https://www.golnetwork.com/game/
	v/40846/">#328</a>\n\n</BODY>\n</HTML>
STATUS:CONFIRMED
CLASS:PUBLIC
URL:https://www.golnetwork.com/game/v/40846/
X-MICROSOFT-CDO-BUSYSTATUS:BUSY
X-MICROSOFT-CDO-IMPORTANCE:1
END:VEVENT
BEGIN:VEVENT
UID:g46lj@games.golnetwork.com
LOCATION:Lamport Stadium - Field 2
GEO:43.6390028;-79.4232104
CREATED:20131111T194501Z
DTSTART:20140118T020000Z
DTEND:20140118T030000Z
DTSTAMP:20260420T050428Z
SUMMARY:FC Hollywood 1888 vs. Gaby's Bitches
DESCRIPTION:Gaby's Bitches vs. FC Hollywood 1888Plus d'info : #331
X-ALT-DESC;FMTTYPE=text/html:<!DOCTYPE HTML PUBLIC "-//W3C//DTD HTML 3.2//E
	N">\n<HTML>\n<HEAD>\n<TITLE></TITLE>\n</HEAD>\n<BODY>\n<h3>Gaby's Bitches v
	s. FC Hollywood 1888</h3>Plus d'info : <a href="https://www.golnetwork.com/
	game/v/40847/">#331</a>\n\n</BODY>\n</HTML>
STATUS:CONFIRMED
CLASS:PUBLIC
URL:https://www.golnetwork.com/game/v/40847/
X-MICROSOFT-CDO-BUSYSTATUS:BUSY
X-MICROSOFT-CDO-IMPORTANCE:1
END:VEVENT
BEGIN:VEVENT
UID:g46ll@games.golnetwork.com
LOCATION:Lamport Stadium - Field 2
GEO:43.6390028;-79.4232104
CREATED:20131111T194501Z
DTSTART:20140118T030000Z
DTEND:20140118T040000Z
DTSTAMP:20260420T050428Z
SUMMARY:FC Hollywood 1888 vs. AdParlor Algos
DESCRIPTION:AdParlor Algos vs. FC Hollywood 1888Plus d'info : #334
X-ALT-DESC;FMTTYPE=text/html:<!DOCTYPE HTML PUBLIC "-//W3C//DTD HTML 3.2//E
	N">\n<HTML>\n<HEAD>\n<TITLE></TITLE>\n</HEAD>\n<BODY>\n<h3>AdParlor Algos v
	s. FC Hollywood 1888</h3>Plus d'info : <a href="https://www.golnetwork.com/
	game/v/40848/">#334</a>\n\n</BODY>\n</HTML>
STATUS:CONFIRMED
CLASS:PUBLIC
URL:https://www.golnetwork.com/game/v/40848/
X-MICROSOFT-CDO-BUSYSTATUS:BUSY
X-MICROSOFT-CDO-IMPORTANCE:1
END:VEVENT
BEGIN:VEVENT
UID:g46lp@games.golnetwork.com
LOCATION:Lamport Stadium - Field 2
GEO:43.6390028;-79.4232104
CREATED:20131111T194501Z
DTSTART:20140125T010000Z
DTEND:20140125T020000Z
DTSTAMP:20260420T050428Z
SUMMARY:Screaming  Giraffes vs. AdParlor Algos
DESCRIPTION:AdParlor Algos vs. Screaming  GiraffesPlus d'info : #358
X-ALT-DESC;FMTTYPE=text/html:<!DOCTYPE HTML PUBLIC "-//W3C//DTD HTML 3.2//E
	N">\n<HTML>\n<HEAD>\n<TITLE></TITLE>\n</HEAD>\n<BODY>\n<h3>AdParlor Algos v
	s. Screaming  Giraffes</h3>Plus d'info : <a href="https://www.golnetwork.co
	m/game/v/40850/">#358</a>\n\n</BODY>\n</HTML>
STATUS:CONFIRMED
CLASS:PUBLIC
URL:https://www.golnetwork.com/game/v/40850/
X-MICROSOFT-CDO-BUSYSTATUS:BUSY
X-MICROSOFT-CDO-IMPORTANCE:1
END:VEVENT
BEGIN:VEVENT
UID:g46m0@games.golnetwork.com
LOCATION:Lamport Stadium - Field 2
GEO:43.6390028;-79.4232104
CREATED:20131111T194501Z
DTSTART:20140125T020000Z
DTEND:20140125T030000Z
DTSTAMP:20260420T050428Z
SUMMARY:FC Hollywood 1888 vs. AdParlor Algos
DESCRIPTION:AdParlor Algos vs. FC Hollywood 1888Plus d'info : #361
X-ALT-DESC;FMTTYPE=text/html:<!DOCTYPE HTML PUBLIC "-//W3C//DTD HTML 3.2//E
	N">\n<HTML>\n<HEAD>\n<TITLE></TITLE>\n</HEAD>\n<BODY>\n<h3>AdParlor Algos v
	s. FC Hollywood 1888</h3>Plus d'info : <a href="https://www.golnetwork.com/
	game/v/40851/">#361</a>\n\n</BODY>\n</HTML>
STATUS:CONFIRMED
CLASS:PUBLIC
URL:https://www.golnetwork.com/game/v/40851/
X-MICROSOFT-CDO-BUSYSTATUS:BUSY
X-MICROSOFT-CDO-IMPORTANCE:1
END:VEVENT
BEGIN:VEVENT
UID:g46m2@games.golnetwork.com
LOCATION:Lamport Stadium - Field 2
GEO:43.6390028;-79.4232104
CREATED:20131111T194501Z
DTSTART:20140125T030000Z
DTEND:20140125T040000Z
DTSTAMP:20260420T050428Z
SUMMARY:Gaby's Bitches vs. Aztecas
DESCRIPTION:Aztecas vs. Gaby's BitchesPlus d'info : #364
X-ALT-DESC;FMTTYPE=text/html:<!DOCTYPE HTML PUBLIC "-//W3C//DTD HTML 3.2//E
	N">\n<HTML>\n<HEAD>\n<TITLE></TITLE>\n</HEAD>\n<BODY>\n<h3>Aztecas vs. Gaby
	's Bitches</h3>Plus d'info : <a href="https://www.golnetwork.com/game/v/408
	52/">#364</a>\n\n</BODY>\n</HTML>
STATUS:CONFIRMED
CLASS:PUBLIC
URL:https://www.golnetwork.com/game/v/40852/
X-MICROSOFT-CDO-BUSYSTATUS:BUSY
X-MICROSOFT-CDO-IMPORTANCE:1
END:VEVENT
END:VCALENDAR
