BEGIN:VCALENDAR
PRODID:-//gdesolutions.com//MV Framework 1.0.0.1607 Calendar//EN
VERSION:2.0
METHOD:PUBLISH
CALSCALE:GREGORIAN
BEGIN:VEVENT
UID:g47f4@games.golnetwork.com
LOCATION:Lamport Stadium - Field 1
GEO:43.6390028;-79.4232104
CREATED:20131112T180208Z
DTSTART:20131116T010000Z
DTEND:20131116T020000Z
DTSTAMP:20260420T013838Z
SUMMARY:XTSC Force vs. Team FC
DESCRIPTION:Team FC vs. XTSC ForcePlus d'info : #43
X-ALT-DESC;FMTTYPE=text/html:<!DOCTYPE HTML PUBLIC "-//W3C//DTD HTML 3.2//E
	N">\n<HTML>\n<HEAD>\n<TITLE></TITLE>\n</HEAD>\n<BODY>\n<h3>Team FC vs. XTSC
	 Force</h3>Plus d'info : <a href="https://www.golnetwork.com/game/v/41123/"
	>#43</a>\n\n</BODY>\n</HTML>
STATUS:CONFIRMED
CLASS:PUBLIC
URL:https://www.golnetwork.com/game/v/41123/
X-MICROSOFT-CDO-BUSYSTATUS:BUSY
X-MICROSOFT-CDO-IMPORTANCE:1
END:VEVENT
BEGIN:VEVENT
UID:g47f6@games.golnetwork.com
LOCATION:Lamport Stadium - Field 1
GEO:43.6390028;-79.4232104
CREATED:20131112T180208Z
DTSTART:20131116T020000Z
DTEND:20131116T030000Z
DTSTAMP:20260420T013838Z
SUMMARY:Shut your legs or I'll meg ya vs. FC Shooters
DESCRIPTION:FC Shooters vs. Shut your legs or I'll meg yaPlus d'info : #46
X-ALT-DESC;FMTTYPE=text/html:<!DOCTYPE HTML PUBLIC "-//W3C//DTD HTML 3.2//E
	N">\n<HTML>\n<HEAD>\n<TITLE></TITLE>\n</HEAD>\n<BODY>\n<h3>FC Shooters vs. 
	Shut your legs or I'll meg ya</h3>Plus d'info : <a href="https://www.golnet
	work.com/game/v/41124/">#46</a>\n\n</BODY>\n</HTML>
STATUS:CONFIRMED
CLASS:PUBLIC
URL:https://www.golnetwork.com/game/v/41124/
X-MICROSOFT-CDO-BUSYSTATUS:BUSY
X-MICROSOFT-CDO-IMPORTANCE:1
END:VEVENT
BEGIN:VEVENT
UID:g47f8@games.golnetwork.com
LOCATION:Lamport Stadium - Field 1
GEO:43.6390028;-79.4232104
CREATED:20131112T180208Z
DTSTART:20131116T030000Z
DTEND:20131116T040000Z
DTSTAMP:20260420T013838Z
SUMMARY:Imports vs. The Six Shooters
DESCRIPTION:The Six Shooters vs. ImportsPlus d'info : #49
X-ALT-DESC;FMTTYPE=text/html:<!DOCTYPE HTML PUBLIC "-//W3C//DTD HTML 3.2//E
	N">\n<HTML>\n<HEAD>\n<TITLE></TITLE>\n</HEAD>\n<BODY>\n<h3>The Six Shooters
	 vs. Imports</h3>Plus d'info : <a href="https://www.golnetwork.com/game/v/4
	1125/">#49</a>\n\n</BODY>\n</HTML>
STATUS:CONFIRMED
CLASS:PUBLIC
URL:https://www.golnetwork.com/game/v/41125/
X-MICROSOFT-CDO-BUSYSTATUS:BUSY
X-MICROSOFT-CDO-IMPORTANCE:1
END:VEVENT
BEGIN:VEVENT
UID:g47fa@games.golnetwork.com
LOCATION:Lamport Stadium - Field 1
GEO:43.6390028;-79.4232104
CREATED:20131112T180208Z
DTSTART:20131116T040000Z
DTEND:20131116T050000Z
DTSTAMP:20260420T013838Z
SUMMARY:The Misfits vs. Loose Cannons
DESCRIPTION:Loose Cannons vs. The MisfitsPlus d'info : #52
X-ALT-DESC;FMTTYPE=text/html:<!DOCTYPE HTML PUBLIC "-//W3C//DTD HTML 3.2//E
	N">\n<HTML>\n<HEAD>\n<TITLE></TITLE>\n</HEAD>\n<BODY>\n<h3>Loose Cannons vs
	. The Misfits</h3>Plus d'info : <a href="https://www.golnetwork.com/game/v/
	41126/">#52</a>\n\n</BODY>\n</HTML>
STATUS:CONFIRMED
CLASS:PUBLIC
URL:https://www.golnetwork.com/game/v/41126/
X-MICROSOFT-CDO-BUSYSTATUS:BUSY
X-MICROSOFT-CDO-IMPORTANCE:1
END:VEVENT
BEGIN:VEVENT
UID:g47fc@games.golnetwork.com
LOCATION:Lamport Stadium - Field 1
GEO:43.6390028;-79.4232104
CREATED:20131112T180208Z
DTSTART:20131123T010000Z
DTEND:20131123T020000Z
DTSTAMP:20260420T013838Z
SUMMARY:Loose Cannons vs. The Six Shooters
DESCRIPTION:The Six Shooters vs. Loose CannonsPlus d'info : #83
X-ALT-DESC;FMTTYPE=text/html:<!DOCTYPE HTML PUBLIC "-//W3C//DTD HTML 3.2//E
	N">\n<HTML>\n<HEAD>\n<TITLE></TITLE>\n</HEAD>\n<BODY>\n<h3>The Six Shooters
	 vs. Loose Cannons</h3>Plus d'info : <a href="https://www.golnetwork.com/ga
	me/v/41127/">#83</a>\n\n</BODY>\n</HTML>
STATUS:CONFIRMED
CLASS:PUBLIC
URL:https://www.golnetwork.com/game/v/41127/
X-MICROSOFT-CDO-BUSYSTATUS:BUSY
X-MICROSOFT-CDO-IMPORTANCE:1
END:VEVENT
BEGIN:VEVENT
UID:g47fe@games.golnetwork.com
LOCATION:Lamport Stadium - Field 1
GEO:43.6390028;-79.4232104
CREATED:20131112T180208Z
DTSTART:20131123T020000Z
DTEND:20131123T030000Z
DTSTAMP:20260420T013838Z
SUMMARY:Imports vs. Team FC
DESCRIPTION:Team FC vs. ImportsPlus d'info : #86
X-ALT-DESC;FMTTYPE=text/html:<!DOCTYPE HTML PUBLIC "-//W3C//DTD HTML 3.2//E
	N">\n<HTML>\n<HEAD>\n<TITLE></TITLE>\n</HEAD>\n<BODY>\n<h3>Team FC vs. Impo
	rts</h3>Plus d'info : <a href="https://www.golnetwork.com/game/v/41128/">#8
	6</a>\n\n</BODY>\n</HTML>
STATUS:CONFIRMED
CLASS:PUBLIC
URL:https://www.golnetwork.com/game/v/41128/
X-MICROSOFT-CDO-BUSYSTATUS:BUSY
X-MICROSOFT-CDO-IMPORTANCE:1
END:VEVENT
BEGIN:VEVENT
UID:g47fg@games.golnetwork.com
LOCATION:Lamport Stadium - Field 1
GEO:43.6390028;-79.4232104
CREATED:20131112T180208Z
DTSTART:20131123T030000Z
DTEND:20131123T040000Z
DTSTAMP:20260420T013838Z
SUMMARY:The Misfits vs. FC Shooters
DESCRIPTION:FC Shooters vs. The MisfitsPlus d'info : #89
X-ALT-DESC;FMTTYPE=text/html:<!DOCTYPE HTML PUBLIC "-//W3C//DTD HTML 3.2//E
	N">\n<HTML>\n<HEAD>\n<TITLE></TITLE>\n</HEAD>\n<BODY>\n<h3>FC Shooters vs. 
	The Misfits</h3>Plus d'info : <a href="https://www.golnetwork.com/game/v/41
	129/">#89</a>\n\n</BODY>\n</HTML>
STATUS:CONFIRMED
CLASS:PUBLIC
URL:https://www.golnetwork.com/game/v/41129/
X-MICROSOFT-CDO-BUSYSTATUS:BUSY
X-MICROSOFT-CDO-IMPORTANCE:1
END:VEVENT
BEGIN:VEVENT
UID:g47fi@games.golnetwork.com
LOCATION:Lamport Stadium - Field 1
GEO:43.6390028;-79.4232104
CREATED:20131112T180208Z
DTSTART:20131123T040000Z
DTEND:20131123T050000Z
DTSTAMP:20260420T013838Z
SUMMARY:Shut your legs or I'll meg ya vs. XTSC Force
DESCRIPTION:XTSC Force vs. Shut your legs or I'll meg yaPlus d'info : #92
X-ALT-DESC;FMTTYPE=text/html:<!DOCTYPE HTML PUBLIC "-//W3C//DTD HTML 3.2//E
	N">\n<HTML>\n<HEAD>\n<TITLE></TITLE>\n</HEAD>\n<BODY>\n<h3>XTSC Force vs. S
	hut your legs or I'll meg ya</h3>Plus d'info : <a href="https://www.golnetw
	ork.com/game/v/41130/">#92</a>\n\n</BODY>\n</HTML>
STATUS:CONFIRMED
CLASS:PUBLIC
URL:https://www.golnetwork.com/game/v/41130/
X-MICROSOFT-CDO-BUSYSTATUS:BUSY
X-MICROSOFT-CDO-IMPORTANCE:1
END:VEVENT
BEGIN:VEVENT
UID:g47fk@games.golnetwork.com
LOCATION:Lamport Stadium - Field 1
GEO:43.6390028;-79.4232104
CREATED:20131112T180208Z
DTSTART:20131130T010000Z
DTEND:20131130T020000Z
DTSTAMP:20260420T013838Z
SUMMARY:The Misfits vs. Shut your legs or I'll meg ya
DESCRIPTION:Shut your legs or I'll meg ya vs. The MisfitsPlus d'info : #123
X-ALT-DESC;FMTTYPE=text/html:<!DOCTYPE HTML PUBLIC "-//W3C//DTD HTML 3.2//E
	N">\n<HTML>\n<HEAD>\n<TITLE></TITLE>\n</HEAD>\n<BODY>\n<h3>Shut your legs o
	r I'll meg ya vs. The Misfits</h3>Plus d'info : <a href="https://www.golnet
	work.com/game/v/41131/">#123</a>\n\n</BODY>\n</HTML>
STATUS:CONFIRMED
CLASS:PUBLIC
URL:https://www.golnetwork.com/game/v/41131/
X-MICROSOFT-CDO-BUSYSTATUS:BUSY
X-MICROSOFT-CDO-IMPORTANCE:1
END:VEVENT
BEGIN:VEVENT
UID:g47fm@games.golnetwork.com
LOCATION:Lamport Stadium - Field 1
GEO:43.6390028;-79.4232104
CREATED:20131112T180208Z
DTSTART:20131130T020000Z
DTEND:20131130T030000Z
DTSTAMP:20260420T013838Z
SUMMARY:XTSC Force vs. Imports
DESCRIPTION:Imports vs. XTSC ForcePlus d'info : #126
X-ALT-DESC;FMTTYPE=text/html:<!DOCTYPE HTML PUBLIC "-//W3C//DTD HTML 3.2//E
	N">\n<HTML>\n<HEAD>\n<TITLE></TITLE>\n</HEAD>\n<BODY>\n<h3>Imports vs. XTSC
	 Force</h3>Plus d'info : <a href="https://www.golnetwork.com/game/v/41132/"
	>#126</a>\n\n</BODY>\n</HTML>
STATUS:CONFIRMED
CLASS:PUBLIC
URL:https://www.golnetwork.com/game/v/41132/
X-MICROSOFT-CDO-BUSYSTATUS:BUSY
X-MICROSOFT-CDO-IMPORTANCE:1
END:VEVENT
BEGIN:VEVENT
UID:g47fo@games.golnetwork.com
LOCATION:Lamport Stadium - Field 1
GEO:43.6390028;-79.4232104
CREATED:20131112T180208Z
DTSTART:20131130T030000Z
DTEND:20131130T040000Z
DTSTAMP:20260420T013838Z
SUMMARY:Loose Cannons vs. Team FC
DESCRIPTION:Team FC vs. Loose CannonsPlus d'info : #129
X-ALT-DESC;FMTTYPE=text/html:<!DOCTYPE HTML PUBLIC "-//W3C//DTD HTML 3.2//E
	N">\n<HTML>\n<HEAD>\n<TITLE></TITLE>\n</HEAD>\n<BODY>\n<h3>Team FC vs. Loos
	e Cannons</h3>Plus d'info : <a href="https://www.golnetwork.com/game/v/4113
	3/">#129</a>\n\n</BODY>\n</HTML>
STATUS:CONFIRMED
CLASS:PUBLIC
URL:https://www.golnetwork.com/game/v/41133/
X-MICROSOFT-CDO-BUSYSTATUS:BUSY
X-MICROSOFT-CDO-IMPORTANCE:1
END:VEVENT
BEGIN:VEVENT
UID:g47fq@games.golnetwork.com
LOCATION:Lamport Stadium - Field 1
GEO:43.6390028;-79.4232104
CREATED:20131112T180208Z
DTSTART:20131130T040000Z
DTEND:20131130T050000Z
DTSTAMP:20260420T013838Z
SUMMARY:The Six Shooters vs. FC Shooters
DESCRIPTION:FC Shooters vs. The Six ShootersPlus d'info : #132
X-ALT-DESC;FMTTYPE=text/html:<!DOCTYPE HTML PUBLIC "-//W3C//DTD HTML 3.2//E
	N">\n<HTML>\n<HEAD>\n<TITLE></TITLE>\n</HEAD>\n<BODY>\n<h3>FC Shooters vs. 
	The Six Shooters</h3>Plus d'info : <a href="https://www.golnetwork.com/game
	/v/41134/">#132</a>\n\n</BODY>\n</HTML>
STATUS:CONFIRMED
CLASS:PUBLIC
URL:https://www.golnetwork.com/game/v/41134/
X-MICROSOFT-CDO-BUSYSTATUS:BUSY
X-MICROSOFT-CDO-IMPORTANCE:1
END:VEVENT
BEGIN:VEVENT
UID:g47g1@games.golnetwork.com
LOCATION:Lamport Stadium - Field 1
GEO:43.6390028;-79.4232104
CREATED:20131112T180208Z
DTSTART:20131207T010000Z
DTEND:20131207T020000Z
DTSTAMP:20260420T013838Z
SUMMARY:FC Shooters vs. Team FC
DESCRIPTION:Team FC vs. FC ShootersPlus d'info : #164
X-ALT-DESC;FMTTYPE=text/html:<!DOCTYPE HTML PUBLIC "-//W3C//DTD HTML 3.2//E
	N">\n<HTML>\n<HEAD>\n<TITLE></TITLE>\n</HEAD>\n<BODY>\n<h3>Team FC vs. FC S
	hooters</h3>Plus d'info : <a href="https://www.golnetwork.com/game/v/41135/
	">#164</a>\n\n</BODY>\n</HTML>
STATUS:CONFIRMED
CLASS:PUBLIC
URL:https://www.golnetwork.com/game/v/41135/
X-MICROSOFT-CDO-BUSYSTATUS:BUSY
X-MICROSOFT-CDO-IMPORTANCE:1
END:VEVENT
BEGIN:VEVENT
UID:g47g3@games.golnetwork.com
LOCATION:Lamport Stadium - Field 1
GEO:43.6390028;-79.4232104
CREATED:20131112T180208Z
DTSTART:20131207T020000Z
DTEND:20131207T030000Z
DTSTAMP:20260420T013838Z
SUMMARY:Loose Cannons vs. Imports
DESCRIPTION:Imports vs. Loose CannonsPlus d'info : #167
X-ALT-DESC;FMTTYPE=text/html:<!DOCTYPE HTML PUBLIC "-//W3C//DTD HTML 3.2//E
	N">\n<HTML>\n<HEAD>\n<TITLE></TITLE>\n</HEAD>\n<BODY>\n<h3>Imports vs. Loos
	e Cannons</h3>Plus d'info : <a href="https://www.golnetwork.com/game/v/4113
	6/">#167</a>\n\n</BODY>\n</HTML>
STATUS:CONFIRMED
CLASS:PUBLIC
URL:https://www.golnetwork.com/game/v/41136/
X-MICROSOFT-CDO-BUSYSTATUS:BUSY
X-MICROSOFT-CDO-IMPORTANCE:1
END:VEVENT
BEGIN:VEVENT
UID:g47g5@games.golnetwork.com
LOCATION:Lamport Stadium - Field 1
GEO:43.6390028;-79.4232104
CREATED:20131112T180208Z
DTSTART:20131207T030000Z
DTEND:20131207T040000Z
DTSTAMP:20260420T013838Z
SUMMARY:The Six Shooters vs. Shut your legs or I'll meg ya
DESCRIPTION:Shut your legs or I'll meg ya vs. The Six ShootersPlus d'info :
	 #170
X-ALT-DESC;FMTTYPE=text/html:<!DOCTYPE HTML PUBLIC "-//W3C//DTD HTML 3.2//E
	N">\n<HTML>\n<HEAD>\n<TITLE></TITLE>\n</HEAD>\n<BODY>\n<h3>Shut your legs o
	r I'll meg ya vs. The Six Shooters</h3>Plus d'info : <a href="https://www.g
	olnetwork.com/game/v/41137/">#170</a>\n\n</BODY>\n</HTML>
STATUS:CONFIRMED
CLASS:PUBLIC
URL:https://www.golnetwork.com/game/v/41137/
X-MICROSOFT-CDO-BUSYSTATUS:BUSY
X-MICROSOFT-CDO-IMPORTANCE:1
END:VEVENT
BEGIN:VEVENT
UID:g47g7@games.golnetwork.com
LOCATION:Lamport Stadium - Field 1
GEO:43.6390028;-79.4232104
CREATED:20131112T180208Z
DTSTART:20131207T040000Z
DTEND:20131207T050000Z
DTSTAMP:20260420T013838Z
SUMMARY:The Misfits vs. XTSC Force
DESCRIPTION:XTSC Force vs. The MisfitsPlus d'info : #173
X-ALT-DESC;FMTTYPE=text/html:<!DOCTYPE HTML PUBLIC "-//W3C//DTD HTML 3.2//E
	N">\n<HTML>\n<HEAD>\n<TITLE></TITLE>\n</HEAD>\n<BODY>\n<h3>XTSC Force vs. T
	he Misfits</h3>Plus d'info : <a href="https://www.golnetwork.com/game/v/411
	38/">#173</a>\n\n</BODY>\n</HTML>
STATUS:CONFIRMED
CLASS:PUBLIC
URL:https://www.golnetwork.com/game/v/41138/
X-MICROSOFT-CDO-BUSYSTATUS:BUSY
X-MICROSOFT-CDO-IMPORTANCE:1
END:VEVENT
BEGIN:VEVENT
UID:g47g9@games.golnetwork.com
LOCATION:Lamport Stadium - Field 1
GEO:43.6390028;-79.4232104
CREATED:20131112T180208Z
DTSTART:20131214T010000Z
DTEND:20131214T020000Z
DTSTAMP:20260420T013838Z
SUMMARY:The Misfits vs. The Six Shooters
DESCRIPTION:The Six Shooters vs. The MisfitsPlus d'info : #205
X-ALT-DESC;FMTTYPE=text/html:<!DOCTYPE HTML PUBLIC "-//W3C//DTD HTML 3.2//E
	N">\n<HTML>\n<HEAD>\n<TITLE></TITLE>\n</HEAD>\n<BODY>\n<h3>The Six Shooters
	 vs. The Misfits</h3>Plus d'info : <a href="https://www.golnetwork.com/game
	/v/41139/">#205</a>\n\n</BODY>\n</HTML>
STATUS:CONFIRMED
CLASS:PUBLIC
URL:https://www.golnetwork.com/game/v/41139/
X-MICROSOFT-CDO-BUSYSTATUS:BUSY
X-MICROSOFT-CDO-IMPORTANCE:1
END:VEVENT
BEGIN:VEVENT
UID:g47gb@games.golnetwork.com
LOCATION:Lamport Stadium - Field 1
GEO:43.6390028;-79.4232104
CREATED:20131112T180208Z
DTSTART:20131214T020000Z
DTEND:20131214T030000Z
DTSTAMP:20260420T013838Z
SUMMARY:XTSC Force vs. Loose Cannons
DESCRIPTION:Loose Cannons vs. XTSC ForcePlus d'info : #208
X-ALT-DESC;FMTTYPE=text/html:<!DOCTYPE HTML PUBLIC "-//W3C//DTD HTML 3.2//E
	N">\n<HTML>\n<HEAD>\n<TITLE></TITLE>\n</HEAD>\n<BODY>\n<h3>Loose Cannons vs
	. XTSC Force</h3>Plus d'info : <a href="https://www.golnetwork.com/game/v/4
	1140/">#208</a>\n\n</BODY>\n</HTML>
STATUS:CONFIRMED
CLASS:PUBLIC
URL:https://www.golnetwork.com/game/v/41140/
X-MICROSOFT-CDO-BUSYSTATUS:BUSY
X-MICROSOFT-CDO-IMPORTANCE:1
END:VEVENT
BEGIN:VEVENT
UID:g47gd@games.golnetwork.com
LOCATION:Lamport Stadium - Field 1
GEO:43.6390028;-79.4232104
CREATED:20131112T180208Z
DTSTART:20131214T030000Z
DTEND:20131214T040000Z
DTSTAMP:20260420T013838Z
SUMMARY:FC Shooters vs. Imports
DESCRIPTION:Imports vs. FC ShootersPlus d'info : #211
X-ALT-DESC;FMTTYPE=text/html:<!DOCTYPE HTML PUBLIC "-//W3C//DTD HTML 3.2//E
	N">\n<HTML>\n<HEAD>\n<TITLE></TITLE>\n</HEAD>\n<BODY>\n<h3>Imports vs. FC S
	hooters</h3>Plus d'info : <a href="https://www.golnetwork.com/game/v/41141/
	">#211</a>\n\n</BODY>\n</HTML>
STATUS:CONFIRMED
CLASS:PUBLIC
URL:https://www.golnetwork.com/game/v/41141/
X-MICROSOFT-CDO-BUSYSTATUS:BUSY
X-MICROSOFT-CDO-IMPORTANCE:1
END:VEVENT
BEGIN:VEVENT
UID:g47gf@games.golnetwork.com
LOCATION:Lamport Stadium - Field 1
GEO:43.6390028;-79.4232104
CREATED:20131112T180208Z
DTSTART:20131214T040000Z
DTEND:20131214T050000Z
DTSTAMP:20260420T013838Z
SUMMARY:Team FC vs. Shut your legs or I'll meg ya
DESCRIPTION:Shut your legs or I'll meg ya vs. Team FCPlus d'info : #214
X-ALT-DESC;FMTTYPE=text/html:<!DOCTYPE HTML PUBLIC "-//W3C//DTD HTML 3.2//E
	N">\n<HTML>\n<HEAD>\n<TITLE></TITLE>\n</HEAD>\n<BODY>\n<h3>Shut your legs o
	r I'll meg ya vs. Team FC</h3>Plus d'info : <a href="https://www.golnetwork
	.com/game/v/41142/">#214</a>\n\n</BODY>\n</HTML>
STATUS:CONFIRMED
CLASS:PUBLIC
URL:https://www.golnetwork.com/game/v/41142/
X-MICROSOFT-CDO-BUSYSTATUS:BUSY
X-MICROSOFT-CDO-IMPORTANCE:1
END:VEVENT
BEGIN:VEVENT
UID:g47gh@games.golnetwork.com
LOCATION:Lamport Stadium - Field 1
GEO:43.6390028;-79.4232104
CREATED:20131112T180208Z
DTSTART:20131221T010000Z
DTEND:20131221T020000Z
DTSTAMP:20260420T013838Z
SUMMARY:Shut your legs or I'll meg ya vs. Imports
DESCRIPTION:Imports vs. Shut your legs or I'll meg yaPlus d'info : #246
X-ALT-DESC;FMTTYPE=text/html:<!DOCTYPE HTML PUBLIC "-//W3C//DTD HTML 3.2//E
	N">\n<HTML>\n<HEAD>\n<TITLE></TITLE>\n</HEAD>\n<BODY>\n<h3>Imports vs. Shut
	 your legs or I'll meg ya</h3>Plus d'info : <a href="https://www.golnetwork
	.com/game/v/41143/">#246</a>\n\n</BODY>\n</HTML>
STATUS:CONFIRMED
CLASS:PUBLIC
URL:https://www.golnetwork.com/game/v/41143/
X-MICROSOFT-CDO-BUSYSTATUS:BUSY
X-MICROSOFT-CDO-IMPORTANCE:1
END:VEVENT
BEGIN:VEVENT
UID:g47gj@games.golnetwork.com
LOCATION:Lamport Stadium - Field 1
GEO:43.6390028;-79.4232104
CREATED:20131112T180208Z
DTSTART:20131221T020000Z
DTEND:20131221T030000Z
DTSTAMP:20260420T013838Z
SUMMARY:FC Shooters vs. Loose Cannons
DESCRIPTION:Loose Cannons vs. FC ShootersPlus d'info : #249
X-ALT-DESC;FMTTYPE=text/html:<!DOCTYPE HTML PUBLIC "-//W3C//DTD HTML 3.2//E
	N">\n<HTML>\n<HEAD>\n<TITLE></TITLE>\n</HEAD>\n<BODY>\n<h3>Loose Cannons vs
	. FC Shooters</h3>Plus d'info : <a href="https://www.golnetwork.com/game/v/
	41144/">#249</a>\n\n</BODY>\n</HTML>
STATUS:CONFIRMED
CLASS:PUBLIC
URL:https://www.golnetwork.com/game/v/41144/
X-MICROSOFT-CDO-BUSYSTATUS:BUSY
X-MICROSOFT-CDO-IMPORTANCE:1
END:VEVENT
BEGIN:VEVENT
UID:g47gl@games.golnetwork.com
LOCATION:Lamport Stadium - Field 1
GEO:43.6390028;-79.4232104
CREATED:20131112T180208Z
DTSTART:20131221T030000Z
DTEND:20131221T040000Z
DTSTAMP:20260420T013838Z
SUMMARY:Team FC vs. The Misfits
DESCRIPTION:The Misfits vs. Team FCPlus d'info : #252
X-ALT-DESC;FMTTYPE=text/html:<!DOCTYPE HTML PUBLIC "-//W3C//DTD HTML 3.2//E
	N">\n<HTML>\n<HEAD>\n<TITLE></TITLE>\n</HEAD>\n<BODY>\n<h3>The Misfits vs. 
	Team FC</h3>Plus d'info : <a href="https://www.golnetwork.com/game/v/41145/
	">#252</a>\n\n</BODY>\n</HTML>
STATUS:CONFIRMED
CLASS:PUBLIC
URL:https://www.golnetwork.com/game/v/41145/
X-MICROSOFT-CDO-BUSYSTATUS:BUSY
X-MICROSOFT-CDO-IMPORTANCE:1
END:VEVENT
BEGIN:VEVENT
UID:g47gn@games.golnetwork.com
LOCATION:Lamport Stadium - Field 1
GEO:43.6390028;-79.4232104
CREATED:20131112T180208Z
DTSTART:20131221T040000Z
DTEND:20131221T050000Z
DTSTAMP:20260420T013838Z
SUMMARY:The Six Shooters vs. XTSC Force
DESCRIPTION:XTSC Force vs. The Six ShootersPlus d'info : #255
X-ALT-DESC;FMTTYPE=text/html:<!DOCTYPE HTML PUBLIC "-//W3C//DTD HTML 3.2//E
	N">\n<HTML>\n<HEAD>\n<TITLE></TITLE>\n</HEAD>\n<BODY>\n<h3>XTSC Force vs. T
	he Six Shooters</h3>Plus d'info : <a href="https://www.golnetwork.com/game/
	v/41146/">#255</a>\n\n</BODY>\n</HTML>
STATUS:CONFIRMED
CLASS:PUBLIC
URL:https://www.golnetwork.com/game/v/41146/
X-MICROSOFT-CDO-BUSYSTATUS:BUSY
X-MICROSOFT-CDO-IMPORTANCE:1
END:VEVENT
BEGIN:VEVENT
UID:g47gp@games.golnetwork.com
LOCATION:Lamport Stadium - Field 1
GEO:43.6390028;-79.4232104
CREATED:20131112T180208Z
DTSTART:20140104T010000Z
DTEND:20140104T020000Z
DTSTAMP:20260420T013838Z
SUMMARY:Loose Cannons vs. The Six Shooters
DESCRIPTION:The Six Shooters vs. Loose CannonsPlus d'info : #267
X-ALT-DESC;FMTTYPE=text/html:<!DOCTYPE HTML PUBLIC "-//W3C//DTD HTML 3.2//E
	N">\n<HTML>\n<HEAD>\n<TITLE></TITLE>\n</HEAD>\n<BODY>\n<h3>The Six Shooters
	 vs. Loose Cannons</h3>Plus d'info : <a href="https://www.golnetwork.com/ga
	me/v/41147/">#267</a>\n\n</BODY>\n</HTML>
STATUS:CONFIRMED
CLASS:PUBLIC
URL:https://www.golnetwork.com/game/v/41147/
X-MICROSOFT-CDO-BUSYSTATUS:BUSY
X-MICROSOFT-CDO-IMPORTANCE:1
END:VEVENT
BEGIN:VEVENT
UID:g47h0@games.golnetwork.com
LOCATION:Lamport Stadium - Field 1
GEO:43.6390028;-79.4232104
CREATED:20131112T180208Z
DTSTART:20140104T020000Z
DTEND:20140104T030000Z
DTSTAMP:20260420T013838Z
SUMMARY:XTSC Force vs. Shut your legs or I'll meg ya
DESCRIPTION:Shut your legs or I'll meg ya vs. XTSC ForcePlus d'info : #270
X-ALT-DESC;FMTTYPE=text/html:<!DOCTYPE HTML PUBLIC "-//W3C//DTD HTML 3.2//E
	N">\n<HTML>\n<HEAD>\n<TITLE></TITLE>\n</HEAD>\n<BODY>\n<h3>Shut your legs o
	r I'll meg ya vs. XTSC Force</h3>Plus d'info : <a href="https://www.golnetw
	ork.com/game/v/41148/">#270</a>\n\n</BODY>\n</HTML>
STATUS:CONFIRMED
CLASS:PUBLIC
URL:https://www.golnetwork.com/game/v/41148/
X-MICROSOFT-CDO-BUSYSTATUS:BUSY
X-MICROSOFT-CDO-IMPORTANCE:1
END:VEVENT
BEGIN:VEVENT
UID:g47h2@games.golnetwork.com
LOCATION:Lamport Stadium - Field 1
GEO:43.6390028;-79.4232104
CREATED:20131112T180208Z
DTSTART:20140104T030000Z
DTEND:20140104T040000Z
DTSTAMP:20260420T013838Z
SUMMARY:Imports vs. FC Shooters
DESCRIPTION:FC Shooters vs. ImportsPlus d'info : #273
X-ALT-DESC;FMTTYPE=text/html:<!DOCTYPE HTML PUBLIC "-//W3C//DTD HTML 3.2//E
	N">\n<HTML>\n<HEAD>\n<TITLE></TITLE>\n</HEAD>\n<BODY>\n<h3>FC Shooters vs. 
	Imports</h3>Plus d'info : <a href="https://www.golnetwork.com/game/v/41149/
	">#273</a>\n\n</BODY>\n</HTML>
STATUS:CONFIRMED
CLASS:PUBLIC
URL:https://www.golnetwork.com/game/v/41149/
X-MICROSOFT-CDO-BUSYSTATUS:BUSY
X-MICROSOFT-CDO-IMPORTANCE:1
END:VEVENT
BEGIN:VEVENT
UID:g47h4@games.golnetwork.com
LOCATION:Lamport Stadium - Field 1
GEO:43.6390028;-79.4232104
CREATED:20131112T180208Z
DTSTART:20140104T040000Z
DTEND:20140104T050000Z
DTSTAMP:20260420T013838Z
SUMMARY:The Misfits vs. Team FC
DESCRIPTION:Team FC vs. The MisfitsPlus d'info : #276
X-ALT-DESC;FMTTYPE=text/html:<!DOCTYPE HTML PUBLIC "-//W3C//DTD HTML 3.2//E
	N">\n<HTML>\n<HEAD>\n<TITLE></TITLE>\n</HEAD>\n<BODY>\n<h3>Team FC vs. The 
	Misfits</h3>Plus d'info : <a href="https://www.golnetwork.com/game/v/41150/
	">#276</a>\n\n</BODY>\n</HTML>
STATUS:CONFIRMED
CLASS:PUBLIC
URL:https://www.golnetwork.com/game/v/41150/
X-MICROSOFT-CDO-BUSYSTATUS:BUSY
X-MICROSOFT-CDO-IMPORTANCE:1
END:VEVENT
BEGIN:VEVENT
UID:g47h6@games.golnetwork.com
LOCATION:Lamport Stadium - Field 1
GEO:43.6390028;-79.4232104
CREATED:20131112T180208Z
DTSTART:20140111T010000Z
DTEND:20140111T020000Z
DTSTAMP:20260420T013838Z
SUMMARY:The Misfits vs. Loose Cannons
DESCRIPTION:Loose Cannons vs. The MisfitsPlus d'info : #297
X-ALT-DESC;FMTTYPE=text/html:<!DOCTYPE HTML PUBLIC "-//W3C//DTD HTML 3.2//E
	N">\n<HTML>\n<HEAD>\n<TITLE></TITLE>\n</HEAD>\n<BODY>\n<h3>Loose Cannons vs
	. The Misfits</h3>Plus d'info : <a href="https://www.golnetwork.com/game/v/
	41151/">#297</a>\n\n</BODY>\n</HTML>
STATUS:CONFIRMED
CLASS:PUBLIC
URL:https://www.golnetwork.com/game/v/41151/
X-MICROSOFT-CDO-BUSYSTATUS:BUSY
X-MICROSOFT-CDO-IMPORTANCE:1
END:VEVENT
BEGIN:VEVENT
UID:g47h8@games.golnetwork.com
LOCATION:Lamport Stadium - Field 1
GEO:43.6390028;-79.4232104
CREATED:20131112T180208Z
DTSTART:20140111T020000Z
DTEND:20140111T030000Z
DTSTAMP:20260420T013838Z
SUMMARY:Imports vs. The Six Shooters
DESCRIPTION:The Six Shooters vs. ImportsPlus d'info : #300
X-ALT-DESC;FMTTYPE=text/html:<!DOCTYPE HTML PUBLIC "-//W3C//DTD HTML 3.2//E
	N">\n<HTML>\n<HEAD>\n<TITLE></TITLE>\n</HEAD>\n<BODY>\n<h3>The Six Shooters
	 vs. Imports</h3>Plus d'info : <a href="https://www.golnetwork.com/game/v/4
	1152/">#300</a>\n\n</BODY>\n</HTML>
STATUS:CONFIRMED
CLASS:PUBLIC
URL:https://www.golnetwork.com/game/v/41152/
X-MICROSOFT-CDO-BUSYSTATUS:BUSY
X-MICROSOFT-CDO-IMPORTANCE:1
END:VEVENT
BEGIN:VEVENT
UID:g47ha@games.golnetwork.com
LOCATION:Lamport Stadium - Field 1
GEO:43.6390028;-79.4232104
CREATED:20131112T180208Z
DTSTART:20140111T030000Z
DTEND:20140111T040000Z
DTSTAMP:20260420T013838Z
SUMMARY:XTSC Force vs. Team FC
DESCRIPTION:Team FC vs. XTSC ForcePlus d'info : #303
X-ALT-DESC;FMTTYPE=text/html:<!DOCTYPE HTML PUBLIC "-//W3C//DTD HTML 3.2//E
	N">\n<HTML>\n<HEAD>\n<TITLE></TITLE>\n</HEAD>\n<BODY>\n<h3>Team FC vs. XTSC
	 Force</h3>Plus d'info : <a href="https://www.golnetwork.com/game/v/41153/"
	>#303</a>\n\n</BODY>\n</HTML>
STATUS:CONFIRMED
CLASS:PUBLIC
URL:https://www.golnetwork.com/game/v/41153/
X-MICROSOFT-CDO-BUSYSTATUS:BUSY
X-MICROSOFT-CDO-IMPORTANCE:1
END:VEVENT
BEGIN:VEVENT
UID:g47hc@games.golnetwork.com
LOCATION:Lamport Stadium - Field 1
GEO:43.6390028;-79.4232104
CREATED:20131112T180208Z
DTSTART:20140111T040000Z
DTEND:20140111T050000Z
DTSTAMP:20260420T013838Z
SUMMARY:Shut your legs or I'll meg ya vs. FC Shooters
DESCRIPTION:FC Shooters vs. Shut your legs or I'll meg yaPlus d'info : #306
X-ALT-DESC;FMTTYPE=text/html:<!DOCTYPE HTML PUBLIC "-//W3C//DTD HTML 3.2//E
	N">\n<HTML>\n<HEAD>\n<TITLE></TITLE>\n</HEAD>\n<BODY>\n<h3>FC Shooters vs. 
	Shut your legs or I'll meg ya</h3>Plus d'info : <a href="https://www.golnet
	work.com/game/v/41154/">#306</a>\n\n</BODY>\n</HTML>
STATUS:CONFIRMED
CLASS:PUBLIC
URL:https://www.golnetwork.com/game/v/41154/
X-MICROSOFT-CDO-BUSYSTATUS:BUSY
X-MICROSOFT-CDO-IMPORTANCE:1
END:VEVENT
BEGIN:VEVENT
UID:g47he@games.golnetwork.com
LOCATION:Lamport Stadium - Field 1
GEO:43.6390028;-79.4232104
CREATED:20131112T180208Z
DTSTART:20140118T010000Z
DTEND:20140118T020000Z
DTSTAMP:20260420T013838Z
SUMMARY:The Six Shooters vs. XTSC Force
DESCRIPTION:XTSC Force vs. The Six ShootersPlus d'info : #327
X-ALT-DESC;FMTTYPE=text/html:<!DOCTYPE HTML PUBLIC "-//W3C//DTD HTML 3.2//E
	N">\n<HTML>\n<HEAD>\n<TITLE></TITLE>\n</HEAD>\n<BODY>\n<h3>XTSC Force vs. T
	he Six Shooters</h3>Plus d'info : <a href="https://www.golnetwork.com/game/
	v/41155/">#327</a>\n\n</BODY>\n</HTML>
STATUS:CONFIRMED
CLASS:PUBLIC
URL:https://www.golnetwork.com/game/v/41155/
X-MICROSOFT-CDO-BUSYSTATUS:BUSY
X-MICROSOFT-CDO-IMPORTANCE:1
END:VEVENT
BEGIN:VEVENT
UID:g47hg@games.golnetwork.com
LOCATION:Lamport Stadium - Field 1
GEO:43.6390028;-79.4232104
CREATED:20131112T180208Z
DTSTART:20140118T020000Z
DTEND:20140118T030000Z
DTSTAMP:20260420T013838Z
SUMMARY:Loose Cannons vs. FC Shooters
DESCRIPTION:FC Shooters vs. Loose CannonsPlus d'info : #330
X-ALT-DESC;FMTTYPE=text/html:<!DOCTYPE HTML PUBLIC "-//W3C//DTD HTML 3.2//E
	N">\n<HTML>\n<HEAD>\n<TITLE></TITLE>\n</HEAD>\n<BODY>\n<h3>FC Shooters vs. 
	Loose Cannons</h3>Plus d'info : <a href="https://www.golnetwork.com/game/v/
	41156/">#330</a>\n\n</BODY>\n</HTML>
STATUS:CONFIRMED
CLASS:PUBLIC
URL:https://www.golnetwork.com/game/v/41156/
X-MICROSOFT-CDO-BUSYSTATUS:BUSY
X-MICROSOFT-CDO-IMPORTANCE:1
END:VEVENT
BEGIN:VEVENT
UID:g47hi@games.golnetwork.com
LOCATION:Lamport Stadium - Field 1
GEO:43.6390028;-79.4232104
CREATED:20131112T180208Z
DTSTART:20140118T030000Z
DTEND:20140118T040000Z
DTSTAMP:20260420T013838Z
SUMMARY:Shut your legs or I'll meg ya vs. Team FC
DESCRIPTION:Team FC vs. Shut your legs or I'll meg yaPlus d'info : #333
X-ALT-DESC;FMTTYPE=text/html:<!DOCTYPE HTML PUBLIC "-//W3C//DTD HTML 3.2//E
	N">\n<HTML>\n<HEAD>\n<TITLE></TITLE>\n</HEAD>\n<BODY>\n<h3>Team FC vs. Shut
	 your legs or I'll meg ya</h3>Plus d'info : <a href="https://www.golnetwork
	.com/game/v/41157/">#333</a>\n\n</BODY>\n</HTML>
STATUS:CONFIRMED
CLASS:PUBLIC
URL:https://www.golnetwork.com/game/v/41157/
X-MICROSOFT-CDO-BUSYSTATUS:BUSY
X-MICROSOFT-CDO-IMPORTANCE:1
END:VEVENT
BEGIN:VEVENT
UID:g47hk@games.golnetwork.com
LOCATION:Lamport Stadium - Field 1
GEO:43.6390028;-79.4232104
CREATED:20131112T180208Z
DTSTART:20140118T040000Z
DTEND:20140118T050000Z
DTSTAMP:20260420T013838Z
SUMMARY:The Misfits vs. Imports
DESCRIPTION:Imports vs. The MisfitsPlus d'info : #336
X-ALT-DESC;FMTTYPE=text/html:<!DOCTYPE HTML PUBLIC "-//W3C//DTD HTML 3.2//E
	N">\n<HTML>\n<HEAD>\n<TITLE></TITLE>\n</HEAD>\n<BODY>\n<h3>Imports vs. The 
	Misfits</h3>Plus d'info : <a href="https://www.golnetwork.com/game/v/41158/
	">#336</a>\n\n</BODY>\n</HTML>
STATUS:CONFIRMED
CLASS:PUBLIC
URL:https://www.golnetwork.com/game/v/41158/
X-MICROSOFT-CDO-BUSYSTATUS:BUSY
X-MICROSOFT-CDO-IMPORTANCE:1
END:VEVENT
BEGIN:VEVENT
UID:g47hm@games.golnetwork.com
LOCATION:Lamport Stadium - Field 1
GEO:43.6390028;-79.4232104
CREATED:20131112T180208Z
DTSTART:20140125T010000Z
DTEND:20140125T020000Z
DTSTAMP:20260420T013838Z
SUMMARY:Team FC vs. FC Shooters
DESCRIPTION:FC Shooters vs. Team FCPlus d'info : #357
X-ALT-DESC;FMTTYPE=text/html:<!DOCTYPE HTML PUBLIC "-//W3C//DTD HTML 3.2//E
	N">\n<HTML>\n<HEAD>\n<TITLE></TITLE>\n</HEAD>\n<BODY>\n<h3>FC Shooters vs. 
	Team FC</h3>Plus d'info : <a href="https://www.golnetwork.com/game/v/41159/
	">#357</a>\n\n</BODY>\n</HTML>
STATUS:CONFIRMED
CLASS:PUBLIC
URL:https://www.golnetwork.com/game/v/41159/
X-MICROSOFT-CDO-BUSYSTATUS:BUSY
X-MICROSOFT-CDO-IMPORTANCE:1
END:VEVENT
BEGIN:VEVENT
UID:g47ho@games.golnetwork.com
LOCATION:Lamport Stadium - Field 1
GEO:43.6390028;-79.4232104
CREATED:20131112T180208Z
DTSTART:20140125T020000Z
DTEND:20140125T030000Z
DTSTAMP:20260420T013838Z
SUMMARY:The Six Shooters vs. Imports
DESCRIPTION:Imports vs. The Six ShootersPlus d'info : #360
X-ALT-DESC;FMTTYPE=text/html:<!DOCTYPE HTML PUBLIC "-//W3C//DTD HTML 3.2//E
	N">\n<HTML>\n<HEAD>\n<TITLE></TITLE>\n</HEAD>\n<BODY>\n<h3>Imports vs. The 
	Six Shooters</h3>Plus d'info : <a href="https://www.golnetwork.com/game/v/4
	1160/">#360</a>\n\n</BODY>\n</HTML>
STATUS:CONFIRMED
CLASS:PUBLIC
URL:https://www.golnetwork.com/game/v/41160/
X-MICROSOFT-CDO-BUSYSTATUS:BUSY
X-MICROSOFT-CDO-IMPORTANCE:1
END:VEVENT
BEGIN:VEVENT
UID:g47hq@games.golnetwork.com
LOCATION:Lamport Stadium - Field 1
GEO:43.6390028;-79.4232104
CREATED:20131112T180208Z
DTSTART:20140125T030000Z
DTEND:20140125T040000Z
DTSTAMP:20260420T013838Z
SUMMARY:Loose Cannons vs. Shut your legs or I'll meg ya
DESCRIPTION:Shut your legs or I'll meg ya vs. Loose CannonsPlus d'info : #3
	63
X-ALT-DESC;FMTTYPE=text/html:<!DOCTYPE HTML PUBLIC "-//W3C//DTD HTML 3.2//E
	N">\n<HTML>\n<HEAD>\n<TITLE></TITLE>\n</HEAD>\n<BODY>\n<h3>Shut your legs o
	r I'll meg ya vs. Loose Cannons</h3>Plus d'info : <a href="https://www.goln
	etwork.com/game/v/41161/">#363</a>\n\n</BODY>\n</HTML>
STATUS:CONFIRMED
CLASS:PUBLIC
URL:https://www.golnetwork.com/game/v/41161/
X-MICROSOFT-CDO-BUSYSTATUS:BUSY
X-MICROSOFT-CDO-IMPORTANCE:1
END:VEVENT
BEGIN:VEVENT
UID:g47i1@games.golnetwork.com
LOCATION:Lamport Stadium - Field 1
GEO:43.6390028;-79.4232104
CREATED:20131112T180208Z
DTSTART:20140125T040000Z
DTEND:20140125T050000Z
DTSTAMP:20260420T013838Z
SUMMARY:The Misfits vs. XTSC Force
DESCRIPTION:XTSC Force vs. The MisfitsPlus d'info : #366
X-ALT-DESC;FMTTYPE=text/html:<!DOCTYPE HTML PUBLIC "-//W3C//DTD HTML 3.2//E
	N">\n<HTML>\n<HEAD>\n<TITLE></TITLE>\n</HEAD>\n<BODY>\n<h3>XTSC Force vs. T
	he Misfits</h3>Plus d'info : <a href="https://www.golnetwork.com/game/v/411
	62/">#366</a>\n\n</BODY>\n</HTML>
STATUS:CONFIRMED
CLASS:PUBLIC
URL:https://www.golnetwork.com/game/v/41162/
X-MICROSOFT-CDO-BUSYSTATUS:BUSY
X-MICROSOFT-CDO-IMPORTANCE:1
END:VEVENT
END:VCALENDAR
