BEGIN:VCALENDAR
PRODID:-//gdesolutions.com//MV Framework 1.0.0.1607 Calendar//EN
VERSION:2.0
METHOD:PUBLISH
CALSCALE:GREGORIAN
BEGIN:VEVENT
UID:g456l@games.golnetwork.com
LOCATION:North Toronto - Field 2
GEO:43.7098022;-79.3963055
CREATED:20131023T102711Z
DTSTART:20131028T010000Z
DTEND:20131028T020000Z
DTSTAMP:20260421T015320Z
SUMMARY:Revolution FC vs. Flying Diegos
DESCRIPTION:Flying Diegos vs. Revolution FCPlus d'info : #5
X-ALT-DESC;FMTTYPE=text/html:<!DOCTYPE HTML PUBLIC "-//W3C//DTD HTML 3.2//E
	N">\n<HTML>\n<HEAD>\n<TITLE></TITLE>\n</HEAD>\n<BODY>\n<h3>Flying Diegos vs
	. Revolution FC</h3>Plus d'info : <a href="https://www.golnetwork.com/game/
	v/40281/">#5</a>\n\n</BODY>\n</HTML>
STATUS:CONFIRMED
CLASS:PUBLIC
URL:https://www.golnetwork.com/game/v/40281/
X-MICROSOFT-CDO-BUSYSTATUS:BUSY
X-MICROSOFT-CDO-IMPORTANCE:1
END:VEVENT
BEGIN:VEVENT
UID:g456n@games.golnetwork.com
LOCATION:North Toronto - Field 2
GEO:43.7098022;-79.3963055
CREATED:20131023T102712Z
DTSTART:20131028T020000Z
DTEND:20131028T030000Z
DTSTAMP:20260421T015320Z
SUMMARY:Whistle FC vs. Samba All-Stars
DESCRIPTION:Samba All-Stars vs. Whistle FCPlus d'info : #6
X-ALT-DESC;FMTTYPE=text/html:<!DOCTYPE HTML PUBLIC "-//W3C//DTD HTML 3.2//E
	N">\n<HTML>\n<HEAD>\n<TITLE></TITLE>\n</HEAD>\n<BODY>\n<h3>Samba All-Stars 
	vs. Whistle FC</h3>Plus d'info : <a href="https://www.golnetwork.com/game/v
	/40282/">#6</a>\n\n</BODY>\n</HTML>
STATUS:CONFIRMED
CLASS:PUBLIC
URL:https://www.golnetwork.com/game/v/40282/
X-MICROSOFT-CDO-BUSYSTATUS:BUSY
X-MICROSOFT-CDO-IMPORTANCE:1
END:VEVENT
BEGIN:VEVENT
UID:g456p@games.golnetwork.com
LOCATION:North Toronto - Field 2
GEO:43.7098022;-79.3963055
CREATED:20131023T102712Z
DTSTART:20131028T030000Z
DTEND:20131028T040000Z
DTSTAMP:20260421T015320Z
SUMMARY:WhatstheSportOfKings vs. XTSC Cheatin Referees
DESCRIPTION:XTSC Cheatin Referees vs. WhatstheSportOfKingsPlus d'info : #7
X-ALT-DESC;FMTTYPE=text/html:<!DOCTYPE HTML PUBLIC "-//W3C//DTD HTML 3.2//E
	N">\n<HTML>\n<HEAD>\n<TITLE></TITLE>\n</HEAD>\n<BODY>\n<h3>XTSC Cheatin Ref
	erees vs. WhatstheSportOfKings</h3>Plus d'info : <a href="https://www.golne
	twork.com/game/v/40283/">#7</a>\n\n</BODY>\n</HTML>
STATUS:CONFIRMED
CLASS:PUBLIC
URL:https://www.golnetwork.com/game/v/40283/
X-MICROSOFT-CDO-BUSYSTATUS:BUSY
X-MICROSOFT-CDO-IMPORTANCE:1
END:VEVENT
BEGIN:VEVENT
UID:g4570@games.golnetwork.com
LOCATION:Monarch Park Stadium - Field 2
GEO:43.6792789;-79.3234873
CREATED:20131023T102712Z
DTSTART:20131104T020000Z
DTEND:20131104T030000Z
DTSTAMP:20260421T015320Z
SUMMARY:Samba All-Stars vs. Flying Diegos
DESCRIPTION:Flying Diegos vs. Samba All-StarsPlus d'info : #16
X-ALT-DESC;FMTTYPE=text/html:<!DOCTYPE HTML PUBLIC "-//W3C//DTD HTML 3.2//E
	N">\n<HTML>\n<HEAD>\n<TITLE></TITLE>\n</HEAD>\n<BODY>\n<h3>Flying Diegos vs
	. Samba All-Stars</h3>Plus d'info : <a href="https://www.golnetwork.com/gam
	e/v/40284/">#16</a>\n\n</BODY>\n</HTML>
STATUS:CONFIRMED
CLASS:PUBLIC
URL:https://www.golnetwork.com/game/v/40284/
X-MICROSOFT-CDO-BUSYSTATUS:BUSY
X-MICROSOFT-CDO-IMPORTANCE:1
END:VEVENT
BEGIN:VEVENT
UID:g4572@games.golnetwork.com
LOCATION:Monarch Park Stadium - Field 2
GEO:43.6792789;-79.3234873
CREATED:20131023T102712Z
DTSTART:20131104T030000Z
DTEND:20131104T040000Z
DTSTAMP:20260421T015320Z
SUMMARY:WhatstheSportOfKings vs. Revolution FC
DESCRIPTION:Revolution FC vs. WhatstheSportOfKingsPlus d'info : #17
X-ALT-DESC;FMTTYPE=text/html:<!DOCTYPE HTML PUBLIC "-//W3C//DTD HTML 3.2//E
	N">\n<HTML>\n<HEAD>\n<TITLE></TITLE>\n</HEAD>\n<BODY>\n<h3>Revolution FC vs
	. WhatstheSportOfKings</h3>Plus d'info : <a href="https://www.golnetwork.co
	m/game/v/40285/">#17</a>\n\n</BODY>\n</HTML>
STATUS:CONFIRMED
CLASS:PUBLIC
URL:https://www.golnetwork.com/game/v/40285/
X-MICROSOFT-CDO-BUSYSTATUS:BUSY
X-MICROSOFT-CDO-IMPORTANCE:1
END:VEVENT
BEGIN:VEVENT
UID:g4574@games.golnetwork.com
LOCATION:Monarch Park Stadium - Field 2
GEO:43.6792789;-79.3234873
CREATED:20131023T102712Z
DTSTART:20131104T040000Z
DTEND:20131104T050000Z
DTSTAMP:20260421T015320Z
SUMMARY:Whistle FC vs. XTSC Cheatin Referees
DESCRIPTION:XTSC Cheatin Referees vs. Whistle FCPlus d'info : #18
X-ALT-DESC;FMTTYPE=text/html:<!DOCTYPE HTML PUBLIC "-//W3C//DTD HTML 3.2//E
	N">\n<HTML>\n<HEAD>\n<TITLE></TITLE>\n</HEAD>\n<BODY>\n<h3>XTSC Cheatin Ref
	erees vs. Whistle FC</h3>Plus d'info : <a href="https://www.golnetwork.com/
	game/v/40286/">#18</a>\n\n</BODY>\n</HTML>
STATUS:CONFIRMED
CLASS:PUBLIC
URL:https://www.golnetwork.com/game/v/40286/
X-MICROSOFT-CDO-BUSYSTATUS:BUSY
X-MICROSOFT-CDO-IMPORTANCE:1
END:VEVENT
BEGIN:VEVENT
UID:g4576@games.golnetwork.com
LOCATION:Monarch Park Stadium - Field 2
GEO:43.6792789;-79.3234873
CREATED:20131023T102712Z
DTSTART:20131111T020000Z
DTEND:20131111T030000Z
DTSTAMP:20260421T015320Z
SUMMARY:Whistle FC vs. WhatstheSportOfKings
DESCRIPTION:WhatstheSportOfKings vs. Whistle FCPlus d'info : #27
X-ALT-DESC;FMTTYPE=text/html:<!DOCTYPE HTML PUBLIC "-//W3C//DTD HTML 3.2//E
	N">\n<HTML>\n<HEAD>\n<TITLE></TITLE>\n</HEAD>\n<BODY>\n<h3>WhatstheSportOfK
	ings vs. Whistle FC</h3>Plus d'info : <a href="https://www.golnetwork.com/g
	ame/v/40287/">#27</a>\n\n</BODY>\n</HTML>
STATUS:CONFIRMED
CLASS:PUBLIC
URL:https://www.golnetwork.com/game/v/40287/
X-MICROSOFT-CDO-BUSYSTATUS:BUSY
X-MICROSOFT-CDO-IMPORTANCE:1
END:VEVENT
BEGIN:VEVENT
UID:g4578@games.golnetwork.com
LOCATION:Monarch Park Stadium - Field 2
GEO:43.6792789;-79.3234873
CREATED:20131023T102712Z
DTSTART:20131111T030000Z
DTEND:20131111T040000Z
DTSTAMP:20260421T015320Z
SUMMARY:Revolution FC vs. Samba All-Stars
DESCRIPTION:Samba All-Stars vs. Revolution FCPlus d'info : #28
X-ALT-DESC;FMTTYPE=text/html:<!DOCTYPE HTML PUBLIC "-//W3C//DTD HTML 3.2//E
	N">\n<HTML>\n<HEAD>\n<TITLE></TITLE>\n</HEAD>\n<BODY>\n<h3>Samba All-Stars 
	vs. Revolution FC</h3>Plus d'info : <a href="https://www.golnetwork.com/gam
	e/v/40288/">#28</a>\n\n</BODY>\n</HTML>
STATUS:CONFIRMED
CLASS:PUBLIC
URL:https://www.golnetwork.com/game/v/40288/
X-MICROSOFT-CDO-BUSYSTATUS:BUSY
X-MICROSOFT-CDO-IMPORTANCE:1
END:VEVENT
BEGIN:VEVENT
UID:g457a@games.golnetwork.com
LOCATION:Monarch Park Stadium - Field 2
GEO:43.6792789;-79.3234873
CREATED:20131023T102712Z
DTSTART:20131111T040000Z
DTEND:20131111T050000Z
DTSTAMP:20260421T015320Z
SUMMARY:XTSC Cheatin Referees vs. Flying Diegos
DESCRIPTION:Flying Diegos vs. XTSC Cheatin RefereesPlus d'info : #29
X-ALT-DESC;FMTTYPE=text/html:<!DOCTYPE HTML PUBLIC "-//W3C//DTD HTML 3.2//E
	N">\n<HTML>\n<HEAD>\n<TITLE></TITLE>\n</HEAD>\n<BODY>\n<h3>Flying Diegos vs
	. XTSC Cheatin Referees</h3>Plus d'info : <a href="https://www.golnetwork.c
	om/game/v/40289/">#29</a>\n\n</BODY>\n</HTML>
STATUS:CONFIRMED
CLASS:PUBLIC
URL:https://www.golnetwork.com/game/v/40289/
X-MICROSOFT-CDO-BUSYSTATUS:BUSY
X-MICROSOFT-CDO-IMPORTANCE:1
END:VEVENT
BEGIN:VEVENT
UID:g457c@games.golnetwork.com
LOCATION:Monarch Park Stadium - Field 2
GEO:43.6792789;-79.3234873
CREATED:20131023T102712Z
DTSTART:20131118T020000Z
DTEND:20131118T030000Z
DTSTAMP:20260421T015320Z
SUMMARY:Whistle FC vs. Revolution FC
DESCRIPTION:Revolution FC vs. Whistle FCPlus d'info : #67
X-ALT-DESC;FMTTYPE=text/html:<!DOCTYPE HTML PUBLIC "-//W3C//DTD HTML 3.2//E
	N">\n<HTML>\n<HEAD>\n<TITLE></TITLE>\n</HEAD>\n<BODY>\n<h3>Revolution FC vs
	. Whistle FC</h3>Plus d'info : <a href="https://www.golnetwork.com/game/v/4
	0290/">#67</a>\n\n</BODY>\n</HTML>
STATUS:CONFIRMED
CLASS:PUBLIC
URL:https://www.golnetwork.com/game/v/40290/
X-MICROSOFT-CDO-BUSYSTATUS:BUSY
X-MICROSOFT-CDO-IMPORTANCE:1
END:VEVENT
BEGIN:VEVENT
UID:g457e@games.golnetwork.com
LOCATION:Monarch Park Stadium - Field 2
GEO:43.6792789;-79.3234873
CREATED:20131023T102712Z
DTSTART:20131118T030000Z
DTEND:20131118T040000Z
DTSTAMP:20260421T015320Z
SUMMARY:Flying Diegos vs. WhatstheSportOfKings
DESCRIPTION:WhatstheSportOfKings vs. Flying DiegosPlus d'info : #68
X-ALT-DESC;FMTTYPE=text/html:<!DOCTYPE HTML PUBLIC "-//W3C//DTD HTML 3.2//E
	N">\n<HTML>\n<HEAD>\n<TITLE></TITLE>\n</HEAD>\n<BODY>\n<h3>WhatstheSportOfK
	ings vs. Flying Diegos</h3>Plus d'info : <a href="https://www.golnetwork.co
	m/game/v/40291/">#68</a>\n\n</BODY>\n</HTML>
STATUS:CONFIRMED
CLASS:PUBLIC
URL:https://www.golnetwork.com/game/v/40291/
X-MICROSOFT-CDO-BUSYSTATUS:BUSY
X-MICROSOFT-CDO-IMPORTANCE:1
END:VEVENT
BEGIN:VEVENT
UID:g457g@games.golnetwork.com
LOCATION:Monarch Park Stadium - Field 2
GEO:43.6792789;-79.3234873
CREATED:20131023T102712Z
DTSTART:20131118T040000Z
DTEND:20131118T050000Z
DTSTAMP:20260421T015320Z
SUMMARY:XTSC Cheatin Referees vs. Samba All-Stars
DESCRIPTION:Samba All-Stars vs. XTSC Cheatin RefereesPlus d'info : #69
X-ALT-DESC;FMTTYPE=text/html:<!DOCTYPE HTML PUBLIC "-//W3C//DTD HTML 3.2//E
	N">\n<HTML>\n<HEAD>\n<TITLE></TITLE>\n</HEAD>\n<BODY>\n<h3>Samba All-Stars 
	vs. XTSC Cheatin Referees</h3>Plus d'info : <a href="https://www.golnetwork
	.com/game/v/40292/">#69</a>\n\n</BODY>\n</HTML>
STATUS:CONFIRMED
CLASS:PUBLIC
URL:https://www.golnetwork.com/game/v/40292/
X-MICROSOFT-CDO-BUSYSTATUS:BUSY
X-MICROSOFT-CDO-IMPORTANCE:1
END:VEVENT
BEGIN:VEVENT
UID:g457i@games.golnetwork.com
LOCATION:Monarch Park Stadium - Field 2
GEO:43.6792789;-79.3234873
CREATED:20131023T102712Z
DTSTART:20131125T020000Z
DTEND:20131125T030000Z
DTSTAMP:20260421T015320Z
SUMMARY:WhatstheSportOfKings vs. Samba All-Stars
DESCRIPTION:Samba All-Stars vs. WhatstheSportOfKingsPlus d'info : #107
X-ALT-DESC;FMTTYPE=text/html:<!DOCTYPE HTML PUBLIC "-//W3C//DTD HTML 3.2//E
	N">\n<HTML>\n<HEAD>\n<TITLE></TITLE>\n</HEAD>\n<BODY>\n<h3>Samba All-Stars 
	vs. WhatstheSportOfKings</h3>Plus d'info : <a href="https://www.golnetwork.
	com/game/v/40293/">#107</a>\n\n</BODY>\n</HTML>
STATUS:CONFIRMED
CLASS:PUBLIC
URL:https://www.golnetwork.com/game/v/40293/
X-MICROSOFT-CDO-BUSYSTATUS:BUSY
X-MICROSOFT-CDO-IMPORTANCE:1
END:VEVENT
BEGIN:VEVENT
UID:g457k@games.golnetwork.com
LOCATION:Monarch Park Stadium - Field 2
GEO:43.6792789;-79.3234873
CREATED:20131023T102712Z
DTSTART:20131125T030000Z
DTEND:20131125T040000Z
DTSTAMP:20260421T015320Z
SUMMARY:Flying Diegos vs. Whistle FC
DESCRIPTION:Whistle FC vs. Flying DiegosPlus d'info : #108
X-ALT-DESC;FMTTYPE=text/html:<!DOCTYPE HTML PUBLIC "-//W3C//DTD HTML 3.2//E
	N">\n<HTML>\n<HEAD>\n<TITLE></TITLE>\n</HEAD>\n<BODY>\n<h3>Whistle FC vs. F
	lying Diegos</h3>Plus d'info : <a href="https://www.golnetwork.com/game/v/4
	0294/">#108</a>\n\n</BODY>\n</HTML>
STATUS:CONFIRMED
CLASS:PUBLIC
URL:https://www.golnetwork.com/game/v/40294/
X-MICROSOFT-CDO-BUSYSTATUS:BUSY
X-MICROSOFT-CDO-IMPORTANCE:1
END:VEVENT
BEGIN:VEVENT
UID:g457m@games.golnetwork.com
LOCATION:Monarch Park Stadium - Field 2
GEO:43.6792789;-79.3234873
CREATED:20131023T102712Z
DTSTART:20131125T040000Z
DTEND:20131125T050000Z
DTSTAMP:20260421T015320Z
SUMMARY:XTSC Cheatin Referees vs. Revolution FC
DESCRIPTION:Revolution FC vs. XTSC Cheatin RefereesPlus d'info : #109
X-ALT-DESC;FMTTYPE=text/html:<!DOCTYPE HTML PUBLIC "-//W3C//DTD HTML 3.2//E
	N">\n<HTML>\n<HEAD>\n<TITLE></TITLE>\n</HEAD>\n<BODY>\n<h3>Revolution FC vs
	. XTSC Cheatin Referees</h3>Plus d'info : <a href="https://www.golnetwork.c
	om/game/v/40295/">#109</a>\n\n</BODY>\n</HTML>
STATUS:CONFIRMED
CLASS:PUBLIC
URL:https://www.golnetwork.com/game/v/40295/
X-MICROSOFT-CDO-BUSYSTATUS:BUSY
X-MICROSOFT-CDO-IMPORTANCE:1
END:VEVENT
BEGIN:VEVENT
UID:g457o@games.golnetwork.com
LOCATION:Monarch Park Stadium - Field 2
GEO:43.6792789;-79.3234873
CREATED:20131023T102712Z
DTSTART:20131202T020000Z
DTEND:20131202T030000Z
DTSTAMP:20260421T015320Z
SUMMARY:Flying Diegos vs. Revolution FC
DESCRIPTION:Revolution FC vs. Flying DiegosPlus d'info : #148
X-ALT-DESC;FMTTYPE=text/html:<!DOCTYPE HTML PUBLIC "-//W3C//DTD HTML 3.2//E
	N">\n<HTML>\n<HEAD>\n<TITLE></TITLE>\n</HEAD>\n<BODY>\n<h3>Revolution FC vs
	. Flying Diegos</h3>Plus d'info : <a href="https://www.golnetwork.com/game/
	v/40296/">#148</a>\n\n</BODY>\n</HTML>
STATUS:CONFIRMED
CLASS:PUBLIC
URL:https://www.golnetwork.com/game/v/40296/
X-MICROSOFT-CDO-BUSYSTATUS:BUSY
X-MICROSOFT-CDO-IMPORTANCE:1
END:VEVENT
BEGIN:VEVENT
UID:g457q@games.golnetwork.com
LOCATION:Monarch Park Stadium - Field 2
GEO:43.6792789;-79.3234873
CREATED:20131023T102712Z
DTSTART:20131202T030000Z
DTEND:20131202T040000Z
DTSTAMP:20260421T015320Z
SUMMARY:Whistle FC vs. Samba All-Stars
DESCRIPTION:Samba All-Stars vs. Whistle FCPlus d'info : #149
X-ALT-DESC;FMTTYPE=text/html:<!DOCTYPE HTML PUBLIC "-//W3C//DTD HTML 3.2//E
	N">\n<HTML>\n<HEAD>\n<TITLE></TITLE>\n</HEAD>\n<BODY>\n<h3>Samba All-Stars 
	vs. Whistle FC</h3>Plus d'info : <a href="https://www.golnetwork.com/game/v
	/40297/">#149</a>\n\n</BODY>\n</HTML>
STATUS:CONFIRMED
CLASS:PUBLIC
URL:https://www.golnetwork.com/game/v/40297/
X-MICROSOFT-CDO-BUSYSTATUS:BUSY
X-MICROSOFT-CDO-IMPORTANCE:1
END:VEVENT
BEGIN:VEVENT
UID:g4581@games.golnetwork.com
LOCATION:Monarch Park Stadium - Field 2
GEO:43.6792789;-79.3234873
CREATED:20131023T102712Z
DTSTART:20131202T040000Z
DTEND:20131202T050000Z
DTSTAMP:20260421T015320Z
SUMMARY:XTSC Cheatin Referees vs. WhatstheSportOfKings
DESCRIPTION:WhatstheSportOfKings vs. XTSC Cheatin RefereesPlus d'info : #15
X-ALT-DESC;FMTTYPE=text/html:<!DOCTYPE HTML PUBLIC "-//W3C//DTD HTML 3.2//E
	N">\n<HTML>\n<HEAD>\n<TITLE></TITLE>\n</HEAD>\n<BODY>\n<h3>WhatstheSportOfK
	ings vs. XTSC Cheatin Referees</h3>Plus d'info : <a href="https://www.golne
	twork.com/game/v/40298/">#150</a>\n\n</BODY>\n</HTML>
STATUS:CONFIRMED
CLASS:PUBLIC
URL:https://www.golnetwork.com/game/v/40298/
X-MICROSOFT-CDO-BUSYSTATUS:BUSY
X-MICROSOFT-CDO-IMPORTANCE:1
END:VEVENT
BEGIN:VEVENT
UID:g4583@games.golnetwork.com
LOCATION:Monarch Park Stadium - Field 2
GEO:43.6792789;-79.3234873
CREATED:20131023T102712Z
DTSTART:20131209T020000Z
DTEND:20131209T030000Z
DTSTAMP:20260421T015320Z
SUMMARY:Whistle FC vs. WhatstheSportOfKings
DESCRIPTION:WhatstheSportOfKings vs. Whistle FCPlus d'info : #189
X-ALT-DESC;FMTTYPE=text/html:<!DOCTYPE HTML PUBLIC "-//W3C//DTD HTML 3.2//E
	N">\n<HTML>\n<HEAD>\n<TITLE></TITLE>\n</HEAD>\n<BODY>\n<h3>WhatstheSportOfK
	ings vs. Whistle FC</h3>Plus d'info : <a href="https://www.golnetwork.com/g
	ame/v/40299/">#189</a>\n\n</BODY>\n</HTML>
STATUS:CONFIRMED
CLASS:PUBLIC
URL:https://www.golnetwork.com/game/v/40299/
X-MICROSOFT-CDO-BUSYSTATUS:BUSY
X-MICROSOFT-CDO-IMPORTANCE:1
END:VEVENT
BEGIN:VEVENT
UID:g4585@games.golnetwork.com
LOCATION:Monarch Park Stadium - Field 2
GEO:43.6792789;-79.3234873
CREATED:20131023T102712Z
DTSTART:20131209T030000Z
DTEND:20131209T040000Z
DTSTAMP:20260421T015320Z
SUMMARY:Flying Diegos vs. Samba All-Stars
DESCRIPTION:Samba All-Stars vs. Flying DiegosPlus d'info : #190
X-ALT-DESC;FMTTYPE=text/html:<!DOCTYPE HTML PUBLIC "-//W3C//DTD HTML 3.2//E
	N">\n<HTML>\n<HEAD>\n<TITLE></TITLE>\n</HEAD>\n<BODY>\n<h3>Samba All-Stars 
	vs. Flying Diegos</h3>Plus d'info : <a href="https://www.golnetwork.com/gam
	e/v/40300/">#190</a>\n\n</BODY>\n</HTML>
STATUS:CONFIRMED
CLASS:PUBLIC
URL:https://www.golnetwork.com/game/v/40300/
X-MICROSOFT-CDO-BUSYSTATUS:BUSY
X-MICROSOFT-CDO-IMPORTANCE:1
END:VEVENT
BEGIN:VEVENT
UID:g4587@games.golnetwork.com
LOCATION:Monarch Park Stadium - Field 2
GEO:43.6792789;-79.3234873
CREATED:20131023T102712Z
DTSTART:20131209T040000Z
DTEND:20131209T050000Z
DTSTAMP:20260421T015320Z
SUMMARY:XTSC Cheatin Referees vs. Revolution FC
DESCRIPTION:Revolution FC vs. XTSC Cheatin RefereesPlus d'info : #191
X-ALT-DESC;FMTTYPE=text/html:<!DOCTYPE HTML PUBLIC "-//W3C//DTD HTML 3.2//E
	N">\n<HTML>\n<HEAD>\n<TITLE></TITLE>\n</HEAD>\n<BODY>\n<h3>Revolution FC vs
	. XTSC Cheatin Referees</h3>Plus d'info : <a href="https://www.golnetwork.c
	om/game/v/40301/">#191</a>\n\n</BODY>\n</HTML>
STATUS:CONFIRMED
CLASS:PUBLIC
URL:https://www.golnetwork.com/game/v/40301/
X-MICROSOFT-CDO-BUSYSTATUS:BUSY
X-MICROSOFT-CDO-IMPORTANCE:1
END:VEVENT
BEGIN:VEVENT
UID:g4589@games.golnetwork.com
LOCATION:Monarch Park Stadium - Field 2
GEO:43.6792789;-79.3234873
CREATED:20131023T102712Z
DTSTART:20131216T020000Z
DTEND:20131216T030000Z
DTSTAMP:20260421T015320Z
SUMMARY:WhatstheSportOfKings vs. Flying Diegos
DESCRIPTION:Flying Diegos vs. WhatstheSportOfKingsPlus d'info : #230
X-ALT-DESC;FMTTYPE=text/html:<!DOCTYPE HTML PUBLIC "-//W3C//DTD HTML 3.2//E
	N">\n<HTML>\n<HEAD>\n<TITLE></TITLE>\n</HEAD>\n<BODY>\n<h3>Flying Diegos vs
	. WhatstheSportOfKings</h3>Plus d'info : <a href="https://www.golnetwork.co
	m/game/v/40302/">#230</a>\n\n</BODY>\n</HTML>
STATUS:CONFIRMED
CLASS:PUBLIC
URL:https://www.golnetwork.com/game/v/40302/
X-MICROSOFT-CDO-BUSYSTATUS:BUSY
X-MICROSOFT-CDO-IMPORTANCE:1
END:VEVENT
BEGIN:VEVENT
UID:g458b@games.golnetwork.com
LOCATION:Monarch Park Stadium - Field 2
GEO:43.6792789;-79.3234873
CREATED:20131023T102712Z
DTSTART:20131216T030000Z
DTEND:20131216T040000Z
DTSTAMP:20260421T015320Z
SUMMARY:Whistle FC vs. Revolution FC
DESCRIPTION:Revolution FC vs. Whistle FCPlus d'info : #231
X-ALT-DESC;FMTTYPE=text/html:<!DOCTYPE HTML PUBLIC "-//W3C//DTD HTML 3.2//E
	N">\n<HTML>\n<HEAD>\n<TITLE></TITLE>\n</HEAD>\n<BODY>\n<h3>Revolution FC vs
	. Whistle FC</h3>Plus d'info : <a href="https://www.golnetwork.com/game/v/4
	0303/">#231</a>\n\n</BODY>\n</HTML>
STATUS:CONFIRMED
CLASS:PUBLIC
URL:https://www.golnetwork.com/game/v/40303/
X-MICROSOFT-CDO-BUSYSTATUS:BUSY
X-MICROSOFT-CDO-IMPORTANCE:1
END:VEVENT
BEGIN:VEVENT
UID:g458d@games.golnetwork.com
LOCATION:Monarch Park Stadium - Field 2
GEO:43.6792789;-79.3234873
CREATED:20131023T102712Z
DTSTART:20131216T040000Z
DTEND:20131216T050000Z
DTSTAMP:20260421T015320Z
SUMMARY:Samba All-Stars vs. XTSC Cheatin Referees
DESCRIPTION:XTSC Cheatin Referees vs. Samba All-StarsPlus d'info : #232
X-ALT-DESC;FMTTYPE=text/html:<!DOCTYPE HTML PUBLIC "-//W3C//DTD HTML 3.2//E
	N">\n<HTML>\n<HEAD>\n<TITLE></TITLE>\n</HEAD>\n<BODY>\n<h3>XTSC Cheatin Ref
	erees vs. Samba All-Stars</h3>Plus d'info : <a href="https://www.golnetwork
	.com/game/v/40304/">#232</a>\n\n</BODY>\n</HTML>
STATUS:CONFIRMED
CLASS:PUBLIC
URL:https://www.golnetwork.com/game/v/40304/
X-MICROSOFT-CDO-BUSYSTATUS:BUSY
X-MICROSOFT-CDO-IMPORTANCE:1
END:VEVENT
END:VCALENDAR
