BEGIN:VCALENDAR
PRODID:-//gdesolutions.com//MV Framework 1.0.0.1607 Calendar//EN
VERSION:2.0
METHOD:PUBLISH
CALSCALE:GREGORIAN
BEGIN:VEVENT
UID:g451g@games.golnetwork.com
LOCATION:Monarch Park Stadium - Field 1
GEO:43.6792789;-79.3234873
CREATED:20131023T032632Z
DTSTART:20131030T020000Z
DTEND:20131030T030000Z
DTSTAMP:20260419T151617Z
SUMMARY:Who Are ya FC vs. Scarbcelona
DESCRIPTION:Scarbcelona vs. Who Are ya FCPlus d'info : #8
X-ALT-DESC;FMTTYPE=text/html:<!DOCTYPE HTML PUBLIC "-//W3C//DTD HTML 3.2//E
	N">\n<HTML>\n<HEAD>\n<TITLE></TITLE>\n</HEAD>\n<BODY>\n<h3>Scarbcelona vs. 
	Who Are ya FC</h3>Plus d'info : <a href="https://www.golnetwork.com/game/v/
	40211/">#8</a>\n\n</BODY>\n</HTML>
STATUS:CONFIRMED
CLASS:PUBLIC
URL:https://www.golnetwork.com/game/v/40211/
X-MICROSOFT-CDO-BUSYSTATUS:BUSY
X-MICROSOFT-CDO-IMPORTANCE:1
END:VEVENT
BEGIN:VEVENT
UID:g451e@games.golnetwork.com
LOCATION:Monarch Park Stadium - Field 2
GEO:43.6792789;-79.3234873
CREATED:20131023T032632Z
DTSTART:20131030T020000Z
DTEND:20131030T030000Z
DTSTAMP:20260419T151617Z
SUMMARY:Arup Troubadors vs. XTSC Park Rangers
DESCRIPTION:XTSC Park Rangers vs. Arup TroubadorsPlus d'info : #9
X-ALT-DESC;FMTTYPE=text/html:<!DOCTYPE HTML PUBLIC "-//W3C//DTD HTML 3.2//E
	N">\n<HTML>\n<HEAD>\n<TITLE></TITLE>\n</HEAD>\n<BODY>\n<h3>XTSC Park Ranger
	s vs. Arup Troubadors</h3>Plus d'info : <a href="https://www.golnetwork.com
	/game/v/40210/">#9</a>\n\n</BODY>\n</HTML>
STATUS:CONFIRMED
CLASS:PUBLIC
URL:https://www.golnetwork.com/game/v/40210/
X-MICROSOFT-CDO-BUSYSTATUS:BUSY
X-MICROSOFT-CDO-IMPORTANCE:1
END:VEVENT
BEGIN:VEVENT
UID:g451k@games.golnetwork.com
LOCATION:Monarch Park Stadium - Field 1
GEO:43.6792789;-79.3234873
CREATED:20131023T032632Z
DTSTART:20131030T030000Z
DTEND:20131030T040000Z
DTSTAMP:20260419T151617Z
SUMMARY:Purple Drank vs. Hardly Athletic
DESCRIPTION:Hardly Athletic vs. Purple DrankPlus d'info : #10
X-ALT-DESC;FMTTYPE=text/html:<!DOCTYPE HTML PUBLIC "-//W3C//DTD HTML 3.2//E
	N">\n<HTML>\n<HEAD>\n<TITLE></TITLE>\n</HEAD>\n<BODY>\n<h3>Hardly Athletic 
	vs. Purple Drank</h3>Plus d'info : <a href="https://www.golnetwork.com/game
	/v/40213/">#10</a>\n\n</BODY>\n</HTML>
STATUS:CONFIRMED
CLASS:PUBLIC
URL:https://www.golnetwork.com/game/v/40213/
X-MICROSOFT-CDO-BUSYSTATUS:BUSY
X-MICROSOFT-CDO-IMPORTANCE:1
END:VEVENT
BEGIN:VEVENT
UID:g451i@games.golnetwork.com
LOCATION:Monarch Park Stadium - Field 2
GEO:43.6792789;-79.3234873
CREATED:20131023T032632Z
DTSTART:20131030T030000Z
DTEND:20131030T040000Z
DTSTAMP:20260419T151617Z
SUMMARY:Marketwired FC vs. Headhunters FC
DESCRIPTION:Headhunters FC vs. Marketwired FCPlus d'info : #11
X-ALT-DESC;FMTTYPE=text/html:<!DOCTYPE HTML PUBLIC "-//W3C//DTD HTML 3.2//E
	N">\n<HTML>\n<HEAD>\n<TITLE></TITLE>\n</HEAD>\n<BODY>\n<h3>Headhunters FC v
	s. Marketwired FC</h3>Plus d'info : <a href="https://www.golnetwork.com/gam
	e/v/40212/">#11</a>\n\n</BODY>\n</HTML>
STATUS:CONFIRMED
CLASS:PUBLIC
URL:https://www.golnetwork.com/game/v/40212/
X-MICROSOFT-CDO-BUSYSTATUS:BUSY
X-MICROSOFT-CDO-IMPORTANCE:1
END:VEVENT
BEGIN:VEVENT
UID:g451o@games.golnetwork.com
LOCATION:Monarch Park Stadium - Field 1
GEO:43.6792789;-79.3234873
CREATED:20131023T032632Z
DTSTART:20131106T030000Z
DTEND:20131106T040000Z
DTSTAMP:20260419T151617Z
SUMMARY:Marketwired FC vs. XTSC Park Rangers
DESCRIPTION:XTSC Park Rangers vs. Marketwired FCPlus d'info : #19
X-ALT-DESC;FMTTYPE=text/html:<!DOCTYPE HTML PUBLIC "-//W3C//DTD HTML 3.2//E
	N">\n<HTML>\n<HEAD>\n<TITLE></TITLE>\n</HEAD>\n<BODY>\n<h3>XTSC Park Ranger
	s vs. Marketwired FC</h3>Plus d'info : <a href="https://www.golnetwork.com/
	game/v/40215/">#19</a>\n\n</BODY>\n</HTML>
STATUS:CONFIRMED
CLASS:PUBLIC
URL:https://www.golnetwork.com/game/v/40215/
X-MICROSOFT-CDO-BUSYSTATUS:BUSY
X-MICROSOFT-CDO-IMPORTANCE:1
END:VEVENT
BEGIN:VEVENT
UID:g451m@games.golnetwork.com
LOCATION:Monarch Park Stadium - Field 2
GEO:43.6792789;-79.3234873
CREATED:20131023T032632Z
DTSTART:20131106T030000Z
DTEND:20131106T040000Z
DTSTAMP:20260419T151617Z
SUMMARY:Purple Drank vs. Scarbcelona
DESCRIPTION:Scarbcelona vs. Purple DrankPlus d'info : #20
X-ALT-DESC;FMTTYPE=text/html:<!DOCTYPE HTML PUBLIC "-//W3C//DTD HTML 3.2//E
	N">\n<HTML>\n<HEAD>\n<TITLE></TITLE>\n</HEAD>\n<BODY>\n<h3>Scarbcelona vs. 
	Purple Drank</h3>Plus d'info : <a href="https://www.golnetwork.com/game/v/4
	0214/">#20</a>\n\n</BODY>\n</HTML>
STATUS:CONFIRMED
CLASS:PUBLIC
URL:https://www.golnetwork.com/game/v/40214/
X-MICROSOFT-CDO-BUSYSTATUS:BUSY
X-MICROSOFT-CDO-IMPORTANCE:1
END:VEVENT
BEGIN:VEVENT
UID:g4521@games.golnetwork.com
LOCATION:Monarch Park Stadium - Field 1
GEO:43.6792789;-79.3234873
CREATED:20131023T032632Z
DTSTART:20131106T040000Z
DTEND:20131106T050000Z
DTSTAMP:20260419T151617Z
SUMMARY:Hardly Athletic vs. Headhunters FC
DESCRIPTION:Headhunters FC vs. Hardly AthleticPlus d'info : #21
X-ALT-DESC;FMTTYPE=text/html:<!DOCTYPE HTML PUBLIC "-//W3C//DTD HTML 3.2//E
	N">\n<HTML>\n<HEAD>\n<TITLE></TITLE>\n</HEAD>\n<BODY>\n<h3>Headhunters FC v
	s. Hardly Athletic</h3>Plus d'info : <a href="https://www.golnetwork.com/ga
	me/v/40217/">#21</a>\n\n</BODY>\n</HTML>
STATUS:CONFIRMED
CLASS:PUBLIC
URL:https://www.golnetwork.com/game/v/40217/
X-MICROSOFT-CDO-BUSYSTATUS:BUSY
X-MICROSOFT-CDO-IMPORTANCE:1
END:VEVENT
BEGIN:VEVENT
UID:g451q@games.golnetwork.com
LOCATION:Monarch Park Stadium - Field 2
GEO:43.6792789;-79.3234873
CREATED:20131023T032632Z
DTSTART:20131106T040000Z
DTEND:20131106T050000Z
DTSTAMP:20260419T151617Z
SUMMARY:Who Are ya FC vs. Arup Troubadors
DESCRIPTION:Arup Troubadors vs. Who Are ya FCPlus d'info : #22
X-ALT-DESC;FMTTYPE=text/html:<!DOCTYPE HTML PUBLIC "-//W3C//DTD HTML 3.2//E
	N">\n<HTML>\n<HEAD>\n<TITLE></TITLE>\n</HEAD>\n<BODY>\n<h3>Arup Troubadors 
	vs. Who Are ya FC</h3>Plus d'info : <a href="https://www.golnetwork.com/gam
	e/v/40216/">#22</a>\n\n</BODY>\n</HTML>
STATUS:CONFIRMED
CLASS:PUBLIC
URL:https://www.golnetwork.com/game/v/40216/
X-MICROSOFT-CDO-BUSYSTATUS:BUSY
X-MICROSOFT-CDO-IMPORTANCE:1
END:VEVENT
BEGIN:VEVENT
UID:g4525@games.golnetwork.com
LOCATION:Monarch Park Stadium - Field 1
GEO:43.6792789;-79.3234873
CREATED:20131023T032632Z
DTSTART:20131113T030000Z
DTEND:20131113T040000Z
DTSTAMP:20260419T151617Z
SUMMARY:Purple Drank vs. Who Are ya FC
DESCRIPTION:Who Are ya FC vs. Purple DrankPlus d'info : #36
X-ALT-DESC;FMTTYPE=text/html:<!DOCTYPE HTML PUBLIC "-//W3C//DTD HTML 3.2//E
	N">\n<HTML>\n<HEAD>\n<TITLE></TITLE>\n</HEAD>\n<BODY>\n<h3>Who Are ya FC vs
	. Purple Drank</h3>Plus d'info : <a href="https://www.golnetwork.com/game/v
	/40219/">#36</a>\n\n</BODY>\n</HTML>
STATUS:CONFIRMED
CLASS:PUBLIC
URL:https://www.golnetwork.com/game/v/40219/
X-MICROSOFT-CDO-BUSYSTATUS:BUSY
X-MICROSOFT-CDO-IMPORTANCE:1
END:VEVENT
BEGIN:VEVENT
UID:g4523@games.golnetwork.com
LOCATION:Monarch Park Stadium - Field 2
GEO:43.6792789;-79.3234873
CREATED:20131023T032632Z
DTSTART:20131113T030000Z
DTEND:20131113T040000Z
DTSTAMP:20260419T151617Z
SUMMARY:Arup Troubadors vs. Marketwired FC
DESCRIPTION:Marketwired FC vs. Arup TroubadorsPlus d'info : #37
X-ALT-DESC;FMTTYPE=text/html:<!DOCTYPE HTML PUBLIC "-//W3C//DTD HTML 3.2//E
	N">\n<HTML>\n<HEAD>\n<TITLE></TITLE>\n</HEAD>\n<BODY>\n<h3>Marketwired FC v
	s. Arup Troubadors</h3>Plus d'info : <a href="https://www.golnetwork.com/ga
	me/v/40218/">#37</a>\n\n</BODY>\n</HTML>
STATUS:CONFIRMED
CLASS:PUBLIC
URL:https://www.golnetwork.com/game/v/40218/
X-MICROSOFT-CDO-BUSYSTATUS:BUSY
X-MICROSOFT-CDO-IMPORTANCE:1
END:VEVENT
BEGIN:VEVENT
UID:g4529@games.golnetwork.com
LOCATION:Monarch Park Stadium - Field 1
GEO:43.6792789;-79.3234873
CREATED:20131023T032632Z
DTSTART:20131113T040000Z
DTEND:20131113T050000Z
DTSTAMP:20260419T151617Z
SUMMARY:Headhunters FC vs. Scarbcelona
DESCRIPTION:Scarbcelona vs. Headhunters FCPlus d'info : #41
X-ALT-DESC;FMTTYPE=text/html:<!DOCTYPE HTML PUBLIC "-//W3C//DTD HTML 3.2//E
	N">\n<HTML>\n<HEAD>\n<TITLE></TITLE>\n</HEAD>\n<BODY>\n<h3>Scarbcelona vs. 
	Headhunters FC</h3>Plus d'info : <a href="https://www.golnetwork.com/game/v
	/40221/">#41</a>\n\n</BODY>\n</HTML>
STATUS:CONFIRMED
CLASS:PUBLIC
URL:https://www.golnetwork.com/game/v/40221/
X-MICROSOFT-CDO-BUSYSTATUS:BUSY
X-MICROSOFT-CDO-IMPORTANCE:1
END:VEVENT
BEGIN:VEVENT
UID:g4527@games.golnetwork.com
LOCATION:Monarch Park Stadium - Field 2
GEO:43.6792789;-79.3234873
CREATED:20131023T032632Z
DTSTART:20131113T040000Z
DTEND:20131113T050000Z
DTSTAMP:20260419T151617Z
SUMMARY:Hardly Athletic vs. XTSC Park Rangers
DESCRIPTION:XTSC Park Rangers vs. Hardly AthleticPlus d'info : #42
X-ALT-DESC;FMTTYPE=text/html:<!DOCTYPE HTML PUBLIC "-//W3C//DTD HTML 3.2//E
	N">\n<HTML>\n<HEAD>\n<TITLE></TITLE>\n</HEAD>\n<BODY>\n<h3>XTSC Park Ranger
	s vs. Hardly Athletic</h3>Plus d'info : <a href="https://www.golnetwork.com
	/game/v/40220/">#42</a>\n\n</BODY>\n</HTML>
STATUS:CONFIRMED
CLASS:PUBLIC
URL:https://www.golnetwork.com/game/v/40220/
X-MICROSOFT-CDO-BUSYSTATUS:BUSY
X-MICROSOFT-CDO-IMPORTANCE:1
END:VEVENT
BEGIN:VEVENT
UID:g452d@games.golnetwork.com
LOCATION:Monarch Park Stadium - Field 1
GEO:43.6792789;-79.3234873
CREATED:20131023T032632Z
DTSTART:20131120T030000Z
DTEND:20131120T040000Z
DTSTAMP:20260419T151617Z
SUMMARY:Hardly Athletic vs. Marketwired FC
DESCRIPTION:Marketwired FC vs. Hardly AthleticPlus d'info : #76
X-ALT-DESC;FMTTYPE=text/html:<!DOCTYPE HTML PUBLIC "-//W3C//DTD HTML 3.2//E
	N">\n<HTML>\n<HEAD>\n<TITLE></TITLE>\n</HEAD>\n<BODY>\n<h3>Marketwired FC v
	s. Hardly Athletic</h3>Plus d'info : <a href="https://www.golnetwork.com/ga
	me/v/40223/">#76</a>\n\n</BODY>\n</HTML>
STATUS:CONFIRMED
CLASS:PUBLIC
URL:https://www.golnetwork.com/game/v/40223/
X-MICROSOFT-CDO-BUSYSTATUS:BUSY
X-MICROSOFT-CDO-IMPORTANCE:1
END:VEVENT
BEGIN:VEVENT
UID:g452b@games.golnetwork.com
LOCATION:Monarch Park Stadium - Field 2
GEO:43.6792789;-79.3234873
CREATED:20131023T032632Z
DTSTART:20131120T030000Z
DTEND:20131120T040000Z
DTSTAMP:20260419T151617Z
SUMMARY:Headhunters FC vs. Who Are ya FC
DESCRIPTION:Who Are ya FC vs. Headhunters FCPlus d'info : #77
X-ALT-DESC;FMTTYPE=text/html:<!DOCTYPE HTML PUBLIC "-//W3C//DTD HTML 3.2//E
	N">\n<HTML>\n<HEAD>\n<TITLE></TITLE>\n</HEAD>\n<BODY>\n<h3>Who Are ya FC vs
	. Headhunters FC</h3>Plus d'info : <a href="https://www.golnetwork.com/game
	/v/40222/">#77</a>\n\n</BODY>\n</HTML>
STATUS:CONFIRMED
CLASS:PUBLIC
URL:https://www.golnetwork.com/game/v/40222/
X-MICROSOFT-CDO-BUSYSTATUS:BUSY
X-MICROSOFT-CDO-IMPORTANCE:1
END:VEVENT
BEGIN:VEVENT
UID:g452h@games.golnetwork.com
LOCATION:Monarch Park Stadium - Field 1
GEO:43.6792789;-79.3234873
CREATED:20131023T032632Z
DTSTART:20131120T040000Z
DTEND:20131120T050000Z
DTSTAMP:20260419T151617Z
SUMMARY:Scarbcelona vs. XTSC Park Rangers
DESCRIPTION:XTSC Park Rangers vs. ScarbcelonaPlus d'info : #81
X-ALT-DESC;FMTTYPE=text/html:<!DOCTYPE HTML PUBLIC "-//W3C//DTD HTML 3.2//E
	N">\n<HTML>\n<HEAD>\n<TITLE></TITLE>\n</HEAD>\n<BODY>\n<h3>XTSC Park Ranger
	s vs. Scarbcelona</h3>Plus d'info : <a href="https://www.golnetwork.com/gam
	e/v/40225/">#81</a>\n\n</BODY>\n</HTML>
STATUS:CONFIRMED
CLASS:PUBLIC
URL:https://www.golnetwork.com/game/v/40225/
X-MICROSOFT-CDO-BUSYSTATUS:BUSY
X-MICROSOFT-CDO-IMPORTANCE:1
END:VEVENT
BEGIN:VEVENT
UID:g452f@games.golnetwork.com
LOCATION:Monarch Park Stadium - Field 2
GEO:43.6792789;-79.3234873
CREATED:20131023T032632Z
DTSTART:20131120T040000Z
DTEND:20131120T050000Z
DTSTAMP:20260419T151617Z
SUMMARY:Purple Drank vs. Arup Troubadors
DESCRIPTION:Arup Troubadors vs. Purple DrankPlus d'info : #82
X-ALT-DESC;FMTTYPE=text/html:<!DOCTYPE HTML PUBLIC "-//W3C//DTD HTML 3.2//E
	N">\n<HTML>\n<HEAD>\n<TITLE></TITLE>\n</HEAD>\n<BODY>\n<h3>Arup Troubadors 
	vs. Purple Drank</h3>Plus d'info : <a href="https://www.golnetwork.com/game
	/v/40224/">#82</a>\n\n</BODY>\n</HTML>
STATUS:CONFIRMED
CLASS:PUBLIC
URL:https://www.golnetwork.com/game/v/40224/
X-MICROSOFT-CDO-BUSYSTATUS:BUSY
X-MICROSOFT-CDO-IMPORTANCE:1
END:VEVENT
BEGIN:VEVENT
UID:g452l@games.golnetwork.com
LOCATION:Monarch Park Stadium - Field 1
GEO:43.6792789;-79.3234873
CREATED:20131023T032632Z
DTSTART:20131127T030000Z
DTEND:20131127T040000Z
DTSTAMP:20260419T151617Z
SUMMARY:Headhunters FC vs. Purple Drank
DESCRIPTION:Purple Drank vs. Headhunters FCPlus d'info : #116
X-ALT-DESC;FMTTYPE=text/html:<!DOCTYPE HTML PUBLIC "-//W3C//DTD HTML 3.2//E
	N">\n<HTML>\n<HEAD>\n<TITLE></TITLE>\n</HEAD>\n<BODY>\n<h3>Purple Drank vs.
	 Headhunters FC</h3>Plus d'info : <a href="https://www.golnetwork.com/game/
	v/40227/">#116</a>\n\n</BODY>\n</HTML>
STATUS:CONFIRMED
CLASS:PUBLIC
URL:https://www.golnetwork.com/game/v/40227/
X-MICROSOFT-CDO-BUSYSTATUS:BUSY
X-MICROSOFT-CDO-IMPORTANCE:1
END:VEVENT
BEGIN:VEVENT
UID:g452j@games.golnetwork.com
LOCATION:Monarch Park Stadium - Field 2
GEO:43.6792789;-79.3234873
CREATED:20131023T032632Z
DTSTART:20131127T030000Z
DTEND:20131127T040000Z
DTSTAMP:20260419T151617Z
SUMMARY:Arup Troubadors vs. Hardly Athletic
DESCRIPTION:Hardly Athletic vs. Arup TroubadorsPlus d'info : #117
X-ALT-DESC;FMTTYPE=text/html:<!DOCTYPE HTML PUBLIC "-//W3C//DTD HTML 3.2//E
	N">\n<HTML>\n<HEAD>\n<TITLE></TITLE>\n</HEAD>\n<BODY>\n<h3>Hardly Athletic 
	vs. Arup Troubadors</h3>Plus d'info : <a href="https://www.golnetwork.com/g
	ame/v/40226/">#117</a>\n\n</BODY>\n</HTML>
STATUS:CONFIRMED
CLASS:PUBLIC
URL:https://www.golnetwork.com/game/v/40226/
X-MICROSOFT-CDO-BUSYSTATUS:BUSY
X-MICROSOFT-CDO-IMPORTANCE:1
END:VEVENT
BEGIN:VEVENT
UID:g452p@games.golnetwork.com
LOCATION:Monarch Park Stadium - Field 1
GEO:43.6792789;-79.3234873
CREATED:20131023T032632Z
DTSTART:20131127T040000Z
DTEND:20131127T050000Z
DTSTAMP:20260419T151617Z
SUMMARY:XTSC Park Rangers vs. Who Are ya FC
DESCRIPTION:Who Are ya FC vs. XTSC Park RangersPlus d'info : #121
X-ALT-DESC;FMTTYPE=text/html:<!DOCTYPE HTML PUBLIC "-//W3C//DTD HTML 3.2//E
	N">\n<HTML>\n<HEAD>\n<TITLE></TITLE>\n</HEAD>\n<BODY>\n<h3>Who Are ya FC vs
	. XTSC Park Rangers</h3>Plus d'info : <a href="https://www.golnetwork.com/g
	ame/v/40229/">#121</a>\n\n</BODY>\n</HTML>
STATUS:CONFIRMED
CLASS:PUBLIC
URL:https://www.golnetwork.com/game/v/40229/
X-MICROSOFT-CDO-BUSYSTATUS:BUSY
X-MICROSOFT-CDO-IMPORTANCE:1
END:VEVENT
BEGIN:VEVENT
UID:g452n@games.golnetwork.com
LOCATION:Monarch Park Stadium - Field 2
GEO:43.6792789;-79.3234873
CREATED:20131023T032632Z
DTSTART:20131127T040000Z
DTEND:20131127T050000Z
DTSTAMP:20260419T151617Z
SUMMARY:Scarbcelona vs. Marketwired FC
DESCRIPTION:Marketwired FC vs. ScarbcelonaPlus d'info : #122
X-ALT-DESC;FMTTYPE=text/html:<!DOCTYPE HTML PUBLIC "-//W3C//DTD HTML 3.2//E
	N">\n<HTML>\n<HEAD>\n<TITLE></TITLE>\n</HEAD>\n<BODY>\n<h3>Marketwired FC v
	s. Scarbcelona</h3>Plus d'info : <a href="https://www.golnetwork.com/game/v
	/40228/">#122</a>\n\n</BODY>\n</HTML>
STATUS:CONFIRMED
CLASS:PUBLIC
URL:https://www.golnetwork.com/game/v/40228/
X-MICROSOFT-CDO-BUSYSTATUS:BUSY
X-MICROSOFT-CDO-IMPORTANCE:1
END:VEVENT
BEGIN:VEVENT
UID:g4532@games.golnetwork.com
LOCATION:Monarch Park Stadium - Field 1
GEO:43.6792789;-79.3234873
CREATED:20131023T032632Z
DTSTART:20131204T030000Z
DTEND:20131204T040000Z
DTSTAMP:20260419T151617Z
SUMMARY:Scarbcelona vs. Hardly Athletic
DESCRIPTION:Hardly Athletic vs. ScarbcelonaPlus d'info : #157
X-ALT-DESC;FMTTYPE=text/html:<!DOCTYPE HTML PUBLIC "-//W3C//DTD HTML 3.2//E
	N">\n<HTML>\n<HEAD>\n<TITLE></TITLE>\n</HEAD>\n<BODY>\n<h3>Hardly Athletic 
	vs. Scarbcelona</h3>Plus d'info : <a href="https://www.golnetwork.com/game/
	v/40231/">#157</a>\n\n</BODY>\n</HTML>
STATUS:CONFIRMED
CLASS:PUBLIC
URL:https://www.golnetwork.com/game/v/40231/
X-MICROSOFT-CDO-BUSYSTATUS:BUSY
X-MICROSOFT-CDO-IMPORTANCE:1
END:VEVENT
BEGIN:VEVENT
UID:g4530@games.golnetwork.com
LOCATION:Monarch Park Stadium - Field 2
GEO:43.6792789;-79.3234873
CREATED:20131023T032632Z
DTSTART:20131204T030000Z
DTEND:20131204T040000Z
DTSTAMP:20260419T151617Z
SUMMARY:Headhunters FC vs. Arup Troubadors
DESCRIPTION:Arup Troubadors vs. Headhunters FCPlus d'info : #158
X-ALT-DESC;FMTTYPE=text/html:<!DOCTYPE HTML PUBLIC "-//W3C//DTD HTML 3.2//E
	N">\n<HTML>\n<HEAD>\n<TITLE></TITLE>\n</HEAD>\n<BODY>\n<h3>Arup Troubadors 
	vs. Headhunters FC</h3>Plus d'info : <a href="https://www.golnetwork.com/ga
	me/v/40230/">#158</a>\n\n</BODY>\n</HTML>
STATUS:CONFIRMED
CLASS:PUBLIC
URL:https://www.golnetwork.com/game/v/40230/
X-MICROSOFT-CDO-BUSYSTATUS:BUSY
X-MICROSOFT-CDO-IMPORTANCE:1
END:VEVENT
BEGIN:VEVENT
UID:g4536@games.golnetwork.com
LOCATION:Monarch Park Stadium - Field 1
GEO:43.6792789;-79.3234873
CREATED:20131023T032632Z
DTSTART:20131204T040000Z
DTEND:20131204T050000Z
DTSTAMP:20260419T151617Z
SUMMARY:Who Are ya FC vs. Marketwired FC
DESCRIPTION:Marketwired FC vs. Who Are ya FCPlus d'info : #162
X-ALT-DESC;FMTTYPE=text/html:<!DOCTYPE HTML PUBLIC "-//W3C//DTD HTML 3.2//E
	N">\n<HTML>\n<HEAD>\n<TITLE></TITLE>\n</HEAD>\n<BODY>\n<h3>Marketwired FC v
	s. Who Are ya FC</h3>Plus d'info : <a href="https://www.golnetwork.com/game
	/v/40233/">#162</a>\n\n</BODY>\n</HTML>
STATUS:CONFIRMED
CLASS:PUBLIC
URL:https://www.golnetwork.com/game/v/40233/
X-MICROSOFT-CDO-BUSYSTATUS:BUSY
X-MICROSOFT-CDO-IMPORTANCE:1
END:VEVENT
BEGIN:VEVENT
UID:g4534@games.golnetwork.com
LOCATION:Monarch Park Stadium - Field 2
GEO:43.6792789;-79.3234873
CREATED:20131023T032632Z
DTSTART:20131204T040000Z
DTEND:20131204T050000Z
DTSTAMP:20260419T151617Z
SUMMARY:XTSC Park Rangers vs. Purple Drank
DESCRIPTION:Purple Drank vs. XTSC Park RangersPlus d'info : #163
X-ALT-DESC;FMTTYPE=text/html:<!DOCTYPE HTML PUBLIC "-//W3C//DTD HTML 3.2//E
	N">\n<HTML>\n<HEAD>\n<TITLE></TITLE>\n</HEAD>\n<BODY>\n<h3>Purple Drank vs.
	 XTSC Park Rangers</h3>Plus d'info : <a href="https://www.golnetwork.com/ga
	me/v/40232/">#163</a>\n\n</BODY>\n</HTML>
STATUS:CONFIRMED
CLASS:PUBLIC
URL:https://www.golnetwork.com/game/v/40232/
X-MICROSOFT-CDO-BUSYSTATUS:BUSY
X-MICROSOFT-CDO-IMPORTANCE:1
END:VEVENT
BEGIN:VEVENT
UID:g453a@games.golnetwork.com
LOCATION:Monarch Park Stadium - Field 1
GEO:43.6792789;-79.3234873
CREATED:20131023T032632Z
DTSTART:20131211T030000Z
DTEND:20131211T040000Z
DTSTAMP:20260419T151617Z
SUMMARY:Headhunters FC vs. Marketwired FC
DESCRIPTION:Marketwired FC vs. Headhunters FCPlus d'info : #198
X-ALT-DESC;FMTTYPE=text/html:<!DOCTYPE HTML PUBLIC "-//W3C//DTD HTML 3.2//E
	N">\n<HTML>\n<HEAD>\n<TITLE></TITLE>\n</HEAD>\n<BODY>\n<h3>Marketwired FC v
	s. Headhunters FC</h3>Plus d'info : <a href="https://www.golnetwork.com/gam
	e/v/40235/">#198</a>\n\n</BODY>\n</HTML>
STATUS:CONFIRMED
CLASS:PUBLIC
URL:https://www.golnetwork.com/game/v/40235/
X-MICROSOFT-CDO-BUSYSTATUS:BUSY
X-MICROSOFT-CDO-IMPORTANCE:1
END:VEVENT
BEGIN:VEVENT
UID:g4538@games.golnetwork.com
LOCATION:Monarch Park Stadium - Field 2
GEO:43.6792789;-79.3234873
CREATED:20131023T032632Z
DTSTART:20131211T030000Z
DTEND:20131211T040000Z
DTSTAMP:20260419T151617Z
SUMMARY:Purple Drank vs. Scarbcelona
DESCRIPTION:Scarbcelona vs. Purple DrankPlus d'info : #199
X-ALT-DESC;FMTTYPE=text/html:<!DOCTYPE HTML PUBLIC "-//W3C//DTD HTML 3.2//E
	N">\n<HTML>\n<HEAD>\n<TITLE></TITLE>\n</HEAD>\n<BODY>\n<h3>Scarbcelona vs. 
	Purple Drank</h3>Plus d'info : <a href="https://www.golnetwork.com/game/v/4
	0234/">#199</a>\n\n</BODY>\n</HTML>
STATUS:CONFIRMED
CLASS:PUBLIC
URL:https://www.golnetwork.com/game/v/40234/
X-MICROSOFT-CDO-BUSYSTATUS:BUSY
X-MICROSOFT-CDO-IMPORTANCE:1
END:VEVENT
BEGIN:VEVENT
UID:g453e@games.golnetwork.com
LOCATION:Monarch Park Stadium - Field 1
GEO:43.6792789;-79.3234873
CREATED:20131023T032632Z
DTSTART:20131211T040000Z
DTEND:20131211T050000Z
DTSTAMP:20260419T151617Z
SUMMARY:XTSC Park Rangers vs. Who Are ya FC
DESCRIPTION:Who Are ya FC vs. XTSC Park RangersPlus d'info : #203
X-ALT-DESC;FMTTYPE=text/html:<!DOCTYPE HTML PUBLIC "-//W3C//DTD HTML 3.2//E
	N">\n<HTML>\n<HEAD>\n<TITLE></TITLE>\n</HEAD>\n<BODY>\n<h3>Who Are ya FC vs
	. XTSC Park Rangers</h3>Plus d'info : <a href="https://www.golnetwork.com/g
	ame/v/40237/">#203</a>\n\n</BODY>\n</HTML>
STATUS:CONFIRMED
CLASS:PUBLIC
URL:https://www.golnetwork.com/game/v/40237/
X-MICROSOFT-CDO-BUSYSTATUS:BUSY
X-MICROSOFT-CDO-IMPORTANCE:1
END:VEVENT
BEGIN:VEVENT
UID:g453c@games.golnetwork.com
LOCATION:Monarch Park Stadium - Field 2
GEO:43.6792789;-79.3234873
CREATED:20131023T032632Z
DTSTART:20131211T040000Z
DTEND:20131211T050000Z
DTSTAMP:20260419T151617Z
SUMMARY:Hardly Athletic vs. Arup Troubadors
DESCRIPTION:Arup Troubadors vs. Hardly AthleticPlus d'info : #204
X-ALT-DESC;FMTTYPE=text/html:<!DOCTYPE HTML PUBLIC "-//W3C//DTD HTML 3.2//E
	N">\n<HTML>\n<HEAD>\n<TITLE></TITLE>\n</HEAD>\n<BODY>\n<h3>Arup Troubadors 
	vs. Hardly Athletic</h3>Plus d'info : <a href="https://www.golnetwork.com/g
	ame/v/40236/">#204</a>\n\n</BODY>\n</HTML>
STATUS:CONFIRMED
CLASS:PUBLIC
URL:https://www.golnetwork.com/game/v/40236/
X-MICROSOFT-CDO-BUSYSTATUS:BUSY
X-MICROSOFT-CDO-IMPORTANCE:1
END:VEVENT
BEGIN:VEVENT
UID:g453i@games.golnetwork.com
LOCATION:Monarch Park Stadium - Field 1
GEO:43.6792789;-79.3234873
CREATED:20131023T032910Z
DTSTART:20131218T030000Z
DTEND:20131218T040000Z
DTSTAMP:20260419T151617Z
SUMMARY:Marketwired FC vs. Purple Drank
DESCRIPTION:Purple Drank vs. Marketwired FCPlus d'info : #239
X-ALT-DESC;FMTTYPE=text/html:<!DOCTYPE HTML PUBLIC "-//W3C//DTD HTML 3.2//E
	N">\n<HTML>\n<HEAD>\n<TITLE></TITLE>\n</HEAD>\n<BODY>\n<h3>Purple Drank vs.
	 Marketwired FC</h3>Plus d'info : <a href="https://www.golnetwork.com/game/
	v/40239/">#239</a>\n\n</BODY>\n</HTML>
STATUS:CONFIRMED
CLASS:PUBLIC
URL:https://www.golnetwork.com/game/v/40239/
X-MICROSOFT-CDO-BUSYSTATUS:BUSY
X-MICROSOFT-CDO-IMPORTANCE:1
END:VEVENT
BEGIN:VEVENT
UID:g453g@games.golnetwork.com
LOCATION:Monarch Park Stadium - Field 2
GEO:43.6792789;-79.3234873
CREATED:20131023T032903Z
DTSTART:20131218T030000Z
DTEND:20131218T040000Z
DTSTAMP:20260419T151617Z
SUMMARY:Hardly Athletic vs. Who Are ya FC
DESCRIPTION:Who Are ya FC vs. Hardly AthleticPlus d'info : #240
X-ALT-DESC;FMTTYPE=text/html:<!DOCTYPE HTML PUBLIC "-//W3C//DTD HTML 3.2//E
	N">\n<HTML>\n<HEAD>\n<TITLE></TITLE>\n</HEAD>\n<BODY>\n<h3>Who Are ya FC vs
	. Hardly Athletic</h3>Plus d'info : <a href="https://www.golnetwork.com/gam
	e/v/40238/">#240</a>\n\n</BODY>\n</HTML>
STATUS:CONFIRMED
CLASS:PUBLIC
URL:https://www.golnetwork.com/game/v/40238/
X-MICROSOFT-CDO-BUSYSTATUS:BUSY
X-MICROSOFT-CDO-IMPORTANCE:1
END:VEVENT
BEGIN:VEVENT
UID:g453m@games.golnetwork.com
LOCATION:Monarch Park Stadium - Field 1
GEO:43.6792789;-79.3234873
CREATED:20131023T032922Z
DTSTART:20131218T040000Z
DTEND:20131218T050000Z
DTSTAMP:20260419T151617Z
SUMMARY:Arup Troubadors vs. Scarbcelona
DESCRIPTION:Scarbcelona vs. Arup TroubadorsPlus d'info : #244
X-ALT-DESC;FMTTYPE=text/html:<!DOCTYPE HTML PUBLIC "-//W3C//DTD HTML 3.2//E
	N">\n<HTML>\n<HEAD>\n<TITLE></TITLE>\n</HEAD>\n<BODY>\n<h3>Scarbcelona vs. 
	Arup Troubadors</h3>Plus d'info : <a href="https://www.golnetwork.com/game/
	v/40241/">#244</a>\n\n</BODY>\n</HTML>
STATUS:CONFIRMED
CLASS:PUBLIC
URL:https://www.golnetwork.com/game/v/40241/
X-MICROSOFT-CDO-BUSYSTATUS:BUSY
X-MICROSOFT-CDO-IMPORTANCE:1
END:VEVENT
BEGIN:VEVENT
UID:g453k@games.golnetwork.com
LOCATION:Monarch Park Stadium - Field 2
GEO:43.6792789;-79.3234873
CREATED:20131023T032918Z
DTSTART:20131218T040000Z
DTEND:20131218T050000Z
DTSTAMP:20260419T151617Z
SUMMARY:Headhunters FC vs. XTSC Park Rangers
DESCRIPTION:XTSC Park Rangers vs. Headhunters FCPlus d'info : #245
X-ALT-DESC;FMTTYPE=text/html:<!DOCTYPE HTML PUBLIC "-//W3C//DTD HTML 3.2//E
	N">\n<HTML>\n<HEAD>\n<TITLE></TITLE>\n</HEAD>\n<BODY>\n<h3>XTSC Park Ranger
	s vs. Headhunters FC</h3>Plus d'info : <a href="https://www.golnetwork.com/
	game/v/40240/">#245</a>\n\n</BODY>\n</HTML>
STATUS:CONFIRMED
CLASS:PUBLIC
URL:https://www.golnetwork.com/game/v/40240/
X-MICROSOFT-CDO-BUSYSTATUS:BUSY
X-MICROSOFT-CDO-IMPORTANCE:1
END:VEVENT
END:VCALENDAR
