BEGIN:VCALENDAR
PRODID:-//gdesolutions.com//MV Framework 1.0.0.1607 Calendar//EN
VERSION:2.0
METHOD:PUBLISH
CALSCALE:GREGORIAN
BEGIN:VEVENT
UID:g45od@games.golnetwork.com
LOCATION:Lamport Stadium - Field 3
GEO:43.6390028;-79.4232104
CREATED:20131105T213107Z
DTSTART:20131113T020000Z
DTEND:20131113T030000Z
DTSTAMP:20260422T091442Z
SUMMARY:Something FC (White) vs. The Commonwealth
DESCRIPTION:The Commonwealth vs. Something FC (White)Plus d'info : #32
X-ALT-DESC;FMTTYPE=text/html:<!DOCTYPE HTML PUBLIC "-//W3C//DTD HTML 3.2//E
	N">\n<HTML>\n<HEAD>\n<TITLE></TITLE>\n</HEAD>\n<BODY>\n<h3>The Commonwealth
	 vs. Something FC (White)</h3>Plus d'info : <a href="https://www.golnetwork
	.com/game/v/40520/">#32</a>\n\n</BODY>\n</HTML>
STATUS:CONFIRMED
CLASS:PUBLIC
URL:https://www.golnetwork.com/game/v/40520/
X-MICROSOFT-CDO-BUSYSTATUS:BUSY
X-MICROSOFT-CDO-IMPORTANCE:1
END:VEVENT
BEGIN:VEVENT
UID:g45of@games.golnetwork.com
LOCATION:Lamport Stadium - Field 3
GEO:43.6390028;-79.4232104
CREATED:20131105T213107Z
DTSTART:20131113T030000Z
DTEND:20131113T040000Z
DTSTAMP:20260422T091442Z
SUMMARY:Goal Goal Power Rangers vs. Galacticos FC
DESCRIPTION:Galacticos FC vs. Goal Goal Power RangersPlus d'info : #35
X-ALT-DESC;FMTTYPE=text/html:<!DOCTYPE HTML PUBLIC "-//W3C//DTD HTML 3.2//E
	N">\n<HTML>\n<HEAD>\n<TITLE></TITLE>\n</HEAD>\n<BODY>\n<h3>Galacticos FC vs
	. Goal Goal Power Rangers</h3>Plus d'info : <a href="https://www.golnetwork
	.com/game/v/40521/">#35</a>\n\n</BODY>\n</HTML>
STATUS:CONFIRMED
CLASS:PUBLIC
URL:https://www.golnetwork.com/game/v/40521/
X-MICROSOFT-CDO-BUSYSTATUS:BUSY
X-MICROSOFT-CDO-IMPORTANCE:1
END:VEVENT
BEGIN:VEVENT
UID:g45oh@games.golnetwork.com
LOCATION:Lamport Stadium - Field 3
GEO:43.6390028;-79.4232104
CREATED:20131105T213107Z
DTSTART:20131113T040000Z
DTEND:20131113T050000Z
DTSTAMP:20260422T091442Z
SUMMARY:Black and Blue vs. Polk High
DESCRIPTION:Polk High vs. Black and BluePlus d'info : #40
X-ALT-DESC;FMTTYPE=text/html:<!DOCTYPE HTML PUBLIC "-//W3C//DTD HTML 3.2//E
	N">\n<HTML>\n<HEAD>\n<TITLE></TITLE>\n</HEAD>\n<BODY>\n<h3>Polk High vs. Bl
	ack and Blue</h3>Plus d'info : <a href="https://www.golnetwork.com/game/v/4
	0522/">#40</a>\n\n</BODY>\n</HTML>
STATUS:CONFIRMED
CLASS:PUBLIC
URL:https://www.golnetwork.com/game/v/40522/
X-MICROSOFT-CDO-BUSYSTATUS:BUSY
X-MICROSOFT-CDO-IMPORTANCE:1
END:VEVENT
BEGIN:VEVENT
UID:g45oj@games.golnetwork.com
LOCATION:Lamport Stadium - Field 3
GEO:43.6390028;-79.4232104
CREATED:20131105T213107Z
DTSTART:20131120T020000Z
DTEND:20131120T030000Z
DTSTAMP:20260422T091442Z
SUMMARY:Goal Goal Power Rangers vs. Black and Blue
DESCRIPTION:Black and Blue vs. Goal Goal Power RangersPlus d'info : #72
X-ALT-DESC;FMTTYPE=text/html:<!DOCTYPE HTML PUBLIC "-//W3C//DTD HTML 3.2//E
	N">\n<HTML>\n<HEAD>\n<TITLE></TITLE>\n</HEAD>\n<BODY>\n<h3>Black and Blue v
	s. Goal Goal Power Rangers</h3>Plus d'info : <a href="https://www.golnetwor
	k.com/game/v/40523/">#72</a>\n\n</BODY>\n</HTML>
STATUS:CONFIRMED
CLASS:PUBLIC
URL:https://www.golnetwork.com/game/v/40523/
X-MICROSOFT-CDO-BUSYSTATUS:BUSY
X-MICROSOFT-CDO-IMPORTANCE:1
END:VEVENT
BEGIN:VEVENT
UID:g45ol@games.golnetwork.com
LOCATION:Lamport Stadium - Field 3
GEO:43.6390028;-79.4232104
CREATED:20131105T213107Z
DTSTART:20131120T030000Z
DTEND:20131120T040000Z
DTSTAMP:20260422T091442Z
SUMMARY:The Commonwealth vs. Polk High
DESCRIPTION:Polk High vs. The CommonwealthPlus d'info : #75
X-ALT-DESC;FMTTYPE=text/html:<!DOCTYPE HTML PUBLIC "-//W3C//DTD HTML 3.2//E
	N">\n<HTML>\n<HEAD>\n<TITLE></TITLE>\n</HEAD>\n<BODY>\n<h3>Polk High vs. Th
	e Commonwealth</h3>Plus d'info : <a href="https://www.golnetwork.com/game/v
	/40524/">#75</a>\n\n</BODY>\n</HTML>
STATUS:CONFIRMED
CLASS:PUBLIC
URL:https://www.golnetwork.com/game/v/40524/
X-MICROSOFT-CDO-BUSYSTATUS:BUSY
X-MICROSOFT-CDO-IMPORTANCE:1
END:VEVENT
BEGIN:VEVENT
UID:g45on@games.golnetwork.com
LOCATION:Lamport Stadium - Field 3
GEO:43.6390028;-79.4232104
CREATED:20131105T213107Z
DTSTART:20131120T040000Z
DTEND:20131120T050000Z
DTSTAMP:20260422T091442Z
SUMMARY:Something FC (White) vs. Galacticos FC
DESCRIPTION:Galacticos FC vs. Something FC (White)Plus d'info : #80
X-ALT-DESC;FMTTYPE=text/html:<!DOCTYPE HTML PUBLIC "-//W3C//DTD HTML 3.2//E
	N">\n<HTML>\n<HEAD>\n<TITLE></TITLE>\n</HEAD>\n<BODY>\n<h3>Galacticos FC vs
	. Something FC (White)</h3>Plus d'info : <a href="https://www.golnetwork.co
	m/game/v/40525/">#80</a>\n\n</BODY>\n</HTML>
STATUS:CONFIRMED
CLASS:PUBLIC
URL:https://www.golnetwork.com/game/v/40525/
X-MICROSOFT-CDO-BUSYSTATUS:BUSY
X-MICROSOFT-CDO-IMPORTANCE:1
END:VEVENT
BEGIN:VEVENT
UID:g45op@games.golnetwork.com
LOCATION:Lamport Stadium - Field 3
GEO:43.6390028;-79.4232104
CREATED:20131105T213107Z
DTSTART:20131127T020000Z
DTEND:20131127T030000Z
DTSTAMP:20260422T091442Z
SUMMARY:Galacticos FC vs. Polk High
DESCRIPTION:Polk High vs. Galacticos FCPlus d'info : #112
X-ALT-DESC;FMTTYPE=text/html:<!DOCTYPE HTML PUBLIC "-//W3C//DTD HTML 3.2//E
	N">\n<HTML>\n<HEAD>\n<TITLE></TITLE>\n</HEAD>\n<BODY>\n<h3>Polk High vs. Ga
	lacticos FC</h3>Plus d'info : <a href="https://www.golnetwork.com/game/v/40
	526/">#112</a>\n\n</BODY>\n</HTML>
STATUS:CONFIRMED
CLASS:PUBLIC
URL:https://www.golnetwork.com/game/v/40526/
X-MICROSOFT-CDO-BUSYSTATUS:BUSY
X-MICROSOFT-CDO-IMPORTANCE:1
END:VEVENT
BEGIN:VEVENT
UID:g45p0@games.golnetwork.com
LOCATION:Lamport Stadium - Field 3
GEO:43.6390028;-79.4232104
CREATED:20131105T213107Z
DTSTART:20131127T030000Z
DTEND:20131127T040000Z
DTSTAMP:20260422T091442Z
SUMMARY:Black and Blue vs. The Commonwealth
DESCRIPTION:The Commonwealth vs. Black and BluePlus d'info : #115
X-ALT-DESC;FMTTYPE=text/html:<!DOCTYPE HTML PUBLIC "-//W3C//DTD HTML 3.2//E
	N">\n<HTML>\n<HEAD>\n<TITLE></TITLE>\n</HEAD>\n<BODY>\n<h3>The Commonwealth
	 vs. Black and Blue</h3>Plus d'info : <a href="https://www.golnetwork.com/g
	ame/v/40527/">#115</a>\n\n</BODY>\n</HTML>
STATUS:CONFIRMED
CLASS:PUBLIC
URL:https://www.golnetwork.com/game/v/40527/
X-MICROSOFT-CDO-BUSYSTATUS:BUSY
X-MICROSOFT-CDO-IMPORTANCE:1
END:VEVENT
BEGIN:VEVENT
UID:g45p2@games.golnetwork.com
LOCATION:Lamport Stadium - Field 3
GEO:43.6390028;-79.4232104
CREATED:20131105T213107Z
DTSTART:20131127T040000Z
DTEND:20131127T050000Z
DTSTAMP:20260422T091442Z
SUMMARY:Something FC (White) vs. Goal Goal Power Rangers
DESCRIPTION:Goal Goal Power Rangers vs. Something FC (White)Plus d'info : #
	120
X-ALT-DESC;FMTTYPE=text/html:<!DOCTYPE HTML PUBLIC "-//W3C//DTD HTML 3.2//E
	N">\n<HTML>\n<HEAD>\n<TITLE></TITLE>\n</HEAD>\n<BODY>\n<h3>Goal Goal Power 
	Rangers vs. Something FC (White)</h3>Plus d'info : <a href="https://www.gol
	network.com/game/v/40528/">#120</a>\n\n</BODY>\n</HTML>
STATUS:CONFIRMED
CLASS:PUBLIC
URL:https://www.golnetwork.com/game/v/40528/
X-MICROSOFT-CDO-BUSYSTATUS:BUSY
X-MICROSOFT-CDO-IMPORTANCE:1
END:VEVENT
BEGIN:VEVENT
UID:g45p4@games.golnetwork.com
LOCATION:Lamport Stadium - Field 3
GEO:43.6390028;-79.4232104
CREATED:20131105T213107Z
DTSTART:20131204T020000Z
DTEND:20131204T030000Z
DTSTAMP:20260422T091442Z
SUMMARY:Something FC (White) vs. Black and Blue
DESCRIPTION:Black and Blue vs. Something FC (White)Plus d'info : #153
X-ALT-DESC;FMTTYPE=text/html:<!DOCTYPE HTML PUBLIC "-//W3C//DTD HTML 3.2//E
	N">\n<HTML>\n<HEAD>\n<TITLE></TITLE>\n</HEAD>\n<BODY>\n<h3>Black and Blue v
	s. Something FC (White)</h3>Plus d'info : <a href="https://www.golnetwork.c
	om/game/v/40529/">#153</a>\n\n</BODY>\n</HTML>
STATUS:CONFIRMED
CLASS:PUBLIC
URL:https://www.golnetwork.com/game/v/40529/
X-MICROSOFT-CDO-BUSYSTATUS:BUSY
X-MICROSOFT-CDO-IMPORTANCE:1
END:VEVENT
BEGIN:VEVENT
UID:g45p6@games.golnetwork.com
LOCATION:Lamport Stadium - Field 3
GEO:43.6390028;-79.4232104
CREATED:20131105T213107Z
DTSTART:20131204T030000Z
DTEND:20131204T040000Z
DTSTAMP:20260422T091442Z
SUMMARY:Galacticos FC vs. The Commonwealth
DESCRIPTION:The Commonwealth vs. Galacticos FCPlus d'info : #156
X-ALT-DESC;FMTTYPE=text/html:<!DOCTYPE HTML PUBLIC "-//W3C//DTD HTML 3.2//E
	N">\n<HTML>\n<HEAD>\n<TITLE></TITLE>\n</HEAD>\n<BODY>\n<h3>The Commonwealth
	 vs. Galacticos FC</h3>Plus d'info : <a href="https://www.golnetwork.com/ga
	me/v/40530/">#156</a>\n\n</BODY>\n</HTML>
STATUS:CONFIRMED
CLASS:PUBLIC
URL:https://www.golnetwork.com/game/v/40530/
X-MICROSOFT-CDO-BUSYSTATUS:BUSY
X-MICROSOFT-CDO-IMPORTANCE:1
END:VEVENT
BEGIN:VEVENT
UID:g45p8@games.golnetwork.com
LOCATION:Lamport Stadium - Field 3
GEO:43.6390028;-79.4232104
CREATED:20131105T213107Z
DTSTART:20131204T040000Z
DTEND:20131204T050000Z
DTSTAMP:20260422T091442Z
SUMMARY:Polk High vs. Goal Goal Power Rangers
DESCRIPTION:Goal Goal Power Rangers vs. Polk HighPlus d'info : #161
X-ALT-DESC;FMTTYPE=text/html:<!DOCTYPE HTML PUBLIC "-//W3C//DTD HTML 3.2//E
	N">\n<HTML>\n<HEAD>\n<TITLE></TITLE>\n</HEAD>\n<BODY>\n<h3>Goal Goal Power 
	Rangers vs. Polk High</h3>Plus d'info : <a href="https://www.golnetwork.com
	/game/v/40531/">#161</a>\n\n</BODY>\n</HTML>
STATUS:CONFIRMED
CLASS:PUBLIC
URL:https://www.golnetwork.com/game/v/40531/
X-MICROSOFT-CDO-BUSYSTATUS:BUSY
X-MICROSOFT-CDO-IMPORTANCE:1
END:VEVENT
BEGIN:VEVENT
UID:g45pa@games.golnetwork.com
LOCATION:Lamport Stadium - Field 3
GEO:43.6390028;-79.4232104
CREATED:20131105T213107Z
DTSTART:20131211T020000Z
DTEND:20131211T030000Z
DTSTAMP:20260422T091442Z
SUMMARY:Goal Goal Power Rangers vs. The Commonwealth
DESCRIPTION:The Commonwealth vs. Goal Goal Power RangersPlus d'info : #194
X-ALT-DESC;FMTTYPE=text/html:<!DOCTYPE HTML PUBLIC "-//W3C//DTD HTML 3.2//E
	N">\n<HTML>\n<HEAD>\n<TITLE></TITLE>\n</HEAD>\n<BODY>\n<h3>The Commonwealth
	 vs. Goal Goal Power Rangers</h3>Plus d'info : <a href="https://www.golnetw
	ork.com/game/v/40532/">#194</a>\n\n</BODY>\n</HTML>
STATUS:CONFIRMED
CLASS:PUBLIC
URL:https://www.golnetwork.com/game/v/40532/
X-MICROSOFT-CDO-BUSYSTATUS:BUSY
X-MICROSOFT-CDO-IMPORTANCE:1
END:VEVENT
BEGIN:VEVENT
UID:g45pc@games.golnetwork.com
LOCATION:Lamport Stadium - Field 3
GEO:43.6390028;-79.4232104
CREATED:20131105T213107Z
DTSTART:20131211T030000Z
DTEND:20131211T040000Z
DTSTAMP:20260422T091442Z
SUMMARY:Polk High vs. Something FC (White)
DESCRIPTION:Something FC (White) vs. Polk HighPlus d'info : #197
X-ALT-DESC;FMTTYPE=text/html:<!DOCTYPE HTML PUBLIC "-//W3C//DTD HTML 3.2//E
	N">\n<HTML>\n<HEAD>\n<TITLE></TITLE>\n</HEAD>\n<BODY>\n<h3>Something FC (Wh
	ite) vs. Polk High</h3>Plus d'info : <a href="https://www.golnetwork.com/ga
	me/v/40533/">#197</a>\n\n</BODY>\n</HTML>
STATUS:CONFIRMED
CLASS:PUBLIC
URL:https://www.golnetwork.com/game/v/40533/
X-MICROSOFT-CDO-BUSYSTATUS:BUSY
X-MICROSOFT-CDO-IMPORTANCE:1
END:VEVENT
BEGIN:VEVENT
UID:g45pe@games.golnetwork.com
LOCATION:Lamport Stadium - Field 3
GEO:43.6390028;-79.4232104
CREATED:20131105T213107Z
DTSTART:20131211T040000Z
DTEND:20131211T050000Z
DTSTAMP:20260422T091442Z
SUMMARY:Black and Blue vs. Galacticos FC
DESCRIPTION:Galacticos FC vs. Black and BluePlus d'info : #202
X-ALT-DESC;FMTTYPE=text/html:<!DOCTYPE HTML PUBLIC "-//W3C//DTD HTML 3.2//E
	N">\n<HTML>\n<HEAD>\n<TITLE></TITLE>\n</HEAD>\n<BODY>\n<h3>Galacticos FC vs
	. Black and Blue</h3>Plus d'info : <a href="https://www.golnetwork.com/game
	/v/40534/">#202</a>\n\n</BODY>\n</HTML>
STATUS:CONFIRMED
CLASS:PUBLIC
URL:https://www.golnetwork.com/game/v/40534/
X-MICROSOFT-CDO-BUSYSTATUS:BUSY
X-MICROSOFT-CDO-IMPORTANCE:1
END:VEVENT
BEGIN:VEVENT
UID:g45pg@games.golnetwork.com
LOCATION:Lamport Stadium - Field 3
GEO:43.6390028;-79.4232104
CREATED:20131105T213107Z
DTSTART:20131218T020000Z
DTEND:20131218T030000Z
DTSTAMP:20260422T091442Z
SUMMARY:Galacticos FC vs. Polk High
DESCRIPTION:Polk High vs. Galacticos FCPlus d'info : #235
X-ALT-DESC;FMTTYPE=text/html:<!DOCTYPE HTML PUBLIC "-//W3C//DTD HTML 3.2//E
	N">\n<HTML>\n<HEAD>\n<TITLE></TITLE>\n</HEAD>\n<BODY>\n<h3>Polk High vs. Ga
	lacticos FC</h3>Plus d'info : <a href="https://www.golnetwork.com/game/v/40
	535/">#235</a>\n\n</BODY>\n</HTML>
STATUS:CONFIRMED
CLASS:PUBLIC
URL:https://www.golnetwork.com/game/v/40535/
X-MICROSOFT-CDO-BUSYSTATUS:BUSY
X-MICROSOFT-CDO-IMPORTANCE:1
END:VEVENT
BEGIN:VEVENT
UID:g45pi@games.golnetwork.com
LOCATION:Lamport Stadium - Field 3
GEO:43.6390028;-79.4232104
CREATED:20131105T213107Z
DTSTART:20131218T030000Z
DTEND:20131218T040000Z
DTSTAMP:20260422T091442Z
SUMMARY:Goal Goal Power Rangers vs. Something FC (White)
DESCRIPTION:Something FC (White) vs. Goal Goal Power RangersPlus d'info : #
	238
X-ALT-DESC;FMTTYPE=text/html:<!DOCTYPE HTML PUBLIC "-//W3C//DTD HTML 3.2//E
	N">\n<HTML>\n<HEAD>\n<TITLE></TITLE>\n</HEAD>\n<BODY>\n<h3>Something FC (Wh
	ite) vs. Goal Goal Power Rangers</h3>Plus d'info : <a href="https://www.gol
	network.com/game/v/40536/">#238</a>\n\n</BODY>\n</HTML>
STATUS:CONFIRMED
CLASS:PUBLIC
URL:https://www.golnetwork.com/game/v/40536/
X-MICROSOFT-CDO-BUSYSTATUS:BUSY
X-MICROSOFT-CDO-IMPORTANCE:1
END:VEVENT
BEGIN:VEVENT
UID:g45pk@games.golnetwork.com
LOCATION:Lamport Stadium - Field 3
GEO:43.6390028;-79.4232104
CREATED:20131105T213107Z
DTSTART:20131218T040000Z
DTEND:20131218T050000Z
DTSTAMP:20260422T091442Z
SUMMARY:Black and Blue vs. The Commonwealth
DESCRIPTION:The Commonwealth vs. Black and BluePlus d'info : #243
X-ALT-DESC;FMTTYPE=text/html:<!DOCTYPE HTML PUBLIC "-//W3C//DTD HTML 3.2//E
	N">\n<HTML>\n<HEAD>\n<TITLE></TITLE>\n</HEAD>\n<BODY>\n<h3>The Commonwealth
	 vs. Black and Blue</h3>Plus d'info : <a href="https://www.golnetwork.com/g
	ame/v/40537/">#243</a>\n\n</BODY>\n</HTML>
STATUS:CONFIRMED
CLASS:PUBLIC
URL:https://www.golnetwork.com/game/v/40537/
X-MICROSOFT-CDO-BUSYSTATUS:BUSY
X-MICROSOFT-CDO-IMPORTANCE:1
END:VEVENT
BEGIN:VEVENT
UID:g45pm@games.golnetwork.com
LOCATION:Lamport Stadium - Field 3
GEO:43.6390028;-79.4232104
CREATED:20131105T213107Z
DTSTART:20140108T020000Z
DTEND:20140108T030000Z
DTSTAMP:20260422T091442Z
SUMMARY:The Commonwealth vs. Galacticos FC
DESCRIPTION:Galacticos FC vs. The CommonwealthPlus d'info : #290
X-ALT-DESC;FMTTYPE=text/html:<!DOCTYPE HTML PUBLIC "-//W3C//DTD HTML 3.2//E
	N">\n<HTML>\n<HEAD>\n<TITLE></TITLE>\n</HEAD>\n<BODY>\n<h3>Galacticos FC vs
	. The Commonwealth</h3>Plus d'info : <a href="https://www.golnetwork.com/ga
	me/v/40538/">#290</a>\n\n</BODY>\n</HTML>
STATUS:CONFIRMED
CLASS:PUBLIC
URL:https://www.golnetwork.com/game/v/40538/
X-MICROSOFT-CDO-BUSYSTATUS:BUSY
X-MICROSOFT-CDO-IMPORTANCE:1
END:VEVENT
BEGIN:VEVENT
UID:g45po@games.golnetwork.com
LOCATION:Lamport Stadium - Field 3
GEO:43.6390028;-79.4232104
CREATED:20131105T213107Z
DTSTART:20140108T030000Z
DTEND:20140108T040000Z
DTSTAMP:20260422T091442Z
SUMMARY:Something FC (White) vs. Black and Blue
DESCRIPTION:Black and Blue vs. Something FC (White)Plus d'info : #293
X-ALT-DESC;FMTTYPE=text/html:<!DOCTYPE HTML PUBLIC "-//W3C//DTD HTML 3.2//E
	N">\n<HTML>\n<HEAD>\n<TITLE></TITLE>\n</HEAD>\n<BODY>\n<h3>Black and Blue v
	s. Something FC (White)</h3>Plus d'info : <a href="https://www.golnetwork.c
	om/game/v/40539/">#293</a>\n\n</BODY>\n</HTML>
STATUS:CONFIRMED
CLASS:PUBLIC
URL:https://www.golnetwork.com/game/v/40539/
X-MICROSOFT-CDO-BUSYSTATUS:BUSY
X-MICROSOFT-CDO-IMPORTANCE:1
END:VEVENT
BEGIN:VEVENT
UID:g45pq@games.golnetwork.com
LOCATION:Lamport Stadium - Field 3
GEO:43.6390028;-79.4232104
CREATED:20131105T213107Z
DTSTART:20140108T040000Z
DTEND:20140108T050000Z
DTSTAMP:20260422T091442Z
SUMMARY:Polk High vs. Goal Goal Power Rangers
DESCRIPTION:Goal Goal Power Rangers vs. Polk HighPlus d'info : #296
X-ALT-DESC;FMTTYPE=text/html:<!DOCTYPE HTML PUBLIC "-//W3C//DTD HTML 3.2//E
	N">\n<HTML>\n<HEAD>\n<TITLE></TITLE>\n</HEAD>\n<BODY>\n<h3>Goal Goal Power 
	Rangers vs. Polk High</h3>Plus d'info : <a href="https://www.golnetwork.com
	/game/v/40540/">#296</a>\n\n</BODY>\n</HTML>
STATUS:CONFIRMED
CLASS:PUBLIC
URL:https://www.golnetwork.com/game/v/40540/
X-MICROSOFT-CDO-BUSYSTATUS:BUSY
X-MICROSOFT-CDO-IMPORTANCE:1
END:VEVENT
BEGIN:VEVENT
UID:g45q1@games.golnetwork.com
LOCATION:Lamport Stadium - Field 3
GEO:43.6390028;-79.4232104
CREATED:20131105T213107Z
DTSTART:20140115T020000Z
DTEND:20140115T030000Z
DTSTAMP:20260422T091442Z
SUMMARY:Goal Goal Power Rangers vs. Black and Blue
DESCRIPTION:Black and Blue vs. Goal Goal Power RangersPlus d'info : #320
X-ALT-DESC;FMTTYPE=text/html:<!DOCTYPE HTML PUBLIC "-//W3C//DTD HTML 3.2//E
	N">\n<HTML>\n<HEAD>\n<TITLE></TITLE>\n</HEAD>\n<BODY>\n<h3>Black and Blue v
	s. Goal Goal Power Rangers</h3>Plus d'info : <a href="https://www.golnetwor
	k.com/game/v/40541/">#320</a>\n\n</BODY>\n</HTML>
STATUS:CONFIRMED
CLASS:PUBLIC
URL:https://www.golnetwork.com/game/v/40541/
X-MICROSOFT-CDO-BUSYSTATUS:BUSY
X-MICROSOFT-CDO-IMPORTANCE:1
END:VEVENT
BEGIN:VEVENT
UID:g45q3@games.golnetwork.com
LOCATION:Lamport Stadium - Field 3
GEO:43.6390028;-79.4232104
CREATED:20131105T213107Z
DTSTART:20140115T030000Z
DTEND:20140115T040000Z
DTSTAMP:20260422T091442Z
SUMMARY:Polk High vs. The Commonwealth
DESCRIPTION:The Commonwealth vs. Polk HighPlus d'info : #323
X-ALT-DESC;FMTTYPE=text/html:<!DOCTYPE HTML PUBLIC "-//W3C//DTD HTML 3.2//E
	N">\n<HTML>\n<HEAD>\n<TITLE></TITLE>\n</HEAD>\n<BODY>\n<h3>The Commonwealth
	 vs. Polk High</h3>Plus d'info : <a href="https://www.golnetwork.com/game/v
	/40542/">#323</a>\n\n</BODY>\n</HTML>
STATUS:CONFIRMED
CLASS:PUBLIC
URL:https://www.golnetwork.com/game/v/40542/
X-MICROSOFT-CDO-BUSYSTATUS:BUSY
X-MICROSOFT-CDO-IMPORTANCE:1
END:VEVENT
BEGIN:VEVENT
UID:g45q5@games.golnetwork.com
LOCATION:Lamport Stadium - Field 3
GEO:43.6390028;-79.4232104
CREATED:20131105T213107Z
DTSTART:20140115T040000Z
DTEND:20140115T050000Z
DTSTAMP:20260422T091442Z
SUMMARY:Galacticos FC vs. Something FC (White)
DESCRIPTION:Something FC (White) vs. Galacticos FCPlus d'info : #326
X-ALT-DESC;FMTTYPE=text/html:<!DOCTYPE HTML PUBLIC "-//W3C//DTD HTML 3.2//E
	N">\n<HTML>\n<HEAD>\n<TITLE></TITLE>\n</HEAD>\n<BODY>\n<h3>Something FC (Wh
	ite) vs. Galacticos FC</h3>Plus d'info : <a href="https://www.golnetwork.co
	m/game/v/40543/">#326</a>\n\n</BODY>\n</HTML>
STATUS:CONFIRMED
CLASS:PUBLIC
URL:https://www.golnetwork.com/game/v/40543/
X-MICROSOFT-CDO-BUSYSTATUS:BUSY
X-MICROSOFT-CDO-IMPORTANCE:1
END:VEVENT
BEGIN:VEVENT
UID:g45q7@games.golnetwork.com
LOCATION:Lamport Stadium - Field 3
GEO:43.6390028;-79.4232104
CREATED:20131105T213107Z
DTSTART:20140122T020000Z
DTEND:20140122T030000Z
DTSTAMP:20260422T091442Z
SUMMARY:Galacticos FC vs. The Commonwealth
DESCRIPTION:The Commonwealth vs. Galacticos FCPlus d'info : #350
X-ALT-DESC;FMTTYPE=text/html:<!DOCTYPE HTML PUBLIC "-//W3C//DTD HTML 3.2//E
	N">\n<HTML>\n<HEAD>\n<TITLE></TITLE>\n</HEAD>\n<BODY>\n<h3>The Commonwealth
	 vs. Galacticos FC</h3>Plus d'info : <a href="https://www.golnetwork.com/ga
	me/v/40544/">#350</a>\n\n</BODY>\n</HTML>
STATUS:CONFIRMED
CLASS:PUBLIC
URL:https://www.golnetwork.com/game/v/40544/
X-MICROSOFT-CDO-BUSYSTATUS:BUSY
X-MICROSOFT-CDO-IMPORTANCE:1
END:VEVENT
BEGIN:VEVENT
UID:g45q9@games.golnetwork.com
LOCATION:Lamport Stadium - Field 3
GEO:43.6390028;-79.4232104
CREATED:20131105T213107Z
DTSTART:20140122T030000Z
DTEND:20140122T040000Z
DTSTAMP:20260422T091442Z
SUMMARY:Something FC (White) vs. Goal Goal Power Rangers
DESCRIPTION:Goal Goal Power Rangers vs. Something FC (White)Plus d'info : #
	353
X-ALT-DESC;FMTTYPE=text/html:<!DOCTYPE HTML PUBLIC "-//W3C//DTD HTML 3.2//E
	N">\n<HTML>\n<HEAD>\n<TITLE></TITLE>\n</HEAD>\n<BODY>\n<h3>Goal Goal Power 
	Rangers vs. Something FC (White)</h3>Plus d'info : <a href="https://www.gol
	network.com/game/v/40545/">#353</a>\n\n</BODY>\n</HTML>
STATUS:CONFIRMED
CLASS:PUBLIC
URL:https://www.golnetwork.com/game/v/40545/
X-MICROSOFT-CDO-BUSYSTATUS:BUSY
X-MICROSOFT-CDO-IMPORTANCE:1
END:VEVENT
BEGIN:VEVENT
UID:g45qb@games.golnetwork.com
LOCATION:Lamport Stadium - Field 3
GEO:43.6390028;-79.4232104
CREATED:20131105T213107Z
DTSTART:20140122T040000Z
DTEND:20140122T050000Z
DTSTAMP:20260422T091442Z
SUMMARY:Black and Blue vs. Polk High
DESCRIPTION:Polk High vs. Black and BluePlus d'info : #356
X-ALT-DESC;FMTTYPE=text/html:<!DOCTYPE HTML PUBLIC "-//W3C//DTD HTML 3.2//E
	N">\n<HTML>\n<HEAD>\n<TITLE></TITLE>\n</HEAD>\n<BODY>\n<h3>Polk High vs. Bl
	ack and Blue</h3>Plus d'info : <a href="https://www.golnetwork.com/game/v/4
	0546/">#356</a>\n\n</BODY>\n</HTML>
STATUS:CONFIRMED
CLASS:PUBLIC
URL:https://www.golnetwork.com/game/v/40546/
X-MICROSOFT-CDO-BUSYSTATUS:BUSY
X-MICROSOFT-CDO-IMPORTANCE:1
END:VEVENT
BEGIN:VEVENT
UID:g45qd@games.golnetwork.com
LOCATION:Lamport Stadium - Field 3
GEO:43.6390028;-79.4232104
CREATED:20131105T213107Z
DTSTART:20140129T020000Z
DTEND:20140129T030000Z
DTSTAMP:20260422T091442Z
SUMMARY:Polk High vs. Something FC (White)
DESCRIPTION:Something FC (White) vs. Polk HighPlus d'info : #380
X-ALT-DESC;FMTTYPE=text/html:<!DOCTYPE HTML PUBLIC "-//W3C//DTD HTML 3.2//E
	N">\n<HTML>\n<HEAD>\n<TITLE></TITLE>\n</HEAD>\n<BODY>\n<h3>Something FC (Wh
	ite) vs. Polk High</h3>Plus d'info : <a href="https://www.golnetwork.com/ga
	me/v/40547/">#380</a>\n\n</BODY>\n</HTML>
STATUS:CONFIRMED
CLASS:PUBLIC
URL:https://www.golnetwork.com/game/v/40547/
X-MICROSOFT-CDO-BUSYSTATUS:BUSY
X-MICROSOFT-CDO-IMPORTANCE:1
END:VEVENT
BEGIN:VEVENT
UID:g45qf@games.golnetwork.com
LOCATION:Lamport Stadium - Field 3
GEO:43.6390028;-79.4232104
CREATED:20131105T213107Z
DTSTART:20140129T030000Z
DTEND:20140129T040000Z
DTSTAMP:20260422T091442Z
SUMMARY:Galacticos FC vs. Goal Goal Power Rangers
DESCRIPTION:Goal Goal Power Rangers vs. Galacticos FCPlus d'info : #383
X-ALT-DESC;FMTTYPE=text/html:<!DOCTYPE HTML PUBLIC "-//W3C//DTD HTML 3.2//E
	N">\n<HTML>\n<HEAD>\n<TITLE></TITLE>\n</HEAD>\n<BODY>\n<h3>Goal Goal Power 
	Rangers vs. Galacticos FC</h3>Plus d'info : <a href="https://www.golnetwork
	.com/game/v/40548/">#383</a>\n\n</BODY>\n</HTML>
STATUS:CONFIRMED
CLASS:PUBLIC
URL:https://www.golnetwork.com/game/v/40548/
X-MICROSOFT-CDO-BUSYSTATUS:BUSY
X-MICROSOFT-CDO-IMPORTANCE:1
END:VEVENT
BEGIN:VEVENT
UID:g45qh@games.golnetwork.com
LOCATION:Lamport Stadium - Field 3
GEO:43.6390028;-79.4232104
CREATED:20131105T213107Z
DTSTART:20140129T040000Z
DTEND:20140129T050000Z
DTSTAMP:20260422T091442Z
SUMMARY:Black and Blue vs. The Commonwealth
DESCRIPTION:The Commonwealth vs. Black and BluePlus d'info : #386
X-ALT-DESC;FMTTYPE=text/html:<!DOCTYPE HTML PUBLIC "-//W3C//DTD HTML 3.2//E
	N">\n<HTML>\n<HEAD>\n<TITLE></TITLE>\n</HEAD>\n<BODY>\n<h3>The Commonwealth
	 vs. Black and Blue</h3>Plus d'info : <a href="https://www.golnetwork.com/g
	ame/v/40549/">#386</a>\n\n</BODY>\n</HTML>
STATUS:CONFIRMED
CLASS:PUBLIC
URL:https://www.golnetwork.com/game/v/40549/
X-MICROSOFT-CDO-BUSYSTATUS:BUSY
X-MICROSOFT-CDO-IMPORTANCE:1
END:VEVENT
END:VCALENDAR
