BEGIN:VCALENDAR
PRODID:-//gdesolutions.com//MV Framework 1.0.0.1607 Calendar//EN
VERSION:2.0
METHOD:PUBLISH
CALSCALE:GREGORIAN
BEGIN:VEVENT
UID:g4ckk@games.golnetwork.com
LOCATION:Louis Riel #1
GEO:45.4410208;-75.5715394
CREATED:20140103T231024Z
DTSTART:20140110T010000Z
DTEND:20140110T015000Z
DTSTAMP:20260422T020840Z
SUMMARY:Foot Loose FC vs. Missile-toe
DESCRIPTION:Missile-toe vs. Foot Loose FCPlus d'info : #3
X-ALT-DESC;FMTTYPE=text/html:<!DOCTYPE HTML PUBLIC "-//W3C//DTD HTML 3.2//E
	N">\n<HTML>\n<HEAD>\n<TITLE></TITLE>\n</HEAD>\n<BODY>\n<h3>Missile-toe vs. 
	Foot Loose FC</h3>Plus d'info : <a href="https://www.golnetwork.com/game/v/
	43021/">#3</a>\n\n</BODY>\n</HTML>
STATUS:CONFIRMED
CLASS:PUBLIC
URL:https://www.golnetwork.com/game/v/43021/
X-MICROSOFT-CDO-BUSYSTATUS:BUSY
X-MICROSOFT-CDO-IMPORTANCE:1
END:VEVENT
BEGIN:VEVENT
UID:g4ckm@games.golnetwork.com
LOCATION:Louis Riel #1
GEO:45.4410208;-75.5715394
CREATED:20140103T231034Z
DTSTART:20140110T020000Z
DTEND:20140110T025000Z
DTSTAMP:20260422T020840Z
SUMMARY:Fm FC vs. Benchwarmers
DESCRIPTION:Benchwarmers vs. Fm FCPlus d'info : #5
X-ALT-DESC;FMTTYPE=text/html:<!DOCTYPE HTML PUBLIC "-//W3C//DTD HTML 3.2//E
	N">\n<HTML>\n<HEAD>\n<TITLE></TITLE>\n</HEAD>\n<BODY>\n<h3>Benchwarmers vs.
	 Fm FC</h3>Plus d'info : <a href="https://www.golnetwork.com/game/v/43022/"
	>#5</a>\n\n</BODY>\n</HTML>
STATUS:CONFIRMED
CLASS:PUBLIC
URL:https://www.golnetwork.com/game/v/43022/
X-MICROSOFT-CDO-BUSYSTATUS:BUSY
X-MICROSOFT-CDO-IMPORTANCE:1
END:VEVENT
BEGIN:VEVENT
UID:g4cko@games.golnetwork.com
LOCATION:Louis Riel #1
GEO:45.4410208;-75.5715394
CREATED:20140103T231048Z
DTSTART:20140110T030000Z
DTEND:20140110T035000Z
DTSTAMP:20260422T020840Z
SUMMARY:Education Leads to Legalization vs. Team Doug
DESCRIPTION:Team Doug vs. Education Leads to LegalizationPlus d'info : #10
X-ALT-DESC;FMTTYPE=text/html:<!DOCTYPE HTML PUBLIC "-//W3C//DTD HTML 3.2//E
	N">\n<HTML>\n<HEAD>\n<TITLE></TITLE>\n</HEAD>\n<BODY>\n<h3>Team Doug vs. Ed
	ucation Leads to Legalization</h3>Plus d'info : <a href="https://www.golnet
	work.com/game/v/43023/">#10</a>\n\n</BODY>\n</HTML>
STATUS:CONFIRMED
CLASS:PUBLIC
URL:https://www.golnetwork.com/game/v/43023/
X-MICROSOFT-CDO-BUSYSTATUS:BUSY
X-MICROSOFT-CDO-IMPORTANCE:1
END:VEVENT
BEGIN:VEVENT
UID:g4ckq@games.golnetwork.com
LOCATION:Louis Riel #1
GEO:45.4410208;-75.5715394
CREATED:20140103T231057Z
DTSTART:20140110T040000Z
DTEND:20140110T045000Z
DTSTAMP:20260422T020840Z
SUMMARY:50 Shades of Pink vs. Cornerstone FC
DESCRIPTION:Cornerstone FC vs. 50 Shades of PinkPlus d'info : #14
X-ALT-DESC;FMTTYPE=text/html:<!DOCTYPE HTML PUBLIC "-//W3C//DTD HTML 3.2//E
	N">\n<HTML>\n<HEAD>\n<TITLE></TITLE>\n</HEAD>\n<BODY>\n<h3>Cornerstone FC v
	s. 50 Shades of Pink</h3>Plus d'info : <a href="https://www.golnetwork.com/
	game/v/43024/">#14</a>\n\n</BODY>\n</HTML>
STATUS:CONFIRMED
CLASS:PUBLIC
URL:https://www.golnetwork.com/game/v/43024/
X-MICROSOFT-CDO-BUSYSTATUS:BUSY
X-MICROSOFT-CDO-IMPORTANCE:1
END:VEVENT
BEGIN:VEVENT
UID:g4cl1@games.golnetwork.com
LOCATION:Hornet's Nest #1
GEO:45.4428309;-75.575268
CREATED:20140104T094342Z
DTSTART:20140116T230000Z
DTEND:20140116T235000Z
DTSTAMP:20260422T020840Z
SUMMARY:Benchwarmers vs. Missile-toe
DESCRIPTION:Missile-toe vs. BenchwarmersPlus d'info : #17
X-ALT-DESC;FMTTYPE=text/html:<!DOCTYPE HTML PUBLIC "-//W3C//DTD HTML 3.2//E
	N">\n<HTML>\n<HEAD>\n<TITLE></TITLE>\n</HEAD>\n<BODY>\n<h3>Missile-toe vs. 
	Benchwarmers</h3>Plus d'info : <a href="https://www.golnetwork.com/game/v/4
	3025/">#17</a>\n\n</BODY>\n</HTML>
STATUS:CONFIRMED
CLASS:PUBLIC
URL:https://www.golnetwork.com/game/v/43025/
X-MICROSOFT-CDO-BUSYSTATUS:BUSY
X-MICROSOFT-CDO-IMPORTANCE:1
END:VEVENT
BEGIN:VEVENT
UID:g4cl3@games.golnetwork.com
LOCATION:Louis Riel #1
GEO:45.4410208;-75.5715394
CREATED:20140104T094403Z
DTSTART:20140117T030000Z
DTEND:20140117T035000Z
DTSTAMP:20260422T020840Z
SUMMARY:Fm FC vs. 50 Shades of Pink
DESCRIPTION:50 Shades of Pink vs. Fm FCPlus d'info : #26
X-ALT-DESC;FMTTYPE=text/html:<!DOCTYPE HTML PUBLIC "-//W3C//DTD HTML 3.2//E
	N">\n<HTML>\n<HEAD>\n<TITLE></TITLE>\n</HEAD>\n<BODY>\n<h3>50 Shades of Pin
	k vs. Fm FC</h3>Plus d'info : <a href="https://www.golnetwork.com/game/v/43
	026/">#26</a>\n\n</BODY>\n</HTML>
STATUS:CONFIRMED
CLASS:PUBLIC
URL:https://www.golnetwork.com/game/v/43026/
X-MICROSOFT-CDO-BUSYSTATUS:BUSY
X-MICROSOFT-CDO-IMPORTANCE:1
END:VEVENT
BEGIN:VEVENT
UID:g4cl5@games.golnetwork.com
LOCATION:Hornet's Nest #2
GEO:45.4428309;-75.575268
CREATED:20140104T094417Z
DTSTART:20140117T033000Z
DTEND:20140117T042000Z
DTSTAMP:20260422T020840Z
SUMMARY:Team Doug vs. Cornerstone FC
DESCRIPTION:Cornerstone FC vs. Team DougPlus d'info : #29
X-ALT-DESC;FMTTYPE=text/html:<!DOCTYPE HTML PUBLIC "-//W3C//DTD HTML 3.2//E
	N">\n<HTML>\n<HEAD>\n<TITLE></TITLE>\n</HEAD>\n<BODY>\n<h3>Cornerstone FC v
	s. Team Doug</h3>Plus d'info : <a href="https://www.golnetwork.com/game/v/4
	3027/">#29</a>\n\n</BODY>\n</HTML>
STATUS:CONFIRMED
CLASS:PUBLIC
URL:https://www.golnetwork.com/game/v/43027/
X-MICROSOFT-CDO-BUSYSTATUS:BUSY
X-MICROSOFT-CDO-IMPORTANCE:1
END:VEVENT
BEGIN:VEVENT
UID:g4cl7@games.golnetwork.com
LOCATION:Louis Riel #1
GEO:45.4410208;-75.5715394
CREATED:20140104T094433Z
DTSTART:20140117T040000Z
DTEND:20140117T045000Z
DTSTAMP:20260422T020840Z
SUMMARY:Education Leads to Legalization vs. Foot Loose FC
DESCRIPTION:Foot Loose FC vs. Education Leads to LegalizationPlus d'info : 
	#30
X-ALT-DESC;FMTTYPE=text/html:<!DOCTYPE HTML PUBLIC "-//W3C//DTD HTML 3.2//E
	N">\n<HTML>\n<HEAD>\n<TITLE></TITLE>\n</HEAD>\n<BODY>\n<h3>Foot Loose FC vs
	. Education Leads to Legalization</h3>Plus d'info : <a href="https://www.go
	lnetwork.com/game/v/43028/">#30</a>\n\n</BODY>\n</HTML>
STATUS:CONFIRMED
CLASS:PUBLIC
URL:https://www.golnetwork.com/game/v/43028/
X-MICROSOFT-CDO-BUSYSTATUS:BUSY
X-MICROSOFT-CDO-IMPORTANCE:1
END:VEVENT
BEGIN:VEVENT
UID:g4fd0@games.golnetwork.com
LOCATION:Louis Riel #1
GEO:45.4410208;-75.5715394
CREATED:20140110T225045Z
DTSTART:20140124T010000Z
DTEND:20140124T015000Z
DTSTAMP:20260422T020840Z
SUMMARY:Team Doug vs. Missile-toe
DESCRIPTION:Missile-toe vs. Team DougPlus d'info : #35
X-ALT-DESC;FMTTYPE=text/html:<!DOCTYPE HTML PUBLIC "-//W3C//DTD HTML 3.2//E
	N">\n<HTML>\n<HEAD>\n<TITLE></TITLE>\n</HEAD>\n<BODY>\n<h3>Missile-toe vs. 
	Team Doug</h3>Plus d'info : <a href="https://www.golnetwork.com/game/v/4401
	0/">#35</a>\n\n</BODY>\n</HTML>
STATUS:CONFIRMED
CLASS:PUBLIC
URL:https://www.golnetwork.com/game/v/44010/
X-MICROSOFT-CDO-BUSYSTATUS:BUSY
X-MICROSOFT-CDO-IMPORTANCE:1
END:VEVENT
BEGIN:VEVENT
UID:g4fd2@games.golnetwork.com
LOCATION:Louis Riel #1
GEO:45.4410208;-75.5715394
CREATED:20140110T225054Z
DTSTART:20140124T020000Z
DTEND:20140124T025000Z
DTSTAMP:20260422T020840Z
SUMMARY:Education Leads to Legalization vs. 50 Shades of Pink
DESCRIPTION:50 Shades of Pink vs. Education Leads to LegalizationPlus d'inf
	o : #37
X-ALT-DESC;FMTTYPE=text/html:<!DOCTYPE HTML PUBLIC "-//W3C//DTD HTML 3.2//E
	N">\n<HTML>\n<HEAD>\n<TITLE></TITLE>\n</HEAD>\n<BODY>\n<h3>50 Shades of Pin
	k vs. Education Leads to Legalization</h3>Plus d'info : <a href="https://ww
	w.golnetwork.com/game/v/44011/">#37</a>\n\n</BODY>\n</HTML>
STATUS:CONFIRMED
CLASS:PUBLIC
URL:https://www.golnetwork.com/game/v/44011/
X-MICROSOFT-CDO-BUSYSTATUS:BUSY
X-MICROSOFT-CDO-IMPORTANCE:1
END:VEVENT
BEGIN:VEVENT
UID:g4fd4@games.golnetwork.com
LOCATION:Louis Riel #1
GEO:45.4410208;-75.5715394
CREATED:20140110T225102Z
DTSTART:20140124T030000Z
DTEND:20140124T035000Z
DTSTAMP:20260422T020840Z
SUMMARY:Foot Loose FC vs. Benchwarmers
DESCRIPTION:Benchwarmers vs. Foot Loose FCPlus d'info : #42
X-ALT-DESC;FMTTYPE=text/html:<!DOCTYPE HTML PUBLIC "-//W3C//DTD HTML 3.2//E
	N">\n<HTML>\n<HEAD>\n<TITLE></TITLE>\n</HEAD>\n<BODY>\n<h3>Benchwarmers vs.
	 Foot Loose FC</h3>Plus d'info : <a href="https://www.golnetwork.com/game/v
	/44012/">#42</a>\n\n</BODY>\n</HTML>
STATUS:CONFIRMED
CLASS:PUBLIC
URL:https://www.golnetwork.com/game/v/44012/
X-MICROSOFT-CDO-BUSYSTATUS:BUSY
X-MICROSOFT-CDO-IMPORTANCE:1
END:VEVENT
BEGIN:VEVENT
UID:g4fd6@games.golnetwork.com
LOCATION:Louis Riel #1
GEO:45.4410208;-75.5715394
CREATED:20140110T225112Z
DTSTART:20140124T040000Z
DTEND:20140124T045000Z
DTSTAMP:20260422T020840Z
SUMMARY:Fm FC vs. Cornerstone FC
DESCRIPTION:Cornerstone FC vs. Fm FCPlus d'info : #46
X-ALT-DESC;FMTTYPE=text/html:<!DOCTYPE HTML PUBLIC "-//W3C//DTD HTML 3.2//E
	N">\n<HTML>\n<HEAD>\n<TITLE></TITLE>\n</HEAD>\n<BODY>\n<h3>Cornerstone FC v
	s. Fm FC</h3>Plus d'info : <a href="https://www.golnetwork.com/game/v/44013
	/">#46</a>\n\n</BODY>\n</HTML>
STATUS:CONFIRMED
CLASS:PUBLIC
URL:https://www.golnetwork.com/game/v/44013/
X-MICROSOFT-CDO-BUSYSTATUS:BUSY
X-MICROSOFT-CDO-IMPORTANCE:1
END:VEVENT
BEGIN:VEVENT
UID:g4fd8@games.golnetwork.com
LOCATION:Louis Riel #1
GEO:45.4410208;-75.5715394
CREATED:20140110T225132Z
DTSTART:20140131T020000Z
DTEND:20140131T025000Z
DTSTAMP:20260422T020840Z
SUMMARY:Education Leads to Legalization vs. Cornerstone FC
DESCRIPTION:Cornerstone FC vs. Education Leads to LegalizationPlus d'info :
	 #53
X-ALT-DESC;FMTTYPE=text/html:<!DOCTYPE HTML PUBLIC "-//W3C//DTD HTML 3.2//E
	N">\n<HTML>\n<HEAD>\n<TITLE></TITLE>\n</HEAD>\n<BODY>\n<h3>Cornerstone FC v
	s. Education Leads to Legalization</h3>Plus d'info : <a href="https://www.g
	olnetwork.com/game/v/44014/">#53</a>\n\n</BODY>\n</HTML>
STATUS:CONFIRMED
CLASS:PUBLIC
URL:https://www.golnetwork.com/game/v/44014/
X-MICROSOFT-CDO-BUSYSTATUS:BUSY
X-MICROSOFT-CDO-IMPORTANCE:1
END:VEVENT
BEGIN:VEVENT
UID:g4fda@games.golnetwork.com
LOCATION:Hornet's Nest #2
GEO:45.4428309;-75.575268
CREATED:20140110T225144Z
DTSTART:20140131T023000Z
DTEND:20140131T032000Z
DTSTAMP:20260422T020840Z
SUMMARY:50 Shades of Pink vs. Missile-toe
DESCRIPTION:Missile-toe vs. 50 Shades of PinkPlus d'info : #56
X-ALT-DESC;FMTTYPE=text/html:<!DOCTYPE HTML PUBLIC "-//W3C//DTD HTML 3.2//E
	N">\n<HTML>\n<HEAD>\n<TITLE></TITLE>\n</HEAD>\n<BODY>\n<h3>Missile-toe vs. 
	50 Shades of Pink</h3>Plus d'info : <a href="https://www.golnetwork.com/gam
	e/v/44015/">#56</a>\n\n</BODY>\n</HTML>
STATUS:CONFIRMED
CLASS:PUBLIC
URL:https://www.golnetwork.com/game/v/44015/
X-MICROSOFT-CDO-BUSYSTATUS:BUSY
X-MICROSOFT-CDO-IMPORTANCE:1
END:VEVENT
BEGIN:VEVENT
UID:g4i8i@games.golnetwork.com
LOCATION:Louis Riel #1
GEO:45.4410208;-75.5715394
CREATED:20140122T230118Z
DTSTART:20140131T030000Z
DTEND:20140131T035000Z
DTSTAMP:20260422T020840Z
SUMMARY:Foot Loose FC vs. Fm FC
DESCRIPTION:Fm FC vs. Foot Loose FCPlus d'info : #58
X-ALT-DESC;FMTTYPE=text/html:<!DOCTYPE HTML PUBLIC "-//W3C//DTD HTML 3.2//E
	N">\n<HTML>\n<HEAD>\n<TITLE></TITLE>\n</HEAD>\n<BODY>\n<h3>Fm FC vs. Foot L
	oose FC</h3>Plus d'info : <a href="https://www.golnetwork.com/game/v/45045/
	">#58</a>\n\n</BODY>\n</HTML>
STATUS:CONFIRMED
CLASS:PUBLIC
URL:https://www.golnetwork.com/game/v/45045/
X-MICROSOFT-CDO-BUSYSTATUS:BUSY
X-MICROSOFT-CDO-IMPORTANCE:1
END:VEVENT
BEGIN:VEVENT
UID:g4fdc@games.golnetwork.com
LOCATION:Louis Riel #1
GEO:45.4410208;-75.5715394
CREATED:20140110T225207Z
DTSTART:20140131T040000Z
DTEND:20140131T045000Z
DTSTAMP:20260422T020840Z
SUMMARY:Team Doug vs. Benchwarmers
DESCRIPTION:Benchwarmers vs. Team DougPlus d'info : #62
X-ALT-DESC;FMTTYPE=text/html:<!DOCTYPE HTML PUBLIC "-//W3C//DTD HTML 3.2//E
	N">\n<HTML>\n<HEAD>\n<TITLE></TITLE>\n</HEAD>\n<BODY>\n<h3>Benchwarmers vs.
	 Team Doug</h3>Plus d'info : <a href="https://www.golnetwork.com/game/v/440
	16/">#62</a>\n\n</BODY>\n</HTML>
STATUS:CONFIRMED
CLASS:PUBLIC
URL:https://www.golnetwork.com/game/v/44016/
X-MICROSOFT-CDO-BUSYSTATUS:BUSY
X-MICROSOFT-CDO-IMPORTANCE:1
END:VEVENT
BEGIN:VEVENT
UID:g4i9h@games.golnetwork.com
LOCATION:Louis Riel #1
GEO:45.4410208;-75.5715394
CREATED:20140122T230727Z
DTSTART:20140207T000000Z
DTEND:20140207T005000Z
DTSTAMP:20260422T020840Z
SUMMARY:Cornerstone FC vs. Missile-toe
DESCRIPTION:Missile-toe vs. Cornerstone FCPlus d'info : #66
X-ALT-DESC;FMTTYPE=text/html:<!DOCTYPE HTML PUBLIC "-//W3C//DTD HTML 3.2//E
	N">\n<HTML>\n<HEAD>\n<TITLE></TITLE>\n</HEAD>\n<BODY>\n<h3>Missile-toe vs. 
	Cornerstone FC</h3>Plus d'info : <a href="https://www.golnetwork.com/game/v
	/45058/">#66</a>\n\n</BODY>\n</HTML>
STATUS:CONFIRMED
CLASS:PUBLIC
URL:https://www.golnetwork.com/game/v/45058/
X-MICROSOFT-CDO-BUSYSTATUS:BUSY
X-MICROSOFT-CDO-IMPORTANCE:1
END:VEVENT
BEGIN:VEVENT
UID:g4i9j@games.golnetwork.com
LOCATION:Louis Riel #1
GEO:45.4410208;-75.5715394
CREATED:20140122T230738Z
DTSTART:20140207T020000Z
DTEND:20140207T025000Z
DTSTAMP:20260422T020840Z
SUMMARY:Education Leads to Legalization vs. Fm FC
DESCRIPTION:Fm FC vs. Education Leads to LegalizationPlus d'info : #69
X-ALT-DESC;FMTTYPE=text/html:<!DOCTYPE HTML PUBLIC "-//W3C//DTD HTML 3.2//E
	N">\n<HTML>\n<HEAD>\n<TITLE></TITLE>\n</HEAD>\n<BODY>\n<h3>Fm FC vs. Educat
	ion Leads to Legalization</h3>Plus d'info : <a href="https://www.golnetwork
	.com/game/v/45059/">#69</a>\n\n</BODY>\n</HTML>
STATUS:CONFIRMED
CLASS:PUBLIC
URL:https://www.golnetwork.com/game/v/45059/
X-MICROSOFT-CDO-BUSYSTATUS:BUSY
X-MICROSOFT-CDO-IMPORTANCE:1
END:VEVENT
BEGIN:VEVENT
UID:g4i9l@games.golnetwork.com
LOCATION:Hornet's Nest #2
GEO:45.4428309;-75.575268
CREATED:20140122T230756Z
DTSTART:20140207T023000Z
DTEND:20140207T032000Z
DTSTAMP:20260422T020840Z
SUMMARY:Foot Loose FC vs. Team Doug
DESCRIPTION:Team Doug vs. Foot Loose FCPlus d'info : #72
X-ALT-DESC;FMTTYPE=text/html:<!DOCTYPE HTML PUBLIC "-//W3C//DTD HTML 3.2//E
	N">\n<HTML>\n<HEAD>\n<TITLE></TITLE>\n</HEAD>\n<BODY>\n<h3>Team Doug vs. Fo
	ot Loose FC</h3>Plus d'info : <a href="https://www.golnetwork.com/game/v/45
	060/">#72</a>\n\n</BODY>\n</HTML>
STATUS:CONFIRMED
CLASS:PUBLIC
URL:https://www.golnetwork.com/game/v/45060/
X-MICROSOFT-CDO-BUSYSTATUS:BUSY
X-MICROSOFT-CDO-IMPORTANCE:1
END:VEVENT
BEGIN:VEVENT
UID:g4i9n@games.golnetwork.com
LOCATION:Louis Riel #1
GEO:45.4410208;-75.5715394
CREATED:20140122T230809Z
DTSTART:20140207T040000Z
DTEND:20140207T045000Z
DTSTAMP:20260422T020840Z
SUMMARY:50 Shades of Pink vs. Benchwarmers
DESCRIPTION:Benchwarmers vs. 50 Shades of PinkPlus d'info : #78
X-ALT-DESC;FMTTYPE=text/html:<!DOCTYPE HTML PUBLIC "-//W3C//DTD HTML 3.2//E
	N">\n<HTML>\n<HEAD>\n<TITLE></TITLE>\n</HEAD>\n<BODY>\n<h3>Benchwarmers vs.
	 50 Shades of Pink</h3>Plus d'info : <a href="https://www.golnetwork.com/ga
	me/v/45061/">#78</a>\n\n</BODY>\n</HTML>
STATUS:CONFIRMED
CLASS:PUBLIC
URL:https://www.golnetwork.com/game/v/45061/
X-MICROSOFT-CDO-BUSYSTATUS:BUSY
X-MICROSOFT-CDO-IMPORTANCE:1
END:VEVENT
BEGIN:VEVENT
UID:g4jha@games.golnetwork.com
LOCATION:Hornet's Nest #2
GEO:45.4428309;-75.575268
CREATED:20140130T201959Z
DTSTART:20140213T233000Z
DTEND:20140214T002000Z
DTSTAMP:20260422T020840Z
SUMMARY:Cornerstone FC vs. Benchwarmers
DESCRIPTION:Benchwarmers vs. Cornerstone FCPlus d'info : #82
X-ALT-DESC;FMTTYPE=text/html:<!DOCTYPE HTML PUBLIC "-//W3C//DTD HTML 3.2//E
	N">\n<HTML>\n<HEAD>\n<TITLE></TITLE>\n</HEAD>\n<BODY>\n<h3>Benchwarmers vs.
	 Cornerstone FC</h3>Plus d'info : <a href="https://www.golnetwork.com/game/
	v/45527/">#82</a>\n\n</BODY>\n</HTML>
STATUS:CONFIRMED
CLASS:PUBLIC
URL:https://www.golnetwork.com/game/v/45527/
X-MICROSOFT-CDO-BUSYSTATUS:BUSY
X-MICROSOFT-CDO-IMPORTANCE:1
END:VEVENT
BEGIN:VEVENT
UID:g4jhc@games.golnetwork.com
LOCATION:Louis Riel #1
GEO:45.4410208;-75.5715394
CREATED:20140130T202025Z
DTSTART:20140214T010000Z
DTEND:20140214T015000Z
DTSTAMP:20260422T020840Z
SUMMARY:Foot Loose FC vs. 50 Shades of Pink
DESCRIPTION:50 Shades of Pink vs. Foot Loose FCPlus d'info : #85
X-ALT-DESC;FMTTYPE=text/html:<!DOCTYPE HTML PUBLIC "-//W3C//DTD HTML 3.2//E
	N">\n<HTML>\n<HEAD>\n<TITLE></TITLE>\n</HEAD>\n<BODY>\n<h3>50 Shades of Pin
	k vs. Foot Loose FC</h3>Plus d'info : <a href="https://www.golnetwork.com/g
	ame/v/45528/">#85</a>\n\n</BODY>\n</HTML>
STATUS:CONFIRMED
CLASS:PUBLIC
URL:https://www.golnetwork.com/game/v/45528/
X-MICROSOFT-CDO-BUSYSTATUS:BUSY
X-MICROSOFT-CDO-IMPORTANCE:1
END:VEVENT
BEGIN:VEVENT
UID:g4jhe@games.golnetwork.com
LOCATION:Louis Riel #1
GEO:45.4410208;-75.5715394
CREATED:20140130T202036Z
DTSTART:20140214T020000Z
DTEND:20140214T025000Z
DTSTAMP:20260422T020840Z
SUMMARY:Fm FC vs. Team Doug
DESCRIPTION:Team Doug vs. Fm FCPlus d'info : #87
X-ALT-DESC;FMTTYPE=text/html:<!DOCTYPE HTML PUBLIC "-//W3C//DTD HTML 3.2//E
	N">\n<HTML>\n<HEAD>\n<TITLE></TITLE>\n</HEAD>\n<BODY>\n<h3>Team Doug vs. Fm
	 FC</h3>Plus d'info : <a href="https://www.golnetwork.com/game/v/45529/">#8
	7</a>\n\n</BODY>\n</HTML>
STATUS:CONFIRMED
CLASS:PUBLIC
URL:https://www.golnetwork.com/game/v/45529/
X-MICROSOFT-CDO-BUSYSTATUS:BUSY
X-MICROSOFT-CDO-IMPORTANCE:1
END:VEVENT
BEGIN:VEVENT
UID:g4jhg@games.golnetwork.com
LOCATION:Louis Riel #1
GEO:45.4410208;-75.5715394
CREATED:20140130T202048Z
DTSTART:20140214T040000Z
DTEND:20140214T045000Z
DTSTAMP:20260422T020840Z
SUMMARY:Education Leads to Legalization vs. Missile-toe
DESCRIPTION:Missile-toe vs. Education Leads to LegalizationPlus d'info : #9
	3
X-ALT-DESC;FMTTYPE=text/html:<!DOCTYPE HTML PUBLIC "-//W3C//DTD HTML 3.2//E
	N">\n<HTML>\n<HEAD>\n<TITLE></TITLE>\n</HEAD>\n<BODY>\n<h3>Missile-toe vs. 
	Education Leads to Legalization</h3>Plus d'info : <a href="https://www.goln
	etwork.com/game/v/45530/">#93</a>\n\n</BODY>\n</HTML>
STATUS:CONFIRMED
CLASS:PUBLIC
URL:https://www.golnetwork.com/game/v/45530/
X-MICROSOFT-CDO-BUSYSTATUS:BUSY
X-MICROSOFT-CDO-IMPORTANCE:1
END:VEVENT
BEGIN:VEVENT
UID:g4ji9@games.golnetwork.com
LOCATION:Louis Riel #1
GEO:45.4410208;-75.5715394
CREATED:20140130T202327Z
DTSTART:20140221T010000Z
DTEND:20140221T015000Z
DTSTAMP:20260422T020840Z
SUMMARY:50 Shades of Pink vs. Team Doug
DESCRIPTION:Team Doug vs. 50 Shades of PinkPlus d'info : #101
X-ALT-DESC;FMTTYPE=text/html:<!DOCTYPE HTML PUBLIC "-//W3C//DTD HTML 3.2//E
	N">\n<HTML>\n<HEAD>\n<TITLE></TITLE>\n</HEAD>\n<BODY>\n<h3>Team Doug vs. 50
	 Shades of Pink</h3>Plus d'info : <a href="https://www.golnetwork.com/game/
	v/45540/">#101</a>\n\n</BODY>\n</HTML>
STATUS:CONFIRMED
CLASS:PUBLIC
URL:https://www.golnetwork.com/game/v/45540/
X-MICROSOFT-CDO-BUSYSTATUS:BUSY
X-MICROSOFT-CDO-IMPORTANCE:1
END:VEVENT
BEGIN:VEVENT
UID:g4jib@games.golnetwork.com
LOCATION:Louis Riel #1
GEO:45.4410208;-75.5715394
CREATED:20140130T202336Z
DTSTART:20140221T020000Z
DTEND:20140221T025000Z
DTSTAMP:20260422T020840Z
SUMMARY:Education Leads to Legalization vs. Benchwarmers
DESCRIPTION:Benchwarmers vs. Education Leads to LegalizationPlus d'info : #
	103
X-ALT-DESC;FMTTYPE=text/html:<!DOCTYPE HTML PUBLIC "-//W3C//DTD HTML 3.2//E
	N">\n<HTML>\n<HEAD>\n<TITLE></TITLE>\n</HEAD>\n<BODY>\n<h3>Benchwarmers vs.
	 Education Leads to Legalization</h3>Plus d'info : <a href="https://www.gol
	network.com/game/v/45541/">#103</a>\n\n</BODY>\n</HTML>
STATUS:CONFIRMED
CLASS:PUBLIC
URL:https://www.golnetwork.com/game/v/45541/
X-MICROSOFT-CDO-BUSYSTATUS:BUSY
X-MICROSOFT-CDO-IMPORTANCE:1
END:VEVENT
BEGIN:VEVENT
UID:g4jid@games.golnetwork.com
LOCATION:Louis Riel #1
GEO:45.4410208;-75.5715394
CREATED:20140130T202346Z
DTSTART:20140221T030000Z
DTEND:20140221T035000Z
DTSTAMP:20260422T020840Z
SUMMARY:Foot Loose FC vs. Cornerstone FC
DESCRIPTION:Cornerstone FC vs. Foot Loose FCPlus d'info : #106
X-ALT-DESC;FMTTYPE=text/html:<!DOCTYPE HTML PUBLIC "-//W3C//DTD HTML 3.2//E
	N">\n<HTML>\n<HEAD>\n<TITLE></TITLE>\n</HEAD>\n<BODY>\n<h3>Cornerstone FC v
	s. Foot Loose FC</h3>Plus d'info : <a href="https://www.golnetwork.com/game
	/v/45542/">#106</a>\n\n</BODY>\n</HTML>
STATUS:CONFIRMED
CLASS:PUBLIC
URL:https://www.golnetwork.com/game/v/45542/
X-MICROSOFT-CDO-BUSYSTATUS:BUSY
X-MICROSOFT-CDO-IMPORTANCE:1
END:VEVENT
BEGIN:VEVENT
UID:g4jif@games.golnetwork.com
LOCATION:Hornet's Nest #2
GEO:45.4428309;-75.575268
CREATED:20140130T202356Z
DTSTART:20140221T040000Z
DTEND:20140221T045000Z
DTSTAMP:20260422T020840Z
SUMMARY:Fm FC vs. Missile-toe
DESCRIPTION:Missile-toe vs. Fm FCPlus d'info : #112
X-ALT-DESC;FMTTYPE=text/html:<!DOCTYPE HTML PUBLIC "-//W3C//DTD HTML 3.2//E
	N">\n<HTML>\n<HEAD>\n<TITLE></TITLE>\n</HEAD>\n<BODY>\n<h3>Missile-toe vs. 
	Fm FC</h3>Plus d'info : <a href="https://www.golnetwork.com/game/v/45543/">
	#112</a>\n\n</BODY>\n</HTML>
STATUS:CONFIRMED
CLASS:PUBLIC
URL:https://www.golnetwork.com/game/v/45543/
X-MICROSOFT-CDO-BUSYSTATUS:BUSY
X-MICROSOFT-CDO-IMPORTANCE:1
END:VEVENT
END:VCALENDAR
