BEGIN:VCALENDAR
PRODID:-//gdesolutions.com//MV Framework 1.0.0.1607 Calendar//EN
VERSION:2.0
METHOD:PUBLISH
CALSCALE:GREGORIAN
BEGIN:VEVENT
UID:g575b@games.golnetwork.com
LOCATION:Jesse Ketchum Field
CREATED:20140505T174713Z
DTSTART:20140510T173000Z
DTEND:20140510T184500Z
DTSTAMP:20260423T013005Z
SUMMARY:ABCDE FC vs. MPA (Blue)
DESCRIPTION:MPA (Blue) vs. ABCDE FCPlus d'info : #9
X-ALT-DESC;FMTTYPE=text/html:<!DOCTYPE HTML PUBLIC "-//W3C//DTD HTML 3.2//E
	N">\n<HTML>\n<HEAD>\n<TITLE></TITLE>\n</HEAD>\n<BODY>\n<h3>MPA (Blue) vs. A
	BCDE FC</h3>Plus d'info : <a href="https://www.golnetwork.com/game/v/50833/
	">#9</a>\n\n</BODY>\n</HTML>
STATUS:CONFIRMED
CLASS:PUBLIC
URL:https://www.golnetwork.com/game/v/50833/
X-MICROSOFT-CDO-BUSYSTATUS:BUSY
X-MICROSOFT-CDO-IMPORTANCE:1
END:VEVENT
BEGIN:VEVENT
UID:g575d@games.golnetwork.com
LOCATION:Jesse Ketchum Field
CREATED:20140505T174713Z
DTSTART:20140510T184500Z
DTEND:20140510T200000Z
DTSTAMP:20260423T013005Z
SUMMARY:Team Rocket vs. Barely Athletic FC
DESCRIPTION:Barely Athletic FC vs. Team RocketPlus d'info : #10
X-ALT-DESC;FMTTYPE=text/html:<!DOCTYPE HTML PUBLIC "-//W3C//DTD HTML 3.2//E
	N">\n<HTML>\n<HEAD>\n<TITLE></TITLE>\n</HEAD>\n<BODY>\n<h3>Barely Athletic 
	FC vs. Team Rocket</h3>Plus d'info : <a href="https://www.golnetwork.com/ga
	me/v/50834/">#10</a>\n\n</BODY>\n</HTML>
STATUS:CONFIRMED
CLASS:PUBLIC
URL:https://www.golnetwork.com/game/v/50834/
X-MICROSOFT-CDO-BUSYSTATUS:BUSY
X-MICROSOFT-CDO-IMPORTANCE:1
END:VEVENT
BEGIN:VEVENT
UID:g575f@games.golnetwork.com
LOCATION:Jesse Ketchum Field
CREATED:20140505T174713Z
DTSTART:20140510T200000Z
DTEND:20140510T211500Z
DTSTAMP:20260423T013005Z
SUMMARY:XTSC Hattrick Heroes vs.  Turf Beasts
DESCRIPTION: Turf Beasts vs. XTSC Hattrick HeroesPlus d'info : #11
X-ALT-DESC;FMTTYPE=text/html:<!DOCTYPE HTML PUBLIC "-//W3C//DTD HTML 3.2//E
	N">\n<HTML>\n<HEAD>\n<TITLE></TITLE>\n</HEAD>\n<BODY>\n<h3> Turf Beasts vs.
	 XTSC Hattrick Heroes</h3>Plus d'info : <a href="https://www.golnetwork.com
	/game/v/50835/">#11</a>\n\n</BODY>\n</HTML>
STATUS:CONFIRMED
CLASS:PUBLIC
URL:https://www.golnetwork.com/game/v/50835/
X-MICROSOFT-CDO-BUSYSTATUS:BUSY
X-MICROSOFT-CDO-IMPORTANCE:1
END:VEVENT
BEGIN:VEVENT
UID:g575h@games.golnetwork.com
LOCATION:Jesse Ketchum Field
CREATED:20140505T174713Z
DTSTART:20140517T173000Z
DTEND:20140517T184500Z
DTSTAMP:20260423T013005Z
SUMMARY: Turf Beasts vs. Barely Athletic FC
DESCRIPTION:Barely Athletic FC vs.  Turf BeastsPlus d'info : #16
X-ALT-DESC;FMTTYPE=text/html:<!DOCTYPE HTML PUBLIC "-//W3C//DTD HTML 3.2//E
	N">\n<HTML>\n<HEAD>\n<TITLE></TITLE>\n</HEAD>\n<BODY>\n<h3>Barely Athletic 
	FC vs.  Turf Beasts</h3>Plus d'info : <a href="https://www.golnetwork.com/g
	ame/v/50836/">#16</a>\n\n</BODY>\n</HTML>
STATUS:CONFIRMED
CLASS:PUBLIC
URL:https://www.golnetwork.com/game/v/50836/
X-MICROSOFT-CDO-BUSYSTATUS:BUSY
X-MICROSOFT-CDO-IMPORTANCE:1
END:VEVENT
BEGIN:VEVENT
UID:g575j@games.golnetwork.com
LOCATION:Jesse Ketchum Field
CREATED:20140505T174713Z
DTSTART:20140517T184500Z
DTEND:20140517T200000Z
DTSTAMP:20260423T013005Z
SUMMARY:XTSC Hattrick Heroes vs. MPA (Blue)
DESCRIPTION:MPA (Blue) vs. XTSC Hattrick HeroesPlus d'info : #17
X-ALT-DESC;FMTTYPE=text/html:<!DOCTYPE HTML PUBLIC "-//W3C//DTD HTML 3.2//E
	N">\n<HTML>\n<HEAD>\n<TITLE></TITLE>\n</HEAD>\n<BODY>\n<h3>MPA (Blue) vs. X
	TSC Hattrick Heroes</h3>Plus d'info : <a href="https://www.golnetwork.com/g
	ame/v/50837/">#17</a>\n\n</BODY>\n</HTML>
STATUS:CONFIRMED
CLASS:PUBLIC
URL:https://www.golnetwork.com/game/v/50837/
X-MICROSOFT-CDO-BUSYSTATUS:BUSY
X-MICROSOFT-CDO-IMPORTANCE:1
END:VEVENT
BEGIN:VEVENT
UID:g575l@games.golnetwork.com
LOCATION:Jesse Ketchum Field
CREATED:20140505T174713Z
DTSTART:20140517T200000Z
DTEND:20140517T211500Z
DTSTAMP:20260423T013005Z
SUMMARY:Aztecas vs. ABCDE FC
DESCRIPTION:ABCDE FC vs. AztecasPlus d'info : #18
X-ALT-DESC;FMTTYPE=text/html:<!DOCTYPE HTML PUBLIC "-//W3C//DTD HTML 3.2//E
	N">\n<HTML>\n<HEAD>\n<TITLE></TITLE>\n</HEAD>\n<BODY>\n<h3>ABCDE FC vs. Azt
	ecas</h3>Plus d'info : <a href="https://www.golnetwork.com/game/v/50838/">#
	18</a>\n\n</BODY>\n</HTML>
STATUS:CONFIRMED
CLASS:PUBLIC
URL:https://www.golnetwork.com/game/v/50838/
X-MICROSOFT-CDO-BUSYSTATUS:BUSY
X-MICROSOFT-CDO-IMPORTANCE:1
END:VEVENT
BEGIN:VEVENT
UID:g5a4d@games.golnetwork.com
LOCATION:Jesse Ketchum Field
CREATED:20140515T174044Z
DTSTART:20140517T211500Z
DTEND:20140517T223000Z
DTSTAMP:20260423T013005Z
SUMMARY:Aztecas vs. Team Rocket
DESCRIPTION:Team Rocket vs. AztecasPlus d'info : #19
X-ALT-DESC;FMTTYPE=text/html:<!DOCTYPE HTML PUBLIC "-//W3C//DTD HTML 3.2//E
	N">\n<HTML>\n<HEAD>\n<TITLE></TITLE>\n</HEAD>\n<BODY>\n<h3>Team Rocket vs. 
	Aztecas</h3>Plus d'info : <a href="https://www.golnetwork.com/game/v/51914/
	">#19</a>\n\n</BODY>\n</HTML>
STATUS:CONFIRMED
CLASS:PUBLIC
URL:https://www.golnetwork.com/game/v/51914/
X-MICROSOFT-CDO-BUSYSTATUS:BUSY
X-MICROSOFT-CDO-IMPORTANCE:1
END:VEVENT
BEGIN:VEVENT
UID:g5a4f@games.golnetwork.com
LOCATION:Jesse Ketchum Field
CREATED:20140515T182056Z
DTSTART:20140524T173000Z
DTEND:20140524T184500Z
DTSTAMP:20260423T013005Z
SUMMARY:Team Rocket vs. ABCDE FC
DESCRIPTION:ABCDE FC vs. Team RocketPlus d'info : #24
X-ALT-DESC;FMTTYPE=text/html:<!DOCTYPE HTML PUBLIC "-//W3C//DTD HTML 3.2//E
	N">\n<HTML>\n<HEAD>\n<TITLE></TITLE>\n</HEAD>\n<BODY>\n<h3>ABCDE FC vs. Tea
	m Rocket</h3>Plus d'info : <a href="https://www.golnetwork.com/game/v/51915
	/">#24</a>\n\n</BODY>\n</HTML>
STATUS:CONFIRMED
CLASS:PUBLIC
URL:https://www.golnetwork.com/game/v/51915/
X-MICROSOFT-CDO-BUSYSTATUS:BUSY
X-MICROSOFT-CDO-IMPORTANCE:1
END:VEVENT
BEGIN:VEVENT
UID:g5a4h@games.golnetwork.com
LOCATION:Jesse Ketchum Field
CREATED:20140515T182056Z
DTSTART:20140524T184500Z
DTEND:20140524T200000Z
DTSTAMP:20260423T013005Z
SUMMARY:XTSC Hattrick Heroes vs. Barely Athletic FC
DESCRIPTION:Barely Athletic FC vs. XTSC Hattrick HeroesPlus d'info : #25
X-ALT-DESC;FMTTYPE=text/html:<!DOCTYPE HTML PUBLIC "-//W3C//DTD HTML 3.2//E
	N">\n<HTML>\n<HEAD>\n<TITLE></TITLE>\n</HEAD>\n<BODY>\n<h3>Barely Athletic 
	FC vs. XTSC Hattrick Heroes</h3>Plus d'info : <a href="https://www.golnetwo
	rk.com/game/v/51916/">#25</a>\n\n</BODY>\n</HTML>
STATUS:CONFIRMED
CLASS:PUBLIC
URL:https://www.golnetwork.com/game/v/51916/
X-MICROSOFT-CDO-BUSYSTATUS:BUSY
X-MICROSOFT-CDO-IMPORTANCE:1
END:VEVENT
BEGIN:VEVENT
UID:g5a4j@games.golnetwork.com
LOCATION:Jesse Ketchum Field
CREATED:20140515T182056Z
DTSTART:20140524T200000Z
DTEND:20140524T211500Z
DTSTAMP:20260423T013005Z
SUMMARY:MPA (Blue) vs. Aztecas
DESCRIPTION:Aztecas vs. MPA (Blue)Plus d'info : #26
X-ALT-DESC;FMTTYPE=text/html:<!DOCTYPE HTML PUBLIC "-//W3C//DTD HTML 3.2//E
	N">\n<HTML>\n<HEAD>\n<TITLE></TITLE>\n</HEAD>\n<BODY>\n<h3>Aztecas vs. MPA 
	(Blue)</h3>Plus d'info : <a href="https://www.golnetwork.com/game/v/51917/"
	>#26</a>\n\n</BODY>\n</HTML>
STATUS:CONFIRMED
CLASS:PUBLIC
URL:https://www.golnetwork.com/game/v/51917/
X-MICROSOFT-CDO-BUSYSTATUS:BUSY
X-MICROSOFT-CDO-IMPORTANCE:1
END:VEVENT
BEGIN:VEVENT
UID:g5a4l@games.golnetwork.com
LOCATION:Jesse Ketchum Field
CREATED:20140515T182056Z
DTSTART:20140524T211500Z
DTEND:20140524T223000Z
DTSTAMP:20260423T013005Z
SUMMARY:MPA (Blue) vs.  Turf Beasts
DESCRIPTION: Turf Beasts vs. MPA (Blue)Plus d'info : #27
X-ALT-DESC;FMTTYPE=text/html:<!DOCTYPE HTML PUBLIC "-//W3C//DTD HTML 3.2//E
	N">\n<HTML>\n<HEAD>\n<TITLE></TITLE>\n</HEAD>\n<BODY>\n<h3> Turf Beasts vs.
	 MPA (Blue)</h3>Plus d'info : <a href="https://www.golnetwork.com/game/v/51
	918/">#27</a>\n\n</BODY>\n</HTML>
STATUS:CONFIRMED
CLASS:PUBLIC
URL:https://www.golnetwork.com/game/v/51918/
X-MICROSOFT-CDO-BUSYSTATUS:BUSY
X-MICROSOFT-CDO-IMPORTANCE:1
END:VEVENT
BEGIN:VEVENT
UID:g5a4n@games.golnetwork.com
LOCATION:Jesse Ketchum Field
CREATED:20140515T182056Z
DTSTART:20140531T173000Z
DTEND:20140531T184500Z
DTSTAMP:20260423T013005Z
SUMMARY:MPA (Blue) vs. Barely Athletic FC
DESCRIPTION:Barely Athletic FC vs. MPA (Blue)Plus d'info : #32
X-ALT-DESC;FMTTYPE=text/html:<!DOCTYPE HTML PUBLIC "-//W3C//DTD HTML 3.2//E
	N">\n<HTML>\n<HEAD>\n<TITLE></TITLE>\n</HEAD>\n<BODY>\n<h3>Barely Athletic 
	FC vs. MPA (Blue)</h3>Plus d'info : <a href="https://www.golnetwork.com/gam
	e/v/51919/">#32</a>\n\n</BODY>\n</HTML>
STATUS:CONFIRMED
CLASS:PUBLIC
URL:https://www.golnetwork.com/game/v/51919/
X-MICROSOFT-CDO-BUSYSTATUS:BUSY
X-MICROSOFT-CDO-IMPORTANCE:1
END:VEVENT
BEGIN:VEVENT
UID:g5a4p@games.golnetwork.com
LOCATION:Jesse Ketchum Field
CREATED:20140515T182056Z
DTSTART:20140531T184500Z
DTEND:20140531T200000Z
DTSTAMP:20260423T013005Z
SUMMARY:Aztecas vs. Barely Athletic FC
DESCRIPTION:Barely Athletic FC vs. AztecasPlus d'info : #33
X-ALT-DESC;FMTTYPE=text/html:<!DOCTYPE HTML PUBLIC "-//W3C//DTD HTML 3.2//E
	N">\n<HTML>\n<HEAD>\n<TITLE></TITLE>\n</HEAD>\n<BODY>\n<h3>Barely Athletic 
	FC vs. Aztecas</h3>Plus d'info : <a href="https://www.golnetwork.com/game/v
	/51920/">#33</a>\n\n</BODY>\n</HTML>
STATUS:CONFIRMED
CLASS:PUBLIC
URL:https://www.golnetwork.com/game/v/51920/
X-MICROSOFT-CDO-BUSYSTATUS:BUSY
X-MICROSOFT-CDO-IMPORTANCE:1
END:VEVENT
BEGIN:VEVENT
UID:g5a50@games.golnetwork.com
LOCATION:Jesse Ketchum Field
CREATED:20140515T182056Z
DTSTART:20140531T200000Z
DTEND:20140531T211500Z
DTSTAMP:20260423T013005Z
SUMMARY:Team Rocket vs.  Turf Beasts
DESCRIPTION: Turf Beasts vs. Team RocketPlus d'info : #34
X-ALT-DESC;FMTTYPE=text/html:<!DOCTYPE HTML PUBLIC "-//W3C//DTD HTML 3.2//E
	N">\n<HTML>\n<HEAD>\n<TITLE></TITLE>\n</HEAD>\n<BODY>\n<h3> Turf Beasts vs.
	 Team Rocket</h3>Plus d'info : <a href="https://www.golnetwork.com/game/v/5
	1921/">#34</a>\n\n</BODY>\n</HTML>
STATUS:CONFIRMED
CLASS:PUBLIC
URL:https://www.golnetwork.com/game/v/51921/
X-MICROSOFT-CDO-BUSYSTATUS:BUSY
X-MICROSOFT-CDO-IMPORTANCE:1
END:VEVENT
BEGIN:VEVENT
UID:g5a52@games.golnetwork.com
LOCATION:Jesse Ketchum Field
CREATED:20140515T182056Z
DTSTART:20140531T211500Z
DTEND:20140531T223000Z
DTSTAMP:20260423T013005Z
SUMMARY:XTSC Hattrick Heroes vs. ABCDE FC
DESCRIPTION:ABCDE FC vs. XTSC Hattrick HeroesPlus d'info : #35
X-ALT-DESC;FMTTYPE=text/html:<!DOCTYPE HTML PUBLIC "-//W3C//DTD HTML 3.2//E
	N">\n<HTML>\n<HEAD>\n<TITLE></TITLE>\n</HEAD>\n<BODY>\n<h3>ABCDE FC vs. XTS
	C Hattrick Heroes</h3>Plus d'info : <a href="https://www.golnetwork.com/gam
	e/v/51922/">#35</a>\n\n</BODY>\n</HTML>
STATUS:CONFIRMED
CLASS:PUBLIC
URL:https://www.golnetwork.com/game/v/51922/
X-MICROSOFT-CDO-BUSYSTATUS:BUSY
X-MICROSOFT-CDO-IMPORTANCE:1
END:VEVENT
BEGIN:VEVENT
UID:g5a54@games.golnetwork.com
LOCATION:Jesse Ketchum Field
CREATED:20140515T182056Z
DTSTART:20140607T173000Z
DTEND:20140607T184500Z
DTSTAMP:20260423T013005Z
SUMMARY:Barely Athletic FC vs. ABCDE FC
DESCRIPTION:ABCDE FC vs. Barely Athletic FCPlus d'info : #40
X-ALT-DESC;FMTTYPE=text/html:<!DOCTYPE HTML PUBLIC "-//W3C//DTD HTML 3.2//E
	N">\n<HTML>\n<HEAD>\n<TITLE></TITLE>\n</HEAD>\n<BODY>\n<h3>ABCDE FC vs. Bar
	ely Athletic FC</h3>Plus d'info : <a href="https://www.golnetwork.com/game/
	v/51923/">#40</a>\n\n</BODY>\n</HTML>
STATUS:CONFIRMED
CLASS:PUBLIC
URL:https://www.golnetwork.com/game/v/51923/
X-MICROSOFT-CDO-BUSYSTATUS:BUSY
X-MICROSOFT-CDO-IMPORTANCE:1
END:VEVENT
BEGIN:VEVENT
UID:g5a56@games.golnetwork.com
LOCATION:Jesse Ketchum Field
CREATED:20140515T182056Z
DTSTART:20140607T184500Z
DTEND:20140607T200000Z
DTSTAMP:20260423T013005Z
SUMMARY: Turf Beasts vs. ABCDE FC
DESCRIPTION:ABCDE FC vs.  Turf BeastsPlus d'info : #41
X-ALT-DESC;FMTTYPE=text/html:<!DOCTYPE HTML PUBLIC "-//W3C//DTD HTML 3.2//E
	N">\n<HTML>\n<HEAD>\n<TITLE></TITLE>\n</HEAD>\n<BODY>\n<h3>ABCDE FC vs.  Tu
	rf Beasts</h3>Plus d'info : <a href="https://www.golnetwork.com/game/v/5192
	4/">#41</a>\n\n</BODY>\n</HTML>
STATUS:CONFIRMED
CLASS:PUBLIC
URL:https://www.golnetwork.com/game/v/51924/
X-MICROSOFT-CDO-BUSYSTATUS:BUSY
X-MICROSOFT-CDO-IMPORTANCE:1
END:VEVENT
BEGIN:VEVENT
UID:g5a58@games.golnetwork.com
LOCATION:Jesse Ketchum Field
CREATED:20140515T182056Z
DTSTART:20140607T200000Z
DTEND:20140607T211500Z
DTSTAMP:20260423T013005Z
SUMMARY:Team Rocket vs. MPA (Blue)
DESCRIPTION:MPA (Blue) vs. Team RocketPlus d'info : #42
X-ALT-DESC;FMTTYPE=text/html:<!DOCTYPE HTML PUBLIC "-//W3C//DTD HTML 3.2//E
	N">\n<HTML>\n<HEAD>\n<TITLE></TITLE>\n</HEAD>\n<BODY>\n<h3>MPA (Blue) vs. T
	eam Rocket</h3>Plus d'info : <a href="https://www.golnetwork.com/game/v/519
	25/">#42</a>\n\n</BODY>\n</HTML>
STATUS:CONFIRMED
CLASS:PUBLIC
URL:https://www.golnetwork.com/game/v/51925/
X-MICROSOFT-CDO-BUSYSTATUS:BUSY
X-MICROSOFT-CDO-IMPORTANCE:1
END:VEVENT
BEGIN:VEVENT
UID:g5a5a@games.golnetwork.com
LOCATION:Jesse Ketchum Field
CREATED:20140515T182056Z
DTSTART:20140607T211500Z
DTEND:20140607T223000Z
DTSTAMP:20260423T013005Z
SUMMARY:XTSC Hattrick Heroes vs. Aztecas
DESCRIPTION:Aztecas vs. XTSC Hattrick HeroesPlus d'info : #43
X-ALT-DESC;FMTTYPE=text/html:<!DOCTYPE HTML PUBLIC "-//W3C//DTD HTML 3.2//E
	N">\n<HTML>\n<HEAD>\n<TITLE></TITLE>\n</HEAD>\n<BODY>\n<h3>Aztecas vs. XTSC
	 Hattrick Heroes</h3>Plus d'info : <a href="https://www.golnetwork.com/game
	/v/51926/">#43</a>\n\n</BODY>\n</HTML>
STATUS:CONFIRMED
CLASS:PUBLIC
URL:https://www.golnetwork.com/game/v/51926/
X-MICROSOFT-CDO-BUSYSTATUS:BUSY
X-MICROSOFT-CDO-IMPORTANCE:1
END:VEVENT
BEGIN:VEVENT
UID:g5a5c@games.golnetwork.com
LOCATION:Jesse Ketchum Field
CREATED:20140515T182056Z
DTSTART:20140614T173000Z
DTEND:20140614T184500Z
DTSTAMP:20260423T013005Z
SUMMARY:Aztecas vs.  Turf Beasts
DESCRIPTION: Turf Beasts vs. AztecasPlus d'info : #48
X-ALT-DESC;FMTTYPE=text/html:<!DOCTYPE HTML PUBLIC "-//W3C//DTD HTML 3.2//E
	N">\n<HTML>\n<HEAD>\n<TITLE></TITLE>\n</HEAD>\n<BODY>\n<h3> Turf Beasts vs.
	 Aztecas</h3>Plus d'info : <a href="https://www.golnetwork.com/game/v/51927
	/">#48</a>\n\n</BODY>\n</HTML>
STATUS:CONFIRMED
CLASS:PUBLIC
URL:https://www.golnetwork.com/game/v/51927/
X-MICROSOFT-CDO-BUSYSTATUS:BUSY
X-MICROSOFT-CDO-IMPORTANCE:1
END:VEVENT
BEGIN:VEVENT
UID:g5a5e@games.golnetwork.com
LOCATION:Jesse Ketchum Field
CREATED:20140515T182056Z
DTSTART:20140614T184500Z
DTEND:20140614T200000Z
DTSTAMP:20260423T013005Z
SUMMARY:XTSC Hattrick Heroes vs. Team Rocket
DESCRIPTION:Team Rocket vs. XTSC Hattrick HeroesPlus d'info : #49
X-ALT-DESC;FMTTYPE=text/html:<!DOCTYPE HTML PUBLIC "-//W3C//DTD HTML 3.2//E
	N">\n<HTML>\n<HEAD>\n<TITLE></TITLE>\n</HEAD>\n<BODY>\n<h3>Team Rocket vs. 
	XTSC Hattrick Heroes</h3>Plus d'info : <a href="https://www.golnetwork.com/
	game/v/51928/">#49</a>\n\n</BODY>\n</HTML>
STATUS:CONFIRMED
CLASS:PUBLIC
URL:https://www.golnetwork.com/game/v/51928/
X-MICROSOFT-CDO-BUSYSTATUS:BUSY
X-MICROSOFT-CDO-IMPORTANCE:1
END:VEVENT
BEGIN:VEVENT
UID:g5a5g@games.golnetwork.com
LOCATION:Jesse Ketchum Field
CREATED:20140515T182056Z
DTSTART:20140614T200000Z
DTEND:20140614T211500Z
DTSTAMP:20260423T013005Z
SUMMARY:Barely Athletic FC vs. Team Rocket
DESCRIPTION:Team Rocket vs. Barely Athletic FCPlus d'info : #50
X-ALT-DESC;FMTTYPE=text/html:<!DOCTYPE HTML PUBLIC "-//W3C//DTD HTML 3.2//E
	N">\n<HTML>\n<HEAD>\n<TITLE></TITLE>\n</HEAD>\n<BODY>\n<h3>Team Rocket vs. 
	Barely Athletic FC</h3>Plus d'info : <a href="https://www.golnetwork.com/ga
	me/v/51929/">#50</a>\n\n</BODY>\n</HTML>
STATUS:CONFIRMED
CLASS:PUBLIC
URL:https://www.golnetwork.com/game/v/51929/
X-MICROSOFT-CDO-BUSYSTATUS:BUSY
X-MICROSOFT-CDO-IMPORTANCE:1
END:VEVENT
BEGIN:VEVENT
UID:g5a5i@games.golnetwork.com
LOCATION:Jesse Ketchum Field
CREATED:20140515T182056Z
DTSTART:20140614T211500Z
DTEND:20140614T223000Z
DTSTAMP:20260423T013005Z
SUMMARY:MPA (Blue) vs. ABCDE FC
DESCRIPTION:ABCDE FC vs. MPA (Blue)Plus d'info : #51
X-ALT-DESC;FMTTYPE=text/html:<!DOCTYPE HTML PUBLIC "-//W3C//DTD HTML 3.2//E
	N">\n<HTML>\n<HEAD>\n<TITLE></TITLE>\n</HEAD>\n<BODY>\n<h3>ABCDE FC vs. MPA
	 (Blue)</h3>Plus d'info : <a href="https://www.golnetwork.com/game/v/51930/
	">#51</a>\n\n</BODY>\n</HTML>
STATUS:CONFIRMED
CLASS:PUBLIC
URL:https://www.golnetwork.com/game/v/51930/
X-MICROSOFT-CDO-BUSYSTATUS:BUSY
X-MICROSOFT-CDO-IMPORTANCE:1
END:VEVENT
BEGIN:VEVENT
UID:g5a5k@games.golnetwork.com
LOCATION:Jesse Ketchum Field
CREATED:20140515T182056Z
DTSTART:20140621T173000Z
DTEND:20140621T184500Z
DTSTAMP:20260423T013005Z
SUMMARY:XTSC Hattrick Heroes vs.  Turf Beasts
DESCRIPTION: Turf Beasts vs. XTSC Hattrick HeroesPlus d'info : #56
X-ALT-DESC;FMTTYPE=text/html:<!DOCTYPE HTML PUBLIC "-//W3C//DTD HTML 3.2//E
	N">\n<HTML>\n<HEAD>\n<TITLE></TITLE>\n</HEAD>\n<BODY>\n<h3> Turf Beasts vs.
	 XTSC Hattrick Heroes</h3>Plus d'info : <a href="https://www.golnetwork.com
	/game/v/51931/">#56</a>\n\n</BODY>\n</HTML>
STATUS:CONFIRMED
CLASS:PUBLIC
URL:https://www.golnetwork.com/game/v/51931/
X-MICROSOFT-CDO-BUSYSTATUS:BUSY
X-MICROSOFT-CDO-IMPORTANCE:1
END:VEVENT
BEGIN:VEVENT
UID:g5a5m@games.golnetwork.com
LOCATION:Jesse Ketchum Field
CREATED:20140515T182056Z
DTSTART:20140621T184500Z
DTEND:20140621T200000Z
DTSTAMP:20260423T013005Z
SUMMARY:XTSC Hattrick Heroes vs. MPA (Blue)
DESCRIPTION:MPA (Blue) vs. XTSC Hattrick HeroesPlus d'info : #57
X-ALT-DESC;FMTTYPE=text/html:<!DOCTYPE HTML PUBLIC "-//W3C//DTD HTML 3.2//E
	N">\n<HTML>\n<HEAD>\n<TITLE></TITLE>\n</HEAD>\n<BODY>\n<h3>MPA (Blue) vs. X
	TSC Hattrick Heroes</h3>Plus d'info : <a href="https://www.golnetwork.com/g
	ame/v/51932/">#57</a>\n\n</BODY>\n</HTML>
STATUS:CONFIRMED
CLASS:PUBLIC
URL:https://www.golnetwork.com/game/v/51932/
X-MICROSOFT-CDO-BUSYSTATUS:BUSY
X-MICROSOFT-CDO-IMPORTANCE:1
END:VEVENT
BEGIN:VEVENT
UID:g5a5o@games.golnetwork.com
LOCATION:Jesse Ketchum Field
CREATED:20140515T182056Z
DTSTART:20140621T200000Z
DTEND:20140621T211500Z
DTSTAMP:20260423T013005Z
SUMMARY:Barely Athletic FC vs. Aztecas
DESCRIPTION:Aztecas vs. Barely Athletic FCPlus d'info : #58
X-ALT-DESC;FMTTYPE=text/html:<!DOCTYPE HTML PUBLIC "-//W3C//DTD HTML 3.2//E
	N">\n<HTML>\n<HEAD>\n<TITLE></TITLE>\n</HEAD>\n<BODY>\n<h3>Aztecas vs. Bare
	ly Athletic FC</h3>Plus d'info : <a href="https://www.golnetwork.com/game/v
	/51933/">#58</a>\n\n</BODY>\n</HTML>
STATUS:CONFIRMED
CLASS:PUBLIC
URL:https://www.golnetwork.com/game/v/51933/
X-MICROSOFT-CDO-BUSYSTATUS:BUSY
X-MICROSOFT-CDO-IMPORTANCE:1
END:VEVENT
BEGIN:VEVENT
UID:g5a5q@games.golnetwork.com
LOCATION:Jesse Ketchum Field
CREATED:20140515T182056Z
DTSTART:20140621T211500Z
DTEND:20140621T223000Z
DTSTAMP:20260423T013005Z
SUMMARY:ABCDE FC vs. Team Rocket
DESCRIPTION:Team Rocket vs. ABCDE FCPlus d'info : #59
X-ALT-DESC;FMTTYPE=text/html:<!DOCTYPE HTML PUBLIC "-//W3C//DTD HTML 3.2//E
	N">\n<HTML>\n<HEAD>\n<TITLE></TITLE>\n</HEAD>\n<BODY>\n<h3>Team Rocket vs. 
	ABCDE FC</h3>Plus d'info : <a href="https://www.golnetwork.com/game/v/51934
	/">#59</a>\n\n</BODY>\n</HTML>
STATUS:CONFIRMED
CLASS:PUBLIC
URL:https://www.golnetwork.com/game/v/51934/
X-MICROSOFT-CDO-BUSYSTATUS:BUSY
X-MICROSOFT-CDO-IMPORTANCE:1
END:VEVENT
BEGIN:VEVENT
UID:g5a61@games.golnetwork.com
LOCATION:Jesse Ketchum Field
CREATED:20140515T182056Z
DTSTART:20140628T173000Z
DTEND:20140628T184500Z
DTSTAMP:20260423T013005Z
SUMMARY:ABCDE FC vs.  Turf Beasts
DESCRIPTION: Turf Beasts vs. ABCDE FCPlus d'info : #64
X-ALT-DESC;FMTTYPE=text/html:<!DOCTYPE HTML PUBLIC "-//W3C//DTD HTML 3.2//E
	N">\n<HTML>\n<HEAD>\n<TITLE></TITLE>\n</HEAD>\n<BODY>\n<h3> Turf Beasts vs.
	 ABCDE FC</h3>Plus d'info : <a href="https://www.golnetwork.com/game/v/5193
	5/">#64</a>\n\n</BODY>\n</HTML>
STATUS:CONFIRMED
CLASS:PUBLIC
URL:https://www.golnetwork.com/game/v/51935/
X-MICROSOFT-CDO-BUSYSTATUS:BUSY
X-MICROSOFT-CDO-IMPORTANCE:1
END:VEVENT
BEGIN:VEVENT
UID:g5a63@games.golnetwork.com
LOCATION:Jesse Ketchum Field
CREATED:20140515T182056Z
DTSTART:20140628T184500Z
DTEND:20140628T200000Z
DTSTAMP:20260423T013005Z
SUMMARY:Barely Athletic FC vs.  Turf Beasts
DESCRIPTION: Turf Beasts vs. Barely Athletic FCPlus d'info : #65
X-ALT-DESC;FMTTYPE=text/html:<!DOCTYPE HTML PUBLIC "-//W3C//DTD HTML 3.2//E
	N">\n<HTML>\n<HEAD>\n<TITLE></TITLE>\n</HEAD>\n<BODY>\n<h3> Turf Beasts vs.
	 Barely Athletic FC</h3>Plus d'info : <a href="https://www.golnetwork.com/g
	ame/v/51936/">#65</a>\n\n</BODY>\n</HTML>
STATUS:CONFIRMED
CLASS:PUBLIC
URL:https://www.golnetwork.com/game/v/51936/
X-MICROSOFT-CDO-BUSYSTATUS:BUSY
X-MICROSOFT-CDO-IMPORTANCE:1
END:VEVENT
BEGIN:VEVENT
UID:g5a65@games.golnetwork.com
LOCATION:Jesse Ketchum Field
CREATED:20140515T182056Z
DTSTART:20140628T200000Z
DTEND:20140628T211500Z
DTSTAMP:20260423T013005Z
SUMMARY:Team Rocket vs. MPA (Blue)
DESCRIPTION:MPA (Blue) vs. Team RocketPlus d'info : #66
X-ALT-DESC;FMTTYPE=text/html:<!DOCTYPE HTML PUBLIC "-//W3C//DTD HTML 3.2//E
	N">\n<HTML>\n<HEAD>\n<TITLE></TITLE>\n</HEAD>\n<BODY>\n<h3>MPA (Blue) vs. T
	eam Rocket</h3>Plus d'info : <a href="https://www.golnetwork.com/game/v/519
	37/">#66</a>\n\n</BODY>\n</HTML>
STATUS:CONFIRMED
CLASS:PUBLIC
URL:https://www.golnetwork.com/game/v/51937/
X-MICROSOFT-CDO-BUSYSTATUS:BUSY
X-MICROSOFT-CDO-IMPORTANCE:1
END:VEVENT
BEGIN:VEVENT
UID:g5a67@games.golnetwork.com
LOCATION:Jesse Ketchum Field
CREATED:20140515T182056Z
DTSTART:20140628T211500Z
DTEND:20140628T223000Z
DTSTAMP:20260423T013005Z
SUMMARY:XTSC Hattrick Heroes vs. Aztecas
DESCRIPTION:Aztecas vs. XTSC Hattrick HeroesPlus d'info : #67
X-ALT-DESC;FMTTYPE=text/html:<!DOCTYPE HTML PUBLIC "-//W3C//DTD HTML 3.2//E
	N">\n<HTML>\n<HEAD>\n<TITLE></TITLE>\n</HEAD>\n<BODY>\n<h3>Aztecas vs. XTSC
	 Hattrick Heroes</h3>Plus d'info : <a href="https://www.golnetwork.com/game
	/v/51938/">#67</a>\n\n</BODY>\n</HTML>
STATUS:CONFIRMED
CLASS:PUBLIC
URL:https://www.golnetwork.com/game/v/51938/
X-MICROSOFT-CDO-BUSYSTATUS:BUSY
X-MICROSOFT-CDO-IMPORTANCE:1
END:VEVENT
BEGIN:VEVENT
UID:g5a69@games.golnetwork.com
LOCATION:Jesse Ketchum Field
CREATED:20140515T182056Z
DTSTART:20140705T173000Z
DTEND:20140705T184500Z
DTSTAMP:20260423T013005Z
SUMMARY:Team Rocket vs. Aztecas
DESCRIPTION:Aztecas vs. Team RocketPlus d'info : #68
X-ALT-DESC;FMTTYPE=text/html:<!DOCTYPE HTML PUBLIC "-//W3C//DTD HTML 3.2//E
	N">\n<HTML>\n<HEAD>\n<TITLE></TITLE>\n</HEAD>\n<BODY>\n<h3>Aztecas vs. Team
	 Rocket</h3>Plus d'info : <a href="https://www.golnetwork.com/game/v/51939/
	">#68</a>\n\n</BODY>\n</HTML>
STATUS:CONFIRMED
CLASS:PUBLIC
URL:https://www.golnetwork.com/game/v/51939/
X-MICROSOFT-CDO-BUSYSTATUS:BUSY
X-MICROSOFT-CDO-IMPORTANCE:1
END:VEVENT
BEGIN:VEVENT
UID:g5a6b@games.golnetwork.com
LOCATION:Jesse Ketchum Field
CREATED:20140515T182056Z
DTSTART:20140705T184500Z
DTEND:20140705T200000Z
DTSTAMP:20260423T013005Z
SUMMARY: Turf Beasts vs. Aztecas
DESCRIPTION:Aztecas vs.  Turf BeastsPlus d'info : #69
X-ALT-DESC;FMTTYPE=text/html:<!DOCTYPE HTML PUBLIC "-//W3C//DTD HTML 3.2//E
	N">\n<HTML>\n<HEAD>\n<TITLE></TITLE>\n</HEAD>\n<BODY>\n<h3>Aztecas vs.  Tur
	f Beasts</h3>Plus d'info : <a href="https://www.golnetwork.com/game/v/51940
	/">#69</a>\n\n</BODY>\n</HTML>
STATUS:CONFIRMED
CLASS:PUBLIC
URL:https://www.golnetwork.com/game/v/51940/
X-MICROSOFT-CDO-BUSYSTATUS:BUSY
X-MICROSOFT-CDO-IMPORTANCE:1
END:VEVENT
BEGIN:VEVENT
UID:g5a6d@games.golnetwork.com
LOCATION:Jesse Ketchum Field
CREATED:20140515T182056Z
DTSTART:20140705T200000Z
DTEND:20140705T211500Z
DTSTAMP:20260423T013005Z
SUMMARY:ABCDE FC vs. Barely Athletic FC
DESCRIPTION:Barely Athletic FC vs. ABCDE FCPlus d'info : #70
X-ALT-DESC;FMTTYPE=text/html:<!DOCTYPE HTML PUBLIC "-//W3C//DTD HTML 3.2//E
	N">\n<HTML>\n<HEAD>\n<TITLE></TITLE>\n</HEAD>\n<BODY>\n<h3>Barely Athletic 
	FC vs. ABCDE FC</h3>Plus d'info : <a href="https://www.golnetwork.com/game/
	v/51941/">#70</a>\n\n</BODY>\n</HTML>
STATUS:CONFIRMED
CLASS:PUBLIC
URL:https://www.golnetwork.com/game/v/51941/
X-MICROSOFT-CDO-BUSYSTATUS:BUSY
X-MICROSOFT-CDO-IMPORTANCE:1
END:VEVENT
BEGIN:VEVENT
UID:g5a6f@games.golnetwork.com
LOCATION:Jesse Ketchum Field
CREATED:20140515T182056Z
DTSTART:20140705T211500Z
DTEND:20140705T223000Z
DTSTAMP:20260423T013005Z
SUMMARY:XTSC Hattrick Heroes vs. MPA (Blue)
DESCRIPTION:MPA (Blue) vs. XTSC Hattrick HeroesPlus d'info : #71
X-ALT-DESC;FMTTYPE=text/html:<!DOCTYPE HTML PUBLIC "-//W3C//DTD HTML 3.2//E
	N">\n<HTML>\n<HEAD>\n<TITLE></TITLE>\n</HEAD>\n<BODY>\n<h3>MPA (Blue) vs. X
	TSC Hattrick Heroes</h3>Plus d'info : <a href="https://www.golnetwork.com/g
	ame/v/51942/">#71</a>\n\n</BODY>\n</HTML>
STATUS:CONFIRMED
CLASS:PUBLIC
URL:https://www.golnetwork.com/game/v/51942/
X-MICROSOFT-CDO-BUSYSTATUS:BUSY
X-MICROSOFT-CDO-IMPORTANCE:1
END:VEVENT
END:VCALENDAR
