BEGIN:VCALENDAR
PRODID:-//gdesolutions.com//MV Framework 1.0.0.1607 Calendar//EN
VERSION:2.0
METHOD:PUBLISH
CALSCALE:GREGORIAN
BEGIN:VEVENT
UID:g4m37@games.golnetwork.com
LOCATION:Monarch Park Stadium - Field 1
GEO:43.6792789;-79.3234873
CREATED:20140228T155611Z
DTSTART:20140303T000000Z
DTEND:20140303T010000Z
DTSTAMP:20260419T193257Z
SUMMARY:DaBears vs. Witness the Fitness
DESCRIPTION:Witness the Fitness vs. DaBearsPlus d'info : #1
X-ALT-DESC;FMTTYPE=text/html:<!DOCTYPE HTML PUBLIC "-//W3C//DTD HTML 3.2//E
	N">\n<HTML>\n<HEAD>\n<TITLE></TITLE>\n</HEAD>\n<BODY>\n<h3>Witness the Fitn
	ess vs. DaBears</h3>Plus d'info : <a href="https://www.golnetwork.com/game/
	v/46430/">#1</a>\n\n</BODY>\n</HTML>
STATUS:CONFIRMED
CLASS:PUBLIC
URL:https://www.golnetwork.com/game/v/46430/
X-MICROSOFT-CDO-BUSYSTATUS:BUSY
X-MICROSOFT-CDO-IMPORTANCE:1
END:VEVENT
BEGIN:VEVENT
UID:g4m39@games.golnetwork.com
LOCATION:Monarch Park Stadium - Field 1
GEO:43.6792789;-79.3234873
CREATED:20140228T155611Z
DTSTART:20140303T010000Z
DTEND:20140303T020000Z
DTSTAMP:20260419T193257Z
SUMMARY:DaBears vs. PSG
DESCRIPTION:PSG vs. DaBearsPlus d'info : #3
X-ALT-DESC;FMTTYPE=text/html:<!DOCTYPE HTML PUBLIC "-//W3C//DTD HTML 3.2//E
	N">\n<HTML>\n<HEAD>\n<TITLE></TITLE>\n</HEAD>\n<BODY>\n<h3>PSG vs. DaBears<
	/h3>Plus d'info : <a href="https://www.golnetwork.com/game/v/46431/">#3</a>
	\n\n</BODY>\n</HTML>
STATUS:CONFIRMED
CLASS:PUBLIC
URL:https://www.golnetwork.com/game/v/46431/
X-MICROSOFT-CDO-BUSYSTATUS:BUSY
X-MICROSOFT-CDO-IMPORTANCE:1
END:VEVENT
BEGIN:VEVENT
UID:g4m3b@games.golnetwork.com
LOCATION:Monarch Park Stadium - Field 1
GEO:43.6792789;-79.3234873
CREATED:20140228T155611Z
DTSTART:20140303T020000Z
DTEND:20140303T030000Z
DTSTAMP:20260419T193257Z
SUMMARY:The Last Minutes! vs. The Cheatin Refs
DESCRIPTION:The Cheatin Refs vs. The Last Minutes!Plus d'info : #5
X-ALT-DESC;FMTTYPE=text/html:<!DOCTYPE HTML PUBLIC "-//W3C//DTD HTML 3.2//E
	N">\n<HTML>\n<HEAD>\n<TITLE></TITLE>\n</HEAD>\n<BODY>\n<h3>The Cheatin Refs
	 vs. The Last Minutes!</h3>Plus d'info : <a href="https://www.golnetwork.co
	m/game/v/46432/">#5</a>\n\n</BODY>\n</HTML>
STATUS:CONFIRMED
CLASS:PUBLIC
URL:https://www.golnetwork.com/game/v/46432/
X-MICROSOFT-CDO-BUSYSTATUS:BUSY
X-MICROSOFT-CDO-IMPORTANCE:1
END:VEVENT
BEGIN:VEVENT
UID:g4m3d@games.golnetwork.com
LOCATION:Monarch Park Stadium - Field 1
GEO:43.6792789;-79.3234873
CREATED:20140228T155611Z
DTSTART:20140309T230000Z
DTEND:20140310T000000Z
DTSTAMP:20260419T193257Z
SUMMARY:The Last Minutes! vs. DaBears
DESCRIPTION:DaBears vs. The Last Minutes!Plus d'info : #10
X-ALT-DESC;FMTTYPE=text/html:<!DOCTYPE HTML PUBLIC "-//W3C//DTD HTML 3.2//E
	N">\n<HTML>\n<HEAD>\n<TITLE></TITLE>\n</HEAD>\n<BODY>\n<h3>DaBears vs. The 
	Last Minutes!</h3>Plus d'info : <a href="https://www.golnetwork.com/game/v/
	46433/">#10</a>\n\n</BODY>\n</HTML>
STATUS:CONFIRMED
CLASS:PUBLIC
URL:https://www.golnetwork.com/game/v/46433/
X-MICROSOFT-CDO-BUSYSTATUS:BUSY
X-MICROSOFT-CDO-IMPORTANCE:1
END:VEVENT
BEGIN:VEVENT
UID:g4m3f@games.golnetwork.com
LOCATION:Monarch Park Stadium - Field 1
GEO:43.6792789;-79.3234873
CREATED:20140228T155611Z
DTSTART:20140310T000000Z
DTEND:20140310T010000Z
DTSTAMP:20260419T193257Z
SUMMARY:Witness the Fitness vs. PSG
DESCRIPTION:PSG vs. Witness the FitnessPlus d'info : #12
X-ALT-DESC;FMTTYPE=text/html:<!DOCTYPE HTML PUBLIC "-//W3C//DTD HTML 3.2//E
	N">\n<HTML>\n<HEAD>\n<TITLE></TITLE>\n</HEAD>\n<BODY>\n<h3>PSG vs. Witness 
	the Fitness</h3>Plus d'info : <a href="https://www.golnetwork.com/game/v/46
	434/">#12</a>\n\n</BODY>\n</HTML>
STATUS:CONFIRMED
CLASS:PUBLIC
URL:https://www.golnetwork.com/game/v/46434/
X-MICROSOFT-CDO-BUSYSTATUS:BUSY
X-MICROSOFT-CDO-IMPORTANCE:1
END:VEVENT
BEGIN:VEVENT
UID:g4m3h@games.golnetwork.com
LOCATION:Monarch Park Stadium - Field 1
GEO:43.6792789;-79.3234873
CREATED:20140228T155611Z
DTSTART:20140310T010000Z
DTEND:20140310T020000Z
DTSTAMP:20260419T193257Z
SUMMARY:Witness the Fitness vs. The Cheatin Refs
DESCRIPTION:The Cheatin Refs vs. Witness the FitnessPlus d'info : #14
X-ALT-DESC;FMTTYPE=text/html:<!DOCTYPE HTML PUBLIC "-//W3C//DTD HTML 3.2//E
	N">\n<HTML>\n<HEAD>\n<TITLE></TITLE>\n</HEAD>\n<BODY>\n<h3>The Cheatin Refs
	 vs. Witness the Fitness</h3>Plus d'info : <a href="https://www.golnetwork.
	com/game/v/46435/">#14</a>\n\n</BODY>\n</HTML>
STATUS:CONFIRMED
CLASS:PUBLIC
URL:https://www.golnetwork.com/game/v/46435/
X-MICROSOFT-CDO-BUSYSTATUS:BUSY
X-MICROSOFT-CDO-IMPORTANCE:1
END:VEVENT
BEGIN:VEVENT
UID:g4m3j@games.golnetwork.com
LOCATION:Monarch Park Stadium - Field 1
GEO:43.6792789;-79.3234873
CREATED:20140228T155611Z
DTSTART:20140316T230000Z
DTEND:20140317T000000Z
DTSTAMP:20260419T193257Z
SUMMARY:PSG vs. The Last Minutes!
DESCRIPTION:The Last Minutes! vs. PSGPlus d'info : #19
X-ALT-DESC;FMTTYPE=text/html:<!DOCTYPE HTML PUBLIC "-//W3C//DTD HTML 3.2//E
	N">\n<HTML>\n<HEAD>\n<TITLE></TITLE>\n</HEAD>\n<BODY>\n<h3>The Last Minutes
	! vs. PSG</h3>Plus d'info : <a href="https://www.golnetwork.com/game/v/4643
	6/">#19</a>\n\n</BODY>\n</HTML>
STATUS:CONFIRMED
CLASS:PUBLIC
URL:https://www.golnetwork.com/game/v/46436/
X-MICROSOFT-CDO-BUSYSTATUS:BUSY
X-MICROSOFT-CDO-IMPORTANCE:1
END:VEVENT
BEGIN:VEVENT
UID:g4m3l@games.golnetwork.com
LOCATION:Monarch Park Stadium - Field 1
GEO:43.6792789;-79.3234873
CREATED:20140228T155611Z
DTSTART:20140317T000000Z
DTEND:20140317T010000Z
DTSTAMP:20260419T193257Z
SUMMARY:Witness the Fitness vs. The Last Minutes!
DESCRIPTION:The Last Minutes! vs. Witness the FitnessPlus d'info : #21
X-ALT-DESC;FMTTYPE=text/html:<!DOCTYPE HTML PUBLIC "-//W3C//DTD HTML 3.2//E
	N">\n<HTML>\n<HEAD>\n<TITLE></TITLE>\n</HEAD>\n<BODY>\n<h3>The Last Minutes
	! vs. Witness the Fitness</h3>Plus d'info : <a href="https://www.golnetwork
	.com/game/v/46437/">#21</a>\n\n</BODY>\n</HTML>
STATUS:CONFIRMED
CLASS:PUBLIC
URL:https://www.golnetwork.com/game/v/46437/
X-MICROSOFT-CDO-BUSYSTATUS:BUSY
X-MICROSOFT-CDO-IMPORTANCE:1
END:VEVENT
BEGIN:VEVENT
UID:g4m3n@games.golnetwork.com
LOCATION:Monarch Park Stadium - Field 1
GEO:43.6792789;-79.3234873
CREATED:20140228T155611Z
DTSTART:20140317T010000Z
DTEND:20140317T020000Z
DTSTAMP:20260419T193257Z
SUMMARY:The Cheatin Refs vs. DaBears
DESCRIPTION:DaBears vs. The Cheatin RefsPlus d'info : #23
X-ALT-DESC;FMTTYPE=text/html:<!DOCTYPE HTML PUBLIC "-//W3C//DTD HTML 3.2//E
	N">\n<HTML>\n<HEAD>\n<TITLE></TITLE>\n</HEAD>\n<BODY>\n<h3>DaBears vs. The 
	Cheatin Refs</h3>Plus d'info : <a href="https://www.golnetwork.com/game/v/4
	6438/">#23</a>\n\n</BODY>\n</HTML>
STATUS:CONFIRMED
CLASS:PUBLIC
URL:https://www.golnetwork.com/game/v/46438/
X-MICROSOFT-CDO-BUSYSTATUS:BUSY
X-MICROSOFT-CDO-IMPORTANCE:1
END:VEVENT
BEGIN:VEVENT
UID:g4m3p@games.golnetwork.com
LOCATION:Monarch Park Stadium - Field 1
GEO:43.6792789;-79.3234873
CREATED:20140228T155611Z
DTSTART:20140323T230000Z
DTEND:20140324T000000Z
DTSTAMP:20260419T193257Z
SUMMARY:Witness the Fitness vs. The Last Minutes!
DESCRIPTION:The Last Minutes! vs. Witness the FitnessPlus d'info : #28
X-ALT-DESC;FMTTYPE=text/html:<!DOCTYPE HTML PUBLIC "-//W3C//DTD HTML 3.2//E
	N">\n<HTML>\n<HEAD>\n<TITLE></TITLE>\n</HEAD>\n<BODY>\n<h3>The Last Minutes
	! vs. Witness the Fitness</h3>Plus d'info : <a href="https://www.golnetwork
	.com/game/v/46439/">#28</a>\n\n</BODY>\n</HTML>
STATUS:CONFIRMED
CLASS:PUBLIC
URL:https://www.golnetwork.com/game/v/46439/
X-MICROSOFT-CDO-BUSYSTATUS:BUSY
X-MICROSOFT-CDO-IMPORTANCE:1
END:VEVENT
BEGIN:VEVENT
UID:g4m40@games.golnetwork.com
LOCATION:Monarch Park Stadium - Field 1
GEO:43.6792789;-79.3234873
CREATED:20140228T155611Z
DTSTART:20140324T000000Z
DTEND:20140324T010000Z
DTSTAMP:20260419T193257Z
SUMMARY:DaBears vs. PSG
DESCRIPTION:PSG vs. DaBearsPlus d'info : #30
X-ALT-DESC;FMTTYPE=text/html:<!DOCTYPE HTML PUBLIC "-//W3C//DTD HTML 3.2//E
	N">\n<HTML>\n<HEAD>\n<TITLE></TITLE>\n</HEAD>\n<BODY>\n<h3>PSG vs. DaBears<
	/h3>Plus d'info : <a href="https://www.golnetwork.com/game/v/46440/">#30</a
	>\n\n</BODY>\n</HTML>
STATUS:CONFIRMED
CLASS:PUBLIC
URL:https://www.golnetwork.com/game/v/46440/
X-MICROSOFT-CDO-BUSYSTATUS:BUSY
X-MICROSOFT-CDO-IMPORTANCE:1
END:VEVENT
BEGIN:VEVENT
UID:g4m42@games.golnetwork.com
LOCATION:Monarch Park Stadium - Field 1
GEO:43.6792789;-79.3234873
CREATED:20140228T155611Z
DTSTART:20140324T010000Z
DTEND:20140324T020000Z
DTSTAMP:20260419T193257Z
SUMMARY:The Cheatin Refs vs. PSG
DESCRIPTION:PSG vs. The Cheatin RefsPlus d'info : #32
X-ALT-DESC;FMTTYPE=text/html:<!DOCTYPE HTML PUBLIC "-//W3C//DTD HTML 3.2//E
	N">\n<HTML>\n<HEAD>\n<TITLE></TITLE>\n</HEAD>\n<BODY>\n<h3>PSG vs. The Chea
	tin Refs</h3>Plus d'info : <a href="https://www.golnetwork.com/game/v/46441
	/">#32</a>\n\n</BODY>\n</HTML>
STATUS:CONFIRMED
CLASS:PUBLIC
URL:https://www.golnetwork.com/game/v/46441/
X-MICROSOFT-CDO-BUSYSTATUS:BUSY
X-MICROSOFT-CDO-IMPORTANCE:1
END:VEVENT
BEGIN:VEVENT
UID:g4m44@games.golnetwork.com
LOCATION:Monarch Park Stadium - Field 1
GEO:43.6792789;-79.3234873
CREATED:20140228T155611Z
DTSTART:20140330T230000Z
DTEND:20140331T000000Z
DTSTAMP:20260419T193257Z
SUMMARY:PSG vs. DaBears
DESCRIPTION:DaBears vs. PSGPlus d'info : #37
X-ALT-DESC;FMTTYPE=text/html:<!DOCTYPE HTML PUBLIC "-//W3C//DTD HTML 3.2//E
	N">\n<HTML>\n<HEAD>\n<TITLE></TITLE>\n</HEAD>\n<BODY>\n<h3>DaBears vs. PSG<
	/h3>Plus d'info : <a href="https://www.golnetwork.com/game/v/46442/">#37</a
	>\n\n</BODY>\n</HTML>
STATUS:CONFIRMED
CLASS:PUBLIC
URL:https://www.golnetwork.com/game/v/46442/
X-MICROSOFT-CDO-BUSYSTATUS:BUSY
X-MICROSOFT-CDO-IMPORTANCE:1
END:VEVENT
BEGIN:VEVENT
UID:g4m46@games.golnetwork.com
LOCATION:Monarch Park Stadium - Field 1
GEO:43.6792789;-79.3234873
CREATED:20140228T155611Z
DTSTART:20140331T000000Z
DTEND:20140331T010000Z
DTSTAMP:20260419T193257Z
SUMMARY:The Cheatin Refs vs. The Last Minutes!
DESCRIPTION:The Last Minutes! vs. The Cheatin RefsPlus d'info : #39
X-ALT-DESC;FMTTYPE=text/html:<!DOCTYPE HTML PUBLIC "-//W3C//DTD HTML 3.2//E
	N">\n<HTML>\n<HEAD>\n<TITLE></TITLE>\n</HEAD>\n<BODY>\n<h3>The Last Minutes
	! vs. The Cheatin Refs</h3>Plus d'info : <a href="https://www.golnetwork.co
	m/game/v/46443/">#39</a>\n\n</BODY>\n</HTML>
STATUS:CONFIRMED
CLASS:PUBLIC
URL:https://www.golnetwork.com/game/v/46443/
X-MICROSOFT-CDO-BUSYSTATUS:BUSY
X-MICROSOFT-CDO-IMPORTANCE:1
END:VEVENT
BEGIN:VEVENT
UID:g4m48@games.golnetwork.com
LOCATION:Monarch Park Stadium - Field 1
GEO:43.6792789;-79.3234873
CREATED:20140228T155611Z
DTSTART:20140331T010000Z
DTEND:20140331T020000Z
DTSTAMP:20260419T193257Z
SUMMARY:The Cheatin Refs vs. Witness the Fitness
DESCRIPTION:Witness the Fitness vs. The Cheatin RefsPlus d'info : #41
X-ALT-DESC;FMTTYPE=text/html:<!DOCTYPE HTML PUBLIC "-//W3C//DTD HTML 3.2//E
	N">\n<HTML>\n<HEAD>\n<TITLE></TITLE>\n</HEAD>\n<BODY>\n<h3>Witness the Fitn
	ess vs. The Cheatin Refs</h3>Plus d'info : <a href="https://www.golnetwork.
	com/game/v/46444/">#41</a>\n\n</BODY>\n</HTML>
STATUS:CONFIRMED
CLASS:PUBLIC
URL:https://www.golnetwork.com/game/v/46444/
X-MICROSOFT-CDO-BUSYSTATUS:BUSY
X-MICROSOFT-CDO-IMPORTANCE:1
END:VEVENT
BEGIN:VEVENT
UID:g4m4a@games.golnetwork.com
LOCATION:Monarch Park Stadium - Field 1
GEO:43.6792789;-79.3234873
CREATED:20140228T155611Z
DTSTART:20140406T230000Z
DTEND:20140407T000000Z
DTSTAMP:20260419T193257Z
SUMMARY:The Last Minutes! vs. DaBears
DESCRIPTION:DaBears vs. The Last Minutes!Plus d'info : #46
X-ALT-DESC;FMTTYPE=text/html:<!DOCTYPE HTML PUBLIC "-//W3C//DTD HTML 3.2//E
	N">\n<HTML>\n<HEAD>\n<TITLE></TITLE>\n</HEAD>\n<BODY>\n<h3>DaBears vs. The 
	Last Minutes!</h3>Plus d'info : <a href="https://www.golnetwork.com/game/v/
	46445/">#46</a>\n\n</BODY>\n</HTML>
STATUS:CONFIRMED
CLASS:PUBLIC
URL:https://www.golnetwork.com/game/v/46445/
X-MICROSOFT-CDO-BUSYSTATUS:BUSY
X-MICROSOFT-CDO-IMPORTANCE:1
END:VEVENT
BEGIN:VEVENT
UID:g4m4c@games.golnetwork.com
LOCATION:Monarch Park Stadium - Field 1
GEO:43.6792789;-79.3234873
CREATED:20140228T155612Z
DTSTART:20140407T000000Z
DTEND:20140407T010000Z
DTSTAMP:20260419T193257Z
SUMMARY:Witness the Fitness vs. DaBears
DESCRIPTION:DaBears vs. Witness the FitnessPlus d'info : #48
X-ALT-DESC;FMTTYPE=text/html:<!DOCTYPE HTML PUBLIC "-//W3C//DTD HTML 3.2//E
	N">\n<HTML>\n<HEAD>\n<TITLE></TITLE>\n</HEAD>\n<BODY>\n<h3>DaBears vs. Witn
	ess the Fitness</h3>Plus d'info : <a href="https://www.golnetwork.com/game/
	v/46446/">#48</a>\n\n</BODY>\n</HTML>
STATUS:CONFIRMED
CLASS:PUBLIC
URL:https://www.golnetwork.com/game/v/46446/
X-MICROSOFT-CDO-BUSYSTATUS:BUSY
X-MICROSOFT-CDO-IMPORTANCE:1
END:VEVENT
BEGIN:VEVENT
UID:g4m4e@games.golnetwork.com
LOCATION:Monarch Park Stadium - Field 1
GEO:43.6792789;-79.3234873
CREATED:20140228T155612Z
DTSTART:20140407T010000Z
DTEND:20140407T020000Z
DTSTAMP:20260419T193257Z
SUMMARY:PSG vs. The Cheatin Refs
DESCRIPTION:The Cheatin Refs vs. PSGPlus d'info : #50
X-ALT-DESC;FMTTYPE=text/html:<!DOCTYPE HTML PUBLIC "-//W3C//DTD HTML 3.2//E
	N">\n<HTML>\n<HEAD>\n<TITLE></TITLE>\n</HEAD>\n<BODY>\n<h3>The Cheatin Refs
	 vs. PSG</h3>Plus d'info : <a href="https://www.golnetwork.com/game/v/46447
	/">#50</a>\n\n</BODY>\n</HTML>
STATUS:CONFIRMED
CLASS:PUBLIC
URL:https://www.golnetwork.com/game/v/46447/
X-MICROSOFT-CDO-BUSYSTATUS:BUSY
X-MICROSOFT-CDO-IMPORTANCE:1
END:VEVENT
BEGIN:VEVENT
UID:g4m4g@games.golnetwork.com
LOCATION:Monarch Park Stadium - Field 1
GEO:43.6792789;-79.3234873
CREATED:20140228T155612Z
DTSTART:20140413T230000Z
DTEND:20140414T000000Z
DTSTAMP:20260419T193257Z
SUMMARY:PSG vs. The Last Minutes!
DESCRIPTION:The Last Minutes! vs. PSGPlus d'info : #55
X-ALT-DESC;FMTTYPE=text/html:<!DOCTYPE HTML PUBLIC "-//W3C//DTD HTML 3.2//E
	N">\n<HTML>\n<HEAD>\n<TITLE></TITLE>\n</HEAD>\n<BODY>\n<h3>The Last Minutes
	! vs. PSG</h3>Plus d'info : <a href="https://www.golnetwork.com/game/v/4644
	8/">#55</a>\n\n</BODY>\n</HTML>
STATUS:CONFIRMED
CLASS:PUBLIC
URL:https://www.golnetwork.com/game/v/46448/
X-MICROSOFT-CDO-BUSYSTATUS:BUSY
X-MICROSOFT-CDO-IMPORTANCE:1
END:VEVENT
BEGIN:VEVENT
UID:g4m4i@games.golnetwork.com
LOCATION:Monarch Park Stadium - Field 1
GEO:43.6792789;-79.3234873
CREATED:20140228T155612Z
DTSTART:20140414T000000Z
DTEND:20140414T010000Z
DTSTAMP:20260419T193257Z
SUMMARY:PSG vs. DaBears
DESCRIPTION:DaBears vs. PSGPlus d'info : #57
X-ALT-DESC;FMTTYPE=text/html:<!DOCTYPE HTML PUBLIC "-//W3C//DTD HTML 3.2//E
	N">\n<HTML>\n<HEAD>\n<TITLE></TITLE>\n</HEAD>\n<BODY>\n<h3>DaBears vs. PSG<
	/h3>Plus d'info : <a href="https://www.golnetwork.com/game/v/46449/">#57</a
	>\n\n</BODY>\n</HTML>
STATUS:CONFIRMED
CLASS:PUBLIC
URL:https://www.golnetwork.com/game/v/46449/
X-MICROSOFT-CDO-BUSYSTATUS:BUSY
X-MICROSOFT-CDO-IMPORTANCE:1
END:VEVENT
BEGIN:VEVENT
UID:g4m4k@games.golnetwork.com
LOCATION:Monarch Park Stadium - Field 1
GEO:43.6792789;-79.3234873
CREATED:20140228T155612Z
DTSTART:20140414T010000Z
DTEND:20140414T020000Z
DTSTAMP:20260419T193257Z
SUMMARY:The Cheatin Refs vs. Witness the Fitness
DESCRIPTION:Witness the Fitness vs. The Cheatin RefsPlus d'info : #59
X-ALT-DESC;FMTTYPE=text/html:<!DOCTYPE HTML PUBLIC "-//W3C//DTD HTML 3.2//E
	N">\n<HTML>\n<HEAD>\n<TITLE></TITLE>\n</HEAD>\n<BODY>\n<h3>Witness the Fitn
	ess vs. The Cheatin Refs</h3>Plus d'info : <a href="https://www.golnetwork.
	com/game/v/46450/">#59</a>\n\n</BODY>\n</HTML>
STATUS:CONFIRMED
CLASS:PUBLIC
URL:https://www.golnetwork.com/game/v/46450/
X-MICROSOFT-CDO-BUSYSTATUS:BUSY
X-MICROSOFT-CDO-IMPORTANCE:1
END:VEVENT
END:VCALENDAR
