BEGIN:VCALENDAR
PRODID:-//gdesolutions.com//MV Framework 1.0.0.1607 Calendar//EN
VERSION:2.0
METHOD:PUBLISH
CALSCALE:GREGORIAN
BEGIN:VEVENT
UID:g4off@games.golnetwork.com
LOCATION:Fieldhouse C & D
GEO:45.10662;-94.578209
CREATED:20140329T060753Z
DTSTART:20140403T223000Z
DTEND:20140403T231400Z
DTSTAMP:20260422T045415Z
SUMMARY:Chest Hair vs. Floor Sharks
DESCRIPTION:Floor Sharks vs. Chest HairPlus d'info : #367
X-ALT-DESC;FMTTYPE=text/html:<!DOCTYPE HTML PUBLIC "-//W3C//DTD HTML 3.2//E
	N">\n<HTML>\n<HEAD>\n<TITLE></TITLE>\n</HEAD>\n<BODY>\n<h3>Floor Sharks vs.
	 Chest Hair</h3>Plus d'info : <a href="https://www.golnetwork.com/game/v/47
	325/">#367</a>\n\n</BODY>\n</HTML>
STATUS:CONFIRMED
CLASS:PUBLIC
URL:https://www.golnetwork.com/game/v/47325/
X-MICROSOFT-CDO-BUSYSTATUS:BUSY
X-MICROSOFT-CDO-IMPORTANCE:1
END:VEVENT
BEGIN:VEVENT
UID:g4ofh@games.golnetwork.com
LOCATION:Fieldhouse C & D
GEO:45.10662;-94.578209
CREATED:20140329T060753Z
DTSTART:20140404T223000Z
DTEND:20140404T231400Z
DTSTAMP:20260422T045415Z
SUMMARY:#DreamTeam vs. Sorry Not Sorry
DESCRIPTION:Sorry Not Sorry vs. #DreamTeamPlus d'info : #373
X-ALT-DESC;FMTTYPE=text/html:<!DOCTYPE HTML PUBLIC "-//W3C//DTD HTML 3.2//E
	N">\n<HTML>\n<HEAD>\n<TITLE></TITLE>\n</HEAD>\n<BODY>\n<h3>Sorry Not Sorry 
	vs. #DreamTeam</h3>Plus d'info : <a href="https://www.golnetwork.com/game/v
	/47326/">#373</a>\n\n</BODY>\n</HTML>
STATUS:CONFIRMED
CLASS:PUBLIC
URL:https://www.golnetwork.com/game/v/47326/
X-MICROSOFT-CDO-BUSYSTATUS:BUSY
X-MICROSOFT-CDO-IMPORTANCE:1
END:VEVENT
BEGIN:VEVENT
UID:g4ofl@games.golnetwork.com
LOCATION:Fieldhouse C & D
GEO:45.10662;-94.578209
CREATED:20140329T060901Z
DTSTART:20140406T223000Z
DTEND:20140406T231400Z
DTSTAMP:20260422T045415Z
SUMMARY:Chest Hair vs. Floor Sharks
DESCRIPTION:Floor Sharks vs. Chest HairPlus d'info : #398
X-ALT-DESC;FMTTYPE=text/html:<!DOCTYPE HTML PUBLIC "-//W3C//DTD HTML 3.2//E
	N">\n<HTML>\n<HEAD>\n<TITLE></TITLE>\n</HEAD>\n<BODY>\n<h3>Floor Sharks vs.
	 Chest Hair</h3>Plus d'info : <a href="https://www.golnetwork.com/game/v/47
	328/">#398</a>\n\n</BODY>\n</HTML>
STATUS:CONFIRMED
CLASS:PUBLIC
URL:https://www.golnetwork.com/game/v/47328/
X-MICROSOFT-CDO-BUSYSTATUS:BUSY
X-MICROSOFT-CDO-IMPORTANCE:1
END:VEVENT
BEGIN:VEVENT
UID:g4ofn@games.golnetwork.com
LOCATION:Fieldhouse C & D
GEO:45.10662;-94.578209
CREATED:20140329T060918Z
DTSTART:20140406T233000Z
DTEND:20140407T001400Z
DTSTAMP:20260422T045415Z
SUMMARY:#DreamTeam vs. Sorry Not Sorry
DESCRIPTION:Sorry Not Sorry vs. #DreamTeamPlus d'info : #399
X-ALT-DESC;FMTTYPE=text/html:<!DOCTYPE HTML PUBLIC "-//W3C//DTD HTML 3.2//E
	N">\n<HTML>\n<HEAD>\n<TITLE></TITLE>\n</HEAD>\n<BODY>\n<h3>Sorry Not Sorry 
	vs. #DreamTeam</h3>Plus d'info : <a href="https://www.golnetwork.com/game/v
	/47329/">#399</a>\n\n</BODY>\n</HTML>
STATUS:CONFIRMED
CLASS:PUBLIC
URL:https://www.golnetwork.com/game/v/47329/
X-MICROSOFT-CDO-BUSYSTATUS:BUSY
X-MICROSOFT-CDO-IMPORTANCE:1
END:VEVENT
BEGIN:VEVENT
UID:g4ofj@games.golnetwork.com
LOCATION:Tomlinson Fieldhouse
GEO:45.508899688721;-73.581298828125
CREATED:20140329T060753Z
DTSTART:20140410T010000Z
DTEND:20140410T014400Z
DTSTAMP:20260422T045415Z
SUMMARY:Sorry Not Sorry vs. Floor Sharks
DESCRIPTION:Floor Sharks vs. Sorry Not SorryPlus d'info : #413
X-ALT-DESC;FMTTYPE=text/html:<!DOCTYPE HTML PUBLIC "-//W3C//DTD HTML 3.2//E
	N">\n<HTML>\n<HEAD>\n<TITLE></TITLE>\n</HEAD>\n<BODY>\n<h3>Floor Sharks vs.
	 Sorry Not Sorry</h3>Plus d'info : <a href="https://www.golnetwork.com/game
	/v/47327/">#413</a>\n\n</BODY>\n</HTML>
STATUS:CONFIRMED
CLASS:PUBLIC
URL:https://www.golnetwork.com/game/v/47327/
X-MICROSOFT-CDO-BUSYSTATUS:BUSY
X-MICROSOFT-CDO-IMPORTANCE:1
END:VEVENT
END:VCALENDAR
