BEGIN:VCALENDAR
PRODID:-//gdesolutions.com//MV Framework 1.0.0.1607 Calendar//EN
VERSION:2.0
METHOD:PUBLISH
CALSCALE:GREGORIAN
BEGIN:VEVENT
UID:g4phg@games.golnetwork.com
LOCATION:North Toronto - Field 1
GEO:43.7098022;-79.3963055
CREATED:20140410T211713Z
DTSTART:20140428T220000Z
DTEND:20140428T225500Z
DTSTAMP:20260421T203134Z
SUMMARY:LinkedIn vs. EFC
DESCRIPTION:EFC vs. LinkedInPlus d'info : #69
X-ALT-DESC;FMTTYPE=text/html:<!DOCTYPE HTML PUBLIC "-//W3C//DTD HTML 3.2//E
	N">\n<HTML>\n<HEAD>\n<TITLE></TITLE>\n</HEAD>\n<BODY>\n<h3>EFC vs. LinkedIn
	</h3>Plus d'info : <a href="https://www.golnetwork.com/game/v/47717/">#69</
	a>\n\n</BODY>\n</HTML>
STATUS:CONFIRMED
CLASS:PUBLIC
URL:https://www.golnetwork.com/game/v/47717/
X-MICROSOFT-CDO-BUSYSTATUS:BUSY
X-MICROSOFT-CDO-IMPORTANCE:1
END:VEVENT
BEGIN:VEVENT
UID:g4phi@games.golnetwork.com
LOCATION:North Toronto - Field 1
GEO:43.7098022;-79.3963055
CREATED:20140410T211713Z
DTSTART:20140428T225500Z
DTEND:20140428T235000Z
DTSTAMP:20260421T203134Z
SUMMARY:Unreal Madrid vs. Goal Diggers
DESCRIPTION:Goal Diggers vs. Unreal MadridPlus d'info : #72
X-ALT-DESC;FMTTYPE=text/html:<!DOCTYPE HTML PUBLIC "-//W3C//DTD HTML 3.2//E
	N">\n<HTML>\n<HEAD>\n<TITLE></TITLE>\n</HEAD>\n<BODY>\n<h3>Goal Diggers vs.
	 Unreal Madrid</h3>Plus d'info : <a href="https://www.golnetwork.com/game/v
	/47718/">#72</a>\n\n</BODY>\n</HTML>
STATUS:CONFIRMED
CLASS:PUBLIC
URL:https://www.golnetwork.com/game/v/47718/
X-MICROSOFT-CDO-BUSYSTATUS:BUSY
X-MICROSOFT-CDO-IMPORTANCE:1
END:VEVENT
BEGIN:VEVENT
UID:g4phk@games.golnetwork.com
LOCATION:North Toronto - Field 1
GEO:43.7098022;-79.3963055
CREATED:20140410T211713Z
DTSTART:20140428T235000Z
DTEND:20140429T004500Z
DTSTAMP:20260421T203134Z
SUMMARY:XTSC Gunners vs. IFC United
DESCRIPTION:IFC United vs. XTSC GunnersPlus d'info : #75
X-ALT-DESC;FMTTYPE=text/html:<!DOCTYPE HTML PUBLIC "-//W3C//DTD HTML 3.2//E
	N">\n<HTML>\n<HEAD>\n<TITLE></TITLE>\n</HEAD>\n<BODY>\n<h3>IFC United vs. X
	TSC Gunners</h3>Plus d'info : <a href="https://www.golnetwork.com/game/v/47
	719/">#75</a>\n\n</BODY>\n</HTML>
STATUS:CONFIRMED
CLASS:PUBLIC
URL:https://www.golnetwork.com/game/v/47719/
X-MICROSOFT-CDO-BUSYSTATUS:BUSY
X-MICROSOFT-CDO-IMPORTANCE:1
END:VEVENT
BEGIN:VEVENT
UID:g4phm@games.golnetwork.com
LOCATION:North Toronto - Field 1
GEO:43.7098022;-79.3963055
CREATED:20140410T211713Z
DTSTART:20140505T220000Z
DTEND:20140505T225500Z
DTSTAMP:20260421T203134Z
SUMMARY:EFC vs. Goal Diggers
DESCRIPTION:Goal Diggers vs. EFCPlus d'info : #97
X-ALT-DESC;FMTTYPE=text/html:<!DOCTYPE HTML PUBLIC "-//W3C//DTD HTML 3.2//E
	N">\n<HTML>\n<HEAD>\n<TITLE></TITLE>\n</HEAD>\n<BODY>\n<h3>Goal Diggers vs.
	 EFC</h3>Plus d'info : <a href="https://www.golnetwork.com/game/v/47720/">#
	97</a>\n\n</BODY>\n</HTML>
STATUS:CONFIRMED
CLASS:PUBLIC
URL:https://www.golnetwork.com/game/v/47720/
X-MICROSOFT-CDO-BUSYSTATUS:BUSY
X-MICROSOFT-CDO-IMPORTANCE:1
END:VEVENT
BEGIN:VEVENT
UID:g4pho@games.golnetwork.com
LOCATION:North Toronto - Field 1
GEO:43.7098022;-79.3963055
CREATED:20140410T211713Z
DTSTART:20140505T225500Z
DTEND:20140505T235000Z
DTSTAMP:20260421T203134Z
SUMMARY:LinkedIn vs. IFC United
DESCRIPTION:IFC United vs. LinkedInPlus d'info : #100
X-ALT-DESC;FMTTYPE=text/html:<!DOCTYPE HTML PUBLIC "-//W3C//DTD HTML 3.2//E
	N">\n<HTML>\n<HEAD>\n<TITLE></TITLE>\n</HEAD>\n<BODY>\n<h3>IFC United vs. L
	inkedIn</h3>Plus d'info : <a href="https://www.golnetwork.com/game/v/47721/
	">#100</a>\n\n</BODY>\n</HTML>
STATUS:CONFIRMED
CLASS:PUBLIC
URL:https://www.golnetwork.com/game/v/47721/
X-MICROSOFT-CDO-BUSYSTATUS:BUSY
X-MICROSOFT-CDO-IMPORTANCE:1
END:VEVENT
BEGIN:VEVENT
UID:g4phq@games.golnetwork.com
LOCATION:North Toronto - Field 1
GEO:43.7098022;-79.3963055
CREATED:20140410T211713Z
DTSTART:20140505T235000Z
DTEND:20140506T004500Z
DTSTAMP:20260421T203134Z
SUMMARY:Unreal Madrid vs. XTSC Gunners
DESCRIPTION:XTSC Gunners vs. Unreal MadridPlus d'info : #103
X-ALT-DESC;FMTTYPE=text/html:<!DOCTYPE HTML PUBLIC "-//W3C//DTD HTML 3.2//E
	N">\n<HTML>\n<HEAD>\n<TITLE></TITLE>\n</HEAD>\n<BODY>\n<h3>XTSC Gunners vs.
	 Unreal Madrid</h3>Plus d'info : <a href="https://www.golnetwork.com/game/v
	/47722/">#103</a>\n\n</BODY>\n</HTML>
STATUS:CONFIRMED
CLASS:PUBLIC
URL:https://www.golnetwork.com/game/v/47722/
X-MICROSOFT-CDO-BUSYSTATUS:BUSY
X-MICROSOFT-CDO-IMPORTANCE:1
END:VEVENT
BEGIN:VEVENT
UID:g4pi1@games.golnetwork.com
LOCATION:North Toronto - Field 1
GEO:43.7098022;-79.3963055
CREATED:20140410T211713Z
DTSTART:20140512T220000Z
DTEND:20140512T225500Z
DTSTAMP:20260421T203134Z
SUMMARY:XTSC Gunners vs. LinkedIn
DESCRIPTION:LinkedIn vs. XTSC GunnersPlus d'info : #130
X-ALT-DESC;FMTTYPE=text/html:<!DOCTYPE HTML PUBLIC "-//W3C//DTD HTML 3.2//E
	N">\n<HTML>\n<HEAD>\n<TITLE></TITLE>\n</HEAD>\n<BODY>\n<h3>LinkedIn vs. XTS
	C Gunners</h3>Plus d'info : <a href="https://www.golnetwork.com/game/v/4772
	3/">#130</a>\n\n</BODY>\n</HTML>
STATUS:CONFIRMED
CLASS:PUBLIC
URL:https://www.golnetwork.com/game/v/47723/
X-MICROSOFT-CDO-BUSYSTATUS:BUSY
X-MICROSOFT-CDO-IMPORTANCE:1
END:VEVENT
BEGIN:VEVENT
UID:g4pi3@games.golnetwork.com
LOCATION:North Toronto - Field 1
GEO:43.7098022;-79.3963055
CREATED:20140410T211713Z
DTSTART:20140512T225500Z
DTEND:20140512T235000Z
DTSTAMP:20260421T203134Z
SUMMARY:EFC vs. Unreal Madrid
DESCRIPTION:Unreal Madrid vs. EFCPlus d'info : #133
X-ALT-DESC;FMTTYPE=text/html:<!DOCTYPE HTML PUBLIC "-//W3C//DTD HTML 3.2//E
	N">\n<HTML>\n<HEAD>\n<TITLE></TITLE>\n</HEAD>\n<BODY>\n<h3>Unreal Madrid vs
	. EFC</h3>Plus d'info : <a href="https://www.golnetwork.com/game/v/47724/">
	#133</a>\n\n</BODY>\n</HTML>
STATUS:CONFIRMED
CLASS:PUBLIC
URL:https://www.golnetwork.com/game/v/47724/
X-MICROSOFT-CDO-BUSYSTATUS:BUSY
X-MICROSOFT-CDO-IMPORTANCE:1
END:VEVENT
BEGIN:VEVENT
UID:g4pi5@games.golnetwork.com
LOCATION:North Toronto - Field 1
GEO:43.7098022;-79.3963055
CREATED:20140410T211713Z
DTSTART:20140512T235000Z
DTEND:20140513T004500Z
DTSTAMP:20260421T203134Z
SUMMARY:Goal Diggers vs. IFC United
DESCRIPTION:IFC United vs. Goal DiggersPlus d'info : #136
X-ALT-DESC;FMTTYPE=text/html:<!DOCTYPE HTML PUBLIC "-//W3C//DTD HTML 3.2//E
	N">\n<HTML>\n<HEAD>\n<TITLE></TITLE>\n</HEAD>\n<BODY>\n<h3>IFC United vs. G
	oal Diggers</h3>Plus d'info : <a href="https://www.golnetwork.com/game/v/47
	725/">#136</a>\n\n</BODY>\n</HTML>
STATUS:CONFIRMED
CLASS:PUBLIC
URL:https://www.golnetwork.com/game/v/47725/
X-MICROSOFT-CDO-BUSYSTATUS:BUSY
X-MICROSOFT-CDO-IMPORTANCE:1
END:VEVENT
BEGIN:VEVENT
UID:g4pi7@games.golnetwork.com
LOCATION:North Toronto - Field 1
GEO:43.7098022;-79.3963055
CREATED:20140410T211713Z
DTSTART:20140519T220000Z
DTEND:20140519T225500Z
DTSTAMP:20260421T203134Z
SUMMARY:IFC United vs. Unreal Madrid
DESCRIPTION:Unreal Madrid vs. IFC UnitedPlus d'info : #176
X-ALT-DESC;FMTTYPE=text/html:<!DOCTYPE HTML PUBLIC "-//W3C//DTD HTML 3.2//E
	N">\n<HTML>\n<HEAD>\n<TITLE></TITLE>\n</HEAD>\n<BODY>\n<h3>Unreal Madrid vs
	. IFC United</h3>Plus d'info : <a href="https://www.golnetwork.com/game/v/4
	7726/">#176</a>\n\n</BODY>\n</HTML>
STATUS:CONFIRMED
CLASS:PUBLIC
URL:https://www.golnetwork.com/game/v/47726/
X-MICROSOFT-CDO-BUSYSTATUS:BUSY
X-MICROSOFT-CDO-IMPORTANCE:1
END:VEVENT
BEGIN:VEVENT
UID:g4pi9@games.golnetwork.com
LOCATION:North Toronto - Field 1
GEO:43.7098022;-79.3963055
CREATED:20140410T211713Z
DTSTART:20140519T225500Z
DTEND:20140519T235000Z
DTSTAMP:20260421T203134Z
SUMMARY:Goal Diggers vs. LinkedIn
DESCRIPTION:LinkedIn vs. Goal DiggersPlus d'info : #179
X-ALT-DESC;FMTTYPE=text/html:<!DOCTYPE HTML PUBLIC "-//W3C//DTD HTML 3.2//E
	N">\n<HTML>\n<HEAD>\n<TITLE></TITLE>\n</HEAD>\n<BODY>\n<h3>LinkedIn vs. Goa
	l Diggers</h3>Plus d'info : <a href="https://www.golnetwork.com/game/v/4772
	7/">#179</a>\n\n</BODY>\n</HTML>
STATUS:CONFIRMED
CLASS:PUBLIC
URL:https://www.golnetwork.com/game/v/47727/
X-MICROSOFT-CDO-BUSYSTATUS:BUSY
X-MICROSOFT-CDO-IMPORTANCE:1
END:VEVENT
BEGIN:VEVENT
UID:g4pib@games.golnetwork.com
LOCATION:North Toronto - Field 1
GEO:43.7098022;-79.3963055
CREATED:20140410T211713Z
DTSTART:20140519T235000Z
DTEND:20140520T004500Z
DTSTAMP:20260421T203134Z
SUMMARY:EFC vs. XTSC Gunners
DESCRIPTION:XTSC Gunners vs. EFCPlus d'info : #182
X-ALT-DESC;FMTTYPE=text/html:<!DOCTYPE HTML PUBLIC "-//W3C//DTD HTML 3.2//E
	N">\n<HTML>\n<HEAD>\n<TITLE></TITLE>\n</HEAD>\n<BODY>\n<h3>XTSC Gunners vs.
	 EFC</h3>Plus d'info : <a href="https://www.golnetwork.com/game/v/47728/">#
	182</a>\n\n</BODY>\n</HTML>
STATUS:CONFIRMED
CLASS:PUBLIC
URL:https://www.golnetwork.com/game/v/47728/
X-MICROSOFT-CDO-BUSYSTATUS:BUSY
X-MICROSOFT-CDO-IMPORTANCE:1
END:VEVENT
BEGIN:VEVENT
UID:g4pid@games.golnetwork.com
LOCATION:North Toronto - Field 1
GEO:43.7098022;-79.3963055
CREATED:20140410T211713Z
DTSTART:20140526T220000Z
DTEND:20140526T225500Z
DTSTAMP:20260421T203134Z
SUMMARY:XTSC Gunners vs. Goal Diggers
DESCRIPTION:Goal Diggers vs. XTSC GunnersPlus d'info : #228
X-ALT-DESC;FMTTYPE=text/html:<!DOCTYPE HTML PUBLIC "-//W3C//DTD HTML 3.2//E
	N">\n<HTML>\n<HEAD>\n<TITLE></TITLE>\n</HEAD>\n<BODY>\n<h3>Goal Diggers vs.
	 XTSC Gunners</h3>Plus d'info : <a href="https://www.golnetwork.com/game/v/
	47729/">#228</a>\n\n</BODY>\n</HTML>
STATUS:CONFIRMED
CLASS:PUBLIC
URL:https://www.golnetwork.com/game/v/47729/
X-MICROSOFT-CDO-BUSYSTATUS:BUSY
X-MICROSOFT-CDO-IMPORTANCE:1
END:VEVENT
BEGIN:VEVENT
UID:g4pif@games.golnetwork.com
LOCATION:North Toronto - Field 1
GEO:43.7098022;-79.3963055
CREATED:20140410T211713Z
DTSTART:20140526T225500Z
DTEND:20140526T235000Z
DTSTAMP:20260421T203134Z
SUMMARY:IFC United vs. EFC
DESCRIPTION:EFC vs. IFC UnitedPlus d'info : #231
X-ALT-DESC;FMTTYPE=text/html:<!DOCTYPE HTML PUBLIC "-//W3C//DTD HTML 3.2//E
	N">\n<HTML>\n<HEAD>\n<TITLE></TITLE>\n</HEAD>\n<BODY>\n<h3>EFC vs. IFC Unit
	ed</h3>Plus d'info : <a href="https://www.golnetwork.com/game/v/47730/">#23
	1</a>\n\n</BODY>\n</HTML>
STATUS:CONFIRMED
CLASS:PUBLIC
URL:https://www.golnetwork.com/game/v/47730/
X-MICROSOFT-CDO-BUSYSTATUS:BUSY
X-MICROSOFT-CDO-IMPORTANCE:1
END:VEVENT
BEGIN:VEVENT
UID:g4pih@games.golnetwork.com
LOCATION:North Toronto - Field 1
GEO:43.7098022;-79.3963055
CREATED:20140410T211713Z
DTSTART:20140526T235000Z
DTEND:20140527T004500Z
DTSTAMP:20260421T203134Z
SUMMARY:LinkedIn vs. Unreal Madrid
DESCRIPTION:Unreal Madrid vs. LinkedInPlus d'info : #234
X-ALT-DESC;FMTTYPE=text/html:<!DOCTYPE HTML PUBLIC "-//W3C//DTD HTML 3.2//E
	N">\n<HTML>\n<HEAD>\n<TITLE></TITLE>\n</HEAD>\n<BODY>\n<h3>Unreal Madrid vs
	. LinkedIn</h3>Plus d'info : <a href="https://www.golnetwork.com/game/v/477
	31/">#234</a>\n\n</BODY>\n</HTML>
STATUS:CONFIRMED
CLASS:PUBLIC
URL:https://www.golnetwork.com/game/v/47731/
X-MICROSOFT-CDO-BUSYSTATUS:BUSY
X-MICROSOFT-CDO-IMPORTANCE:1
END:VEVENT
BEGIN:VEVENT
UID:g4pij@games.golnetwork.com
LOCATION:North Toronto - Field 1
GEO:43.7098022;-79.3963055
CREATED:20140410T211713Z
DTSTART:20140602T220000Z
DTEND:20140602T225500Z
DTSTAMP:20260421T203134Z
SUMMARY:XTSC Gunners vs. IFC United
DESCRIPTION:IFC United vs. XTSC GunnersPlus d'info : #280
X-ALT-DESC;FMTTYPE=text/html:<!DOCTYPE HTML PUBLIC "-//W3C//DTD HTML 3.2//E
	N">\n<HTML>\n<HEAD>\n<TITLE></TITLE>\n</HEAD>\n<BODY>\n<h3>IFC United vs. X
	TSC Gunners</h3>Plus d'info : <a href="https://www.golnetwork.com/game/v/47
	732/">#280</a>\n\n</BODY>\n</HTML>
STATUS:CONFIRMED
CLASS:PUBLIC
URL:https://www.golnetwork.com/game/v/47732/
X-MICROSOFT-CDO-BUSYSTATUS:BUSY
X-MICROSOFT-CDO-IMPORTANCE:1
END:VEVENT
BEGIN:VEVENT
UID:g4pil@games.golnetwork.com
LOCATION:North Toronto - Field 1
GEO:43.7098022;-79.3963055
CREATED:20140410T211713Z
DTSTART:20140602T225500Z
DTEND:20140602T235000Z
DTSTAMP:20260421T203134Z
SUMMARY:Unreal Madrid vs. Goal Diggers
DESCRIPTION:Goal Diggers vs. Unreal MadridPlus d'info : #283
X-ALT-DESC;FMTTYPE=text/html:<!DOCTYPE HTML PUBLIC "-//W3C//DTD HTML 3.2//E
	N">\n<HTML>\n<HEAD>\n<TITLE></TITLE>\n</HEAD>\n<BODY>\n<h3>Goal Diggers vs.
	 Unreal Madrid</h3>Plus d'info : <a href="https://www.golnetwork.com/game/v
	/47733/">#283</a>\n\n</BODY>\n</HTML>
STATUS:CONFIRMED
CLASS:PUBLIC
URL:https://www.golnetwork.com/game/v/47733/
X-MICROSOFT-CDO-BUSYSTATUS:BUSY
X-MICROSOFT-CDO-IMPORTANCE:1
END:VEVENT
BEGIN:VEVENT
UID:g4pin@games.golnetwork.com
LOCATION:North Toronto - Field 1
GEO:43.7098022;-79.3963055
CREATED:20140410T211713Z
DTSTART:20140602T235000Z
DTEND:20140603T004500Z
DTSTAMP:20260421T203134Z
SUMMARY:EFC vs. LinkedIn
DESCRIPTION:LinkedIn vs. EFCPlus d'info : #286
X-ALT-DESC;FMTTYPE=text/html:<!DOCTYPE HTML PUBLIC "-//W3C//DTD HTML 3.2//E
	N">\n<HTML>\n<HEAD>\n<TITLE></TITLE>\n</HEAD>\n<BODY>\n<h3>LinkedIn vs. EFC
	</h3>Plus d'info : <a href="https://www.golnetwork.com/game/v/47734/">#286<
	/a>\n\n</BODY>\n</HTML>
STATUS:CONFIRMED
CLASS:PUBLIC
URL:https://www.golnetwork.com/game/v/47734/
X-MICROSOFT-CDO-BUSYSTATUS:BUSY
X-MICROSOFT-CDO-IMPORTANCE:1
END:VEVENT
BEGIN:VEVENT
UID:g4pip@games.golnetwork.com
LOCATION:North Toronto - Field 1
GEO:43.7098022;-79.3963055
CREATED:20140410T211713Z
DTSTART:20140609T220000Z
DTEND:20140609T225500Z
DTSTAMP:20260421T203134Z
SUMMARY:Unreal Madrid vs. EFC
DESCRIPTION:EFC vs. Unreal MadridPlus d'info : #332
X-ALT-DESC;FMTTYPE=text/html:<!DOCTYPE HTML PUBLIC "-//W3C//DTD HTML 3.2//E
	N">\n<HTML>\n<HEAD>\n<TITLE></TITLE>\n</HEAD>\n<BODY>\n<h3>EFC vs. Unreal M
	adrid</h3>Plus d'info : <a href="https://www.golnetwork.com/game/v/47735/">
	#332</a>\n\n</BODY>\n</HTML>
STATUS:CONFIRMED
CLASS:PUBLIC
URL:https://www.golnetwork.com/game/v/47735/
X-MICROSOFT-CDO-BUSYSTATUS:BUSY
X-MICROSOFT-CDO-IMPORTANCE:1
END:VEVENT
BEGIN:VEVENT
UID:g4pj0@games.golnetwork.com
LOCATION:North Toronto - Field 1
GEO:43.7098022;-79.3963055
CREATED:20140410T211713Z
DTSTART:20140609T225500Z
DTEND:20140609T235000Z
DTSTAMP:20260421T203134Z
SUMMARY:LinkedIn vs. XTSC Gunners
DESCRIPTION:XTSC Gunners vs. LinkedInPlus d'info : #335
X-ALT-DESC;FMTTYPE=text/html:<!DOCTYPE HTML PUBLIC "-//W3C//DTD HTML 3.2//E
	N">\n<HTML>\n<HEAD>\n<TITLE></TITLE>\n</HEAD>\n<BODY>\n<h3>XTSC Gunners vs.
	 LinkedIn</h3>Plus d'info : <a href="https://www.golnetwork.com/game/v/4773
	6/">#335</a>\n\n</BODY>\n</HTML>
STATUS:CONFIRMED
CLASS:PUBLIC
URL:https://www.golnetwork.com/game/v/47736/
X-MICROSOFT-CDO-BUSYSTATUS:BUSY
X-MICROSOFT-CDO-IMPORTANCE:1
END:VEVENT
BEGIN:VEVENT
UID:g4pj2@games.golnetwork.com
LOCATION:North Toronto - Field 1
GEO:43.7098022;-79.3963055
CREATED:20140410T211713Z
DTSTART:20140609T235000Z
DTEND:20140610T004500Z
DTSTAMP:20260421T203134Z
SUMMARY:Goal Diggers vs. IFC United
DESCRIPTION:IFC United vs. Goal DiggersPlus d'info : #338
X-ALT-DESC;FMTTYPE=text/html:<!DOCTYPE HTML PUBLIC "-//W3C//DTD HTML 3.2//E
	N">\n<HTML>\n<HEAD>\n<TITLE></TITLE>\n</HEAD>\n<BODY>\n<h3>IFC United vs. G
	oal Diggers</h3>Plus d'info : <a href="https://www.golnetwork.com/game/v/47
	737/">#338</a>\n\n</BODY>\n</HTML>
STATUS:CONFIRMED
CLASS:PUBLIC
URL:https://www.golnetwork.com/game/v/47737/
X-MICROSOFT-CDO-BUSYSTATUS:BUSY
X-MICROSOFT-CDO-IMPORTANCE:1
END:VEVENT
BEGIN:VEVENT
UID:g4pj4@games.golnetwork.com
LOCATION:North Toronto - Field 1
GEO:43.7098022;-79.3963055
CREATED:20140410T211713Z
DTSTART:20140616T220000Z
DTEND:20140616T225500Z
DTSTAMP:20260421T203134Z
SUMMARY:Goal Diggers vs. LinkedIn
DESCRIPTION:LinkedIn vs. Goal DiggersPlus d'info : #384
X-ALT-DESC;FMTTYPE=text/html:<!DOCTYPE HTML PUBLIC "-//W3C//DTD HTML 3.2//E
	N">\n<HTML>\n<HEAD>\n<TITLE></TITLE>\n</HEAD>\n<BODY>\n<h3>LinkedIn vs. Goa
	l Diggers</h3>Plus d'info : <a href="https://www.golnetwork.com/game/v/4773
	8/">#384</a>\n\n</BODY>\n</HTML>
STATUS:CONFIRMED
CLASS:PUBLIC
URL:https://www.golnetwork.com/game/v/47738/
X-MICROSOFT-CDO-BUSYSTATUS:BUSY
X-MICROSOFT-CDO-IMPORTANCE:1
END:VEVENT
BEGIN:VEVENT
UID:g4pj6@games.golnetwork.com
LOCATION:North Toronto - Field 1
GEO:43.7098022;-79.3963055
CREATED:20140410T211713Z
DTSTART:20140616T225500Z
DTEND:20140616T235000Z
DTSTAMP:20260421T203134Z
SUMMARY:XTSC Gunners vs. Unreal Madrid
DESCRIPTION:Unreal Madrid vs. XTSC GunnersPlus d'info : #387
X-ALT-DESC;FMTTYPE=text/html:<!DOCTYPE HTML PUBLIC "-//W3C//DTD HTML 3.2//E
	N">\n<HTML>\n<HEAD>\n<TITLE></TITLE>\n</HEAD>\n<BODY>\n<h3>Unreal Madrid vs
	. XTSC Gunners</h3>Plus d'info : <a href="https://www.golnetwork.com/game/v
	/47739/">#387</a>\n\n</BODY>\n</HTML>
STATUS:CONFIRMED
CLASS:PUBLIC
URL:https://www.golnetwork.com/game/v/47739/
X-MICROSOFT-CDO-BUSYSTATUS:BUSY
X-MICROSOFT-CDO-IMPORTANCE:1
END:VEVENT
BEGIN:VEVENT
UID:g4pj8@games.golnetwork.com
LOCATION:North Toronto - Field 1
GEO:43.7098022;-79.3963055
CREATED:20140410T211713Z
DTSTART:20140616T235000Z
DTEND:20140617T004500Z
DTSTAMP:20260421T203134Z
SUMMARY:EFC vs. IFC United
DESCRIPTION:IFC United vs. EFCPlus d'info : #390
X-ALT-DESC;FMTTYPE=text/html:<!DOCTYPE HTML PUBLIC "-//W3C//DTD HTML 3.2//E
	N">\n<HTML>\n<HEAD>\n<TITLE></TITLE>\n</HEAD>\n<BODY>\n<h3>IFC United vs. E
	FC</h3>Plus d'info : <a href="https://www.golnetwork.com/game/v/47740/">#39
	0</a>\n\n</BODY>\n</HTML>
STATUS:CONFIRMED
CLASS:PUBLIC
URL:https://www.golnetwork.com/game/v/47740/
X-MICROSOFT-CDO-BUSYSTATUS:BUSY
X-MICROSOFT-CDO-IMPORTANCE:1
END:VEVENT
BEGIN:VEVENT
UID:g4pja@games.golnetwork.com
LOCATION:North Toronto - Field 1
GEO:43.7098022;-79.3963055
CREATED:20140410T211713Z
DTSTART:20140623T220000Z
DTEND:20140623T225500Z
DTSTAMP:20260421T203134Z
SUMMARY:Unreal Madrid vs. LinkedIn
DESCRIPTION:LinkedIn vs. Unreal MadridPlus d'info : #436
X-ALT-DESC;FMTTYPE=text/html:<!DOCTYPE HTML PUBLIC "-//W3C//DTD HTML 3.2//E
	N">\n<HTML>\n<HEAD>\n<TITLE></TITLE>\n</HEAD>\n<BODY>\n<h3>LinkedIn vs. Unr
	eal Madrid</h3>Plus d'info : <a href="https://www.golnetwork.com/game/v/477
	41/">#436</a>\n\n</BODY>\n</HTML>
STATUS:CONFIRMED
CLASS:PUBLIC
URL:https://www.golnetwork.com/game/v/47741/
X-MICROSOFT-CDO-BUSYSTATUS:BUSY
X-MICROSOFT-CDO-IMPORTANCE:1
END:VEVENT
BEGIN:VEVENT
UID:g4pjc@games.golnetwork.com
LOCATION:North Toronto - Field 1
GEO:43.7098022;-79.3963055
CREATED:20140410T211713Z
DTSTART:20140623T225500Z
DTEND:20140623T235000Z
DTSTAMP:20260421T203134Z
SUMMARY:XTSC Gunners vs. IFC United
DESCRIPTION:IFC United vs. XTSC GunnersPlus d'info : #439
X-ALT-DESC;FMTTYPE=text/html:<!DOCTYPE HTML PUBLIC "-//W3C//DTD HTML 3.2//E
	N">\n<HTML>\n<HEAD>\n<TITLE></TITLE>\n</HEAD>\n<BODY>\n<h3>IFC United vs. X
	TSC Gunners</h3>Plus d'info : <a href="https://www.golnetwork.com/game/v/47
	742/">#439</a>\n\n</BODY>\n</HTML>
STATUS:CONFIRMED
CLASS:PUBLIC
URL:https://www.golnetwork.com/game/v/47742/
X-MICROSOFT-CDO-BUSYSTATUS:BUSY
X-MICROSOFT-CDO-IMPORTANCE:1
END:VEVENT
BEGIN:VEVENT
UID:g4pje@games.golnetwork.com
LOCATION:North Toronto - Field 1
GEO:43.7098022;-79.3963055
CREATED:20140410T211713Z
DTSTART:20140623T235000Z
DTEND:20140624T004500Z
DTSTAMP:20260421T203134Z
SUMMARY:Goal Diggers vs. EFC
DESCRIPTION:EFC vs. Goal DiggersPlus d'info : #442
X-ALT-DESC;FMTTYPE=text/html:<!DOCTYPE HTML PUBLIC "-//W3C//DTD HTML 3.2//E
	N">\n<HTML>\n<HEAD>\n<TITLE></TITLE>\n</HEAD>\n<BODY>\n<h3>EFC vs. Goal Dig
	gers</h3>Plus d'info : <a href="https://www.golnetwork.com/game/v/47743/">#
	442</a>\n\n</BODY>\n</HTML>
STATUS:CONFIRMED
CLASS:PUBLIC
URL:https://www.golnetwork.com/game/v/47743/
X-MICROSOFT-CDO-BUSYSTATUS:BUSY
X-MICROSOFT-CDO-IMPORTANCE:1
END:VEVENT
END:VCALENDAR
