BEGIN:VCALENDAR
PRODID:-//gdesolutions.com//MV Framework 1.0.0.1607 Calendar//EN
VERSION:2.0
METHOD:PUBLISH
CALSCALE:GREGORIAN
BEGIN:VEVENT
UID:g5eal@games.golnetwork.com
LOCATION:Jesse Ketchum Field
CREATED:20140707T171947Z
DTSTART:20140712T173000Z
DTEND:20140712T184500Z
DTSTAMP:20260421T183715Z
SUMMARY:XTSC Hattrick Heroes vs. XTSC Cool Kids
DESCRIPTION:XTSC Cool Kids vs. XTSC Hattrick HeroesPlus d'info : #9
X-ALT-DESC;FMTTYPE=text/html:<!DOCTYPE HTML PUBLIC "-//W3C//DTD HTML 3.2//E
	N">\n<HTML>\n<HEAD>\n<TITLE></TITLE>\n</HEAD>\n<BODY>\n<h3>XTSC Cool Kids v
	s. XTSC Hattrick Heroes</h3>Plus d'info : <a href="https://www.golnetwork.c
	om/game/v/53457/">#9</a>\n\n</BODY>\n</HTML>
STATUS:CONFIRMED
CLASS:PUBLIC
URL:https://www.golnetwork.com/game/v/53457/
X-MICROSOFT-CDO-BUSYSTATUS:BUSY
X-MICROSOFT-CDO-IMPORTANCE:1
END:VEVENT
BEGIN:VEVENT
UID:g5ean@games.golnetwork.com
LOCATION:Jesse Ketchum Field
CREATED:20140707T171947Z
DTSTART:20140712T184500Z
DTEND:20140712T200000Z
DTSTAMP:20260421T183715Z
SUMMARY:Campisi Personal Injury Lawyers vs. MPA (Blue)
DESCRIPTION:MPA (Blue) vs. Campisi Personal Injury LawyersPlus d'info : #10
X-ALT-DESC;FMTTYPE=text/html:<!DOCTYPE HTML PUBLIC "-//W3C//DTD HTML 3.2//E
	N">\n<HTML>\n<HEAD>\n<TITLE></TITLE>\n</HEAD>\n<BODY>\n<h3>MPA (Blue) vs. C
	ampisi Personal Injury Lawyers</h3>Plus d'info : <a href="https://www.golne
	twork.com/game/v/53458/">#10</a>\n\n</BODY>\n</HTML>
STATUS:CONFIRMED
CLASS:PUBLIC
URL:https://www.golnetwork.com/game/v/53458/
X-MICROSOFT-CDO-BUSYSTATUS:BUSY
X-MICROSOFT-CDO-IMPORTANCE:1
END:VEVENT
BEGIN:VEVENT
UID:g5eap@games.golnetwork.com
LOCATION:Jesse Ketchum Field
CREATED:20140707T171947Z
DTSTART:20140719T173000Z
DTEND:20140719T184500Z
DTSTAMP:20260421T183715Z
SUMMARY:Campisi Personal Injury Lawyers vs. XTSC Hattrick Heroes
DESCRIPTION:XTSC Hattrick Heroes vs. Campisi Personal Injury LawyersPlus d'
	info : #15
X-ALT-DESC;FMTTYPE=text/html:<!DOCTYPE HTML PUBLIC "-//W3C//DTD HTML 3.2//E
	N">\n<HTML>\n<HEAD>\n<TITLE></TITLE>\n</HEAD>\n<BODY>\n<h3>XTSC Hattrick He
	roes vs. Campisi Personal Injury Lawyers</h3>Plus d'info : <a href="https:/
	/www.golnetwork.com/game/v/53459/">#15</a>\n\n</BODY>\n</HTML>
STATUS:CONFIRMED
CLASS:PUBLIC
URL:https://www.golnetwork.com/game/v/53459/
X-MICROSOFT-CDO-BUSYSTATUS:BUSY
X-MICROSOFT-CDO-IMPORTANCE:1
END:VEVENT
BEGIN:VEVENT
UID:g5eb0@games.golnetwork.com
LOCATION:Jesse Ketchum Field
CREATED:20140707T171947Z
DTSTART:20140719T184500Z
DTEND:20140719T200000Z
DTSTAMP:20260421T183715Z
SUMMARY:MPA (Blue) vs. XTSC Cool Kids
DESCRIPTION:XTSC Cool Kids vs. MPA (Blue)Plus d'info : #16
X-ALT-DESC;FMTTYPE=text/html:<!DOCTYPE HTML PUBLIC "-//W3C//DTD HTML 3.2//E
	N">\n<HTML>\n<HEAD>\n<TITLE></TITLE>\n</HEAD>\n<BODY>\n<h3>XTSC Cool Kids v
	s. MPA (Blue)</h3>Plus d'info : <a href="https://www.golnetwork.com/game/v/
	53460/">#16</a>\n\n</BODY>\n</HTML>
STATUS:CONFIRMED
CLASS:PUBLIC
URL:https://www.golnetwork.com/game/v/53460/
X-MICROSOFT-CDO-BUSYSTATUS:BUSY
X-MICROSOFT-CDO-IMPORTANCE:1
END:VEVENT
BEGIN:VEVENT
UID:g5ggf@games.golnetwork.com
LOCATION:Jesse Ketchum Field
CREATED:20140714T225936Z
DTSTART:20140719T200000Z
DTEND:20140719T211500Z
DTSTAMP:20260421T183715Z
SUMMARY:ABCDE FC vs.  Turf Beasts
DESCRIPTION: Turf Beasts vs. ABCDE FCPlus d'info : #17
X-ALT-DESC;FMTTYPE=text/html:<!DOCTYPE HTML PUBLIC "-//W3C//DTD HTML 3.2//E
	N">\n<HTML>\n<HEAD>\n<TITLE></TITLE>\n</HEAD>\n<BODY>\n<h3> Turf Beasts vs.
	 ABCDE FC</h3>Plus d'info : <a href="https://www.golnetwork.com/game/v/5426
	4/">#17</a>\n\n</BODY>\n</HTML>
STATUS:CONFIRMED
CLASS:PUBLIC
URL:https://www.golnetwork.com/game/v/54264/
X-MICROSOFT-CDO-BUSYSTATUS:BUSY
X-MICROSOFT-CDO-IMPORTANCE:1
END:VEVENT
BEGIN:VEVENT
UID:g5gho@games.golnetwork.com
LOCATION:Jesse Ketchum Field
CREATED:20140714T232914Z
DTSTART:20140726T173000Z
DTEND:20140726T184500Z
DTSTAMP:20260421T183715Z
SUMMARY:XTSC Cool Kids vs. Campisi Personal Injury Lawyers
DESCRIPTION:Campisi Personal Injury Lawyers vs. XTSC Cool KidsPlus d'info :
	 #22
X-ALT-DESC;FMTTYPE=text/html:<!DOCTYPE HTML PUBLIC "-//W3C//DTD HTML 3.2//E
	N">\n<HTML>\n<HEAD>\n<TITLE></TITLE>\n</HEAD>\n<BODY>\n<h3>Campisi Personal
	 Injury Lawyers vs. XTSC Cool Kids</h3>Plus d'info : <a href="https://www.g
	olnetwork.com/game/v/54282/">#22</a>\n\n</BODY>\n</HTML>
STATUS:CONFIRMED
CLASS:PUBLIC
URL:https://www.golnetwork.com/game/v/54282/
X-MICROSOFT-CDO-BUSYSTATUS:BUSY
X-MICROSOFT-CDO-IMPORTANCE:1
END:VEVENT
BEGIN:VEVENT
UID:g5ghq@games.golnetwork.com
LOCATION:Jesse Ketchum Field
CREATED:20140714T232914Z
DTSTART:20140726T184500Z
DTEND:20140726T200000Z
DTSTAMP:20260421T183715Z
SUMMARY:ABCDE FC vs. MPA (Blue)
DESCRIPTION:MPA (Blue) vs. ABCDE FCPlus d'info : #23
X-ALT-DESC;FMTTYPE=text/html:<!DOCTYPE HTML PUBLIC "-//W3C//DTD HTML 3.2//E
	N">\n<HTML>\n<HEAD>\n<TITLE></TITLE>\n</HEAD>\n<BODY>\n<h3>MPA (Blue) vs. A
	BCDE FC</h3>Plus d'info : <a href="https://www.golnetwork.com/game/v/54283/
	">#23</a>\n\n</BODY>\n</HTML>
STATUS:CONFIRMED
CLASS:PUBLIC
URL:https://www.golnetwork.com/game/v/54283/
X-MICROSOFT-CDO-BUSYSTATUS:BUSY
X-MICROSOFT-CDO-IMPORTANCE:1
END:VEVENT
BEGIN:VEVENT
UID:g5gi1@games.golnetwork.com
LOCATION:Jesse Ketchum Field
CREATED:20140714T232914Z
DTSTART:20140726T200000Z
DTEND:20140726T211500Z
DTSTAMP:20260421T183715Z
SUMMARY:XTSC Hattrick Heroes vs.  Turf Beasts
DESCRIPTION: Turf Beasts vs. XTSC Hattrick HeroesPlus d'info : #24
X-ALT-DESC;FMTTYPE=text/html:<!DOCTYPE HTML PUBLIC "-//W3C//DTD HTML 3.2//E
	N">\n<HTML>\n<HEAD>\n<TITLE></TITLE>\n</HEAD>\n<BODY>\n<h3> Turf Beasts vs.
	 XTSC Hattrick Heroes</h3>Plus d'info : <a href="https://www.golnetwork.com
	/game/v/54284/">#24</a>\n\n</BODY>\n</HTML>
STATUS:CONFIRMED
CLASS:PUBLIC
URL:https://www.golnetwork.com/game/v/54284/
X-MICROSOFT-CDO-BUSYSTATUS:BUSY
X-MICROSOFT-CDO-IMPORTANCE:1
END:VEVENT
BEGIN:VEVENT
UID:g5gol@games.golnetwork.com
LOCATION:Jesse Ketchum Field
CREATED:20140716T142409Z
DTSTART:20140726T211500Z
DTEND:20140726T223000Z
DTSTAMP:20260421T183715Z
SUMMARY:ABCDE FC vs.  Turf Beasts
DESCRIPTION: Turf Beasts vs. ABCDE FCPlus d'info : #25
X-ALT-DESC;FMTTYPE=text/html:<!DOCTYPE HTML PUBLIC "-//W3C//DTD HTML 3.2//E
	N">\n<HTML>\n<HEAD>\n<TITLE></TITLE>\n</HEAD>\n<BODY>\n<h3> Turf Beasts vs.
	 ABCDE FC</h3>Plus d'info : <a href="https://www.golnetwork.com/game/v/5437
	5/">#25</a>\n\n</BODY>\n</HTML>
STATUS:CONFIRMED
CLASS:PUBLIC
URL:https://www.golnetwork.com/game/v/54375/
X-MICROSOFT-CDO-BUSYSTATUS:BUSY
X-MICROSOFT-CDO-IMPORTANCE:1
END:VEVENT
BEGIN:VEVENT
UID:g5gi3@games.golnetwork.com
LOCATION:Jesse Ketchum Field
CREATED:20140714T232914Z
DTSTART:20140802T173000Z
DTEND:20140802T184500Z
DTSTAMP:20260421T183715Z
SUMMARY:XTSC Hattrick Heroes vs. MPA (Blue)
DESCRIPTION:MPA (Blue) vs. XTSC Hattrick HeroesPlus d'info : #30
X-ALT-DESC;FMTTYPE=text/html:<!DOCTYPE HTML PUBLIC "-//W3C//DTD HTML 3.2//E
	N">\n<HTML>\n<HEAD>\n<TITLE></TITLE>\n</HEAD>\n<BODY>\n<h3>MPA (Blue) vs. X
	TSC Hattrick Heroes</h3>Plus d'info : <a href="https://www.golnetwork.com/g
	ame/v/54285/">#30</a>\n\n</BODY>\n</HTML>
STATUS:CONFIRMED
CLASS:PUBLIC
URL:https://www.golnetwork.com/game/v/54285/
X-MICROSOFT-CDO-BUSYSTATUS:BUSY
X-MICROSOFT-CDO-IMPORTANCE:1
END:VEVENT
BEGIN:VEVENT
UID:g5gi5@games.golnetwork.com
LOCATION:Jesse Ketchum Field
CREATED:20140714T232914Z
DTSTART:20140802T184500Z
DTEND:20140802T200000Z
DTSTAMP:20260421T183715Z
SUMMARY: Turf Beasts vs. Campisi Personal Injury Lawyers
DESCRIPTION:Campisi Personal Injury Lawyers vs.  Turf BeastsPlus d'info : #
	31
X-ALT-DESC;FMTTYPE=text/html:<!DOCTYPE HTML PUBLIC "-//W3C//DTD HTML 3.2//E
	N">\n<HTML>\n<HEAD>\n<TITLE></TITLE>\n</HEAD>\n<BODY>\n<h3>Campisi Personal
	 Injury Lawyers vs.  Turf Beasts</h3>Plus d'info : <a href="https://www.gol
	network.com/game/v/54286/">#31</a>\n\n</BODY>\n</HTML>
STATUS:CONFIRMED
CLASS:PUBLIC
URL:https://www.golnetwork.com/game/v/54286/
X-MICROSOFT-CDO-BUSYSTATUS:BUSY
X-MICROSOFT-CDO-IMPORTANCE:1
END:VEVENT
BEGIN:VEVENT
UID:g5gi7@games.golnetwork.com
LOCATION:Jesse Ketchum Field
CREATED:20140714T232914Z
DTSTART:20140802T200000Z
DTEND:20140802T211500Z
DTSTAMP:20260421T183715Z
SUMMARY:ABCDE FC vs. XTSC Cool Kids
DESCRIPTION:XTSC Cool Kids vs. ABCDE FCPlus d'info : #32
X-ALT-DESC;FMTTYPE=text/html:<!DOCTYPE HTML PUBLIC "-//W3C//DTD HTML 3.2//E
	N">\n<HTML>\n<HEAD>\n<TITLE></TITLE>\n</HEAD>\n<BODY>\n<h3>XTSC Cool Kids v
	s. ABCDE FC</h3>Plus d'info : <a href="https://www.golnetwork.com/game/v/54
	287/">#32</a>\n\n</BODY>\n</HTML>
STATUS:CONFIRMED
CLASS:PUBLIC
URL:https://www.golnetwork.com/game/v/54287/
X-MICROSOFT-CDO-BUSYSTATUS:BUSY
X-MICROSOFT-CDO-IMPORTANCE:1
END:VEVENT
BEGIN:VEVENT
UID:g5gi9@games.golnetwork.com
LOCATION:Jesse Ketchum Field
CREATED:20140714T232914Z
DTSTART:20140809T173000Z
DTEND:20140809T184500Z
DTSTAMP:20260421T183715Z
SUMMARY:Campisi Personal Injury Lawyers vs. MPA (Blue)
DESCRIPTION:MPA (Blue) vs. Campisi Personal Injury LawyersPlus d'info : #37
X-ALT-DESC;FMTTYPE=text/html:<!DOCTYPE HTML PUBLIC "-//W3C//DTD HTML 3.2//E
	N">\n<HTML>\n<HEAD>\n<TITLE></TITLE>\n</HEAD>\n<BODY>\n<h3>MPA (Blue) vs. C
	ampisi Personal Injury Lawyers</h3>Plus d'info : <a href="https://www.golne
	twork.com/game/v/54288/">#37</a>\n\n</BODY>\n</HTML>
STATUS:CONFIRMED
CLASS:PUBLIC
URL:https://www.golnetwork.com/game/v/54288/
X-MICROSOFT-CDO-BUSYSTATUS:BUSY
X-MICROSOFT-CDO-IMPORTANCE:1
END:VEVENT
BEGIN:VEVENT
UID:g5gib@games.golnetwork.com
LOCATION:Jesse Ketchum Field
CREATED:20140714T232914Z
DTSTART:20140809T184500Z
DTEND:20140809T200000Z
DTSTAMP:20260421T183715Z
SUMMARY: Turf Beasts vs. XTSC Cool Kids
DESCRIPTION:XTSC Cool Kids vs.  Turf BeastsPlus d'info : #38
X-ALT-DESC;FMTTYPE=text/html:<!DOCTYPE HTML PUBLIC "-//W3C//DTD HTML 3.2//E
	N">\n<HTML>\n<HEAD>\n<TITLE></TITLE>\n</HEAD>\n<BODY>\n<h3>XTSC Cool Kids v
	s.  Turf Beasts</h3>Plus d'info : <a href="https://www.golnetwork.com/game/
	v/54289/">#38</a>\n\n</BODY>\n</HTML>
STATUS:CONFIRMED
CLASS:PUBLIC
URL:https://www.golnetwork.com/game/v/54289/
X-MICROSOFT-CDO-BUSYSTATUS:BUSY
X-MICROSOFT-CDO-IMPORTANCE:1
END:VEVENT
BEGIN:VEVENT
UID:g5gid@games.golnetwork.com
LOCATION:Jesse Ketchum Field
CREATED:20140714T232914Z
DTSTART:20140809T200000Z
DTEND:20140809T211500Z
DTSTAMP:20260421T183715Z
SUMMARY:ABCDE FC vs. XTSC Hattrick Heroes
DESCRIPTION:XTSC Hattrick Heroes vs. ABCDE FCPlus d'info : #39
X-ALT-DESC;FMTTYPE=text/html:<!DOCTYPE HTML PUBLIC "-//W3C//DTD HTML 3.2//E
	N">\n<HTML>\n<HEAD>\n<TITLE></TITLE>\n</HEAD>\n<BODY>\n<h3>XTSC Hattrick He
	roes vs. ABCDE FC</h3>Plus d'info : <a href="https://www.golnetwork.com/gam
	e/v/54290/">#39</a>\n\n</BODY>\n</HTML>
STATUS:CONFIRMED
CLASS:PUBLIC
URL:https://www.golnetwork.com/game/v/54290/
X-MICROSOFT-CDO-BUSYSTATUS:BUSY
X-MICROSOFT-CDO-IMPORTANCE:1
END:VEVENT
BEGIN:VEVENT
UID:g5gif@games.golnetwork.com
LOCATION:Jesse Ketchum Field
CREATED:20140714T232914Z
DTSTART:20140816T173000Z
DTEND:20140816T184500Z
DTSTAMP:20260421T183715Z
SUMMARY:XTSC Cool Kids vs. MPA (Blue)
DESCRIPTION:MPA (Blue) vs. XTSC Cool KidsPlus d'info : #44
X-ALT-DESC;FMTTYPE=text/html:<!DOCTYPE HTML PUBLIC "-//W3C//DTD HTML 3.2//E
	N">\n<HTML>\n<HEAD>\n<TITLE></TITLE>\n</HEAD>\n<BODY>\n<h3>MPA (Blue) vs. X
	TSC Cool Kids</h3>Plus d'info : <a href="https://www.golnetwork.com/game/v/
	54291/">#44</a>\n\n</BODY>\n</HTML>
STATUS:CONFIRMED
CLASS:PUBLIC
URL:https://www.golnetwork.com/game/v/54291/
X-MICROSOFT-CDO-BUSYSTATUS:BUSY
X-MICROSOFT-CDO-IMPORTANCE:1
END:VEVENT
BEGIN:VEVENT
UID:g5gih@games.golnetwork.com
LOCATION:Jesse Ketchum Field
CREATED:20140714T232914Z
DTSTART:20140816T184500Z
DTEND:20140816T200000Z
DTSTAMP:20260421T183715Z
SUMMARY:XTSC Hattrick Heroes vs. MPA (Blue)
DESCRIPTION:MPA (Blue) vs. XTSC Hattrick HeroesPlus d'info : #45
X-ALT-DESC;FMTTYPE=text/html:<!DOCTYPE HTML PUBLIC "-//W3C//DTD HTML 3.2//E
	N">\n<HTML>\n<HEAD>\n<TITLE></TITLE>\n</HEAD>\n<BODY>\n<h3>MPA (Blue) vs. X
	TSC Hattrick Heroes</h3>Plus d'info : <a href="https://www.golnetwork.com/g
	ame/v/54292/">#45</a>\n\n</BODY>\n</HTML>
STATUS:CONFIRMED
CLASS:PUBLIC
URL:https://www.golnetwork.com/game/v/54292/
X-MICROSOFT-CDO-BUSYSTATUS:BUSY
X-MICROSOFT-CDO-IMPORTANCE:1
END:VEVENT
BEGIN:VEVENT
UID:g5gij@games.golnetwork.com
LOCATION:Jesse Ketchum Field
CREATED:20140714T232914Z
DTSTART:20140816T200000Z
DTEND:20140816T211500Z
DTSTAMP:20260421T183715Z
SUMMARY:Campisi Personal Injury Lawyers vs. ABCDE FC
DESCRIPTION:ABCDE FC vs. Campisi Personal Injury LawyersPlus d'info : #46
X-ALT-DESC;FMTTYPE=text/html:<!DOCTYPE HTML PUBLIC "-//W3C//DTD HTML 3.2//E
	N">\n<HTML>\n<HEAD>\n<TITLE></TITLE>\n</HEAD>\n<BODY>\n<h3>ABCDE FC vs. Cam
	pisi Personal Injury Lawyers</h3>Plus d'info : <a href="https://www.golnetw
	ork.com/game/v/54293/">#46</a>\n\n</BODY>\n</HTML>
STATUS:CONFIRMED
CLASS:PUBLIC
URL:https://www.golnetwork.com/game/v/54293/
X-MICROSOFT-CDO-BUSYSTATUS:BUSY
X-MICROSOFT-CDO-IMPORTANCE:1
END:VEVENT
BEGIN:VEVENT
UID:g5gil@games.golnetwork.com
LOCATION:Jesse Ketchum Field
CREATED:20140714T232914Z
DTSTART:20140823T173000Z
DTEND:20140823T184500Z
DTSTAMP:20260421T183715Z
SUMMARY:XTSC Cool Kids vs. XTSC Hattrick Heroes
DESCRIPTION:XTSC Hattrick Heroes vs. XTSC Cool KidsPlus d'info : #51
X-ALT-DESC;FMTTYPE=text/html:<!DOCTYPE HTML PUBLIC "-//W3C//DTD HTML 3.2//E
	N">\n<HTML>\n<HEAD>\n<TITLE></TITLE>\n</HEAD>\n<BODY>\n<h3>XTSC Hattrick He
	roes vs. XTSC Cool Kids</h3>Plus d'info : <a href="https://www.golnetwork.c
	om/game/v/54294/">#51</a>\n\n</BODY>\n</HTML>
STATUS:CONFIRMED
CLASS:PUBLIC
URL:https://www.golnetwork.com/game/v/54294/
X-MICROSOFT-CDO-BUSYSTATUS:BUSY
X-MICROSOFT-CDO-IMPORTANCE:1
END:VEVENT
BEGIN:VEVENT
UID:g5gin@games.golnetwork.com
LOCATION:Jesse Ketchum Field
CREATED:20140714T232914Z
DTSTART:20140823T184500Z
DTEND:20140823T200000Z
DTSTAMP:20260421T183715Z
SUMMARY: Turf Beasts vs. Campisi Personal Injury Lawyers
DESCRIPTION:Campisi Personal Injury Lawyers vs.  Turf BeastsPlus d'info : #
	52
X-ALT-DESC;FMTTYPE=text/html:<!DOCTYPE HTML PUBLIC "-//W3C//DTD HTML 3.2//E
	N">\n<HTML>\n<HEAD>\n<TITLE></TITLE>\n</HEAD>\n<BODY>\n<h3>Campisi Personal
	 Injury Lawyers vs.  Turf Beasts</h3>Plus d'info : <a href="https://www.gol
	network.com/game/v/54295/">#52</a>\n\n</BODY>\n</HTML>
STATUS:CONFIRMED
CLASS:PUBLIC
URL:https://www.golnetwork.com/game/v/54295/
X-MICROSOFT-CDO-BUSYSTATUS:BUSY
X-MICROSOFT-CDO-IMPORTANCE:1
END:VEVENT
BEGIN:VEVENT
UID:g5gip@games.golnetwork.com
LOCATION:Jesse Ketchum Field
CREATED:20140714T232914Z
DTSTART:20140823T200000Z
DTEND:20140823T211500Z
DTSTAMP:20260421T183715Z
SUMMARY: Turf Beasts vs. ABCDE FC
DESCRIPTION:ABCDE FC vs.  Turf BeastsPlus d'info : #53
X-ALT-DESC;FMTTYPE=text/html:<!DOCTYPE HTML PUBLIC "-//W3C//DTD HTML 3.2//E
	N">\n<HTML>\n<HEAD>\n<TITLE></TITLE>\n</HEAD>\n<BODY>\n<h3>ABCDE FC vs.  Tu
	rf Beasts</h3>Plus d'info : <a href="https://www.golnetwork.com/game/v/5429
	6/">#53</a>\n\n</BODY>\n</HTML>
STATUS:CONFIRMED
CLASS:PUBLIC
URL:https://www.golnetwork.com/game/v/54296/
X-MICROSOFT-CDO-BUSYSTATUS:BUSY
X-MICROSOFT-CDO-IMPORTANCE:1
END:VEVENT
BEGIN:VEVENT
UID:g5ebm@games.golnetwork.com
LOCATION:Jesse Ketchum Field
CREATED:20140707T171947Z
DTSTART:20140830T173000Z
DTEND:20140830T184500Z
DTSTAMP:20260421T183715Z
SUMMARY:ABCDE FC vs.  Turf Beasts
DESCRIPTION: Turf Beasts vs. ABCDE FCPlus d'info : #58
X-ALT-DESC;FMTTYPE=text/html:<!DOCTYPE HTML PUBLIC "-//W3C//DTD HTML 3.2//E
	N">\n<HTML>\n<HEAD>\n<TITLE></TITLE>\n</HEAD>\n<BODY>\n<h3> Turf Beasts vs.
	 ABCDE FC</h3>Plus d'info : <a href="https://www.golnetwork.com/game/v/5347
	1/">#58</a>\n\n</BODY>\n</HTML>
STATUS:CONFIRMED
CLASS:PUBLIC
URL:https://www.golnetwork.com/game/v/53471/
X-MICROSOFT-CDO-BUSYSTATUS:BUSY
X-MICROSOFT-CDO-IMPORTANCE:1
END:VEVENT
BEGIN:VEVENT
UID:g5ebo@games.golnetwork.com
LOCATION:Jesse Ketchum Field
CREATED:20140707T171947Z
DTSTART:20140830T184500Z
DTEND:20140830T200000Z
DTSTAMP:20260421T183715Z
SUMMARY:XTSC Cool Kids vs. XTSC Hattrick Heroes
DESCRIPTION:XTSC Hattrick Heroes vs. XTSC Cool KidsPlus d'info : #59
X-ALT-DESC;FMTTYPE=text/html:<!DOCTYPE HTML PUBLIC "-//W3C//DTD HTML 3.2//E
	N">\n<HTML>\n<HEAD>\n<TITLE></TITLE>\n</HEAD>\n<BODY>\n<h3>XTSC Hattrick He
	roes vs. XTSC Cool Kids</h3>Plus d'info : <a href="https://www.golnetwork.c
	om/game/v/53472/">#59</a>\n\n</BODY>\n</HTML>
STATUS:CONFIRMED
CLASS:PUBLIC
URL:https://www.golnetwork.com/game/v/53472/
X-MICROSOFT-CDO-BUSYSTATUS:BUSY
X-MICROSOFT-CDO-IMPORTANCE:1
END:VEVENT
BEGIN:VEVENT
UID:g5ggh@games.golnetwork.com
LOCATION:Jesse Ketchum Field
CREATED:20140714T230203Z
DTSTART:20140830T200000Z
DTEND:20140830T211500Z
DTSTAMP:20260421T183715Z
SUMMARY:Campisi Personal Injury Lawyers vs. MPA (Blue)
DESCRIPTION:MPA (Blue) vs. Campisi Personal Injury LawyersPlus d'info : #60
X-ALT-DESC;FMTTYPE=text/html:<!DOCTYPE HTML PUBLIC "-//W3C//DTD HTML 3.2//E
	N">\n<HTML>\n<HEAD>\n<TITLE></TITLE>\n</HEAD>\n<BODY>\n<h3>MPA (Blue) vs. C
	ampisi Personal Injury Lawyers</h3>Plus d'info : <a href="https://www.golne
	twork.com/game/v/54265/">#60</a>\n\n</BODY>\n</HTML>
STATUS:CONFIRMED
CLASS:PUBLIC
URL:https://www.golnetwork.com/game/v/54265/
X-MICROSOFT-CDO-BUSYSTATUS:BUSY
X-MICROSOFT-CDO-IMPORTANCE:1
END:VEVENT
BEGIN:VEVENT
UID:g5ebq@games.golnetwork.com
LOCATION:Jesse Ketchum Field
CREATED:20140707T171947Z
DTSTART:20140906T173000Z
DTEND:20140906T184500Z
DTSTAMP:20260421T183715Z
SUMMARY:MPA (Blue) vs.  Turf Beasts
DESCRIPTION: Turf Beasts vs. MPA (Blue)Plus d'info : #61
X-ALT-DESC;FMTTYPE=text/html:<!DOCTYPE HTML PUBLIC "-//W3C//DTD HTML 3.2//E
	N">\n<HTML>\n<HEAD>\n<TITLE></TITLE>\n</HEAD>\n<BODY>\n<h3> Turf Beasts vs.
	 MPA (Blue)</h3>Plus d'info : <a href="https://www.golnetwork.com/game/v/53
	473/">#61</a>\n\n</BODY>\n</HTML>
STATUS:CONFIRMED
CLASS:PUBLIC
URL:https://www.golnetwork.com/game/v/53473/
X-MICROSOFT-CDO-BUSYSTATUS:BUSY
X-MICROSOFT-CDO-IMPORTANCE:1
END:VEVENT
BEGIN:VEVENT
UID:g5ec1@games.golnetwork.com
LOCATION:Jesse Ketchum Field
CREATED:20140707T171947Z
DTSTART:20140906T184500Z
DTEND:20140906T200000Z
DTSTAMP:20260421T183715Z
SUMMARY:Campisi Personal Injury Lawyers vs. XTSC Hattrick Heroes
DESCRIPTION:XTSC Hattrick Heroes vs. Campisi Personal Injury LawyersPlus d'
	info : #62
X-ALT-DESC;FMTTYPE=text/html:<!DOCTYPE HTML PUBLIC "-//W3C//DTD HTML 3.2//E
	N">\n<HTML>\n<HEAD>\n<TITLE></TITLE>\n</HEAD>\n<BODY>\n<h3>XTSC Hattrick He
	roes vs. Campisi Personal Injury Lawyers</h3>Plus d'info : <a href="https:/
	/www.golnetwork.com/game/v/53474/">#62</a>\n\n</BODY>\n</HTML>
STATUS:CONFIRMED
CLASS:PUBLIC
URL:https://www.golnetwork.com/game/v/53474/
X-MICROSOFT-CDO-BUSYSTATUS:BUSY
X-MICROSOFT-CDO-IMPORTANCE:1
END:VEVENT
BEGIN:VEVENT
UID:g5ggj@games.golnetwork.com
LOCATION:Jesse Ketchum Field
CREATED:20140714T230206Z
DTSTART:20140906T200000Z
DTEND:20140906T211500Z
DTSTAMP:20260421T183715Z
SUMMARY:XTSC Cool Kids vs. ABCDE FC
DESCRIPTION:ABCDE FC vs. XTSC Cool KidsPlus d'info : #63
X-ALT-DESC;FMTTYPE=text/html:<!DOCTYPE HTML PUBLIC "-//W3C//DTD HTML 3.2//E
	N">\n<HTML>\n<HEAD>\n<TITLE></TITLE>\n</HEAD>\n<BODY>\n<h3>ABCDE FC vs. XTS
	C Cool Kids</h3>Plus d'info : <a href="https://www.golnetwork.com/game/v/54
	266/">#63</a>\n\n</BODY>\n</HTML>
STATUS:CONFIRMED
CLASS:PUBLIC
URL:https://www.golnetwork.com/game/v/54266/
X-MICROSOFT-CDO-BUSYSTATUS:BUSY
X-MICROSOFT-CDO-IMPORTANCE:1
END:VEVENT
END:VCALENDAR
