BEGIN:VCALENDAR
PRODID:-//gdesolutions.com//MV Framework 1.0.0.1607 Calendar//EN
VERSION:2.0
METHOD:PUBLISH
CALSCALE:GREGORIAN
BEGIN:VEVENT
UID:g6h4j@games.golnetwork.com
LOCATION:Mac Gym
GEO:45.10662;-94.578209
CREATED:20150121T155827Z
DTSTART:20150123T001500Z
DTEND:20150123T010000Z
DTSTAMP:20260422T233633Z
SUMMARY:Moose Juice vs. Bambakalood
DESCRIPTION:Bambakalood vs. Moose JuicePlus d'info : #1
X-ALT-DESC;FMTTYPE=text/html:<!DOCTYPE HTML PUBLIC "-//W3C//DTD HTML 3.2//E
	N">\n<HTML>\n<HEAD>\n<TITLE></TITLE>\n</HEAD>\n<BODY>\n<h3>Bambakalood vs. 
	Moose Juice</h3>Plus d'info : <a href="https://www.golnetwork.com/game/v/64
	310/">#1</a>\n\n</BODY>\n</HTML>
STATUS:CONFIRMED
CLASS:PUBLIC
URL:https://www.golnetwork.com/game/v/64310/
X-MICROSOFT-CDO-BUSYSTATUS:BUSY
X-MICROSOFT-CDO-IMPORTANCE:1
END:VEVENT
BEGIN:VEVENT
UID:g6h4l@games.golnetwork.com
LOCATION:Mac Gym
GEO:45.10662;-94.578209
CREATED:20150121T155926Z
DTSTART:20150123T011500Z
DTEND:20150123T020000Z
DTSTAMP:20260422T233633Z
SUMMARY:Team X vs. Flying Geese
DESCRIPTION:Flying Geese vs. Team XPlus d'info : #2
X-ALT-DESC;FMTTYPE=text/html:<!DOCTYPE HTML PUBLIC "-//W3C//DTD HTML 3.2//E
	N">\n<HTML>\n<HEAD>\n<TITLE></TITLE>\n</HEAD>\n<BODY>\n<h3>Flying Geese vs.
	 Team X</h3>Plus d'info : <a href="https://www.golnetwork.com/game/v/64311/
	">#2</a>\n\n</BODY>\n</HTML>
STATUS:CONFIRMED
CLASS:PUBLIC
URL:https://www.golnetwork.com/game/v/64311/
X-MICROSOFT-CDO-BUSYSTATUS:BUSY
X-MICROSOFT-CDO-IMPORTANCE:1
END:VEVENT
BEGIN:VEVENT
UID:g6ih1@games.golnetwork.com
LOCATION:Mac Gym
GEO:45.10662;-94.578209
CREATED:20150127T222637Z
DTSTART:20150130T001500Z
DTEND:20150130T010000Z
DTSTAMP:20260422T233633Z
SUMMARY:New Kids on the Ball vs. Bambakalood
DESCRIPTION:Bambakalood vs. New Kids on the BallPlus d'info : #3
X-ALT-DESC;FMTTYPE=text/html:<!DOCTYPE HTML PUBLIC "-//W3C//DTD HTML 3.2//E
	N">\n<HTML>\n<HEAD>\n<TITLE></TITLE>\n</HEAD>\n<BODY>\n<h3>Bambakalood vs. 
	New Kids on the Ball</h3>Plus d'info : <a href="https://www.golnetwork.com/
	game/v/64841/">#3</a>\n\n</BODY>\n</HTML>
STATUS:CONFIRMED
CLASS:PUBLIC
URL:https://www.golnetwork.com/game/v/64841/
X-MICROSOFT-CDO-BUSYSTATUS:BUSY
X-MICROSOFT-CDO-IMPORTANCE:1
END:VEVENT
BEGIN:VEVENT
UID:g6ih3@games.golnetwork.com
LOCATION:Mac Gym
GEO:45.10662;-94.578209
CREATED:20150127T222700Z
DTSTART:20150130T010000Z
DTEND:20150130T014500Z
DTSTAMP:20260422T233633Z
SUMMARY:Team X vs. Moose Juice
DESCRIPTION:Moose Juice vs. Team XPlus d'info : #4
X-ALT-DESC;FMTTYPE=text/html:<!DOCTYPE HTML PUBLIC "-//W3C//DTD HTML 3.2//E
	N">\n<HTML>\n<HEAD>\n<TITLE></TITLE>\n</HEAD>\n<BODY>\n<h3>Moose Juice vs. 
	Team X</h3>Plus d'info : <a href="https://www.golnetwork.com/game/v/64842/"
	>#4</a>\n\n</BODY>\n</HTML>
STATUS:CONFIRMED
CLASS:PUBLIC
URL:https://www.golnetwork.com/game/v/64842/
X-MICROSOFT-CDO-BUSYSTATUS:BUSY
X-MICROSOFT-CDO-IMPORTANCE:1
END:VEVENT
BEGIN:VEVENT
UID:g6j2b@games.golnetwork.com
LOCATION:Mac Gym
GEO:45.10662;-94.578209
CREATED:20150203T171858Z
DTSTART:20150206T001500Z
DTEND:20150206T010000Z
DTSTAMP:20260422T233633Z
SUMMARY:Team X vs. New Kids on the Ball
DESCRIPTION:New Kids on the Ball vs. Team XPlus d'info : #5
X-ALT-DESC;FMTTYPE=text/html:<!DOCTYPE HTML PUBLIC "-//W3C//DTD HTML 3.2//E
	N">\n<HTML>\n<HEAD>\n<TITLE></TITLE>\n</HEAD>\n<BODY>\n<h3>New Kids on the 
	Ball vs. Team X</h3>Plus d'info : <a href="https://www.golnetwork.com/game/
	v/65008/">#5</a>\n\n</BODY>\n</HTML>
STATUS:CONFIRMED
CLASS:PUBLIC
URL:https://www.golnetwork.com/game/v/65008/
X-MICROSOFT-CDO-BUSYSTATUS:BUSY
X-MICROSOFT-CDO-IMPORTANCE:1
END:VEVENT
BEGIN:VEVENT
UID:g6j2d@games.golnetwork.com
LOCATION:Mac Gym
GEO:45.10662;-94.578209
CREATED:20150203T171916Z
DTSTART:20150206T011500Z
DTEND:20150206T020000Z
DTSTAMP:20260422T233633Z
SUMMARY:Moose Juice vs. Flying Geese
DESCRIPTION:Flying Geese vs. Moose JuicePlus d'info : #6
X-ALT-DESC;FMTTYPE=text/html:<!DOCTYPE HTML PUBLIC "-//W3C//DTD HTML 3.2//E
	N">\n<HTML>\n<HEAD>\n<TITLE></TITLE>\n</HEAD>\n<BODY>\n<h3>Flying Geese vs.
	 Moose Juice</h3>Plus d'info : <a href="https://www.golnetwork.com/game/v/6
	5009/">#6</a>\n\n</BODY>\n</HTML>
STATUS:CONFIRMED
CLASS:PUBLIC
URL:https://www.golnetwork.com/game/v/65009/
X-MICROSOFT-CDO-BUSYSTATUS:BUSY
X-MICROSOFT-CDO-IMPORTANCE:1
END:VEVENT
BEGIN:VEVENT
UID:g6j2f@games.golnetwork.com
LOCATION:Mac Gym
GEO:45.10662;-94.578209
CREATED:20150203T171935Z
DTSTART:20150213T001500Z
DTEND:20150213T010000Z
DTSTAMP:20260422T233633Z
SUMMARY:Moose Juice vs. New Kids on the Ball
DESCRIPTION:New Kids on the Ball vs. Moose JuicePlus d'info : #7
X-ALT-DESC;FMTTYPE=text/html:<!DOCTYPE HTML PUBLIC "-//W3C//DTD HTML 3.2//E
	N">\n<HTML>\n<HEAD>\n<TITLE></TITLE>\n</HEAD>\n<BODY>\n<h3>New Kids on the 
	Ball vs. Moose Juice</h3>Plus d'info : <a href="https://www.golnetwork.com/
	game/v/65010/">#7</a>\n\n</BODY>\n</HTML>
STATUS:CONFIRMED
CLASS:PUBLIC
URL:https://www.golnetwork.com/game/v/65010/
X-MICROSOFT-CDO-BUSYSTATUS:BUSY
X-MICROSOFT-CDO-IMPORTANCE:1
END:VEVENT
BEGIN:VEVENT
UID:g6j2h@games.golnetwork.com
LOCATION:Mac Gym
GEO:45.10662;-94.578209
CREATED:20150203T171945Z
DTSTART:20150213T011500Z
DTEND:20150213T020000Z
DTSTAMP:20260422T233633Z
SUMMARY:Flying Geese vs. Bambakalood
DESCRIPTION:Bambakalood vs. Flying GeesePlus d'info : #8
X-ALT-DESC;FMTTYPE=text/html:<!DOCTYPE HTML PUBLIC "-//W3C//DTD HTML 3.2//E
	N">\n<HTML>\n<HEAD>\n<TITLE></TITLE>\n</HEAD>\n<BODY>\n<h3>Bambakalood vs. 
	Flying Geese</h3>Plus d'info : <a href="https://www.golnetwork.com/game/v/6
	5011/">#8</a>\n\n</BODY>\n</HTML>
STATUS:CONFIRMED
CLASS:PUBLIC
URL:https://www.golnetwork.com/game/v/65011/
X-MICROSOFT-CDO-BUSYSTATUS:BUSY
X-MICROSOFT-CDO-IMPORTANCE:1
END:VEVENT
BEGIN:VEVENT
UID:g6j2j@games.golnetwork.com
LOCATION:Mac Gym
GEO:45.10662;-94.578209
CREATED:20150203T172002Z
DTSTART:20150220T001500Z
DTEND:20150220T010000Z
DTSTAMP:20260422T233633Z
SUMMARY:New Kids on the Ball vs. Flying Geese
DESCRIPTION:Flying Geese vs. New Kids on the BallPlus d'info : #9
X-ALT-DESC;FMTTYPE=text/html:<!DOCTYPE HTML PUBLIC "-//W3C//DTD HTML 3.2//E
	N">\n<HTML>\n<HEAD>\n<TITLE></TITLE>\n</HEAD>\n<BODY>\n<h3>Flying Geese vs.
	 New Kids on the Ball</h3>Plus d'info : <a href="https://www.golnetwork.com
	/game/v/65012/">#9</a>\n\n</BODY>\n</HTML>
STATUS:CONFIRMED
CLASS:PUBLIC
URL:https://www.golnetwork.com/game/v/65012/
X-MICROSOFT-CDO-BUSYSTATUS:BUSY
X-MICROSOFT-CDO-IMPORTANCE:1
END:VEVENT
BEGIN:VEVENT
UID:g6j2l@games.golnetwork.com
LOCATION:Mac Gym
GEO:45.10662;-94.578209
CREATED:20150203T172012Z
DTSTART:20150220T011500Z
DTEND:20150220T020000Z
DTSTAMP:20260422T233633Z
SUMMARY:Team X vs. Bambakalood
DESCRIPTION:Bambakalood vs. Team XPlus d'info : #10
X-ALT-DESC;FMTTYPE=text/html:<!DOCTYPE HTML PUBLIC "-//W3C//DTD HTML 3.2//E
	N">\n<HTML>\n<HEAD>\n<TITLE></TITLE>\n</HEAD>\n<BODY>\n<h3>Bambakalood vs. 
	Team X</h3>Plus d'info : <a href="https://www.golnetwork.com/game/v/65013/"
	>#10</a>\n\n</BODY>\n</HTML>
STATUS:CONFIRMED
CLASS:PUBLIC
URL:https://www.golnetwork.com/game/v/65013/
X-MICROSOFT-CDO-BUSYSTATUS:BUSY
X-MICROSOFT-CDO-IMPORTANCE:1
END:VEVENT
BEGIN:VEVENT
UID:g6j2p@games.golnetwork.com
LOCATION:Mac Gym
GEO:45.10662;-94.578209
CREATED:20150203T172058Z
DTSTART:20150227T001500Z
DTEND:20150227T010000Z
DTSTAMP:20260422T233633Z
SUMMARY:Moose Juice vs. Bambakalood
DESCRIPTION:Bambakalood vs. Moose JuicePlus d'info : #11
X-ALT-DESC;FMTTYPE=text/html:<!DOCTYPE HTML PUBLIC "-//W3C//DTD HTML 3.2//E
	N">\n<HTML>\n<HEAD>\n<TITLE></TITLE>\n</HEAD>\n<BODY>\n<h3>Bambakalood vs. 
	Moose Juice</h3>Plus d'info : <a href="https://www.golnetwork.com/game/v/65
	015/">#11</a>\n\n</BODY>\n</HTML>
STATUS:CONFIRMED
CLASS:PUBLIC
URL:https://www.golnetwork.com/game/v/65015/
X-MICROSOFT-CDO-BUSYSTATUS:BUSY
X-MICROSOFT-CDO-IMPORTANCE:1
END:VEVENT
BEGIN:VEVENT
UID:g6k0o@games.golnetwork.com
LOCATION:Mac Gym
GEO:45.10662;-94.578209
CREATED:20150218T001106Z
DTSTART:20150227T011500Z
DTEND:20150227T020000Z
DTSTAMP:20260422T233633Z
SUMMARY:New Kids on the Ball vs. Team X
DESCRIPTION:Team X vs. New Kids on the BallPlus d'info : #12
X-ALT-DESC;FMTTYPE=text/html:<!DOCTYPE HTML PUBLIC "-//W3C//DTD HTML 3.2//E
	N">\n<HTML>\n<HEAD>\n<TITLE></TITLE>\n</HEAD>\n<BODY>\n<h3>Team X vs. New K
	ids on the Ball</h3>Plus d'info : <a href="https://www.golnetwork.com/game/
	v/65352/">#12</a>\n\n</BODY>\n</HTML>
STATUS:CONFIRMED
CLASS:PUBLIC
URL:https://www.golnetwork.com/game/v/65352/
X-MICROSOFT-CDO-BUSYSTATUS:BUSY
X-MICROSOFT-CDO-IMPORTANCE:1
END:VEVENT
BEGIN:VEVENT
UID:g6ke8@games.golnetwork.com
LOCATION:Mac Gym
GEO:45.10662;-94.578209
CREATED:20150224T233608Z
DTSTART:20150313T001500Z
DTEND:20150313T010000Z
DTSTAMP:20260422T233633Z
SUMMARY:New Kids on the Ball vs. Bambakalood
DESCRIPTION:Bambakalood vs. New Kids on the BallPlus d'info : #13
X-ALT-DESC;FMTTYPE=text/html:<!DOCTYPE HTML PUBLIC "-//W3C//DTD HTML 3.2//E
	N">\n<HTML>\n<HEAD>\n<TITLE></TITLE>\n</HEAD>\n<BODY>\n<h3>Bambakalood vs. 
	New Kids on the Ball</h3>Plus d'info : <a href="https://www.golnetwork.com/
	game/v/65533/">#13</a>\n\n</BODY>\n</HTML>
STATUS:CONFIRMED
CLASS:PUBLIC
URL:https://www.golnetwork.com/game/v/65533/
X-MICROSOFT-CDO-BUSYSTATUS:BUSY
X-MICROSOFT-CDO-IMPORTANCE:1
END:VEVENT
BEGIN:VEVENT
UID:g6k0q@games.golnetwork.com
LOCATION:Mac Gym
GEO:45.10662;-94.578209
CREATED:20150218T001150Z
DTSTART:20150313T010000Z
DTEND:20150313T014500Z
DTSTAMP:20260422T233633Z
SUMMARY:Flying Geese vs. Team X
DESCRIPTION:Team X vs. Flying GeesePlus d'info : #14
X-ALT-DESC;FMTTYPE=text/html:<!DOCTYPE HTML PUBLIC "-//W3C//DTD HTML 3.2//E
	N">\n<HTML>\n<HEAD>\n<TITLE></TITLE>\n</HEAD>\n<BODY>\n<h3>Team X vs. Flyin
	g Geese</h3>Plus d'info : <a href="https://www.golnetwork.com/game/v/65353/
	">#14</a>\n\n</BODY>\n</HTML>
STATUS:CONFIRMED
CLASS:PUBLIC
URL:https://www.golnetwork.com/game/v/65353/
X-MICROSOFT-CDO-BUSYSTATUS:BUSY
X-MICROSOFT-CDO-IMPORTANCE:1
END:VEVENT
BEGIN:VEVENT
UID:g6kea@games.golnetwork.com
LOCATION:Mac Gym
GEO:45.10662;-94.578209
CREATED:20150225T013753Z
DTSTART:20150319T231500Z
DTEND:20150320T000000Z
DTSTAMP:20260422T233633Z
SUMMARY:Flying Geese vs. Bambakalood
DESCRIPTION:Bambakalood vs. Flying GeesePlus d'info : #15
X-ALT-DESC;FMTTYPE=text/html:<!DOCTYPE HTML PUBLIC "-//W3C//DTD HTML 3.2//E
	N">\n<HTML>\n<HEAD>\n<TITLE></TITLE>\n</HEAD>\n<BODY>\n<h3>Bambakalood vs. 
	Flying Geese</h3>Plus d'info : <a href="https://www.golnetwork.com/game/v/6
	5534/">#15</a>\n\n</BODY>\n</HTML>
STATUS:CONFIRMED
CLASS:PUBLIC
URL:https://www.golnetwork.com/game/v/65534/
X-MICROSOFT-CDO-BUSYSTATUS:BUSY
X-MICROSOFT-CDO-IMPORTANCE:1
END:VEVENT
BEGIN:VEVENT
UID:g6kec@games.golnetwork.com
LOCATION:Mac Gym
GEO:45.10662;-94.578209
CREATED:20150225T013803Z
DTSTART:20150320T001500Z
DTEND:20150320T010000Z
DTSTAMP:20260422T233633Z
SUMMARY:Moose Juice vs. Team X
DESCRIPTION:Team X vs. Moose JuicePlus d'info : #16
X-ALT-DESC;FMTTYPE=text/html:<!DOCTYPE HTML PUBLIC "-//W3C//DTD HTML 3.2//E
	N">\n<HTML>\n<HEAD>\n<TITLE></TITLE>\n</HEAD>\n<BODY>\n<h3>Team X vs. Moose
	 Juice</h3>Plus d'info : <a href="https://www.golnetwork.com/game/v/65535/"
	>#16</a>\n\n</BODY>\n</HTML>
STATUS:CONFIRMED
CLASS:PUBLIC
URL:https://www.golnetwork.com/game/v/65535/
X-MICROSOFT-CDO-BUSYSTATUS:BUSY
X-MICROSOFT-CDO-IMPORTANCE:1
END:VEVENT
BEGIN:VEVENT
UID:g6mfp@games.golnetwork.com
LOCATION:Mac Gym
GEO:45.10662;-94.578209
CREATED:20150325T180805Z
DTSTART:20150326T231500Z
DTEND:20150327T000000Z
DTSTAMP:20260422T233633Z
SUMMARY:New Kids on the Ball vs. Flying Geese
DESCRIPTION:Flying Geese vs. New Kids on the BallPlus d'info : #17
X-ALT-DESC;FMTTYPE=text/html:<!DOCTYPE HTML PUBLIC "-//W3C//DTD HTML 3.2//E
	N">\n<HTML>\n<HEAD>\n<TITLE></TITLE>\n</HEAD>\n<BODY>\n<h3>Flying Geese vs.
	 New Kids on the Ball</h3>Plus d'info : <a href="https://www.golnetwork.com
	/game/v/66284/">#17</a>\n\n</BODY>\n</HTML>
STATUS:CONFIRMED
CLASS:PUBLIC
URL:https://www.golnetwork.com/game/v/66284/
X-MICROSOFT-CDO-BUSYSTATUS:BUSY
X-MICROSOFT-CDO-IMPORTANCE:1
END:VEVENT
BEGIN:VEVENT
UID:g6mg0@games.golnetwork.com
LOCATION:Mac Gym
GEO:45.10662;-94.578209
CREATED:20150325T181749Z
DTSTART:20150327T001500Z
DTEND:20150327T010000Z
DTSTAMP:20260422T233633Z
SUMMARY:Team X vs. Bambakalood
DESCRIPTION:Bambakalood vs. Team XPlus d'info : #18
X-ALT-DESC;FMTTYPE=text/html:<!DOCTYPE HTML PUBLIC "-//W3C//DTD HTML 3.2//E
	N">\n<HTML>\n<HEAD>\n<TITLE></TITLE>\n</HEAD>\n<BODY>\n<h3>Bambakalood vs. 
	Team X</h3>Plus d'info : <a href="https://www.golnetwork.com/game/v/66285/"
	>#18</a>\n\n</BODY>\n</HTML>
STATUS:CONFIRMED
CLASS:PUBLIC
URL:https://www.golnetwork.com/game/v/66285/
X-MICROSOFT-CDO-BUSYSTATUS:BUSY
X-MICROSOFT-CDO-IMPORTANCE:1
END:VEVENT
BEGIN:VEVENT
UID:g6n90@games.golnetwork.com
LOCATION:Mac Gym
GEO:45.10662;-94.578209
CREATED:20150331T134721Z
DTSTART:20150402T010000Z
DTEND:20150402T014500Z
DTSTAMP:20260422T233633Z
SUMMARY:Flying Geese vs. Bambakalood
DESCRIPTION:Bambakalood vs. Flying GeesePlus d'info : #19
X-ALT-DESC;FMTTYPE=text/html:<!DOCTYPE HTML PUBLIC "-//W3C//DTD HTML 3.2//E
	N">\n<HTML>\n<HEAD>\n<TITLE></TITLE>\n</HEAD>\n<BODY>\n<h3>Bambakalood vs. 
	Flying Geese</h3>Plus d'info : <a href="https://www.golnetwork.com/game/v/6
	6555/">#19</a>\n\n</BODY>\n</HTML>
STATUS:CONFIRMED
CLASS:PUBLIC
URL:https://www.golnetwork.com/game/v/66555/
X-MICROSOFT-CDO-BUSYSTATUS:BUSY
X-MICROSOFT-CDO-IMPORTANCE:1
END:VEVENT
END:VCALENDAR
