BEGIN:VCALENDAR
PRODID:-//gdesolutions.com//MV Framework 1.0.0.1607 Calendar//EN
VERSION:2.0
METHOD:PUBLISH
CALSCALE:GREGORIAN
BEGIN:VEVENT
UID:g6gjf@games.golnetwork.com
LOCATION:Stewart Gymnasium
GEO:45.10662;-94.578209
CREATED:20150118T025504Z
DTSTART:20150120T001500Z
DTEND:20150120T011500Z
DTSTAMP:20260420T151530Z
SUMMARY:We Always Get It Up vs. Baba's Babes
DESCRIPTION:Baba's Babes vs. We Always Get It UpPlus d'info : #1
X-ALT-DESC;FMTTYPE=text/html:<!DOCTYPE HTML PUBLIC "-//W3C//DTD HTML 3.2//E
	N">\n<HTML>\n<HEAD>\n<TITLE></TITLE>\n</HEAD>\n<BODY>\n<h3>Baba's Babes vs.
	 We Always Get It Up</h3>Plus d'info : <a href="https://www.golnetwork.com/
	game/v/64146/">#1</a>\n\n</BODY>\n</HTML>
STATUS:CONFIRMED
CLASS:PUBLIC
URL:https://www.golnetwork.com/game/v/64146/
X-MICROSOFT-CDO-BUSYSTATUS:BUSY
X-MICROSOFT-CDO-IMPORTANCE:1
END:VEVENT
BEGIN:VEVENT
UID:g6gjb@games.golnetwork.com
LOCATION:Stewart Gymnasium
GEO:45.10662;-94.578209
CREATED:20150118T022359Z
DTSTART:20150120T011500Z
DTEND:20150120T021500Z
DTSTAMP:20260420T151530Z
SUMMARY:Ball Busters vs. Kamikaze
DESCRIPTION:Kamikaze vs. Ball BustersPlus d'info : #2
X-ALT-DESC;FMTTYPE=text/html:<!DOCTYPE HTML PUBLIC "-//W3C//DTD HTML 3.2//E
	N">\n<HTML>\n<HEAD>\n<TITLE></TITLE>\n</HEAD>\n<BODY>\n<h3>Kamikaze vs. Bal
	l Busters</h3>Plus d'info : <a href="https://www.golnetwork.com/game/v/6414
	4/">#2</a>\n\n</BODY>\n</HTML>
STATUS:CONFIRMED
CLASS:PUBLIC
URL:https://www.golnetwork.com/game/v/64144/
X-MICROSOFT-CDO-BUSYSTATUS:BUSY
X-MICROSOFT-CDO-IMPORTANCE:1
END:VEVENT
BEGIN:VEVENT
UID:g6i3p@games.golnetwork.com
LOCATION:Stewart Gymnasium
GEO:45.10662;-94.578209
CREATED:20150125T022658Z
DTSTART:20150127T001500Z
DTEND:20150127T011500Z
DTSTAMP:20260420T151530Z
SUMMARY:Kung Fu Pandas vs. Kamikaze
DESCRIPTION:Kamikaze vs. Kung Fu PandasPlus d'info : #4
X-ALT-DESC;FMTTYPE=text/html:<!DOCTYPE HTML PUBLIC "-//W3C//DTD HTML 3.2//E
	N">\n<HTML>\n<HEAD>\n<TITLE></TITLE>\n</HEAD>\n<BODY>\n<h3>Kamikaze vs. Kun
	g Fu Pandas</h3>Plus d'info : <a href="https://www.golnetwork.com/game/v/64
	664/">#4</a>\n\n</BODY>\n</HTML>
STATUS:CONFIRMED
CLASS:PUBLIC
URL:https://www.golnetwork.com/game/v/64664/
X-MICROSOFT-CDO-BUSYSTATUS:BUSY
X-MICROSOFT-CDO-IMPORTANCE:1
END:VEVENT
BEGIN:VEVENT
UID:g6i40@games.golnetwork.com
LOCATION:Stewart Gymnasium
GEO:45.10662;-94.578209
CREATED:20150125T022658Z
DTSTART:20150127T011500Z
DTEND:20150127T021500Z
DTSTAMP:20260420T151530Z
SUMMARY:Baba's Babes vs. Flock 'em up!
DESCRIPTION:Flock 'em up! vs. Baba's BabesPlus d'info : #5
X-ALT-DESC;FMTTYPE=text/html:<!DOCTYPE HTML PUBLIC "-//W3C//DTD HTML 3.2//E
	N">\n<HTML>\n<HEAD>\n<TITLE></TITLE>\n</HEAD>\n<BODY>\n<h3>Flock 'em up! vs
	. Baba's Babes</h3>Plus d'info : <a href="https://www.golnetwork.com/game/v
	/64665/">#5</a>\n\n</BODY>\n</HTML>
STATUS:CONFIRMED
CLASS:PUBLIC
URL:https://www.golnetwork.com/game/v/64665/
X-MICROSOFT-CDO-BUSYSTATUS:BUSY
X-MICROSOFT-CDO-IMPORTANCE:1
END:VEVENT
BEGIN:VEVENT
UID:g6i42@games.golnetwork.com
LOCATION:Stewart Gymnasium
GEO:45.10662;-94.578209
CREATED:20150125T022658Z
DTSTART:20150127T021500Z
DTEND:20150127T031500Z
DTSTAMP:20260420T151530Z
SUMMARY:We Always Get It Up vs. Trailer Park Boys
DESCRIPTION:Trailer Park Boys vs. We Always Get It UpPlus d'info : #6
X-ALT-DESC;FMTTYPE=text/html:<!DOCTYPE HTML PUBLIC "-//W3C//DTD HTML 3.2//E
	N">\n<HTML>\n<HEAD>\n<TITLE></TITLE>\n</HEAD>\n<BODY>\n<h3>Trailer Park Boy
	s vs. We Always Get It Up</h3>Plus d'info : <a href="https://www.golnetwork
	.com/game/v/64666/">#6</a>\n\n</BODY>\n</HTML>
STATUS:CONFIRMED
CLASS:PUBLIC
URL:https://www.golnetwork.com/game/v/64666/
X-MICROSOFT-CDO-BUSYSTATUS:BUSY
X-MICROSOFT-CDO-IMPORTANCE:1
END:VEVENT
BEGIN:VEVENT
UID:g6i44@games.golnetwork.com
LOCATION:Stewart Gymnasium
GEO:45.10662;-94.578209
CREATED:20150125T022659Z
DTSTART:20150127T031500Z
DTEND:20150127T041500Z
DTSTAMP:20260420T151530Z
SUMMARY:Flying Deutchman vs. Ball Busters
DESCRIPTION:Ball Busters vs. Flying DeutchmanPlus d'info : #7
X-ALT-DESC;FMTTYPE=text/html:<!DOCTYPE HTML PUBLIC "-//W3C//DTD HTML 3.2//E
	N">\n<HTML>\n<HEAD>\n<TITLE></TITLE>\n</HEAD>\n<BODY>\n<h3>Ball Busters vs.
	 Flying Deutchman</h3>Plus d'info : <a href="https://www.golnetwork.com/gam
	e/v/64667/">#7</a>\n\n</BODY>\n</HTML>
STATUS:RESCHEDULED
CLASS:PUBLIC
URL:https://www.golnetwork.com/game/v/64667/
X-MICROSOFT-CDO-BUSYSTATUS:BUSY
X-MICROSOFT-CDO-IMPORTANCE:1
END:VEVENT
BEGIN:VEVENT
UID:g6ie0@games.golnetwork.com
LOCATION:Stewart Gymnasium
GEO:45.10662;-94.578209
CREATED:20150127T173114Z
DTSTART:20150128T013000Z
DTEND:20150128T023000Z
DTSTAMP:20260420T151530Z
SUMMARY:Flying Deutchman vs. Ball Busters
DESCRIPTION:Ball Busters vs. Flying DeutchmanPlus d'info : R#7
X-ALT-DESC;FMTTYPE=text/html:<!DOCTYPE HTML PUBLIC "-//W3C//DTD HTML 3.2//E
	N">\n<HTML>\n<HEAD>\n<TITLE></TITLE>\n</HEAD>\n<BODY>\n<h3>Ball Busters vs.
	 Flying Deutchman</h3>Plus d'info : <a href="https://www.golnetwork.com/gam
	e/v/64800/">R#7</a>\n\n</BODY>\n</HTML>
STATUS:CONFIRMED
CLASS:PUBLIC
URL:https://www.golnetwork.com/game/v/64800/
X-MICROSOFT-CDO-BUSYSTATUS:BUSY
X-MICROSOFT-CDO-IMPORTANCE:1
END:VEVENT
BEGIN:VEVENT
UID:g6i46@games.golnetwork.com
LOCATION:Stewart Gymnasium
GEO:45.10662;-94.578209
CREATED:20150125T022659Z
DTSTART:20150203T001500Z
DTEND:20150203T011500Z
DTSTAMP:20260420T151530Z
SUMMARY:Kung Fu Pandas vs. Flying Deutchman
DESCRIPTION:Flying Deutchman vs. Kung Fu PandasPlus d'info : #9
X-ALT-DESC;FMTTYPE=text/html:<!DOCTYPE HTML PUBLIC "-//W3C//DTD HTML 3.2//E
	N">\n<HTML>\n<HEAD>\n<TITLE></TITLE>\n</HEAD>\n<BODY>\n<h3>Flying Deutchman
	 vs. Kung Fu Pandas</h3>Plus d'info : <a href="https://www.golnetwork.com/g
	ame/v/64668/">#9</a>\n\n</BODY>\n</HTML>
STATUS:CONFIRMED
CLASS:PUBLIC
URL:https://www.golnetwork.com/game/v/64668/
X-MICROSOFT-CDO-BUSYSTATUS:BUSY
X-MICROSOFT-CDO-IMPORTANCE:1
END:VEVENT
BEGIN:VEVENT
UID:g6i4a@games.golnetwork.com
LOCATION:Stewart Gymnasium
GEO:45.10662;-94.578209
CREATED:20150125T022659Z
DTSTART:20150203T011500Z
DTEND:20150203T021500Z
DTSTAMP:20260420T151530Z
SUMMARY:Baba's Babes vs. Kamikaze
DESCRIPTION:Kamikaze vs. Baba's BabesPlus d'info : #10
X-ALT-DESC;FMTTYPE=text/html:<!DOCTYPE HTML PUBLIC "-//W3C//DTD HTML 3.2//E
	N">\n<HTML>\n<HEAD>\n<TITLE></TITLE>\n</HEAD>\n<BODY>\n<h3>Kamikaze vs. Bab
	a's Babes</h3>Plus d'info : <a href="https://www.golnetwork.com/game/v/6467
	0/">#10</a>\n\n</BODY>\n</HTML>
STATUS:CONFIRMED
CLASS:PUBLIC
URL:https://www.golnetwork.com/game/v/64670/
X-MICROSOFT-CDO-BUSYSTATUS:BUSY
X-MICROSOFT-CDO-IMPORTANCE:1
END:VEVENT
BEGIN:VEVENT
UID:g6i4c@games.golnetwork.com
LOCATION:Stewart Gymnasium
GEO:45.10662;-94.578209
CREATED:20150125T022659Z
DTSTART:20150203T021500Z
DTEND:20150203T031500Z
DTSTAMP:20260420T151530Z
SUMMARY:Flock 'em up! vs. Trailer Park Boys
DESCRIPTION:Trailer Park Boys vs. Flock 'em up!Plus d'info : #11
X-ALT-DESC;FMTTYPE=text/html:<!DOCTYPE HTML PUBLIC "-//W3C//DTD HTML 3.2//E
	N">\n<HTML>\n<HEAD>\n<TITLE></TITLE>\n</HEAD>\n<BODY>\n<h3>Trailer Park Boy
	s vs. Flock 'em up!</h3>Plus d'info : <a href="https://www.golnetwork.com/g
	ame/v/64671/">#11</a>\n\n</BODY>\n</HTML>
STATUS:CONFIRMED
CLASS:PUBLIC
URL:https://www.golnetwork.com/game/v/64671/
X-MICROSOFT-CDO-BUSYSTATUS:BUSY
X-MICROSOFT-CDO-IMPORTANCE:1
END:VEVENT
BEGIN:VEVENT
UID:g6iqk@games.golnetwork.com
LOCATION:Stewart Gymnasium
GEO:45.10662;-94.578209
CREATED:20150130T041532Z
DTSTART:20150204T013000Z
DTEND:20150204T023000Z
DTSTAMP:20260420T151530Z
SUMMARY:We Always Get It Up vs. Ball Busters
DESCRIPTION:Ball Busters vs. We Always Get It UpPlus d'info : #12
X-ALT-DESC;FMTTYPE=text/html:<!DOCTYPE HTML PUBLIC "-//W3C//DTD HTML 3.2//E
	N">\n<HTML>\n<HEAD>\n<TITLE></TITLE>\n</HEAD>\n<BODY>\n<h3>Ball Busters vs.
	 We Always Get It Up</h3>Plus d'info : <a href="https://www.golnetwork.com/
	game/v/64972/">#12</a>\n\n</BODY>\n</HTML>
STATUS:CONFIRMED
CLASS:PUBLIC
URL:https://www.golnetwork.com/game/v/64972/
X-MICROSOFT-CDO-BUSYSTATUS:BUSY
X-MICROSOFT-CDO-IMPORTANCE:1
END:VEVENT
BEGIN:VEVENT
UID:g6i4e@games.golnetwork.com
LOCATION:Stewart Gymnasium
GEO:45.10662;-94.578209
CREATED:20150125T022659Z
DTSTART:20150210T001500Z
DTEND:20150210T011500Z
DTSTAMP:20260420T151530Z
SUMMARY:Flying Deutchman vs. We Always Get It Up
DESCRIPTION:We Always Get It Up vs. Flying DeutchmanPlus d'info : #13
X-ALT-DESC;FMTTYPE=text/html:<!DOCTYPE HTML PUBLIC "-//W3C//DTD HTML 3.2//E
	N">\n<HTML>\n<HEAD>\n<TITLE></TITLE>\n</HEAD>\n<BODY>\n<h3>We Always Get It
	 Up vs. Flying Deutchman</h3>Plus d'info : <a href="https://www.golnetwork.
	com/game/v/64672/">#13</a>\n\n</BODY>\n</HTML>
STATUS:CONFIRMED
CLASS:PUBLIC
URL:https://www.golnetwork.com/game/v/64672/
X-MICROSOFT-CDO-BUSYSTATUS:BUSY
X-MICROSOFT-CDO-IMPORTANCE:1
END:VEVENT
BEGIN:VEVENT
UID:g6i4g@games.golnetwork.com
LOCATION:Stewart Gymnasium
GEO:45.10662;-94.578209
CREATED:20150125T022659Z
DTSTART:20150210T011500Z
DTEND:20150210T021500Z
DTSTAMP:20260420T151530Z
SUMMARY:Baba's Babes vs. Kung Fu Pandas
DESCRIPTION:Kung Fu Pandas vs. Baba's BabesPlus d'info : #14
X-ALT-DESC;FMTTYPE=text/html:<!DOCTYPE HTML PUBLIC "-//W3C//DTD HTML 3.2//E
	N">\n<HTML>\n<HEAD>\n<TITLE></TITLE>\n</HEAD>\n<BODY>\n<h3>Kung Fu Pandas v
	s. Baba's Babes</h3>Plus d'info : <a href="https://www.golnetwork.com/game/
	v/64673/">#14</a>\n\n</BODY>\n</HTML>
STATUS:CONFIRMED
CLASS:PUBLIC
URL:https://www.golnetwork.com/game/v/64673/
X-MICROSOFT-CDO-BUSYSTATUS:BUSY
X-MICROSOFT-CDO-IMPORTANCE:1
END:VEVENT
BEGIN:VEVENT
UID:g6i4i@games.golnetwork.com
LOCATION:Stewart Gymnasium
GEO:45.10662;-94.578209
CREATED:20150125T022659Z
DTSTART:20150210T021500Z
DTEND:20150210T031500Z
DTSTAMP:20260420T151530Z
SUMMARY:Flock 'em up! vs. Ball Busters
DESCRIPTION:Ball Busters vs. Flock 'em up!Plus d'info : #15
X-ALT-DESC;FMTTYPE=text/html:<!DOCTYPE HTML PUBLIC "-//W3C//DTD HTML 3.2//E
	N">\n<HTML>\n<HEAD>\n<TITLE></TITLE>\n</HEAD>\n<BODY>\n<h3>Ball Busters vs.
	 Flock 'em up!</h3>Plus d'info : <a href="https://www.golnetwork.com/game/v
	/64674/">#15</a>\n\n</BODY>\n</HTML>
STATUS:CONFIRMED
CLASS:PUBLIC
URL:https://www.golnetwork.com/game/v/64674/
X-MICROSOFT-CDO-BUSYSTATUS:BUSY
X-MICROSOFT-CDO-IMPORTANCE:1
END:VEVENT
BEGIN:VEVENT
UID:g6i4k@games.golnetwork.com
LOCATION:Stewart Gymnasium
GEO:45.10662;-94.578209
CREATED:20150125T022659Z
DTSTART:20150211T013000Z
DTEND:20150211T023000Z
DTSTAMP:20260420T151530Z
SUMMARY:Trailer Park Boys vs. Kamikaze
DESCRIPTION:Kamikaze vs. Trailer Park BoysPlus d'info : #16
X-ALT-DESC;FMTTYPE=text/html:<!DOCTYPE HTML PUBLIC "-//W3C//DTD HTML 3.2//E
	N">\n<HTML>\n<HEAD>\n<TITLE></TITLE>\n</HEAD>\n<BODY>\n<h3>Kamikaze vs. Tra
	iler Park Boys</h3>Plus d'info : <a href="https://www.golnetwork.com/game/v
	/64675/">#16</a>\n\n</BODY>\n</HTML>
STATUS:CONFIRMED
CLASS:PUBLIC
URL:https://www.golnetwork.com/game/v/64675/
X-MICROSOFT-CDO-BUSYSTATUS:BUSY
X-MICROSOFT-CDO-IMPORTANCE:1
END:VEVENT
BEGIN:VEVENT
UID:g6i4q@games.golnetwork.com
LOCATION:Stewart Gymnasium
GEO:45.10662;-94.578209
CREATED:20150125T022659Z
DTSTART:20150217T001500Z
DTEND:20150217T011500Z
DTSTAMP:20260420T151530Z
SUMMARY:Flock 'em up! vs. We Always Get It Up
DESCRIPTION:We Always Get It Up vs. Flock 'em up!Plus d'info : #17
X-ALT-DESC;FMTTYPE=text/html:<!DOCTYPE HTML PUBLIC "-//W3C//DTD HTML 3.2//E
	N">\n<HTML>\n<HEAD>\n<TITLE></TITLE>\n</HEAD>\n<BODY>\n<h3>We Always Get It
	 Up vs. Flock 'em up!</h3>Plus d'info : <a href="https://www.golnetwork.com
	/game/v/64678/">#17</a>\n\n</BODY>\n</HTML>
STATUS:CONFIRMED
CLASS:PUBLIC
URL:https://www.golnetwork.com/game/v/64678/
X-MICROSOFT-CDO-BUSYSTATUS:BUSY
X-MICROSOFT-CDO-IMPORTANCE:1
END:VEVENT
BEGIN:VEVENT
UID:g6i4o@games.golnetwork.com
LOCATION:Stewart Gymnasium
GEO:45.10662;-94.578209
CREATED:20150125T022659Z
DTSTART:20150217T011500Z
DTEND:20150217T021500Z
DTSTAMP:20260420T151530Z
SUMMARY:Kamikaze vs. Ball Busters
DESCRIPTION:Ball Busters vs. KamikazePlus d'info : #18
X-ALT-DESC;FMTTYPE=text/html:<!DOCTYPE HTML PUBLIC "-//W3C//DTD HTML 3.2//E
	N">\n<HTML>\n<HEAD>\n<TITLE></TITLE>\n</HEAD>\n<BODY>\n<h3>Ball Busters vs.
	 Kamikaze</h3>Plus d'info : <a href="https://www.golnetwork.com/game/v/6467
	7/">#18</a>\n\n</BODY>\n</HTML>
STATUS:CONFIRMED
CLASS:PUBLIC
URL:https://www.golnetwork.com/game/v/64677/
X-MICROSOFT-CDO-BUSYSTATUS:BUSY
X-MICROSOFT-CDO-IMPORTANCE:1
END:VEVENT
BEGIN:VEVENT
UID:g6i51@games.golnetwork.com
LOCATION:Stewart Gymnasium
GEO:45.10662;-94.578209
CREATED:20150125T022659Z
DTSTART:20150217T021500Z
DTEND:20150217T031500Z
DTSTAMP:20260420T151530Z
SUMMARY:Trailer Park Boys vs. Kung Fu Pandas
DESCRIPTION:Kung Fu Pandas vs. Trailer Park BoysPlus d'info : #19
X-ALT-DESC;FMTTYPE=text/html:<!DOCTYPE HTML PUBLIC "-//W3C//DTD HTML 3.2//E
	N">\n<HTML>\n<HEAD>\n<TITLE></TITLE>\n</HEAD>\n<BODY>\n<h3>Kung Fu Pandas v
	s. Trailer Park Boys</h3>Plus d'info : <a href="https://www.golnetwork.com/
	game/v/64679/">#19</a>\n\n</BODY>\n</HTML>
STATUS:CONFIRMED
CLASS:PUBLIC
URL:https://www.golnetwork.com/game/v/64679/
X-MICROSOFT-CDO-BUSYSTATUS:BUSY
X-MICROSOFT-CDO-IMPORTANCE:1
END:VEVENT
BEGIN:VEVENT
UID:g6i4m@games.golnetwork.com
LOCATION:Stewart Gymnasium
GEO:45.10662;-94.578209
CREATED:20150125T022659Z
DTSTART:20150218T013000Z
DTEND:20150218T023000Z
DTSTAMP:20260420T151530Z
SUMMARY:Baba's Babes vs. Flying Deutchman
DESCRIPTION:Flying Deutchman vs. Baba's BabesPlus d'info : #20
X-ALT-DESC;FMTTYPE=text/html:<!DOCTYPE HTML PUBLIC "-//W3C//DTD HTML 3.2//E
	N">\n<HTML>\n<HEAD>\n<TITLE></TITLE>\n</HEAD>\n<BODY>\n<h3>Flying Deutchman
	 vs. Baba's Babes</h3>Plus d'info : <a href="https://www.golnetwork.com/gam
	e/v/64676/">#20</a>\n\n</BODY>\n</HTML>
STATUS:CONFIRMED
CLASS:PUBLIC
URL:https://www.golnetwork.com/game/v/64676/
X-MICROSOFT-CDO-BUSYSTATUS:BUSY
X-MICROSOFT-CDO-IMPORTANCE:1
END:VEVENT
BEGIN:VEVENT
UID:g6i53@games.golnetwork.com
LOCATION:Stewart Gymnasium
GEO:45.10662;-94.578209
CREATED:20150125T022659Z
DTSTART:20150224T001500Z
DTEND:20150224T011500Z
DTSTAMP:20260420T151530Z
SUMMARY:Trailer Park Boys vs. Baba's Babes
DESCRIPTION:Baba's Babes vs. Trailer Park BoysPlus d'info : #21
X-ALT-DESC;FMTTYPE=text/html:<!DOCTYPE HTML PUBLIC "-//W3C//DTD HTML 3.2//E
	N">\n<HTML>\n<HEAD>\n<TITLE></TITLE>\n</HEAD>\n<BODY>\n<h3>Baba's Babes vs.
	 Trailer Park Boys</h3>Plus d'info : <a href="https://www.golnetwork.com/ga
	me/v/64680/">#21</a>\n\n</BODY>\n</HTML>
STATUS:CONFIRMED
CLASS:PUBLIC
URL:https://www.golnetwork.com/game/v/64680/
X-MICROSOFT-CDO-BUSYSTATUS:BUSY
X-MICROSOFT-CDO-IMPORTANCE:1
END:VEVENT
BEGIN:VEVENT
UID:g6i59@games.golnetwork.com
LOCATION:Stewart Gymnasium
GEO:45.10662;-94.578209
CREATED:20150125T022659Z
DTSTART:20150224T011500Z
DTEND:20150224T021500Z
DTSTAMP:20260420T151530Z
SUMMARY:Ball Busters vs. Kung Fu Pandas
DESCRIPTION:Kung Fu Pandas vs. Ball BustersPlus d'info : #22
X-ALT-DESC;FMTTYPE=text/html:<!DOCTYPE HTML PUBLIC "-//W3C//DTD HTML 3.2//E
	N">\n<HTML>\n<HEAD>\n<TITLE></TITLE>\n</HEAD>\n<BODY>\n<h3>Kung Fu Pandas v
	s. Ball Busters</h3>Plus d'info : <a href="https://www.golnetwork.com/game/
	v/64683/">#22</a>\n\n</BODY>\n</HTML>
STATUS:CONFIRMED
CLASS:PUBLIC
URL:https://www.golnetwork.com/game/v/64683/
X-MICROSOFT-CDO-BUSYSTATUS:BUSY
X-MICROSOFT-CDO-IMPORTANCE:1
END:VEVENT
BEGIN:VEVENT
UID:g6i57@games.golnetwork.com
LOCATION:Stewart Gymnasium
GEO:45.10662;-94.578209
CREATED:20150125T022659Z
DTSTART:20150224T021500Z
DTEND:20150224T031500Z
DTSTAMP:20260420T151530Z
SUMMARY:Kamikaze vs. We Always Get It Up
DESCRIPTION:We Always Get It Up vs. KamikazePlus d'info : #23
X-ALT-DESC;FMTTYPE=text/html:<!DOCTYPE HTML PUBLIC "-//W3C//DTD HTML 3.2//E
	N">\n<HTML>\n<HEAD>\n<TITLE></TITLE>\n</HEAD>\n<BODY>\n<h3>We Always Get It
	 Up vs. Kamikaze</h3>Plus d'info : <a href="https://www.golnetwork.com/game
	/v/64682/">#23</a>\n\n</BODY>\n</HTML>
STATUS:CONFIRMED
CLASS:PUBLIC
URL:https://www.golnetwork.com/game/v/64682/
X-MICROSOFT-CDO-BUSYSTATUS:BUSY
X-MICROSOFT-CDO-IMPORTANCE:1
END:VEVENT
BEGIN:VEVENT
UID:g6i55@games.golnetwork.com
LOCATION:Stewart Gymnasium
GEO:45.10662;-94.578209
CREATED:20150125T022659Z
DTSTART:20150225T013000Z
DTEND:20150225T023000Z
DTSTAMP:20260420T151530Z
SUMMARY:Flying Deutchman vs. Flock 'em up!
DESCRIPTION:Flock 'em up! vs. Flying DeutchmanPlus d'info : #24
X-ALT-DESC;FMTTYPE=text/html:<!DOCTYPE HTML PUBLIC "-//W3C//DTD HTML 3.2//E
	N">\n<HTML>\n<HEAD>\n<TITLE></TITLE>\n</HEAD>\n<BODY>\n<h3>Flock 'em up! vs
	. Flying Deutchman</h3>Plus d'info : <a href="https://www.golnetwork.com/ga
	me/v/64681/">#24</a>\n\n</BODY>\n</HTML>
STATUS:CONFIRMED
CLASS:PUBLIC
URL:https://www.golnetwork.com/game/v/64681/
X-MICROSOFT-CDO-BUSYSTATUS:BUSY
X-MICROSOFT-CDO-IMPORTANCE:1
END:VEVENT
BEGIN:VEVENT
UID:g6i5b@games.golnetwork.com
LOCATION:Stewart Gymnasium
GEO:45.10662;-94.578209
CREATED:20150125T022659Z
DTSTART:20150309T231500Z
DTEND:20150310T001500Z
DTSTAMP:20260420T151530Z
SUMMARY:Ball Busters vs. Trailer Park Boys
DESCRIPTION:Trailer Park Boys vs. Ball BustersPlus d'info : #25
X-ALT-DESC;FMTTYPE=text/html:<!DOCTYPE HTML PUBLIC "-//W3C//DTD HTML 3.2//E
	N">\n<HTML>\n<HEAD>\n<TITLE></TITLE>\n</HEAD>\n<BODY>\n<h3>Trailer Park Boy
	s vs. Ball Busters</h3>Plus d'info : <a href="https://www.golnetwork.com/ga
	me/v/64684/">#25</a>\n\n</BODY>\n</HTML>
STATUS:CONFIRMED
CLASS:PUBLIC
URL:https://www.golnetwork.com/game/v/64684/
X-MICROSOFT-CDO-BUSYSTATUS:BUSY
X-MICROSOFT-CDO-IMPORTANCE:1
END:VEVENT
BEGIN:VEVENT
UID:g6i5d@games.golnetwork.com
LOCATION:Stewart Gymnasium
GEO:45.10662;-94.578209
CREATED:20150125T022659Z
DTSTART:20150310T001500Z
DTEND:20150310T011500Z
DTSTAMP:20260420T151530Z
SUMMARY:Flying Deutchman vs. Kamikaze
DESCRIPTION:Kamikaze vs. Flying DeutchmanPlus d'info : #26
X-ALT-DESC;FMTTYPE=text/html:<!DOCTYPE HTML PUBLIC "-//W3C//DTD HTML 3.2//E
	N">\n<HTML>\n<HEAD>\n<TITLE></TITLE>\n</HEAD>\n<BODY>\n<h3>Kamikaze vs. Fly
	ing Deutchman</h3>Plus d'info : <a href="https://www.golnetwork.com/game/v/
	64685/">#26</a>\n\n</BODY>\n</HTML>
STATUS:CONFIRMED
CLASS:PUBLIC
URL:https://www.golnetwork.com/game/v/64685/
X-MICROSOFT-CDO-BUSYSTATUS:BUSY
X-MICROSOFT-CDO-IMPORTANCE:1
END:VEVENT
BEGIN:VEVENT
UID:g6i5f@games.golnetwork.com
LOCATION:Stewart Gymnasium
GEO:45.10662;-94.578209
CREATED:20150125T022659Z
DTSTART:20150310T011500Z
DTEND:20150310T021500Z
DTSTAMP:20260420T151530Z
SUMMARY:Kung Fu Pandas vs. Flock 'em up!
DESCRIPTION:Flock 'em up! vs. Kung Fu PandasPlus d'info : #27
X-ALT-DESC;FMTTYPE=text/html:<!DOCTYPE HTML PUBLIC "-//W3C//DTD HTML 3.2//E
	N">\n<HTML>\n<HEAD>\n<TITLE></TITLE>\n</HEAD>\n<BODY>\n<h3>Flock 'em up! vs
	. Kung Fu Pandas</h3>Plus d'info : <a href="https://www.golnetwork.com/game
	/v/64686/">#27</a>\n\n</BODY>\n</HTML>
STATUS:CONFIRMED
CLASS:PUBLIC
URL:https://www.golnetwork.com/game/v/64686/
X-MICROSOFT-CDO-BUSYSTATUS:BUSY
X-MICROSOFT-CDO-IMPORTANCE:1
END:VEVENT
BEGIN:VEVENT
UID:g6i5h@games.golnetwork.com
LOCATION:Stewart Gymnasium
GEO:45.10662;-94.578209
CREATED:20150125T022659Z
DTSTART:20150311T003000Z
DTEND:20150311T013000Z
DTSTAMP:20260420T151530Z
SUMMARY:We Always Get It Up vs. Baba's Babes
DESCRIPTION:Baba's Babes vs. We Always Get It UpPlus d'info : #28
X-ALT-DESC;FMTTYPE=text/html:<!DOCTYPE HTML PUBLIC "-//W3C//DTD HTML 3.2//E
	N">\n<HTML>\n<HEAD>\n<TITLE></TITLE>\n</HEAD>\n<BODY>\n<h3>Baba's Babes vs.
	 We Always Get It Up</h3>Plus d'info : <a href="https://www.golnetwork.com/
	game/v/64687/">#28</a>\n\n</BODY>\n</HTML>
STATUS:CONFIRMED
CLASS:PUBLIC
URL:https://www.golnetwork.com/game/v/64687/
X-MICROSOFT-CDO-BUSYSTATUS:BUSY
X-MICROSOFT-CDO-IMPORTANCE:1
END:VEVENT
BEGIN:VEVENT
UID:g6i5j@games.golnetwork.com
LOCATION:Stewart Gymnasium
GEO:45.10662;-94.578209
CREATED:20150125T022659Z
DTSTART:20150316T231500Z
DTEND:20150317T001500Z
DTSTAMP:20260420T151530Z
SUMMARY:Kamikaze vs. Flock 'em up!
DESCRIPTION:Flock 'em up! vs. KamikazePlus d'info : #29
X-ALT-DESC;FMTTYPE=text/html:<!DOCTYPE HTML PUBLIC "-//W3C//DTD HTML 3.2//E
	N">\n<HTML>\n<HEAD>\n<TITLE></TITLE>\n</HEAD>\n<BODY>\n<h3>Flock 'em up! vs
	. Kamikaze</h3>Plus d'info : <a href="https://www.golnetwork.com/game/v/646
	88/">#29</a>\n\n</BODY>\n</HTML>
STATUS:CONFIRMED
CLASS:PUBLIC
URL:https://www.golnetwork.com/game/v/64688/
X-MICROSOFT-CDO-BUSYSTATUS:BUSY
X-MICROSOFT-CDO-IMPORTANCE:1
END:VEVENT
BEGIN:VEVENT
UID:g6i5l@games.golnetwork.com
LOCATION:Stewart Gymnasium
GEO:45.10662;-94.578209
CREATED:20150125T022659Z
DTSTART:20150317T001500Z
DTEND:20150317T011500Z
DTSTAMP:20260420T151530Z
SUMMARY:Ball Busters vs. Baba's Babes
DESCRIPTION:Baba's Babes vs. Ball BustersPlus d'info : #30
X-ALT-DESC;FMTTYPE=text/html:<!DOCTYPE HTML PUBLIC "-//W3C//DTD HTML 3.2//E
	N">\n<HTML>\n<HEAD>\n<TITLE></TITLE>\n</HEAD>\n<BODY>\n<h3>Baba's Babes vs.
	 Ball Busters</h3>Plus d'info : <a href="https://www.golnetwork.com/game/v/
	64689/">#30</a>\n\n</BODY>\n</HTML>
STATUS:CONFIRMED
CLASS:PUBLIC
URL:https://www.golnetwork.com/game/v/64689/
X-MICROSOFT-CDO-BUSYSTATUS:BUSY
X-MICROSOFT-CDO-IMPORTANCE:1
END:VEVENT
BEGIN:VEVENT
UID:g6i5n@games.golnetwork.com
LOCATION:Stewart Gymnasium
GEO:45.10662;-94.578209
CREATED:20150125T022659Z
DTSTART:20150317T011500Z
DTEND:20150317T021500Z
DTSTAMP:20260420T151530Z
SUMMARY:Kung Fu Pandas vs. We Always Get It Up
DESCRIPTION:We Always Get It Up vs. Kung Fu PandasPlus d'info : #31
X-ALT-DESC;FMTTYPE=text/html:<!DOCTYPE HTML PUBLIC "-//W3C//DTD HTML 3.2//E
	N">\n<HTML>\n<HEAD>\n<TITLE></TITLE>\n</HEAD>\n<BODY>\n<h3>We Always Get It
	 Up vs. Kung Fu Pandas</h3>Plus d'info : <a href="https://www.golnetwork.co
	m/game/v/64690/">#31</a>\n\n</BODY>\n</HTML>
STATUS:CONFIRMED
CLASS:PUBLIC
URL:https://www.golnetwork.com/game/v/64690/
X-MICROSOFT-CDO-BUSYSTATUS:BUSY
X-MICROSOFT-CDO-IMPORTANCE:1
END:VEVENT
BEGIN:VEVENT
UID:g6i66@games.golnetwork.com
LOCATION:Stewart Gymnasium
GEO:45.10662;-94.578209
CREATED:20150125T022725Z
DTSTART:20150318T003000Z
DTEND:20150318T013000Z
DTSTAMP:20260420T151530Z
SUMMARY:Trailer Park Boys vs. Flying Deutchman
DESCRIPTION:Flying Deutchman vs. Trailer Park BoysPlus d'info : #32
X-ALT-DESC;FMTTYPE=text/html:<!DOCTYPE HTML PUBLIC "-//W3C//DTD HTML 3.2//E
	N">\n<HTML>\n<HEAD>\n<TITLE></TITLE>\n</HEAD>\n<BODY>\n<h3>Flying Deutchman
	 vs. Trailer Park Boys</h3>Plus d'info : <a href="https://www.golnetwork.co
	m/game/v/64695/">#32</a>\n\n</BODY>\n</HTML>
STATUS:CONFIRMED
CLASS:PUBLIC
URL:https://www.golnetwork.com/game/v/64695/
X-MICROSOFT-CDO-BUSYSTATUS:BUSY
X-MICROSOFT-CDO-IMPORTANCE:1
END:VEVENT
BEGIN:VEVENT
UID:g6i5p@games.golnetwork.com
LOCATION:Stewart Gymnasium
GEO:45.10662;-94.578209
CREATED:20150125T022659Z
DTSTART:20150323T231500Z
DTEND:20150324T001500Z
DTSTAMP:20260420T151530Z
SUMMARY:Kamikaze vs. We Always Get It Up
DESCRIPTION:We Always Get It Up vs. KamikazePlus d'info : #33
X-ALT-DESC;FMTTYPE=text/html:<!DOCTYPE HTML PUBLIC "-//W3C//DTD HTML 3.2//E
	N">\n<HTML>\n<HEAD>\n<TITLE></TITLE>\n</HEAD>\n<BODY>\n<h3>We Always Get It
	 Up vs. Kamikaze</h3>Plus d'info : <a href="https://www.golnetwork.com/game
	/v/64691/">#33</a>\n\n</BODY>\n</HTML>
STATUS:CONFIRMED
CLASS:PUBLIC
URL:https://www.golnetwork.com/game/v/64691/
X-MICROSOFT-CDO-BUSYSTATUS:BUSY
X-MICROSOFT-CDO-IMPORTANCE:1
END:VEVENT
BEGIN:VEVENT
UID:g6i64@games.golnetwork.com
LOCATION:Stewart Gymnasium
GEO:45.10662;-94.578209
CREATED:20150125T022659Z
DTSTART:20150324T001500Z
DTEND:20150324T011500Z
DTSTAMP:20260420T151530Z
SUMMARY:Ball Busters vs. Flying Deutchman
DESCRIPTION:Flying Deutchman vs. Ball BustersPlus d'info : #34
X-ALT-DESC;FMTTYPE=text/html:<!DOCTYPE HTML PUBLIC "-//W3C//DTD HTML 3.2//E
	N">\n<HTML>\n<HEAD>\n<TITLE></TITLE>\n</HEAD>\n<BODY>\n<h3>Flying Deutchman
	 vs. Ball Busters</h3>Plus d'info : <a href="https://www.golnetwork.com/gam
	e/v/64694/">#34</a>\n\n</BODY>\n</HTML>
STATUS:CONFIRMED
CLASS:PUBLIC
URL:https://www.golnetwork.com/game/v/64694/
X-MICROSOFT-CDO-BUSYSTATUS:BUSY
X-MICROSOFT-CDO-IMPORTANCE:1
END:VEVENT
BEGIN:VEVENT
UID:g6i62@games.golnetwork.com
LOCATION:Stewart Gymnasium
GEO:45.10662;-94.578209
CREATED:20150125T022659Z
DTSTART:20150324T011500Z
DTEND:20150324T021500Z
DTSTAMP:20260420T151530Z
SUMMARY:Kung Fu Pandas vs. Trailer Park Boys
DESCRIPTION:Trailer Park Boys vs. Kung Fu PandasPlus d'info : #35
X-ALT-DESC;FMTTYPE=text/html:<!DOCTYPE HTML PUBLIC "-//W3C//DTD HTML 3.2//E
	N">\n<HTML>\n<HEAD>\n<TITLE></TITLE>\n</HEAD>\n<BODY>\n<h3>Trailer Park Boy
	s vs. Kung Fu Pandas</h3>Plus d'info : <a href="https://www.golnetwork.com/
	game/v/64693/">#35</a>\n\n</BODY>\n</HTML>
STATUS:CONFIRMED
CLASS:PUBLIC
URL:https://www.golnetwork.com/game/v/64693/
X-MICROSOFT-CDO-BUSYSTATUS:BUSY
X-MICROSOFT-CDO-IMPORTANCE:1
END:VEVENT
BEGIN:VEVENT
UID:g6i60@games.golnetwork.com
LOCATION:Stewart Gymnasium
GEO:45.10662;-94.578209
CREATED:20150125T022659Z
DTSTART:20150325T003000Z
DTEND:20150325T013000Z
DTSTAMP:20260420T151530Z
SUMMARY:Baba's Babes vs. Flock 'em up!
DESCRIPTION:Flock 'em up! vs. Baba's BabesPlus d'info : #36
X-ALT-DESC;FMTTYPE=text/html:<!DOCTYPE HTML PUBLIC "-//W3C//DTD HTML 3.2//E
	N">\n<HTML>\n<HEAD>\n<TITLE></TITLE>\n</HEAD>\n<BODY>\n<h3>Flock 'em up! vs
	. Baba's Babes</h3>Plus d'info : <a href="https://www.golnetwork.com/game/v
	/64692/">#36</a>\n\n</BODY>\n</HTML>
STATUS:CONFIRMED
CLASS:PUBLIC
URL:https://www.golnetwork.com/game/v/64692/
X-MICROSOFT-CDO-BUSYSTATUS:BUSY
X-MICROSOFT-CDO-IMPORTANCE:1
END:VEVENT
END:VCALENDAR
