BEGIN:VCALENDAR
PRODID:-//gdesolutions.com//MV Framework 1.0.0.1607 Calendar//EN
VERSION:2.0
METHOD:PUBLISH
CALSCALE:GREGORIAN
BEGIN:VEVENT
UID:g5lbd@games.golnetwork.com
LOCATION:CALC
GEO:43.6758748;-79.3603533
CREATED:20140908T195803Z
DTSTART:20140916T220000Z
DTEND:20140916T230000Z
DTSTAMP:20260420T145231Z
SUMMARY:Withrow Warriors vs. XTSC Balls of Glory
DESCRIPTION:XTSC Balls of Glory vs. Withrow WarriorsPlus d'info : #1
X-ALT-DESC;FMTTYPE=text/html:<!DOCTYPE HTML PUBLIC "-//W3C//DTD HTML 3.2//E
	N">\n<HTML>\n<HEAD>\n<TITLE></TITLE>\n</HEAD>\n<BODY>\n<h3>XTSC Balls of Gl
	ory vs. Withrow Warriors</h3>Plus d'info : <a href="https://www.golnetwork.
	com/game/v/56018/">#1</a>\n\n</BODY>\n</HTML>
STATUS:CONFIRMED
CLASS:PUBLIC
URL:https://www.golnetwork.com/game/v/56018/
X-MICROSOFT-CDO-BUSYSTATUS:BUSY
X-MICROSOFT-CDO-IMPORTANCE:1
END:VEVENT
BEGIN:VEVENT
UID:g5lbf@games.golnetwork.com
LOCATION:CALC
GEO:43.6758748;-79.3603533
CREATED:20140908T195803Z
DTSTART:20140916T230000Z
DTEND:20140917T000000Z
DTSTAMP:20260420T145231Z
SUMMARY:Zoo Station vs. Wolfpack
DESCRIPTION:Wolfpack vs. Zoo StationPlus d'info : #2
X-ALT-DESC;FMTTYPE=text/html:<!DOCTYPE HTML PUBLIC "-//W3C//DTD HTML 3.2//E
	N">\n<HTML>\n<HEAD>\n<TITLE></TITLE>\n</HEAD>\n<BODY>\n<h3>Wolfpack vs. Zoo
	 Station</h3>Plus d'info : <a href="https://www.golnetwork.com/game/v/56019
	/">#2</a>\n\n</BODY>\n</HTML>
STATUS:CONFIRMED
CLASS:PUBLIC
URL:https://www.golnetwork.com/game/v/56019/
X-MICROSOFT-CDO-BUSYSTATUS:BUSY
X-MICROSOFT-CDO-IMPORTANCE:1
END:VEVENT
BEGIN:VEVENT
UID:g5lbh@games.golnetwork.com
LOCATION:CALC
GEO:43.6758748;-79.3603533
CREATED:20140908T195803Z
DTSTART:20140917T000000Z
DTEND:20140917T010000Z
DTSTAMP:20260420T145231Z
SUMMARY:Fantastic Floors vs. Spicy Baconators
DESCRIPTION:Spicy Baconators vs. Fantastic FloorsPlus d'info : #3
X-ALT-DESC;FMTTYPE=text/html:<!DOCTYPE HTML PUBLIC "-//W3C//DTD HTML 3.2//E
	N">\n<HTML>\n<HEAD>\n<TITLE></TITLE>\n</HEAD>\n<BODY>\n<h3>Spicy Baconators
	 vs. Fantastic Floors</h3>Plus d'info : <a href="https://www.golnetwork.com
	/game/v/56020/">#3</a>\n\n</BODY>\n</HTML>
STATUS:CONFIRMED
CLASS:PUBLIC
URL:https://www.golnetwork.com/game/v/56020/
X-MICROSOFT-CDO-BUSYSTATUS:BUSY
X-MICROSOFT-CDO-IMPORTANCE:1
END:VEVENT
BEGIN:VEVENT
UID:g5lbj@games.golnetwork.com
LOCATION:CALC
GEO:43.6758748;-79.3603533
CREATED:20140908T195803Z
DTSTART:20140917T010000Z
DTEND:20140917T020000Z
DTSTAMP:20260420T145231Z
SUMMARY:Stonecutters vs. The Eh team
DESCRIPTION:The Eh team vs. StonecuttersPlus d'info : #4
X-ALT-DESC;FMTTYPE=text/html:<!DOCTYPE HTML PUBLIC "-//W3C//DTD HTML 3.2//E
	N">\n<HTML>\n<HEAD>\n<TITLE></TITLE>\n</HEAD>\n<BODY>\n<h3>The Eh team vs. 
	Stonecutters</h3>Plus d'info : <a href="https://www.golnetwork.com/game/v/5
	6021/">#4</a>\n\n</BODY>\n</HTML>
STATUS:CONFIRMED
CLASS:PUBLIC
URL:https://www.golnetwork.com/game/v/56021/
X-MICROSOFT-CDO-BUSYSTATUS:BUSY
X-MICROSOFT-CDO-IMPORTANCE:1
END:VEVENT
BEGIN:VEVENT
UID:g5lbl@games.golnetwork.com
LOCATION:CALC
GEO:43.6758748;-79.3603533
CREATED:20140908T195803Z
DTSTART:20140923T220000Z
DTEND:20140923T230000Z
DTSTAMP:20260420T145231Z
SUMMARY:The Eh team vs. Spicy Baconators
DESCRIPTION:Spicy Baconators vs. The Eh teamPlus d'info : #9
X-ALT-DESC;FMTTYPE=text/html:<!DOCTYPE HTML PUBLIC "-//W3C//DTD HTML 3.2//E
	N">\n<HTML>\n<HEAD>\n<TITLE></TITLE>\n</HEAD>\n<BODY>\n<h3>Spicy Baconators
	 vs. The Eh team</h3>Plus d'info : <a href="https://www.golnetwork.com/game
	/v/56022/">#9</a>\n\n</BODY>\n</HTML>
STATUS:CONFIRMED
CLASS:PUBLIC
URL:https://www.golnetwork.com/game/v/56022/
X-MICROSOFT-CDO-BUSYSTATUS:BUSY
X-MICROSOFT-CDO-IMPORTANCE:1
END:VEVENT
BEGIN:VEVENT
UID:g5lbn@games.golnetwork.com
LOCATION:CALC
GEO:43.6758748;-79.3603533
CREATED:20140908T195803Z
DTSTART:20140923T230000Z
DTEND:20140924T000000Z
DTSTAMP:20260420T145231Z
SUMMARY:Stonecutters vs. Wolfpack
DESCRIPTION:Wolfpack vs. StonecuttersPlus d'info : #10
X-ALT-DESC;FMTTYPE=text/html:<!DOCTYPE HTML PUBLIC "-//W3C//DTD HTML 3.2//E
	N">\n<HTML>\n<HEAD>\n<TITLE></TITLE>\n</HEAD>\n<BODY>\n<h3>Wolfpack vs. Sto
	necutters</h3>Plus d'info : <a href="https://www.golnetwork.com/game/v/5602
	3/">#10</a>\n\n</BODY>\n</HTML>
STATUS:CONFIRMED
CLASS:PUBLIC
URL:https://www.golnetwork.com/game/v/56023/
X-MICROSOFT-CDO-BUSYSTATUS:BUSY
X-MICROSOFT-CDO-IMPORTANCE:1
END:VEVENT
BEGIN:VEVENT
UID:g5lbp@games.golnetwork.com
LOCATION:CALC
GEO:43.6758748;-79.3603533
CREATED:20140908T195803Z
DTSTART:20140924T000000Z
DTEND:20140924T010000Z
DTSTAMP:20260420T145231Z
SUMMARY:Fantastic Floors vs. XTSC Balls of Glory
DESCRIPTION:XTSC Balls of Glory vs. Fantastic FloorsPlus d'info : #11
X-ALT-DESC;FMTTYPE=text/html:<!DOCTYPE HTML PUBLIC "-//W3C//DTD HTML 3.2//E
	N">\n<HTML>\n<HEAD>\n<TITLE></TITLE>\n</HEAD>\n<BODY>\n<h3>XTSC Balls of Gl
	ory vs. Fantastic Floors</h3>Plus d'info : <a href="https://www.golnetwork.
	com/game/v/56024/">#11</a>\n\n</BODY>\n</HTML>
STATUS:CONFIRMED
CLASS:PUBLIC
URL:https://www.golnetwork.com/game/v/56024/
X-MICROSOFT-CDO-BUSYSTATUS:BUSY
X-MICROSOFT-CDO-IMPORTANCE:1
END:VEVENT
BEGIN:VEVENT
UID:g5lc0@games.golnetwork.com
LOCATION:CALC
GEO:43.6758748;-79.3603533
CREATED:20140908T195803Z
DTSTART:20140924T010000Z
DTEND:20140924T020000Z
DTSTAMP:20260420T145231Z
SUMMARY:Zoo Station vs. Withrow Warriors
DESCRIPTION:Withrow Warriors vs. Zoo StationPlus d'info : #12
X-ALT-DESC;FMTTYPE=text/html:<!DOCTYPE HTML PUBLIC "-//W3C//DTD HTML 3.2//E
	N">\n<HTML>\n<HEAD>\n<TITLE></TITLE>\n</HEAD>\n<BODY>\n<h3>Withrow Warriors
	 vs. Zoo Station</h3>Plus d'info : <a href="https://www.golnetwork.com/game
	/v/56025/">#12</a>\n\n</BODY>\n</HTML>
STATUS:CONFIRMED
CLASS:PUBLIC
URL:https://www.golnetwork.com/game/v/56025/
X-MICROSOFT-CDO-BUSYSTATUS:BUSY
X-MICROSOFT-CDO-IMPORTANCE:1
END:VEVENT
BEGIN:VEVENT
UID:g5lc4@games.golnetwork.com
LOCATION:CALC
GEO:43.6758748;-79.3603533
CREATED:20140908T195803Z
DTSTART:20140930T220000Z
DTEND:20140930T230000Z
DTSTAMP:20260420T145231Z
SUMMARY:Withrow Warriors vs. Fantastic Floors
DESCRIPTION:Fantastic Floors vs. Withrow WarriorsPlus d'info : #17
X-ALT-DESC;FMTTYPE=text/html:<!DOCTYPE HTML PUBLIC "-//W3C//DTD HTML 3.2//E
	N">\n<HTML>\n<HEAD>\n<TITLE></TITLE>\n</HEAD>\n<BODY>\n<h3>Fantastic Floors
	 vs. Withrow Warriors</h3>Plus d'info : <a href="https://www.golnetwork.com
	/game/v/56027/">#17</a>\n\n</BODY>\n</HTML>
STATUS:CONFIRMED
CLASS:PUBLIC
URL:https://www.golnetwork.com/game/v/56027/
X-MICROSOFT-CDO-BUSYSTATUS:BUSY
X-MICROSOFT-CDO-IMPORTANCE:1
END:VEVENT
BEGIN:VEVENT
UID:g5lc2@games.golnetwork.com
LOCATION:CALC
GEO:43.6758748;-79.3603533
CREATED:20140908T195803Z
DTSTART:20140930T230000Z
DTEND:20141001T000000Z
DTSTAMP:20260420T145231Z
SUMMARY:Stonecutters vs. Zoo Station
DESCRIPTION:Zoo Station vs. StonecuttersPlus d'info : #18
X-ALT-DESC;FMTTYPE=text/html:<!DOCTYPE HTML PUBLIC "-//W3C//DTD HTML 3.2//E
	N">\n<HTML>\n<HEAD>\n<TITLE></TITLE>\n</HEAD>\n<BODY>\n<h3>Zoo Station vs. 
	Stonecutters</h3>Plus d'info : <a href="https://www.golnetwork.com/game/v/5
	6026/">#18</a>\n\n</BODY>\n</HTML>
STATUS:CONFIRMED
CLASS:PUBLIC
URL:https://www.golnetwork.com/game/v/56026/
X-MICROSOFT-CDO-BUSYSTATUS:BUSY
X-MICROSOFT-CDO-IMPORTANCE:1
END:VEVENT
BEGIN:VEVENT
UID:g5lc6@games.golnetwork.com
LOCATION:CALC
GEO:43.6758748;-79.3603533
CREATED:20140908T195803Z
DTSTART:20141001T000000Z
DTEND:20141001T010000Z
DTSTAMP:20260420T145231Z
SUMMARY:The Eh team vs. XTSC Balls of Glory
DESCRIPTION:XTSC Balls of Glory vs. The Eh teamPlus d'info : #19
X-ALT-DESC;FMTTYPE=text/html:<!DOCTYPE HTML PUBLIC "-//W3C//DTD HTML 3.2//E
	N">\n<HTML>\n<HEAD>\n<TITLE></TITLE>\n</HEAD>\n<BODY>\n<h3>XTSC Balls of Gl
	ory vs. The Eh team</h3>Plus d'info : <a href="https://www.golnetwork.com/g
	ame/v/56028/">#19</a>\n\n</BODY>\n</HTML>
STATUS:CONFIRMED
CLASS:PUBLIC
URL:https://www.golnetwork.com/game/v/56028/
X-MICROSOFT-CDO-BUSYSTATUS:BUSY
X-MICROSOFT-CDO-IMPORTANCE:1
END:VEVENT
BEGIN:VEVENT
UID:g5lc8@games.golnetwork.com
LOCATION:CALC
GEO:43.6758748;-79.3603533
CREATED:20140908T195803Z
DTSTART:20141001T010000Z
DTEND:20141001T020000Z
DTSTAMP:20260420T145231Z
SUMMARY:Spicy Baconators vs. Wolfpack
DESCRIPTION:Wolfpack vs. Spicy BaconatorsPlus d'info : #20
X-ALT-DESC;FMTTYPE=text/html:<!DOCTYPE HTML PUBLIC "-//W3C//DTD HTML 3.2//E
	N">\n<HTML>\n<HEAD>\n<TITLE></TITLE>\n</HEAD>\n<BODY>\n<h3>Wolfpack vs. Spi
	cy Baconators</h3>Plus d'info : <a href="https://www.golnetwork.com/game/v/
	56029/">#20</a>\n\n</BODY>\n</HTML>
STATUS:CONFIRMED
CLASS:PUBLIC
URL:https://www.golnetwork.com/game/v/56029/
X-MICROSOFT-CDO-BUSYSTATUS:BUSY
X-MICROSOFT-CDO-IMPORTANCE:1
END:VEVENT
BEGIN:VEVENT
UID:g5lca@games.golnetwork.com
LOCATION:CALC
GEO:43.6758748;-79.3603533
CREATED:20140908T195803Z
DTSTART:20141007T220000Z
DTEND:20141007T230000Z
DTSTAMP:20260420T145231Z
SUMMARY:Wolfpack vs. XTSC Balls of Glory
DESCRIPTION:XTSC Balls of Glory vs. WolfpackPlus d'info : #25
X-ALT-DESC;FMTTYPE=text/html:<!DOCTYPE HTML PUBLIC "-//W3C//DTD HTML 3.2//E
	N">\n<HTML>\n<HEAD>\n<TITLE></TITLE>\n</HEAD>\n<BODY>\n<h3>XTSC Balls of Gl
	ory vs. Wolfpack</h3>Plus d'info : <a href="https://www.golnetwork.com/game
	/v/56030/">#25</a>\n\n</BODY>\n</HTML>
STATUS:CONFIRMED
CLASS:PUBLIC
URL:https://www.golnetwork.com/game/v/56030/
X-MICROSOFT-CDO-BUSYSTATUS:BUSY
X-MICROSOFT-CDO-IMPORTANCE:1
END:VEVENT
BEGIN:VEVENT
UID:g5lcc@games.golnetwork.com
LOCATION:CALC
GEO:43.6758748;-79.3603533
CREATED:20140908T195803Z
DTSTART:20141007T230000Z
DTEND:20141008T000000Z
DTSTAMP:20260420T145231Z
SUMMARY:Stonecutters vs. Withrow Warriors
DESCRIPTION:Withrow Warriors vs. StonecuttersPlus d'info : #26
X-ALT-DESC;FMTTYPE=text/html:<!DOCTYPE HTML PUBLIC "-//W3C//DTD HTML 3.2//E
	N">\n<HTML>\n<HEAD>\n<TITLE></TITLE>\n</HEAD>\n<BODY>\n<h3>Withrow Warriors
	 vs. Stonecutters</h3>Plus d'info : <a href="https://www.golnetwork.com/gam
	e/v/56031/">#26</a>\n\n</BODY>\n</HTML>
STATUS:CONFIRMED
CLASS:PUBLIC
URL:https://www.golnetwork.com/game/v/56031/
X-MICROSOFT-CDO-BUSYSTATUS:BUSY
X-MICROSOFT-CDO-IMPORTANCE:1
END:VEVENT
BEGIN:VEVENT
UID:g5lce@games.golnetwork.com
LOCATION:CALC
GEO:43.6758748;-79.3603533
CREATED:20140908T195803Z
DTSTART:20141008T000000Z
DTEND:20141008T010000Z
DTSTAMP:20260420T145231Z
SUMMARY:Spicy Baconators vs. Zoo Station
DESCRIPTION:Zoo Station vs. Spicy BaconatorsPlus d'info : #27
X-ALT-DESC;FMTTYPE=text/html:<!DOCTYPE HTML PUBLIC "-//W3C//DTD HTML 3.2//E
	N">\n<HTML>\n<HEAD>\n<TITLE></TITLE>\n</HEAD>\n<BODY>\n<h3>Zoo Station vs. 
	Spicy Baconators</h3>Plus d'info : <a href="https://www.golnetwork.com/game
	/v/56032/">#27</a>\n\n</BODY>\n</HTML>
STATUS:CONFIRMED
CLASS:PUBLIC
URL:https://www.golnetwork.com/game/v/56032/
X-MICROSOFT-CDO-BUSYSTATUS:BUSY
X-MICROSOFT-CDO-IMPORTANCE:1
END:VEVENT
BEGIN:VEVENT
UID:g5lcg@games.golnetwork.com
LOCATION:CALC
GEO:43.6758748;-79.3603533
CREATED:20140908T195803Z
DTSTART:20141008T010000Z
DTEND:20141008T020000Z
DTSTAMP:20260420T145231Z
SUMMARY:The Eh team vs. Fantastic Floors
DESCRIPTION:Fantastic Floors vs. The Eh teamPlus d'info : #28
X-ALT-DESC;FMTTYPE=text/html:<!DOCTYPE HTML PUBLIC "-//W3C//DTD HTML 3.2//E
	N">\n<HTML>\n<HEAD>\n<TITLE></TITLE>\n</HEAD>\n<BODY>\n<h3>Fantastic Floors
	 vs. The Eh team</h3>Plus d'info : <a href="https://www.golnetwork.com/game
	/v/56033/">#28</a>\n\n</BODY>\n</HTML>
STATUS:CONFIRMED
CLASS:PUBLIC
URL:https://www.golnetwork.com/game/v/56033/
X-MICROSOFT-CDO-BUSYSTATUS:BUSY
X-MICROSOFT-CDO-IMPORTANCE:1
END:VEVENT
BEGIN:VEVENT
UID:g5lci@games.golnetwork.com
LOCATION:CALC
GEO:43.6758748;-79.3603533
CREATED:20140908T195803Z
DTSTART:20141014T220000Z
DTEND:20141014T230000Z
DTSTAMP:20260420T145231Z
SUMMARY:Wolfpack vs. Fantastic Floors
DESCRIPTION:Fantastic Floors vs. WolfpackPlus d'info : #33
X-ALT-DESC;FMTTYPE=text/html:<!DOCTYPE HTML PUBLIC "-//W3C//DTD HTML 3.2//E
	N">\n<HTML>\n<HEAD>\n<TITLE></TITLE>\n</HEAD>\n<BODY>\n<h3>Fantastic Floors
	 vs. Wolfpack</h3>Plus d'info : <a href="https://www.golnetwork.com/game/v/
	56034/">#33</a>\n\n</BODY>\n</HTML>
STATUS:CONFIRMED
CLASS:PUBLIC
URL:https://www.golnetwork.com/game/v/56034/
X-MICROSOFT-CDO-BUSYSTATUS:BUSY
X-MICROSOFT-CDO-IMPORTANCE:1
END:VEVENT
BEGIN:VEVENT
UID:g5lck@games.golnetwork.com
LOCATION:CALC
GEO:43.6758748;-79.3603533
CREATED:20140908T195803Z
DTSTART:20141014T230000Z
DTEND:20141015T000000Z
DTSTAMP:20260420T145231Z
SUMMARY:Spicy Baconators vs. Stonecutters
DESCRIPTION:Stonecutters vs. Spicy BaconatorsPlus d'info : #34
X-ALT-DESC;FMTTYPE=text/html:<!DOCTYPE HTML PUBLIC "-//W3C//DTD HTML 3.2//E
	N">\n<HTML>\n<HEAD>\n<TITLE></TITLE>\n</HEAD>\n<BODY>\n<h3>Stonecutters vs.
	 Spicy Baconators</h3>Plus d'info : <a href="https://www.golnetwork.com/gam
	e/v/56035/">#34</a>\n\n</BODY>\n</HTML>
STATUS:CONFIRMED
CLASS:PUBLIC
URL:https://www.golnetwork.com/game/v/56035/
X-MICROSOFT-CDO-BUSYSTATUS:BUSY
X-MICROSOFT-CDO-IMPORTANCE:1
END:VEVENT
BEGIN:VEVENT
UID:g5lcm@games.golnetwork.com
LOCATION:CALC
GEO:43.6758748;-79.3603533
CREATED:20140908T195803Z
DTSTART:20141015T000000Z
DTEND:20141015T010000Z
DTSTAMP:20260420T145231Z
SUMMARY:Withrow Warriors vs. The Eh team
DESCRIPTION:The Eh team vs. Withrow WarriorsPlus d'info : #35
X-ALT-DESC;FMTTYPE=text/html:<!DOCTYPE HTML PUBLIC "-//W3C//DTD HTML 3.2//E
	N">\n<HTML>\n<HEAD>\n<TITLE></TITLE>\n</HEAD>\n<BODY>\n<h3>The Eh team vs. 
	Withrow Warriors</h3>Plus d'info : <a href="https://www.golnetwork.com/game
	/v/56036/">#35</a>\n\n</BODY>\n</HTML>
STATUS:CONFIRMED
CLASS:PUBLIC
URL:https://www.golnetwork.com/game/v/56036/
X-MICROSOFT-CDO-BUSYSTATUS:BUSY
X-MICROSOFT-CDO-IMPORTANCE:1
END:VEVENT
BEGIN:VEVENT
UID:g5lco@games.golnetwork.com
LOCATION:CALC
GEO:43.6758748;-79.3603533
CREATED:20140908T195803Z
DTSTART:20141015T010000Z
DTEND:20141015T020000Z
DTSTAMP:20260420T145231Z
SUMMARY:XTSC Balls of Glory vs. Zoo Station
DESCRIPTION:Zoo Station vs. XTSC Balls of GloryPlus d'info : #36
X-ALT-DESC;FMTTYPE=text/html:<!DOCTYPE HTML PUBLIC "-//W3C//DTD HTML 3.2//E
	N">\n<HTML>\n<HEAD>\n<TITLE></TITLE>\n</HEAD>\n<BODY>\n<h3>Zoo Station vs. 
	XTSC Balls of Glory</h3>Plus d'info : <a href="https://www.golnetwork.com/g
	ame/v/56037/">#36</a>\n\n</BODY>\n</HTML>
STATUS:CONFIRMED
CLASS:PUBLIC
URL:https://www.golnetwork.com/game/v/56037/
X-MICROSOFT-CDO-BUSYSTATUS:BUSY
X-MICROSOFT-CDO-IMPORTANCE:1
END:VEVENT
BEGIN:VEVENT
UID:g5lcq@games.golnetwork.com
LOCATION:CALC
GEO:43.6758748;-79.3603533
CREATED:20140908T195803Z
DTSTART:20141021T220000Z
DTEND:20141021T230000Z
DTSTAMP:20260420T145231Z
SUMMARY:Spicy Baconators vs. Withrow Warriors
DESCRIPTION:Withrow Warriors vs. Spicy BaconatorsPlus d'info : #41
X-ALT-DESC;FMTTYPE=text/html:<!DOCTYPE HTML PUBLIC "-//W3C//DTD HTML 3.2//E
	N">\n<HTML>\n<HEAD>\n<TITLE></TITLE>\n</HEAD>\n<BODY>\n<h3>Withrow Warriors
	 vs. Spicy Baconators</h3>Plus d'info : <a href="https://www.golnetwork.com
	/game/v/56038/">#41</a>\n\n</BODY>\n</HTML>
STATUS:CONFIRMED
CLASS:PUBLIC
URL:https://www.golnetwork.com/game/v/56038/
X-MICROSOFT-CDO-BUSYSTATUS:BUSY
X-MICROSOFT-CDO-IMPORTANCE:1
END:VEVENT
BEGIN:VEVENT
UID:g5ld1@games.golnetwork.com
LOCATION:CALC
GEO:43.6758748;-79.3603533
CREATED:20140908T195803Z
DTSTART:20141021T230000Z
DTEND:20141022T000000Z
DTSTAMP:20260420T145231Z
SUMMARY:Wolfpack vs. The Eh team
DESCRIPTION:The Eh team vs. WolfpackPlus d'info : #42
X-ALT-DESC;FMTTYPE=text/html:<!DOCTYPE HTML PUBLIC "-//W3C//DTD HTML 3.2//E
	N">\n<HTML>\n<HEAD>\n<TITLE></TITLE>\n</HEAD>\n<BODY>\n<h3>The Eh team vs. 
	Wolfpack</h3>Plus d'info : <a href="https://www.golnetwork.com/game/v/56039
	/">#42</a>\n\n</BODY>\n</HTML>
STATUS:CONFIRMED
CLASS:PUBLIC
URL:https://www.golnetwork.com/game/v/56039/
X-MICROSOFT-CDO-BUSYSTATUS:BUSY
X-MICROSOFT-CDO-IMPORTANCE:1
END:VEVENT
BEGIN:VEVENT
UID:g5ld3@games.golnetwork.com
LOCATION:CALC
GEO:43.6758748;-79.3603533
CREATED:20140908T195803Z
DTSTART:20141022T000000Z
DTEND:20141022T010000Z
DTSTAMP:20260420T145231Z
SUMMARY:Zoo Station vs. Fantastic Floors
DESCRIPTION:Fantastic Floors vs. Zoo StationPlus d'info : #43
X-ALT-DESC;FMTTYPE=text/html:<!DOCTYPE HTML PUBLIC "-//W3C//DTD HTML 3.2//E
	N">\n<HTML>\n<HEAD>\n<TITLE></TITLE>\n</HEAD>\n<BODY>\n<h3>Fantastic Floors
	 vs. Zoo Station</h3>Plus d'info : <a href="https://www.golnetwork.com/game
	/v/56040/">#43</a>\n\n</BODY>\n</HTML>
STATUS:CONFIRMED
CLASS:PUBLIC
URL:https://www.golnetwork.com/game/v/56040/
X-MICROSOFT-CDO-BUSYSTATUS:BUSY
X-MICROSOFT-CDO-IMPORTANCE:1
END:VEVENT
BEGIN:VEVENT
UID:g5ld5@games.golnetwork.com
LOCATION:CALC
GEO:43.6758748;-79.3603533
CREATED:20140908T195803Z
DTSTART:20141022T010000Z
DTEND:20141022T020000Z
DTSTAMP:20260420T145231Z
SUMMARY:XTSC Balls of Glory vs. Stonecutters
DESCRIPTION:Stonecutters vs. XTSC Balls of GloryPlus d'info : #44
X-ALT-DESC;FMTTYPE=text/html:<!DOCTYPE HTML PUBLIC "-//W3C//DTD HTML 3.2//E
	N">\n<HTML>\n<HEAD>\n<TITLE></TITLE>\n</HEAD>\n<BODY>\n<h3>Stonecutters vs.
	 XTSC Balls of Glory</h3>Plus d'info : <a href="https://www.golnetwork.com/
	game/v/56041/">#44</a>\n\n</BODY>\n</HTML>
STATUS:CONFIRMED
CLASS:PUBLIC
URL:https://www.golnetwork.com/game/v/56041/
X-MICROSOFT-CDO-BUSYSTATUS:BUSY
X-MICROSOFT-CDO-IMPORTANCE:1
END:VEVENT
BEGIN:VEVENT
UID:g5ld7@games.golnetwork.com
LOCATION:CALC
GEO:43.6758748;-79.3603533
CREATED:20140908T195803Z
DTSTART:20141028T220000Z
DTEND:20141028T230000Z
DTSTAMP:20260420T145231Z
SUMMARY:Zoo Station vs. The Eh team
DESCRIPTION:The Eh team vs. Zoo StationPlus d'info : #49
X-ALT-DESC;FMTTYPE=text/html:<!DOCTYPE HTML PUBLIC "-//W3C//DTD HTML 3.2//E
	N">\n<HTML>\n<HEAD>\n<TITLE></TITLE>\n</HEAD>\n<BODY>\n<h3>The Eh team vs. 
	Zoo Station</h3>Plus d'info : <a href="https://www.golnetwork.com/game/v/56
	042/">#49</a>\n\n</BODY>\n</HTML>
STATUS:CONFIRMED
CLASS:PUBLIC
URL:https://www.golnetwork.com/game/v/56042/
X-MICROSOFT-CDO-BUSYSTATUS:BUSY
X-MICROSOFT-CDO-IMPORTANCE:1
END:VEVENT
BEGIN:VEVENT
UID:g5ld9@games.golnetwork.com
LOCATION:CALC
GEO:43.6758748;-79.3603533
CREATED:20140908T195803Z
DTSTART:20141028T230000Z
DTEND:20141029T000000Z
DTSTAMP:20260420T145231Z
SUMMARY:Fantastic Floors vs. Wolfpack
DESCRIPTION:Wolfpack vs. Fantastic FloorsPlus d'info : #50
X-ALT-DESC;FMTTYPE=text/html:<!DOCTYPE HTML PUBLIC "-//W3C//DTD HTML 3.2//E
	N">\n<HTML>\n<HEAD>\n<TITLE></TITLE>\n</HEAD>\n<BODY>\n<h3>Wolfpack vs. Fan
	tastic Floors</h3>Plus d'info : <a href="https://www.golnetwork.com/game/v/
	56043/">#50</a>\n\n</BODY>\n</HTML>
STATUS:CONFIRMED
CLASS:PUBLIC
URL:https://www.golnetwork.com/game/v/56043/
X-MICROSOFT-CDO-BUSYSTATUS:BUSY
X-MICROSOFT-CDO-IMPORTANCE:1
END:VEVENT
BEGIN:VEVENT
UID:g5ldb@games.golnetwork.com
LOCATION:CALC
GEO:43.6758748;-79.3603533
CREATED:20140908T195803Z
DTSTART:20141029T000000Z
DTEND:20141029T010000Z
DTSTAMP:20260420T145231Z
SUMMARY:XTSC Balls of Glory vs. Stonecutters
DESCRIPTION:Stonecutters vs. XTSC Balls of GloryPlus d'info : #51
X-ALT-DESC;FMTTYPE=text/html:<!DOCTYPE HTML PUBLIC "-//W3C//DTD HTML 3.2//E
	N">\n<HTML>\n<HEAD>\n<TITLE></TITLE>\n</HEAD>\n<BODY>\n<h3>Stonecutters vs.
	 XTSC Balls of Glory</h3>Plus d'info : <a href="https://www.golnetwork.com/
	game/v/56044/">#51</a>\n\n</BODY>\n</HTML>
STATUS:CONFIRMED
CLASS:PUBLIC
URL:https://www.golnetwork.com/game/v/56044/
X-MICROSOFT-CDO-BUSYSTATUS:BUSY
X-MICROSOFT-CDO-IMPORTANCE:1
END:VEVENT
BEGIN:VEVENT
UID:g5ldd@games.golnetwork.com
LOCATION:CALC
GEO:43.6758748;-79.3603533
CREATED:20140908T195803Z
DTSTART:20141029T010000Z
DTEND:20141029T020000Z
DTSTAMP:20260420T145231Z
SUMMARY:Spicy Baconators vs. Withrow Warriors
DESCRIPTION:Withrow Warriors vs. Spicy BaconatorsPlus d'info : #52
X-ALT-DESC;FMTTYPE=text/html:<!DOCTYPE HTML PUBLIC "-//W3C//DTD HTML 3.2//E
	N">\n<HTML>\n<HEAD>\n<TITLE></TITLE>\n</HEAD>\n<BODY>\n<h3>Withrow Warriors
	 vs. Spicy Baconators</h3>Plus d'info : <a href="https://www.golnetwork.com
	/game/v/56045/">#52</a>\n\n</BODY>\n</HTML>
STATUS:CONFIRMED
CLASS:PUBLIC
URL:https://www.golnetwork.com/game/v/56045/
X-MICROSOFT-CDO-BUSYSTATUS:BUSY
X-MICROSOFT-CDO-IMPORTANCE:1
END:VEVENT
BEGIN:VEVENT
UID:g5ldf@games.golnetwork.com
LOCATION:CALC
GEO:43.6758748;-79.3603533
CREATED:20140908T195803Z
DTSTART:20141104T230000Z
DTEND:20141105T000000Z
DTSTAMP:20260420T145231Z
SUMMARY:Fantastic Floors vs. Stonecutters
DESCRIPTION:Stonecutters vs. Fantastic FloorsPlus d'info : #57
X-ALT-DESC;FMTTYPE=text/html:<!DOCTYPE HTML PUBLIC "-//W3C//DTD HTML 3.2//E
	N">\n<HTML>\n<HEAD>\n<TITLE></TITLE>\n</HEAD>\n<BODY>\n<h3>Stonecutters vs.
	 Fantastic Floors</h3>Plus d'info : <a href="https://www.golnetwork.com/gam
	e/v/56046/">#57</a>\n\n</BODY>\n</HTML>
STATUS:CONFIRMED
CLASS:PUBLIC
URL:https://www.golnetwork.com/game/v/56046/
X-MICROSOFT-CDO-BUSYSTATUS:BUSY
X-MICROSOFT-CDO-IMPORTANCE:1
END:VEVENT
BEGIN:VEVENT
UID:g5ldh@games.golnetwork.com
LOCATION:CALC
GEO:43.6758748;-79.3603533
CREATED:20140908T195803Z
DTSTART:20141105T000000Z
DTEND:20141105T010000Z
DTSTAMP:20260420T145231Z
SUMMARY:Zoo Station vs. The Eh team
DESCRIPTION:The Eh team vs. Zoo StationPlus d'info : #58
X-ALT-DESC;FMTTYPE=text/html:<!DOCTYPE HTML PUBLIC "-//W3C//DTD HTML 3.2//E
	N">\n<HTML>\n<HEAD>\n<TITLE></TITLE>\n</HEAD>\n<BODY>\n<h3>The Eh team vs. 
	Zoo Station</h3>Plus d'info : <a href="https://www.golnetwork.com/game/v/56
	047/">#58</a>\n\n</BODY>\n</HTML>
STATUS:CONFIRMED
CLASS:PUBLIC
URL:https://www.golnetwork.com/game/v/56047/
X-MICROSOFT-CDO-BUSYSTATUS:BUSY
X-MICROSOFT-CDO-IMPORTANCE:1
END:VEVENT
BEGIN:VEVENT
UID:g5ldj@games.golnetwork.com
LOCATION:CALC
GEO:43.6758748;-79.3603533
CREATED:20140908T195803Z
DTSTART:20141105T010000Z
DTEND:20141105T020000Z
DTSTAMP:20260420T145231Z
SUMMARY:Withrow Warriors vs. Wolfpack
DESCRIPTION:Wolfpack vs. Withrow WarriorsPlus d'info : #59
X-ALT-DESC;FMTTYPE=text/html:<!DOCTYPE HTML PUBLIC "-//W3C//DTD HTML 3.2//E
	N">\n<HTML>\n<HEAD>\n<TITLE></TITLE>\n</HEAD>\n<BODY>\n<h3>Wolfpack vs. Wit
	hrow Warriors</h3>Plus d'info : <a href="https://www.golnetwork.com/game/v/
	56048/">#59</a>\n\n</BODY>\n</HTML>
STATUS:CONFIRMED
CLASS:PUBLIC
URL:https://www.golnetwork.com/game/v/56048/
X-MICROSOFT-CDO-BUSYSTATUS:BUSY
X-MICROSOFT-CDO-IMPORTANCE:1
END:VEVENT
BEGIN:VEVENT
UID:g5ldl@games.golnetwork.com
LOCATION:CALC
GEO:43.6758748;-79.3603533
CREATED:20140908T195803Z
DTSTART:20141105T020000Z
DTEND:20141105T030000Z
DTSTAMP:20260420T145231Z
SUMMARY:Spicy Baconators vs. XTSC Balls of Glory
DESCRIPTION:XTSC Balls of Glory vs. Spicy BaconatorsPlus d'info : #60
X-ALT-DESC;FMTTYPE=text/html:<!DOCTYPE HTML PUBLIC "-//W3C//DTD HTML 3.2//E
	N">\n<HTML>\n<HEAD>\n<TITLE></TITLE>\n</HEAD>\n<BODY>\n<h3>XTSC Balls of Gl
	ory vs. Spicy Baconators</h3>Plus d'info : <a href="https://www.golnetwork.
	com/game/v/56049/">#60</a>\n\n</BODY>\n</HTML>
STATUS:CONFIRMED
CLASS:PUBLIC
URL:https://www.golnetwork.com/game/v/56049/
X-MICROSOFT-CDO-BUSYSTATUS:BUSY
X-MICROSOFT-CDO-IMPORTANCE:1
END:VEVENT
BEGIN:VEVENT
UID:g5ldn@games.golnetwork.com
LOCATION:CALC
GEO:43.6758748;-79.3603533
CREATED:20140908T195803Z
DTSTART:20141111T230000Z
DTEND:20141112T000000Z
DTSTAMP:20260420T145231Z
SUMMARY:Wolfpack vs. XTSC Balls of Glory
DESCRIPTION:XTSC Balls of Glory vs. WolfpackPlus d'info : #65
X-ALT-DESC;FMTTYPE=text/html:<!DOCTYPE HTML PUBLIC "-//W3C//DTD HTML 3.2//E
	N">\n<HTML>\n<HEAD>\n<TITLE></TITLE>\n</HEAD>\n<BODY>\n<h3>XTSC Balls of Gl
	ory vs. Wolfpack</h3>Plus d'info : <a href="https://www.golnetwork.com/game
	/v/56050/">#65</a>\n\n</BODY>\n</HTML>
STATUS:CONFIRMED
CLASS:PUBLIC
URL:https://www.golnetwork.com/game/v/56050/
X-MICROSOFT-CDO-BUSYSTATUS:BUSY
X-MICROSOFT-CDO-IMPORTANCE:1
END:VEVENT
BEGIN:VEVENT
UID:g5ldp@games.golnetwork.com
LOCATION:CALC
GEO:43.6758748;-79.3603533
CREATED:20140908T195803Z
DTSTART:20141112T000000Z
DTEND:20141112T010000Z
DTSTAMP:20260420T145231Z
SUMMARY:Spicy Baconators vs. Stonecutters
DESCRIPTION:Stonecutters vs. Spicy BaconatorsPlus d'info : #66
X-ALT-DESC;FMTTYPE=text/html:<!DOCTYPE HTML PUBLIC "-//W3C//DTD HTML 3.2//E
	N">\n<HTML>\n<HEAD>\n<TITLE></TITLE>\n</HEAD>\n<BODY>\n<h3>Stonecutters vs.
	 Spicy Baconators</h3>Plus d'info : <a href="https://www.golnetwork.com/gam
	e/v/56051/">#66</a>\n\n</BODY>\n</HTML>
STATUS:CONFIRMED
CLASS:PUBLIC
URL:https://www.golnetwork.com/game/v/56051/
X-MICROSOFT-CDO-BUSYSTATUS:BUSY
X-MICROSOFT-CDO-IMPORTANCE:1
END:VEVENT
BEGIN:VEVENT
UID:g5le0@games.golnetwork.com
LOCATION:CALC
GEO:43.6758748;-79.3603533
CREATED:20140908T195803Z
DTSTART:20141112T010000Z
DTEND:20141112T020000Z
DTSTAMP:20260420T145231Z
SUMMARY:Zoo Station vs. Withrow Warriors
DESCRIPTION:Withrow Warriors vs. Zoo StationPlus d'info : #67
X-ALT-DESC;FMTTYPE=text/html:<!DOCTYPE HTML PUBLIC "-//W3C//DTD HTML 3.2//E
	N">\n<HTML>\n<HEAD>\n<TITLE></TITLE>\n</HEAD>\n<BODY>\n<h3>Withrow Warriors
	 vs. Zoo Station</h3>Plus d'info : <a href="https://www.golnetwork.com/game
	/v/56052/">#67</a>\n\n</BODY>\n</HTML>
STATUS:CONFIRMED
CLASS:PUBLIC
URL:https://www.golnetwork.com/game/v/56052/
X-MICROSOFT-CDO-BUSYSTATUS:BUSY
X-MICROSOFT-CDO-IMPORTANCE:1
END:VEVENT
BEGIN:VEVENT
UID:g5le2@games.golnetwork.com
LOCATION:CALC
GEO:43.6758748;-79.3603533
CREATED:20140908T195803Z
DTSTART:20141112T020000Z
DTEND:20141112T030000Z
DTSTAMP:20260420T145231Z
SUMMARY:The Eh team vs. Fantastic Floors
DESCRIPTION:Fantastic Floors vs. The Eh teamPlus d'info : #68
X-ALT-DESC;FMTTYPE=text/html:<!DOCTYPE HTML PUBLIC "-//W3C//DTD HTML 3.2//E
	N">\n<HTML>\n<HEAD>\n<TITLE></TITLE>\n</HEAD>\n<BODY>\n<h3>Fantastic Floors
	 vs. The Eh team</h3>Plus d'info : <a href="https://www.golnetwork.com/game
	/v/56053/">#68</a>\n\n</BODY>\n</HTML>
STATUS:CONFIRMED
CLASS:PUBLIC
URL:https://www.golnetwork.com/game/v/56053/
X-MICROSOFT-CDO-BUSYSTATUS:BUSY
X-MICROSOFT-CDO-IMPORTANCE:1
END:VEVENT
BEGIN:VEVENT
UID:g5le4@games.golnetwork.com
LOCATION:CALC
GEO:43.6758748;-79.3603533
CREATED:20140908T195803Z
DTSTART:20141118T230000Z
DTEND:20141119T000000Z
DTSTAMP:20260420T145231Z
SUMMARY:Stonecutters vs. Withrow Warriors
DESCRIPTION:Withrow Warriors vs. StonecuttersPlus d'info : #73
X-ALT-DESC;FMTTYPE=text/html:<!DOCTYPE HTML PUBLIC "-//W3C//DTD HTML 3.2//E
	N">\n<HTML>\n<HEAD>\n<TITLE></TITLE>\n</HEAD>\n<BODY>\n<h3>Withrow Warriors
	 vs. Stonecutters</h3>Plus d'info : <a href="https://www.golnetwork.com/gam
	e/v/56054/">#73</a>\n\n</BODY>\n</HTML>
STATUS:CONFIRMED
CLASS:PUBLIC
URL:https://www.golnetwork.com/game/v/56054/
X-MICROSOFT-CDO-BUSYSTATUS:BUSY
X-MICROSOFT-CDO-IMPORTANCE:1
END:VEVENT
BEGIN:VEVENT
UID:g5le6@games.golnetwork.com
LOCATION:CALC
GEO:43.6758748;-79.3603533
CREATED:20140908T195803Z
DTSTART:20141119T000000Z
DTEND:20141119T010000Z
DTSTAMP:20260420T145231Z
SUMMARY:Wolfpack vs. Fantastic Floors
DESCRIPTION:Fantastic Floors vs. WolfpackPlus d'info : #74
X-ALT-DESC;FMTTYPE=text/html:<!DOCTYPE HTML PUBLIC "-//W3C//DTD HTML 3.2//E
	N">\n<HTML>\n<HEAD>\n<TITLE></TITLE>\n</HEAD>\n<BODY>\n<h3>Fantastic Floors
	 vs. Wolfpack</h3>Plus d'info : <a href="https://www.golnetwork.com/game/v/
	56055/">#74</a>\n\n</BODY>\n</HTML>
STATUS:CONFIRMED
CLASS:PUBLIC
URL:https://www.golnetwork.com/game/v/56055/
X-MICROSOFT-CDO-BUSYSTATUS:BUSY
X-MICROSOFT-CDO-IMPORTANCE:1
END:VEVENT
BEGIN:VEVENT
UID:g5le8@games.golnetwork.com
LOCATION:CALC
GEO:43.6758748;-79.3603533
CREATED:20140908T195803Z
DTSTART:20141119T010000Z
DTEND:20141119T020000Z
DTSTAMP:20260420T145231Z
SUMMARY:Zoo Station vs. Spicy Baconators
DESCRIPTION:Spicy Baconators vs. Zoo StationPlus d'info : #75
X-ALT-DESC;FMTTYPE=text/html:<!DOCTYPE HTML PUBLIC "-//W3C//DTD HTML 3.2//E
	N">\n<HTML>\n<HEAD>\n<TITLE></TITLE>\n</HEAD>\n<BODY>\n<h3>Spicy Baconators
	 vs. Zoo Station</h3>Plus d'info : <a href="https://www.golnetwork.com/game
	/v/56056/">#75</a>\n\n</BODY>\n</HTML>
STATUS:CONFIRMED
CLASS:PUBLIC
URL:https://www.golnetwork.com/game/v/56056/
X-MICROSOFT-CDO-BUSYSTATUS:BUSY
X-MICROSOFT-CDO-IMPORTANCE:1
END:VEVENT
BEGIN:VEVENT
UID:g5lea@games.golnetwork.com
LOCATION:CALC
GEO:43.6758748;-79.3603533
CREATED:20140908T195803Z
DTSTART:20141119T020000Z
DTEND:20141119T030000Z
DTSTAMP:20260420T145231Z
SUMMARY:The Eh team vs. XTSC Balls of Glory
DESCRIPTION:XTSC Balls of Glory vs. The Eh teamPlus d'info : #76
X-ALT-DESC;FMTTYPE=text/html:<!DOCTYPE HTML PUBLIC "-//W3C//DTD HTML 3.2//E
	N">\n<HTML>\n<HEAD>\n<TITLE></TITLE>\n</HEAD>\n<BODY>\n<h3>XTSC Balls of Gl
	ory vs. The Eh team</h3>Plus d'info : <a href="https://www.golnetwork.com/g
	ame/v/56057/">#76</a>\n\n</BODY>\n</HTML>
STATUS:CONFIRMED
CLASS:PUBLIC
URL:https://www.golnetwork.com/game/v/56057/
X-MICROSOFT-CDO-BUSYSTATUS:BUSY
X-MICROSOFT-CDO-IMPORTANCE:1
END:VEVENT
END:VCALENDAR
