BEGIN:VCALENDAR
PRODID:-//gdesolutions.com//MV Framework 1.0.0.1607 Calendar//EN
VERSION:2.0
METHOD:PUBLISH
CALSCALE:GREGORIAN
BEGIN:VEVENT
UID:g5oo5@games.golnetwork.com
LOCATION:Louis Riel #1
GEO:45.4410208;-75.5715394
CREATED:20140917T193434Z
DTSTART:20140919T000000Z
DTEND:20140919T005000Z
DTSTAMP:20260423T082716Z
SUMMARY:Elemonators vs. Arsenanal FC
DESCRIPTION:Arsenanal FC vs. ElemonatorsPlus d'info : #5
X-ALT-DESC;FMTTYPE=text/html:<!DOCTYPE HTML PUBLIC "-//W3C//DTD HTML 3.2//E
	N">\n<HTML>\n<HEAD>\n<TITLE></TITLE>\n</HEAD>\n<BODY>\n<h3>Arsenanal FC vs.
	 Elemonators</h3>Plus d'info : <a href="https://www.golnetwork.com/game/v/5
	7283/">#5</a>\n\n</BODY>\n</HTML>
STATUS:CONFIRMED
CLASS:PUBLIC
URL:https://www.golnetwork.com/game/v/57283/
X-MICROSOFT-CDO-BUSYSTATUS:BUSY
X-MICROSOFT-CDO-IMPORTANCE:1
END:VEVENT
BEGIN:VEVENT
UID:g5me9@games.golnetwork.com
LOCATION:Branchaud Briere Field #1
GEO:45.4982732;-75.6421544
CREATED:20140910T212715Z
DTSTART:20140919T000000Z
DTEND:20140919T005000Z
DTSTAMP:20260423T082716Z
SUMMARY:Foot Loose FC vs. Team Doug
DESCRIPTION:Team Doug vs. Foot Loose FCPlus d'info : #6
X-ALT-DESC;FMTTYPE=text/html:<!DOCTYPE HTML PUBLIC "-//W3C//DTD HTML 3.2//E
	N">\n<HTML>\n<HEAD>\n<TITLE></TITLE>\n</HEAD>\n<BODY>\n<h3>Team Doug vs. Fo
	ot Loose FC</h3>Plus d'info : <a href="https://www.golnetwork.com/game/v/56
	421/">#6</a>\n\n</BODY>\n</HTML>
STATUS:CONFIRMED
CLASS:PUBLIC
URL:https://www.golnetwork.com/game/v/56421/
X-MICROSOFT-CDO-BUSYSTATUS:BUSY
X-MICROSOFT-CDO-IMPORTANCE:1
END:VEVENT
BEGIN:VEVENT
UID:g5med@games.golnetwork.com
LOCATION:Branchaud Briere Field #3
GEO:45.4982732;-75.6421544
CREATED:20140910T212754Z
DTSTART:20140919T020000Z
DTEND:20140919T025000Z
DTSTAMP:20260423T082716Z
SUMMARY:Fm FC vs. Cornerstone FC
DESCRIPTION:Cornerstone FC vs. Fm FCPlus d'info : #15
X-ALT-DESC;FMTTYPE=text/html:<!DOCTYPE HTML PUBLIC "-//W3C//DTD HTML 3.2//E
	N">\n<HTML>\n<HEAD>\n<TITLE></TITLE>\n</HEAD>\n<BODY>\n<h3>Cornerstone FC v
	s. Fm FC</h3>Plus d'info : <a href="https://www.golnetwork.com/game/v/56423
	/">#15</a>\n\n</BODY>\n</HTML>
STATUS:CONFIRMED
CLASS:PUBLIC
URL:https://www.golnetwork.com/game/v/56423/
X-MICROSOFT-CDO-BUSYSTATUS:BUSY
X-MICROSOFT-CDO-IMPORTANCE:1
END:VEVENT
BEGIN:VEVENT
UID:g5p5j@games.golnetwork.com
LOCATION:Branchaud Briere Field #1
GEO:45.4982732;-75.6421544
CREATED:20140922T025819Z
DTSTART:20140925T230000Z
DTEND:20140925T235000Z
DTSTAMP:20260423T082716Z
SUMMARY:Foot Loose FC vs. Cornerstone FC
DESCRIPTION:Cornerstone FC vs. Foot Loose FCPlus d'info : #18
X-ALT-DESC;FMTTYPE=text/html:<!DOCTYPE HTML PUBLIC "-//W3C//DTD HTML 3.2//E
	N">\n<HTML>\n<HEAD>\n<TITLE></TITLE>\n</HEAD>\n<BODY>\n<h3>Cornerstone FC v
	s. Foot Loose FC</h3>Plus d'info : <a href="https://www.golnetwork.com/game
	/v/57398/">#18</a>\n\n</BODY>\n</HTML>
STATUS:CONFIRMED
CLASS:PUBLIC
URL:https://www.golnetwork.com/game/v/57398/
X-MICROSOFT-CDO-BUSYSTATUS:BUSY
X-MICROSOFT-CDO-IMPORTANCE:1
END:VEVENT
BEGIN:VEVENT
UID:g5p6c@games.golnetwork.com
LOCATION:Branchaud Briere Field #2
GEO:45.4982732;-75.6421544
CREATED:20140922T025914Z
DTSTART:20140926T000000Z
DTEND:20140926T005000Z
DTSTAMP:20260423T082716Z
SUMMARY:Missile-toe vs. Arsenanal FC
DESCRIPTION:Arsenanal FC vs. Missile-toePlus d'info : #22
X-ALT-DESC;FMTTYPE=text/html:<!DOCTYPE HTML PUBLIC "-//W3C//DTD HTML 3.2//E
	N">\n<HTML>\n<HEAD>\n<TITLE></TITLE>\n</HEAD>\n<BODY>\n<h3>Arsenanal FC vs.
	 Missile-toe</h3>Plus d'info : <a href="https://www.golnetwork.com/game/v/5
	7408/">#22</a>\n\n</BODY>\n</HTML>
STATUS:CONFIRMED
CLASS:PUBLIC
URL:https://www.golnetwork.com/game/v/57408/
X-MICROSOFT-CDO-BUSYSTATUS:BUSY
X-MICROSOFT-CDO-IMPORTANCE:1
END:VEVENT
BEGIN:VEVENT
UID:g5p6g@games.golnetwork.com
LOCATION:Branchaud Briere Field #1
GEO:45.4982732;-75.6421544
CREATED:20140922T025947Z
DTSTART:20140926T010000Z
DTEND:20140926T015000Z
DTSTAMP:20260423T082716Z
SUMMARY:Death before Decaf vs. Team Doug
DESCRIPTION:Team Doug vs. Death before DecafPlus d'info : #25
X-ALT-DESC;FMTTYPE=text/html:<!DOCTYPE HTML PUBLIC "-//W3C//DTD HTML 3.2//E
	N">\n<HTML>\n<HEAD>\n<TITLE></TITLE>\n</HEAD>\n<BODY>\n<h3>Team Doug vs. De
	ath before Decaf</h3>Plus d'info : <a href="https://www.golnetwork.com/game
	/v/57410/">#25</a>\n\n</BODY>\n</HTML>
STATUS:CONFIRMED
CLASS:PUBLIC
URL:https://www.golnetwork.com/game/v/57410/
X-MICROSOFT-CDO-BUSYSTATUS:BUSY
X-MICROSOFT-CDO-IMPORTANCE:1
END:VEVENT
BEGIN:VEVENT
UID:g5p6e@games.golnetwork.com
LOCATION:Hornet's Nest #2
GEO:45.4428309;-75.575268
CREATED:20140922T025929Z
DTSTART:20140926T020000Z
DTEND:20140926T025000Z
DTSTAMP:20260423T082716Z
SUMMARY:JFC vs. Fm FC
DESCRIPTION:Fm FC vs. JFCPlus d'info : #29
X-ALT-DESC;FMTTYPE=text/html:<!DOCTYPE HTML PUBLIC "-//W3C//DTD HTML 3.2//E
	N">\n<HTML>\n<HEAD>\n<TITLE></TITLE>\n</HEAD>\n<BODY>\n<h3>Fm FC vs. JFC</h
	3>Plus d'info : <a href="https://www.golnetwork.com/game/v/57409/">#29</a>\
	n\n</BODY>\n</HTML>
STATUS:CONFIRMED
CLASS:PUBLIC
URL:https://www.golnetwork.com/game/v/57409/
X-MICROSOFT-CDO-BUSYSTATUS:BUSY
X-MICROSOFT-CDO-IMPORTANCE:1
END:VEVENT
BEGIN:VEVENT
UID:g5q9i@games.golnetwork.com
LOCATION:Terry Fox Field Main #2
GEO:45.3702572;-75.6905176
CREATED:20140926T210426Z
DTSTART:20141002T233000Z
DTEND:20141003T002000Z
DTSTAMP:20260423T082716Z
SUMMARY:Missile-toe vs. Foot Loose FC
DESCRIPTION:Foot Loose FC vs. Missile-toePlus d'info : #39
X-ALT-DESC;FMTTYPE=text/html:<!DOCTYPE HTML PUBLIC "-//W3C//DTD HTML 3.2//E
	N">\n<HTML>\n<HEAD>\n<TITLE></TITLE>\n</HEAD>\n<BODY>\n<h3>Foot Loose FC vs
	. Missile-toe</h3>Plus d'info : <a href="https://www.golnetwork.com/game/v/
	57816/">#39</a>\n\n</BODY>\n</HTML>
STATUS:CONFIRMED
CLASS:PUBLIC
URL:https://www.golnetwork.com/game/v/57816/
X-MICROSOFT-CDO-BUSYSTATUS:BUSY
X-MICROSOFT-CDO-IMPORTANCE:1
END:VEVENT
BEGIN:VEVENT
UID:g5q94@games.golnetwork.com
LOCATION:Terry Fox Field Main #3
GEO:45.3702572;-75.6905176
CREATED:20140926T210255Z
DTSTART:20141002T233000Z
DTEND:20141003T002000Z
DTSTAMP:20260423T082716Z
SUMMARY:Death before Decaf vs. Cornerstone FC
DESCRIPTION:Cornerstone FC vs. Death before DecafPlus d'info : #12
X-ALT-DESC;FMTTYPE=text/html:<!DOCTYPE HTML PUBLIC "-//W3C//DTD HTML 3.2//E
	N">\n<HTML>\n<HEAD>\n<TITLE></TITLE>\n</HEAD>\n<BODY>\n<h3>Cornerstone FC v
	s. Death before Decaf</h3>Plus d'info : <a href="https://www.golnetwork.com
	/game/v/57809/">#12</a>\n\n</BODY>\n</HTML>
STATUS:CONFIRMED
CLASS:PUBLIC
URL:https://www.golnetwork.com/game/v/57809/
X-MICROSOFT-CDO-BUSYSTATUS:BUSY
X-MICROSOFT-CDO-IMPORTANCE:1
END:VEVENT
BEGIN:VEVENT
UID:g5q9g@games.golnetwork.com
LOCATION:Louis Riel #2
GEO:45.4410208;-75.5715394
CREATED:20140926T210343Z
DTSTART:20141003T000000Z
DTEND:20141003T005000Z
DTSTAMP:20260423T082716Z
SUMMARY:Fm FC vs. Team Doug
DESCRIPTION:Team Doug vs. Fm FCPlus d'info : #41
X-ALT-DESC;FMTTYPE=text/html:<!DOCTYPE HTML PUBLIC "-//W3C//DTD HTML 3.2//E
	N">\n<HTML>\n<HEAD>\n<TITLE></TITLE>\n</HEAD>\n<BODY>\n<h3>Team Doug vs. Fm
	 FC</h3>Plus d'info : <a href="https://www.golnetwork.com/game/v/57815/">#4
	1</a>\n\n</BODY>\n</HTML>
STATUS:CONFIRMED
CLASS:PUBLIC
URL:https://www.golnetwork.com/game/v/57815/
X-MICROSOFT-CDO-BUSYSTATUS:BUSY
X-MICROSOFT-CDO-IMPORTANCE:1
END:VEVENT
BEGIN:VEVENT
UID:g5qlk@games.golnetwork.com
LOCATION:Terry Fox Field Main #1
GEO:45.3702572;-75.6905176
CREATED:20140929T180357Z
DTSTART:20141003T003000Z
DTEND:20141003T012000Z
DTSTAMP:20260423T082716Z
SUMMARY:Death before Decaf vs. Foot Loose FC
DESCRIPTION:Foot Loose FC vs. Death before DecafPlus d'info : #44
X-ALT-DESC;FMTTYPE=text/html:<!DOCTYPE HTML PUBLIC "-//W3C//DTD HTML 3.2//E
	N">\n<HTML>\n<HEAD>\n<TITLE></TITLE>\n</HEAD>\n<BODY>\n<h3>Foot Loose FC vs
	. Death before Decaf</h3>Plus d'info : <a href="https://www.golnetwork.com/
	game/v/57979/">#44</a>\n\n</BODY>\n</HTML>
STATUS:CONFIRMED
CLASS:PUBLIC
URL:https://www.golnetwork.com/game/v/57979/
X-MICROSOFT-CDO-BUSYSTATUS:BUSY
X-MICROSOFT-CDO-IMPORTANCE:1
END:VEVENT
BEGIN:VEVENT
UID:g5q9k@games.golnetwork.com
LOCATION:Louis Riel #2
GEO:45.4410208;-75.5715394
CREATED:20140926T210526Z
DTSTART:20141003T020000Z
DTEND:20141003T025000Z
DTSTAMP:20260423T082716Z
SUMMARY:JFC vs. Arsenanal FC
DESCRIPTION:Arsenanal FC vs. JFCPlus d'info : #51
X-ALT-DESC;FMTTYPE=text/html:<!DOCTYPE HTML PUBLIC "-//W3C//DTD HTML 3.2//E
	N">\n<HTML>\n<HEAD>\n<TITLE></TITLE>\n</HEAD>\n<BODY>\n<h3>Arsenanal FC vs.
	 JFC</h3>Plus d'info : <a href="https://www.golnetwork.com/game/v/57817/">#
	51</a>\n\n</BODY>\n</HTML>
STATUS:CONFIRMED
CLASS:PUBLIC
URL:https://www.golnetwork.com/game/v/57817/
X-MICROSOFT-CDO-BUSYSTATUS:BUSY
X-MICROSOFT-CDO-IMPORTANCE:1
END:VEVENT
BEGIN:VEVENT
UID:g63g7@games.golnetwork.com
LOCATION:Louis Riel #1
GEO:45.4410208;-75.5715394
CREATED:20141006T214312Z
DTSTART:20141009T230000Z
DTEND:20141009T235000Z
DTSTAMP:20260423T082716Z
SUMMARY:JFC vs. Foot Loose FC
DESCRIPTION:Foot Loose FC vs. JFCPlus d'info : #3
X-ALT-DESC;FMTTYPE=text/html:<!DOCTYPE HTML PUBLIC "-//W3C//DTD HTML 3.2//E
	N">\n<HTML>\n<HEAD>\n<TITLE></TITLE>\n</HEAD>\n<BODY>\n<h3>Foot Loose FC vs
	. JFC</h3>Plus d'info : <a href="https://www.golnetwork.com/game/v/59363/">
	#3</a>\n\n</BODY>\n</HTML>
STATUS:CONFIRMED
CLASS:PUBLIC
URL:https://www.golnetwork.com/game/v/59363/
X-MICROSOFT-CDO-BUSYSTATUS:BUSY
X-MICROSOFT-CDO-IMPORTANCE:1
END:VEVENT
BEGIN:VEVENT
UID:g63h4@games.golnetwork.com
LOCATION:Terry Fox Field Main #1
GEO:45.3702572;-75.6905176
CREATED:20141006T214513Z
DTSTART:20141010T011500Z
DTEND:20141010T020500Z
DTSTAMP:20260423T082716Z
SUMMARY:Cornerstone FC vs. Team Doug
DESCRIPTION:Team Doug vs. Cornerstone FCPlus d'info : #65
X-ALT-DESC;FMTTYPE=text/html:<!DOCTYPE HTML PUBLIC "-//W3C//DTD HTML 3.2//E
	N">\n<HTML>\n<HEAD>\n<TITLE></TITLE>\n</HEAD>\n<BODY>\n<h3>Team Doug vs. Co
	rnerstone FC</h3>Plus d'info : <a href="https://www.golnetwork.com/game/v/5
	9375/">#65</a>\n\n</BODY>\n</HTML>
STATUS:CONFIRMED
CLASS:PUBLIC
URL:https://www.golnetwork.com/game/v/59375/
X-MICROSOFT-CDO-BUSYSTATUS:BUSY
X-MICROSOFT-CDO-IMPORTANCE:1
END:VEVENT
BEGIN:VEVENT
UID:g63h6@games.golnetwork.com
LOCATION:Terry Fox Field Main #2
GEO:45.3702572;-75.6905176
CREATED:20141006T214527Z
DTSTART:20141010T011500Z
DTEND:20141010T020500Z
DTSTAMP:20260423T082716Z
SUMMARY:Missile-toe vs. Fm FC
DESCRIPTION:Fm FC vs. Missile-toePlus d'info : #66
X-ALT-DESC;FMTTYPE=text/html:<!DOCTYPE HTML PUBLIC "-//W3C//DTD HTML 3.2//E
	N">\n<HTML>\n<HEAD>\n<TITLE></TITLE>\n</HEAD>\n<BODY>\n<h3>Fm FC vs. Missil
	e-toe</h3>Plus d'info : <a href="https://www.golnetwork.com/game/v/59376/">
	#66</a>\n\n</BODY>\n</HTML>
STATUS:CONFIRMED
CLASS:PUBLIC
URL:https://www.golnetwork.com/game/v/59376/
X-MICROSOFT-CDO-BUSYSTATUS:BUSY
X-MICROSOFT-CDO-IMPORTANCE:1
END:VEVENT
BEGIN:VEVENT
UID:g63h8@games.golnetwork.com
LOCATION:Terry Fox Field Main #3
GEO:45.3702572;-75.6905176
CREATED:20141006T214538Z
DTSTART:20141010T011500Z
DTEND:20141010T020500Z
DTSTAMP:20260423T082716Z
SUMMARY:Death before Decaf vs. Arsenanal FC
DESCRIPTION:Arsenanal FC vs. Death before DecafPlus d'info : #67
X-ALT-DESC;FMTTYPE=text/html:<!DOCTYPE HTML PUBLIC "-//W3C//DTD HTML 3.2//E
	N">\n<HTML>\n<HEAD>\n<TITLE></TITLE>\n</HEAD>\n<BODY>\n<h3>Arsenanal FC vs.
	 Death before Decaf</h3>Plus d'info : <a href="https://www.golnetwork.com/g
	ame/v/59377/">#67</a>\n\n</BODY>\n</HTML>
STATUS:CONFIRMED
CLASS:PUBLIC
URL:https://www.golnetwork.com/game/v/59377/
X-MICROSOFT-CDO-BUSYSTATUS:BUSY
X-MICROSOFT-CDO-IMPORTANCE:1
END:VEVENT
BEGIN:VEVENT
UID:g63pc@games.golnetwork.com
LOCATION:Louis Riel #3
GEO:45.4410208;-75.5715394
CREATED:20141011T190549Z
DTSTART:20141016T230000Z
DTEND:20141016T235000Z
DTSTAMP:20260423T082716Z
SUMMARY:JFC vs. Death before Decaf
DESCRIPTION:Death before Decaf vs. JFCPlus d'info : #2
X-ALT-DESC;FMTTYPE=text/html:<!DOCTYPE HTML PUBLIC "-//W3C//DTD HTML 3.2//E
	N">\n<HTML>\n<HEAD>\n<TITLE></TITLE>\n</HEAD>\n<BODY>\n<h3>Death before Dec
	af vs. JFC</h3>Plus d'info : <a href="https://www.golnetwork.com/game/v/594
	87/">#2</a>\n\n</BODY>\n</HTML>
STATUS:CONFIRMED
CLASS:PUBLIC
URL:https://www.golnetwork.com/game/v/59487/
X-MICROSOFT-CDO-BUSYSTATUS:BUSY
X-MICROSOFT-CDO-IMPORTANCE:1
END:VEVENT
BEGIN:VEVENT
UID:g63qb@games.golnetwork.com
LOCATION:Louis Riel #1
GEO:45.4410208;-75.5715394
CREATED:20141011T190649Z
DTSTART:20141017T010000Z
DTEND:20141017T015000Z
DTSTAMP:20260423T082716Z
SUMMARY:Arsenanal FC vs. Cornerstone FC
DESCRIPTION:Cornerstone FC vs. Arsenanal FCPlus d'info : #78
X-ALT-DESC;FMTTYPE=text/html:<!DOCTYPE HTML PUBLIC "-//W3C//DTD HTML 3.2//E
	N">\n<HTML>\n<HEAD>\n<TITLE></TITLE>\n</HEAD>\n<BODY>\n<h3>Cornerstone FC v
	s. Arsenanal FC</h3>Plus d'info : <a href="https://www.golnetwork.com/game/
	v/59500/">#78</a>\n\n</BODY>\n</HTML>
STATUS:CONFIRMED
CLASS:PUBLIC
URL:https://www.golnetwork.com/game/v/59500/
X-MICROSOFT-CDO-BUSYSTATUS:BUSY
X-MICROSOFT-CDO-IMPORTANCE:1
END:VEVENT
BEGIN:VEVENT
UID:g63qd@games.golnetwork.com
LOCATION:Louis Riel #3
GEO:45.4410208;-75.5715394
CREATED:20141011T190706Z
DTSTART:20141017T010000Z
DTEND:20141017T015000Z
DTSTAMP:20260423T082716Z
SUMMARY:Foot Loose FC vs. Fm FC
DESCRIPTION:Fm FC vs. Foot Loose FCPlus d'info : #79
X-ALT-DESC;FMTTYPE=text/html:<!DOCTYPE HTML PUBLIC "-//W3C//DTD HTML 3.2//E
	N">\n<HTML>\n<HEAD>\n<TITLE></TITLE>\n</HEAD>\n<BODY>\n<h3>Fm FC vs. Foot L
	oose FC</h3>Plus d'info : <a href="https://www.golnetwork.com/game/v/59501/
	">#79</a>\n\n</BODY>\n</HTML>
STATUS:CONFIRMED
CLASS:PUBLIC
URL:https://www.golnetwork.com/game/v/59501/
X-MICROSOFT-CDO-BUSYSTATUS:BUSY
X-MICROSOFT-CDO-IMPORTANCE:1
END:VEVENT
BEGIN:VEVENT
UID:g63qf@games.golnetwork.com
LOCATION:Louis Riel #1
GEO:45.4410208;-75.5715394
CREATED:20141011T190745Z
DTSTART:20141017T020000Z
DTEND:20141017T025000Z
DTSTAMP:20260423T082716Z
SUMMARY:Missile-toe vs. Team Doug
DESCRIPTION:Team Doug vs. Missile-toePlus d'info : #82
X-ALT-DESC;FMTTYPE=text/html:<!DOCTYPE HTML PUBLIC "-//W3C//DTD HTML 3.2//E
	N">\n<HTML>\n<HEAD>\n<TITLE></TITLE>\n</HEAD>\n<BODY>\n<h3>Team Doug vs. Mi
	ssile-toe</h3>Plus d'info : <a href="https://www.golnetwork.com/game/v/5950
	2/">#82</a>\n\n</BODY>\n</HTML>
STATUS:CONFIRMED
CLASS:PUBLIC
URL:https://www.golnetwork.com/game/v/59502/
X-MICROSOFT-CDO-BUSYSTATUS:BUSY
X-MICROSOFT-CDO-IMPORTANCE:1
END:VEVENT
BEGIN:VEVENT
UID:g65ql@games.golnetwork.com
LOCATION:Hornet's Nest #2
GEO:45.4428309;-75.575268
CREATED:20141020T174911Z
DTSTART:20141024T003000Z
DTEND:20141024T012000Z
DTSTAMP:20260423T082716Z
SUMMARY:JFC vs. Team Doug
DESCRIPTION:Team Doug vs. JFCPlus d'info : #90
X-ALT-DESC;FMTTYPE=text/html:<!DOCTYPE HTML PUBLIC "-//W3C//DTD HTML 3.2//E
	N">\n<HTML>\n<HEAD>\n<TITLE></TITLE>\n</HEAD>\n<BODY>\n<h3>Team Doug vs. JF
	C</h3>Plus d'info : <a href="https://www.golnetwork.com/game/v/60234/">#90<
	/a>\n\n</BODY>\n</HTML>
STATUS:CONFIRMED
CLASS:PUBLIC
URL:https://www.golnetwork.com/game/v/60234/
X-MICROSOFT-CDO-BUSYSTATUS:BUSY
X-MICROSOFT-CDO-IMPORTANCE:1
END:VEVENT
BEGIN:VEVENT
UID:g6600@games.golnetwork.com
LOCATION:Branchaud Briere Field #1
GEO:45.4982732;-75.6421544
CREATED:20141020T175053Z
DTSTART:20141024T010000Z
DTEND:20141024T015000Z
DTSTAMP:20260423T082716Z
SUMMARY:Missile-toe vs. Cornerstone FC
DESCRIPTION:Cornerstone FC vs. Missile-toePlus d'info : #92
X-ALT-DESC;FMTTYPE=text/html:<!DOCTYPE HTML PUBLIC "-//W3C//DTD HTML 3.2//E
	N">\n<HTML>\n<HEAD>\n<TITLE></TITLE>\n</HEAD>\n<BODY>\n<h3>Cornerstone FC v
	s. Missile-toe</h3>Plus d'info : <a href="https://www.golnetwork.com/game/v
	/60237/">#92</a>\n\n</BODY>\n</HTML>
STATUS:CONFIRMED
CLASS:PUBLIC
URL:https://www.golnetwork.com/game/v/60237/
X-MICROSOFT-CDO-BUSYSTATUS:BUSY
X-MICROSOFT-CDO-IMPORTANCE:1
END:VEVENT
BEGIN:VEVENT
UID:g65qn@games.golnetwork.com
LOCATION:Hornet's Nest #2
GEO:45.4428309;-75.575268
CREATED:20141020T174952Z
DTSTART:20141024T013000Z
DTEND:20141024T022000Z
DTSTAMP:20260423T082716Z
SUMMARY:Death before Decaf vs. Fm FC
DESCRIPTION:Fm FC vs. Death before DecafPlus d'info : #95
X-ALT-DESC;FMTTYPE=text/html:<!DOCTYPE HTML PUBLIC "-//W3C//DTD HTML 3.2//E
	N">\n<HTML>\n<HEAD>\n<TITLE></TITLE>\n</HEAD>\n<BODY>\n<h3>Fm FC vs. Death 
	before Decaf</h3>Plus d'info : <a href="https://www.golnetwork.com/game/v/6
	0235/">#95</a>\n\n</BODY>\n</HTML>
STATUS:CONFIRMED
CLASS:PUBLIC
URL:https://www.golnetwork.com/game/v/60235/
X-MICROSOFT-CDO-BUSYSTATUS:BUSY
X-MICROSOFT-CDO-IMPORTANCE:1
END:VEVENT
BEGIN:VEVENT
UID:g6602@games.golnetwork.com
LOCATION:Branchaud Briere Field #1
GEO:45.4982732;-75.6421544
CREATED:20141020T175129Z
DTSTART:20141024T020000Z
DTEND:20141024T025000Z
DTSTAMP:20260423T082716Z
SUMMARY:Foot Loose FC vs. Arsenanal FC
DESCRIPTION:Arsenanal FC vs. Foot Loose FCPlus d'info : #97
X-ALT-DESC;FMTTYPE=text/html:<!DOCTYPE HTML PUBLIC "-//W3C//DTD HTML 3.2//E
	N">\n<HTML>\n<HEAD>\n<TITLE></TITLE>\n</HEAD>\n<BODY>\n<h3>Arsenanal FC vs.
	 Foot Loose FC</h3>Plus d'info : <a href="https://www.golnetwork.com/game/v
	/60238/">#97</a>\n\n</BODY>\n</HTML>
STATUS:CONFIRMED
CLASS:PUBLIC
URL:https://www.golnetwork.com/game/v/60238/
X-MICROSOFT-CDO-BUSYSTATUS:BUSY
X-MICROSOFT-CDO-IMPORTANCE:1
END:VEVENT
BEGIN:VEVENT
UID:g66io@games.golnetwork.com
LOCATION:Hornet's Nest #2
GEO:45.4428309;-75.575268
CREATED:20141021T213725Z
DTSTART:20141030T233000Z
DTEND:20141031T002000Z
DTSTAMP:20260423T082716Z
SUMMARY:JFC vs. Fm FC
DESCRIPTION:Fm FC vs. JFCPlus d'info : #103
X-ALT-DESC;FMTTYPE=text/html:<!DOCTYPE HTML PUBLIC "-//W3C//DTD HTML 3.2//E
	N">\n<HTML>\n<HEAD>\n<TITLE></TITLE>\n</HEAD>\n<BODY>\n<h3>Fm FC vs. JFC</h
	3>Plus d'info : <a href="https://www.golnetwork.com/game/v/60492/">#103</a>
	\n\n</BODY>\n</HTML>
STATUS:CONFIRMED
CLASS:PUBLIC
URL:https://www.golnetwork.com/game/v/60492/
X-MICROSOFT-CDO-BUSYSTATUS:BUSY
X-MICROSOFT-CDO-IMPORTANCE:1
END:VEVENT
BEGIN:VEVENT
UID:g66j3@games.golnetwork.com
LOCATION:Branchaud Briere Field #1
GEO:45.4982732;-75.6421544
CREATED:20141021T213815Z
DTSTART:20141031T020000Z
DTEND:20141031T025000Z
DTSTAMP:20260423T082716Z
SUMMARY:Death before Decaf vs. Missile-toe
DESCRIPTION:Missile-toe vs. Death before DecafPlus d'info : #112
X-ALT-DESC;FMTTYPE=text/html:<!DOCTYPE HTML PUBLIC "-//W3C//DTD HTML 3.2//E
	N">\n<HTML>\n<HEAD>\n<TITLE></TITLE>\n</HEAD>\n<BODY>\n<h3>Missile-toe vs. 
	Death before Decaf</h3>Plus d'info : <a href="https://www.golnetwork.com/ga
	me/v/60495/">#112</a>\n\n</BODY>\n</HTML>
STATUS:CONFIRMED
CLASS:PUBLIC
URL:https://www.golnetwork.com/game/v/60495/
X-MICROSOFT-CDO-BUSYSTATUS:BUSY
X-MICROSOFT-CDO-IMPORTANCE:1
END:VEVENT
BEGIN:VEVENT
UID:g66iq@games.golnetwork.com
LOCATION:Branchaud Briere Field #1
GEO:45.4982732;-75.6421544
CREATED:20141021T213742Z
DTSTART:20141031T030000Z
DTEND:20141031T035000Z
DTSTAMP:20260423T082716Z
SUMMARY:Foot Loose FC vs. Team Doug
DESCRIPTION:Team Doug vs. Foot Loose FCPlus d'info : #117
X-ALT-DESC;FMTTYPE=text/html:<!DOCTYPE HTML PUBLIC "-//W3C//DTD HTML 3.2//E
	N">\n<HTML>\n<HEAD>\n<TITLE></TITLE>\n</HEAD>\n<BODY>\n<h3>Team Doug vs. Fo
	ot Loose FC</h3>Plus d'info : <a href="https://www.golnetwork.com/game/v/60
	493/">#117</a>\n\n</BODY>\n</HTML>
STATUS:CONFIRMED
CLASS:PUBLIC
URL:https://www.golnetwork.com/game/v/60493/
X-MICROSOFT-CDO-BUSYSTATUS:BUSY
X-MICROSOFT-CDO-IMPORTANCE:1
END:VEVENT
BEGIN:VEVENT
UID:g66j1@games.golnetwork.com
LOCATION:Branchaud Briere Field #2
GEO:45.4982732;-75.6421544
CREATED:20141021T213757Z
DTSTART:20141031T030000Z
DTEND:20141031T035000Z
DTSTAMP:20260423T082716Z
SUMMARY:Cornerstone FC vs. Arsenanal FC
DESCRIPTION:Arsenanal FC vs. Cornerstone FCPlus d'info : #118
X-ALT-DESC;FMTTYPE=text/html:<!DOCTYPE HTML PUBLIC "-//W3C//DTD HTML 3.2//E
	N">\n<HTML>\n<HEAD>\n<TITLE></TITLE>\n</HEAD>\n<BODY>\n<h3>Arsenanal FC vs.
	 Cornerstone FC</h3>Plus d'info : <a href="https://www.golnetwork.com/game/
	v/60494/">#118</a>\n\n</BODY>\n</HTML>
STATUS:CONFIRMED
CLASS:PUBLIC
URL:https://www.golnetwork.com/game/v/60494/
X-MICROSOFT-CDO-BUSYSTATUS:BUSY
X-MICROSOFT-CDO-IMPORTANCE:1
END:VEVENT
BEGIN:VEVENT
UID:g683f@games.golnetwork.com
LOCATION:Louis Riel #3
GEO:45.4410208;-75.5715394
CREATED:20141104T063636Z
DTSTART:20141107T000000Z
DTEND:20141107T005000Z
DTSTAMP:20260423T082716Z
SUMMARY:Team Doug vs. Missile-toe
DESCRIPTION:Missile-toe vs. Team DougPlus d'info : #119
X-ALT-DESC;FMTTYPE=text/html:<!DOCTYPE HTML PUBLIC "-//W3C//DTD HTML 3.2//E
	N">\n<HTML>\n<HEAD>\n<TITLE></TITLE>\n</HEAD>\n<BODY>\n<h3>Missile-toe vs. 
	Team Doug</h3>Plus d'info : <a href="https://www.golnetwork.com/game/v/6101
	4/">#119</a>\n\n</BODY>\n</HTML>
STATUS:CONFIRMED
CLASS:PUBLIC
URL:https://www.golnetwork.com/game/v/61014/
X-MICROSOFT-CDO-BUSYSTATUS:BUSY
X-MICROSOFT-CDO-IMPORTANCE:1
END:VEVENT
BEGIN:VEVENT
UID:g683h@games.golnetwork.com
LOCATION:Louis Riel #3
GEO:45.4410208;-75.5715394
CREATED:20141104T063746Z
DTSTART:20141107T010000Z
DTEND:20141107T015000Z
DTSTAMP:20260423T082716Z
SUMMARY:JFC vs. Cornerstone FC
DESCRIPTION:Cornerstone FC vs. JFCPlus d'info : #121
X-ALT-DESC;FMTTYPE=text/html:<!DOCTYPE HTML PUBLIC "-//W3C//DTD HTML 3.2//E
	N">\n<HTML>\n<HEAD>\n<TITLE></TITLE>\n</HEAD>\n<BODY>\n<h3>Cornerstone FC v
	s. JFC</h3>Plus d'info : <a href="https://www.golnetwork.com/game/v/61015/"
	>#121</a>\n\n</BODY>\n</HTML>
STATUS:CONFIRMED
CLASS:PUBLIC
URL:https://www.golnetwork.com/game/v/61015/
X-MICROSOFT-CDO-BUSYSTATUS:BUSY
X-MICROSOFT-CDO-IMPORTANCE:1
END:VEVENT
BEGIN:VEVENT
UID:g683j@games.golnetwork.com
LOCATION:Louis Riel #1
GEO:45.4410208;-75.5715394
CREATED:20141104T063847Z
DTSTART:20141107T030000Z
DTEND:20141107T035000Z
DTSTAMP:20260423T082716Z
SUMMARY:Death before Decaf vs. Foot Loose FC
DESCRIPTION:Foot Loose FC vs. Death before DecafPlus d'info : #125
X-ALT-DESC;FMTTYPE=text/html:<!DOCTYPE HTML PUBLIC "-//W3C//DTD HTML 3.2//E
	N">\n<HTML>\n<HEAD>\n<TITLE></TITLE>\n</HEAD>\n<BODY>\n<h3>Foot Loose FC vs
	. Death before Decaf</h3>Plus d'info : <a href="https://www.golnetwork.com/
	game/v/61016/">#125</a>\n\n</BODY>\n</HTML>
STATUS:CONFIRMED
CLASS:PUBLIC
URL:https://www.golnetwork.com/game/v/61016/
X-MICROSOFT-CDO-BUSYSTATUS:BUSY
X-MICROSOFT-CDO-IMPORTANCE:1
END:VEVENT
BEGIN:VEVENT
UID:g688k@games.golnetwork.com
LOCATION:Louis Riel #3
GEO:45.4410208;-75.5715394
CREATED:20141105T175319Z
DTSTART:20141114T000000Z
DTEND:20141114T005000Z
DTSTAMP:20260423T082716Z
SUMMARY:Arsenanal FC vs. Fm FC
DESCRIPTION:Fm FC vs. Arsenanal FCPlus d'info : #133
X-ALT-DESC;FMTTYPE=text/html:<!DOCTYPE HTML PUBLIC "-//W3C//DTD HTML 3.2//E
	N">\n<HTML>\n<HEAD>\n<TITLE></TITLE>\n</HEAD>\n<BODY>\n<h3>Fm FC vs. Arsena
	nal FC</h3>Plus d'info : <a href="https://www.golnetwork.com/game/v/61084/"
	>#133</a>\n\n</BODY>\n</HTML>
STATUS:CONFIRMED
CLASS:PUBLIC
URL:https://www.golnetwork.com/game/v/61084/
X-MICROSOFT-CDO-BUSYSTATUS:BUSY
X-MICROSOFT-CDO-IMPORTANCE:1
END:VEVENT
BEGIN:VEVENT
UID:g688m@games.golnetwork.com
LOCATION:Louis Riel #2
GEO:45.4410208;-75.5715394
CREATED:20141105T175346Z
DTSTART:20141114T010000Z
DTEND:20141114T015000Z
DTSTAMP:20260423T082716Z
SUMMARY:JFC vs. Missile-toe
DESCRIPTION:Missile-toe vs. JFCPlus d'info : #134
X-ALT-DESC;FMTTYPE=text/html:<!DOCTYPE HTML PUBLIC "-//W3C//DTD HTML 3.2//E
	N">\n<HTML>\n<HEAD>\n<TITLE></TITLE>\n</HEAD>\n<BODY>\n<h3>Missile-toe vs. 
	JFC</h3>Plus d'info : <a href="https://www.golnetwork.com/game/v/61085/">#1
	34</a>\n\n</BODY>\n</HTML>
STATUS:CONFIRMED
CLASS:PUBLIC
URL:https://www.golnetwork.com/game/v/61085/
X-MICROSOFT-CDO-BUSYSTATUS:BUSY
X-MICROSOFT-CDO-IMPORTANCE:1
END:VEVENT
BEGIN:VEVENT
UID:g68ei@games.golnetwork.com
LOCATION:Branchaud Briere Field #2
GEO:45.4982732;-75.6421544
CREATED:20141107T192224Z
DTSTART:20141114T020000Z
DTEND:20141114T025000Z
DTSTAMP:20260423T082716Z
SUMMARY:Cornerstone FC vs. Team Doug
DESCRIPTION:Team Doug vs. Cornerstone FCPlus d'info : #139
X-ALT-DESC;FMTTYPE=text/html:<!DOCTYPE HTML PUBLIC "-//W3C//DTD HTML 3.2//E
	N">\n<HTML>\n<HEAD>\n<TITLE></TITLE>\n</HEAD>\n<BODY>\n<h3>Team Doug vs. Co
	rnerstone FC</h3>Plus d'info : <a href="https://www.golnetwork.com/game/v/6
	1164/">#139</a>\n\n</BODY>\n</HTML>
STATUS:CONFIRMED
CLASS:PUBLIC
URL:https://www.golnetwork.com/game/v/61164/
X-MICROSOFT-CDO-BUSYSTATUS:BUSY
X-MICROSOFT-CDO-IMPORTANCE:1
END:VEVENT
BEGIN:VEVENT
UID:g68fd@games.golnetwork.com
LOCATION:Louis Riel #1
GEO:45.4410208;-75.5715394
CREATED:20141107T192913Z
DTSTART:20141121T030000Z
DTEND:20141121T035000Z
DTSTAMP:20260423T082716Z
SUMMARY:Green Machine vs. Fm FC
DESCRIPTION:Fm FC vs. Green MachinePlus d'info : #156
X-ALT-DESC;FMTTYPE=text/html:<!DOCTYPE HTML PUBLIC "-//W3C//DTD HTML 3.2//E
	N">\n<HTML>\n<HEAD>\n<TITLE></TITLE>\n</HEAD>\n<BODY>\n<h3>Fm FC vs. Green 
	Machine</h3>Plus d'info : <a href="https://www.golnetwork.com/game/v/61175/
	">#156</a>\n\n</BODY>\n</HTML>
STATUS:CONFIRMED
CLASS:PUBLIC
URL:https://www.golnetwork.com/game/v/61175/
X-MICROSOFT-CDO-BUSYSTATUS:BUSY
X-MICROSOFT-CDO-IMPORTANCE:1
END:VEVENT
BEGIN:VEVENT
UID:g68fh@games.golnetwork.com
LOCATION:Louis Riel #3
GEO:45.4410208;-75.5715394
CREATED:20141107T192946Z
DTSTART:20141121T030000Z
DTEND:20141121T035000Z
DTSTAMP:20260423T082716Z
SUMMARY:Arsenanal FC vs. Foot Loose FC
DESCRIPTION:Foot Loose FC vs. Arsenanal FCPlus d'info : #158
X-ALT-DESC;FMTTYPE=text/html:<!DOCTYPE HTML PUBLIC "-//W3C//DTD HTML 3.2//E
	N">\n<HTML>\n<HEAD>\n<TITLE></TITLE>\n</HEAD>\n<BODY>\n<h3>Foot Loose FC vs
	. Arsenanal FC</h3>Plus d'info : <a href="https://www.golnetwork.com/game/v
	/61177/">#158</a>\n\n</BODY>\n</HTML>
STATUS:CONFIRMED
CLASS:PUBLIC
URL:https://www.golnetwork.com/game/v/61177/
X-MICROSOFT-CDO-BUSYSTATUS:BUSY
X-MICROSOFT-CDO-IMPORTANCE:1
END:VEVENT
BEGIN:VEVENT
UID:g68fj@games.golnetwork.com
LOCATION:Louis Riel #1
GEO:45.4410208;-75.5715394
CREATED:20141107T193031Z
DTSTART:20141121T040000Z
DTEND:20141121T045000Z
DTSTAMP:20260423T082716Z
SUMMARY:Fusion vs. Missile-toe
DESCRIPTION:Missile-toe vs. FusionPlus d'info : #159
X-ALT-DESC;FMTTYPE=text/html:<!DOCTYPE HTML PUBLIC "-//W3C//DTD HTML 3.2//E
	N">\n<HTML>\n<HEAD>\n<TITLE></TITLE>\n</HEAD>\n<BODY>\n<h3>Missile-toe vs. 
	Fusion</h3>Plus d'info : <a href="https://www.golnetwork.com/game/v/61178/"
	>#159</a>\n\n</BODY>\n</HTML>
STATUS:CONFIRMED
CLASS:PUBLIC
URL:https://www.golnetwork.com/game/v/61178/
X-MICROSOFT-CDO-BUSYSTATUS:BUSY
X-MICROSOFT-CDO-IMPORTANCE:1
END:VEVENT
BEGIN:VEVENT
UID:g6aqi@games.golnetwork.com
LOCATION:Louis Riel #3
GEO:45.4410208;-75.5715394
CREATED:20141213T215928Z
DTSTART:20141219T000000Z
DTEND:20141219T005000Z
DTSTAMP:20260423T082716Z
SUMMARY:JFC vs. Foot Loose FC
DESCRIPTION:Foot Loose FC vs. JFCPlus d'info : #213
X-ALT-DESC;FMTTYPE=text/html:<!DOCTYPE HTML PUBLIC "-//W3C//DTD HTML 3.2//E
	N">\n<HTML>\n<HEAD>\n<TITLE></TITLE>\n</HEAD>\n<BODY>\n<h3>Foot Loose FC vs
	. JFC</h3>Plus d'info : <a href="https://www.golnetwork.com/game/v/62055/">
	#213</a>\n\n</BODY>\n</HTML>
STATUS:CONFIRMED
CLASS:PUBLIC
URL:https://www.golnetwork.com/game/v/62055/
X-MICROSOFT-CDO-BUSYSTATUS:BUSY
X-MICROSOFT-CDO-IMPORTANCE:1
END:VEVENT
BEGIN:VEVENT
UID:g6aqo@games.golnetwork.com
LOCATION:Lees Dome Field #1
GEO:45.415776;-75.6684899
CREATED:20141213T220044Z
DTSTART:20141219T010000Z
DTEND:20141219T015000Z
DTSTAMP:20260423T082716Z
SUMMARY:Green Machine vs. Team Doug
DESCRIPTION:Team Doug vs. Green MachinePlus d'info : #216
X-ALT-DESC;FMTTYPE=text/html:<!DOCTYPE HTML PUBLIC "-//W3C//DTD HTML 3.2//E
	N">\n<HTML>\n<HEAD>\n<TITLE></TITLE>\n</HEAD>\n<BODY>\n<h3>Team Doug vs. Gr
	een Machine</h3>Plus d'info : <a href="https://www.golnetwork.com/game/v/62
	058/">#216</a>\n\n</BODY>\n</HTML>
STATUS:CONFIRMED
CLASS:PUBLIC
URL:https://www.golnetwork.com/game/v/62058/
X-MICROSOFT-CDO-BUSYSTATUS:BUSY
X-MICROSOFT-CDO-IMPORTANCE:1
END:VEVENT
BEGIN:VEVENT
UID:g6b03@games.golnetwork.com
LOCATION:Louis Riel #1
GEO:45.4410208;-75.5715394
CREATED:20141213T220201Z
DTSTART:20141219T020000Z
DTEND:20141219T025000Z
DTSTAMP:20260423T082716Z
SUMMARY:Cornerstone FC vs. Missile-toe
DESCRIPTION:Missile-toe vs. Cornerstone FCPlus d'info : #219
X-ALT-DESC;FMTTYPE=text/html:<!DOCTYPE HTML PUBLIC "-//W3C//DTD HTML 3.2//E
	N">\n<HTML>\n<HEAD>\n<TITLE></TITLE>\n</HEAD>\n<BODY>\n<h3>Missile-toe vs. 
	Cornerstone FC</h3>Plus d'info : <a href="https://www.golnetwork.com/game/v
	/62061/">#219</a>\n\n</BODY>\n</HTML>
STATUS:CONFIRMED
CLASS:PUBLIC
URL:https://www.golnetwork.com/game/v/62061/
X-MICROSOFT-CDO-BUSYSTATUS:BUSY
X-MICROSOFT-CDO-IMPORTANCE:1
END:VEVENT
END:VCALENDAR
