BEGIN:VCALENDAR
PRODID:-//gdesolutions.com//MV Framework 1.0.0.1607 Calendar//EN
VERSION:2.0
METHOD:PUBLISH
CALSCALE:GREGORIAN
BEGIN:VEVENT
UID:g68fp@games.golnetwork.com
LOCATION:Squash Court #1
GEO:45.508899688721;-73.5795573
CREATED:20141111T070420Z
DTSTART:20141112T233000Z
DTEND:20141113T001500Z
DTSTAMP:20260422T023752Z
SUMMARY:Squash Court Sharks vs. Hollaback Girls
DESCRIPTION:Hollaback Girls vs. Squash Court SharksPlus d'info : #2
X-ALT-DESC;FMTTYPE=text/html:<!DOCTYPE HTML PUBLIC "-//W3C//DTD HTML 3.2//E
	N">\n<HTML>\n<HEAD>\n<TITLE></TITLE>\n</HEAD>\n<BODY>\n<h3>Hollaback Girls 
	vs. Squash Court Sharks</h3>Plus d'info : <a href="https://www.golnetwork.c
	om/game/v/61181/">#2</a>\n\n</BODY>\n</HTML>
STATUS:CONFIRMED
CLASS:PUBLIC
URL:https://www.golnetwork.com/game/v/61181/
X-MICROSOFT-CDO-BUSYSTATUS:BUSY
X-MICROSOFT-CDO-IMPORTANCE:1
END:VEVENT
BEGIN:VEVENT
UID:g68g0@games.golnetwork.com
LOCATION:Squash Court #1
GEO:45.508899688721;-73.5795573
CREATED:20141111T070420Z
DTSTART:20141113T001500Z
DTEND:20141113T010000Z
DTSTAMP:20260422T023752Z
SUMMARY:Uhhh... vs. Avada Kedavra
DESCRIPTION:Avada Kedavra vs. Uhhh...Plus d'info : #3
X-ALT-DESC;FMTTYPE=text/html:<!DOCTYPE HTML PUBLIC "-//W3C//DTD HTML 3.2//E
	N">\n<HTML>\n<HEAD>\n<TITLE></TITLE>\n</HEAD>\n<BODY>\n<h3>Avada Kedavra vs
	. Uhhh...</h3>Plus d'info : <a href="https://www.golnetwork.com/game/v/6118
	2/">#3</a>\n\n</BODY>\n</HTML>
STATUS:CONFIRMED
CLASS:PUBLIC
URL:https://www.golnetwork.com/game/v/61182/
X-MICROSOFT-CDO-BUSYSTATUS:BUSY
X-MICROSOFT-CDO-IMPORTANCE:1
END:VEVENT
BEGIN:VEVENT
UID:g68g8@games.golnetwork.com
LOCATION:Squash Court #1
GEO:45.508899688721;-73.5795573
CREATED:20141111T070421Z
DTSTART:20141114T224500Z
DTEND:20141114T233000Z
DTSTAMP:20260422T023752Z
SUMMARY:Pleased to Michu vs. Lady Party
DESCRIPTION:Lady Party vs. Pleased to MichuPlus d'info : #7
X-ALT-DESC;FMTTYPE=text/html:<!DOCTYPE HTML PUBLIC "-//W3C//DTD HTML 3.2//E
	N">\n<HTML>\n<HEAD>\n<TITLE></TITLE>\n</HEAD>\n<BODY>\n<h3>Lady Party vs. P
	leased to Michu</h3>Plus d'info : <a href="https://www.golnetwork.com/game/
	v/61186/">#7</a>\n\n</BODY>\n</HTML>
STATUS:CONFIRMED
CLASS:PUBLIC
URL:https://www.golnetwork.com/game/v/61186/
X-MICROSOFT-CDO-BUSYSTATUS:BUSY
X-MICROSOFT-CDO-IMPORTANCE:1
END:VEVENT
BEGIN:VEVENT
UID:g68h7@games.golnetwork.com
LOCATION:Squash Court #1
GEO:45.508899688721;-73.5795573
CREATED:20141111T070421Z
DTSTART:20141115T220000Z
DTEND:20141115T224500Z
DTSTAMP:20260422T023752Z
SUMMARY:Squash Court Sharks vs. Avada Kedavra
DESCRIPTION:Avada Kedavra vs. Squash Court SharksPlus d'info : #20
X-ALT-DESC;FMTTYPE=text/html:<!DOCTYPE HTML PUBLIC "-//W3C//DTD HTML 3.2//E
	N">\n<HTML>\n<HEAD>\n<TITLE></TITLE>\n</HEAD>\n<BODY>\n<h3>Avada Kedavra vs
	. Squash Court Sharks</h3>Plus d'info : <a href="https://www.golnetwork.com
	/game/v/61199/">#20</a>\n\n</BODY>\n</HTML>
STATUS:CONFIRMED
CLASS:PUBLIC
URL:https://www.golnetwork.com/game/v/61199/
X-MICROSOFT-CDO-BUSYSTATUS:BUSY
X-MICROSOFT-CDO-IMPORTANCE:1
END:VEVENT
BEGIN:VEVENT
UID:g68h9@games.golnetwork.com
LOCATION:Squash Court #1
GEO:45.508899688721;-73.5795573
CREATED:20141111T070421Z
DTSTART:20141115T224500Z
DTEND:20141115T233000Z
DTSTAMP:20260422T023752Z
SUMMARY:Lady Party vs. Hollaback Girls
DESCRIPTION:Hollaback Girls vs. Lady PartyPlus d'info : #21
X-ALT-DESC;FMTTYPE=text/html:<!DOCTYPE HTML PUBLIC "-//W3C//DTD HTML 3.2//E
	N">\n<HTML>\n<HEAD>\n<TITLE></TITLE>\n</HEAD>\n<BODY>\n<h3>Hollaback Girls 
	vs. Lady Party</h3>Plus d'info : <a href="https://www.golnetwork.com/game/v
	/61200/">#21</a>\n\n</BODY>\n</HTML>
STATUS:CONFIRMED
CLASS:PUBLIC
URL:https://www.golnetwork.com/game/v/61200/
X-MICROSOFT-CDO-BUSYSTATUS:BUSY
X-MICROSOFT-CDO-IMPORTANCE:1
END:VEVENT
BEGIN:VEVENT
UID:g68hb@games.golnetwork.com
LOCATION:Squash Court #1
GEO:45.508899688721;-73.5795573
CREATED:20141111T070421Z
DTSTART:20141115T233000Z
DTEND:20141116T001500Z
DTSTAMP:20260422T023752Z
SUMMARY:Pleased to Michu vs. Uhhh...
DESCRIPTION:Uhhh... vs. Pleased to MichuPlus d'info : #22
X-ALT-DESC;FMTTYPE=text/html:<!DOCTYPE HTML PUBLIC "-//W3C//DTD HTML 3.2//E
	N">\n<HTML>\n<HEAD>\n<TITLE></TITLE>\n</HEAD>\n<BODY>\n<h3>Uhhh... vs. Plea
	sed to Michu</h3>Plus d'info : <a href="https://www.golnetwork.com/game/v/6
	1201/">#22</a>\n\n</BODY>\n</HTML>
STATUS:CONFIRMED
CLASS:PUBLIC
URL:https://www.golnetwork.com/game/v/61201/
X-MICROSOFT-CDO-BUSYSTATUS:BUSY
X-MICROSOFT-CDO-IMPORTANCE:1
END:VEVENT
BEGIN:VEVENT
UID:g68j7@games.golnetwork.com
LOCATION:Squash Court #1
GEO:45.508899688721;-73.5795573
CREATED:20141111T070422Z
DTSTART:20141120T010000Z
DTEND:20141120T014500Z
DTSTAMP:20260422T023752Z
SUMMARY:Pleased to Michu vs. Avada Kedavra
DESCRIPTION:Avada Kedavra vs. Pleased to MichuPlus d'info : #47
X-ALT-DESC;FMTTYPE=text/html:<!DOCTYPE HTML PUBLIC "-//W3C//DTD HTML 3.2//E
	N">\n<HTML>\n<HEAD>\n<TITLE></TITLE>\n</HEAD>\n<BODY>\n<h3>Avada Kedavra vs
	. Pleased to Michu</h3>Plus d'info : <a href="https://www.golnetwork.com/ga
	me/v/61226/">#47</a>\n\n</BODY>\n</HTML>
STATUS:CONFIRMED
CLASS:PUBLIC
URL:https://www.golnetwork.com/game/v/61226/
X-MICROSOFT-CDO-BUSYSTATUS:BUSY
X-MICROSOFT-CDO-IMPORTANCE:1
END:VEVENT
BEGIN:VEVENT
UID:g68jh@games.golnetwork.com
LOCATION:Squash Court #1
GEO:45.508899688721;-73.5795573
CREATED:20141111T070422Z
DTSTART:20141121T001500Z
DTEND:20141121T010000Z
DTSTAMP:20260422T023752Z
SUMMARY:Hollaback Girls vs. Uhhh...
DESCRIPTION:Uhhh... vs. Hollaback GirlsPlus d'info : #52
X-ALT-DESC;FMTTYPE=text/html:<!DOCTYPE HTML PUBLIC "-//W3C//DTD HTML 3.2//E
	N">\n<HTML>\n<HEAD>\n<TITLE></TITLE>\n</HEAD>\n<BODY>\n<h3>Uhhh... vs. Holl
	aback Girls</h3>Plus d'info : <a href="https://www.golnetwork.com/game/v/61
	231/">#52</a>\n\n</BODY>\n</HTML>
STATUS:CONFIRMED
CLASS:PUBLIC
URL:https://www.golnetwork.com/game/v/61231/
X-MICROSOFT-CDO-BUSYSTATUS:BUSY
X-MICROSOFT-CDO-IMPORTANCE:1
END:VEVENT
BEGIN:VEVENT
UID:g68ke@games.golnetwork.com
LOCATION:Squash Court #1
GEO:45.508899688721;-73.5795573
CREATED:20141111T070423Z
DTSTART:20141122T181500Z
DTEND:20141122T190000Z
DTSTAMP:20260422T023752Z
SUMMARY:Lady Party vs. Squash Court Sharks
DESCRIPTION:Squash Court Sharks vs. Lady PartyPlus d'info : #64
X-ALT-DESC;FMTTYPE=text/html:<!DOCTYPE HTML PUBLIC "-//W3C//DTD HTML 3.2//E
	N">\n<HTML>\n<HEAD>\n<TITLE></TITLE>\n</HEAD>\n<BODY>\n<h3>Squash Court Sha
	rks vs. Lady Party</h3>Plus d'info : <a href="https://www.golnetwork.com/ga
	me/v/61243/">#64</a>\n\n</BODY>\n</HTML>
STATUS:CONFIRMED
CLASS:PUBLIC
URL:https://www.golnetwork.com/game/v/61243/
X-MICROSOFT-CDO-BUSYSTATUS:BUSY
X-MICROSOFT-CDO-IMPORTANCE:1
END:VEVENT
BEGIN:VEVENT
UID:g68l1@games.golnetwork.com
LOCATION:Squash Court #1
GEO:45.508899688721;-73.5795573
CREATED:20141111T070423Z
DTSTART:20141123T160000Z
DTEND:20141123T164500Z
DTSTAMP:20260422T023752Z
SUMMARY:Lady Party vs. Avada Kedavra
DESCRIPTION:Avada Kedavra vs. Lady PartyPlus d'info : #71
X-ALT-DESC;FMTTYPE=text/html:<!DOCTYPE HTML PUBLIC "-//W3C//DTD HTML 3.2//E
	N">\n<HTML>\n<HEAD>\n<TITLE></TITLE>\n</HEAD>\n<BODY>\n<h3>Avada Kedavra vs
	. Lady Party</h3>Plus d'info : <a href="https://www.golnetwork.com/game/v/6
	1250/">#71</a>\n\n</BODY>\n</HTML>
STATUS:CONFIRMED
CLASS:PUBLIC
URL:https://www.golnetwork.com/game/v/61250/
X-MICROSOFT-CDO-BUSYSTATUS:BUSY
X-MICROSOFT-CDO-IMPORTANCE:1
END:VEVENT
BEGIN:VEVENT
UID:g68l3@games.golnetwork.com
LOCATION:Squash Court #1
GEO:45.508899688721;-73.5795573
CREATED:20141111T070423Z
DTSTART:20141123T164500Z
DTEND:20141123T173000Z
DTSTAMP:20260422T023752Z
SUMMARY:Hollaback Girls vs. Pleased to Michu
DESCRIPTION:Pleased to Michu vs. Hollaback GirlsPlus d'info : #72
X-ALT-DESC;FMTTYPE=text/html:<!DOCTYPE HTML PUBLIC "-//W3C//DTD HTML 3.2//E
	N">\n<HTML>\n<HEAD>\n<TITLE></TITLE>\n</HEAD>\n<BODY>\n<h3>Pleased to Michu
	 vs. Hollaback Girls</h3>Plus d'info : <a href="https://www.golnetwork.com/
	game/v/61251/">#72</a>\n\n</BODY>\n</HTML>
STATUS:CONFIRMED
CLASS:PUBLIC
URL:https://www.golnetwork.com/game/v/61251/
X-MICROSOFT-CDO-BUSYSTATUS:BUSY
X-MICROSOFT-CDO-IMPORTANCE:1
END:VEVENT
BEGIN:VEVENT
UID:g68l5@games.golnetwork.com
LOCATION:Squash Court #1
GEO:45.508899688721;-73.5795573
CREATED:20141111T070423Z
DTSTART:20141123T173000Z
DTEND:20141123T181500Z
DTSTAMP:20260422T023752Z
SUMMARY:Uhhh... vs. Squash Court Sharks
DESCRIPTION:Squash Court Sharks vs. Uhhh...Plus d'info : #73
X-ALT-DESC;FMTTYPE=text/html:<!DOCTYPE HTML PUBLIC "-//W3C//DTD HTML 3.2//E
	N">\n<HTML>\n<HEAD>\n<TITLE></TITLE>\n</HEAD>\n<BODY>\n<h3>Squash Court Sha
	rks vs. Uhhh...</h3>Plus d'info : <a href="https://www.golnetwork.com/game/
	v/61252/">#73</a>\n\n</BODY>\n</HTML>
STATUS:CONFIRMED
CLASS:PUBLIC
URL:https://www.golnetwork.com/game/v/61252/
X-MICROSOFT-CDO-BUSYSTATUS:BUSY
X-MICROSOFT-CDO-IMPORTANCE:1
END:VEVENT
BEGIN:VEVENT
UID:g68mi@games.golnetwork.com
LOCATION:Squash Court #1
GEO:45.508899688721;-73.5795573
CREATED:20141111T070424Z
DTSTART:20141127T010000Z
DTEND:20141127T014500Z
DTSTAMP:20260422T023752Z
SUMMARY:Hollaback Girls vs. Avada Kedavra
DESCRIPTION:Avada Kedavra vs. Hollaback GirlsPlus d'info : #93
X-ALT-DESC;FMTTYPE=text/html:<!DOCTYPE HTML PUBLIC "-//W3C//DTD HTML 3.2//E
	N">\n<HTML>\n<HEAD>\n<TITLE></TITLE>\n</HEAD>\n<BODY>\n<h3>Avada Kedavra vs
	. Hollaback Girls</h3>Plus d'info : <a href="https://www.golnetwork.com/gam
	e/v/61272/">#93</a>\n\n</BODY>\n</HTML>
STATUS:CONFIRMED
CLASS:PUBLIC
URL:https://www.golnetwork.com/game/v/61272/
X-MICROSOFT-CDO-BUSYSTATUS:BUSY
X-MICROSOFT-CDO-IMPORTANCE:1
END:VEVENT
BEGIN:VEVENT
UID:g68mk@games.golnetwork.com
LOCATION:Squash Court #1
GEO:45.508899688721;-73.5795573
CREATED:20141111T070424Z
DTSTART:20141127T014500Z
DTEND:20141127T023000Z
DTSTAMP:20260422T023752Z
SUMMARY:Uhhh... vs. Lady Party
DESCRIPTION:Lady Party vs. Uhhh...Plus d'info : #94
X-ALT-DESC;FMTTYPE=text/html:<!DOCTYPE HTML PUBLIC "-//W3C//DTD HTML 3.2//E
	N">\n<HTML>\n<HEAD>\n<TITLE></TITLE>\n</HEAD>\n<BODY>\n<h3>Lady Party vs. U
	hhh...</h3>Plus d'info : <a href="https://www.golnetwork.com/game/v/61273/"
	>#94</a>\n\n</BODY>\n</HTML>
STATUS:CONFIRMED
CLASS:PUBLIC
URL:https://www.golnetwork.com/game/v/61273/
X-MICROSOFT-CDO-BUSYSTATUS:BUSY
X-MICROSOFT-CDO-IMPORTANCE:1
END:VEVENT
BEGIN:VEVENT
UID:g68mm@games.golnetwork.com
LOCATION:Squash Court #1
GEO:45.508899688721;-73.5795573
CREATED:20141111T070424Z
DTSTART:20141127T023000Z
DTEND:20141127T031500Z
DTSTAMP:20260422T023752Z
SUMMARY:Squash Court Sharks vs. Pleased to Michu
DESCRIPTION:Pleased to Michu vs. Squash Court SharksPlus d'info : #95
X-ALT-DESC;FMTTYPE=text/html:<!DOCTYPE HTML PUBLIC "-//W3C//DTD HTML 3.2//E
	N">\n<HTML>\n<HEAD>\n<TITLE></TITLE>\n</HEAD>\n<BODY>\n<h3>Pleased to Michu
	 vs. Squash Court Sharks</h3>Plus d'info : <a href="https://www.golnetwork.
	com/game/v/61274/">#95</a>\n\n</BODY>\n</HTML>
STATUS:CONFIRMED
CLASS:PUBLIC
URL:https://www.golnetwork.com/game/v/61274/
X-MICROSOFT-CDO-BUSYSTATUS:BUSY
X-MICROSOFT-CDO-IMPORTANCE:1
END:VEVENT
END:VCALENDAR
