BEGIN:VCALENDAR
PRODID:-//gdesolutions.com//MV Framework 1.0.0.1607 Calendar//EN
VERSION:2.0
METHOD:PUBLISH
CALSCALE:GREGORIAN
BEGIN:VEVENT
UID:g6f8h@games.golnetwork.com
LOCATION:Fieldhouse A
GEO:45.10662;-94.578209
CREATED:20150112T000133Z
DTSTART:20150116T013000Z
DTEND:20150116T023000Z
DTSTAMP:20260421T202605Z
SUMMARY:Smashmallows vs. Skinny Tipping
DESCRIPTION:Skinny Tipping vs. SmashmallowsPlus d'info : #11
X-ALT-DESC;FMTTYPE=text/html:<!DOCTYPE HTML PUBLIC "-//W3C//DTD HTML 3.2//E
	N">\n<HTML>\n<HEAD>\n<TITLE></TITLE>\n</HEAD>\n<BODY>\n<h3>Skinny Tipping v
	s. Smashmallows</h3>Plus d'info : <a href="https://www.golnetwork.com/game/
	v/63634/">#11</a>\n\n</BODY>\n</HTML>
STATUS:CONFIRMED
CLASS:PUBLIC
URL:https://www.golnetwork.com/game/v/63634/
X-MICROSOFT-CDO-BUSYSTATUS:BUSY
X-MICROSOFT-CDO-IMPORTANCE:1
END:VEVENT
BEGIN:VEVENT
UID:g6f8j@games.golnetwork.com
LOCATION:Fieldhouse A
GEO:45.10662;-94.578209
CREATED:20150112T000133Z
DTSTART:20150116T023000Z
DTEND:20150116T033000Z
DTSTAMP:20260421T202605Z
SUMMARY:Sons of Beaches vs. Set On My Face
DESCRIPTION:Set On My Face vs. Sons of BeachesPlus d'info : #12
X-ALT-DESC;FMTTYPE=text/html:<!DOCTYPE HTML PUBLIC "-//W3C//DTD HTML 3.2//E
	N">\n<HTML>\n<HEAD>\n<TITLE></TITLE>\n</HEAD>\n<BODY>\n<h3>Set On My Face v
	s. Sons of Beaches</h3>Plus d'info : <a href="https://www.golnetwork.com/ga
	me/v/63635/">#12</a>\n\n</BODY>\n</HTML>
STATUS:CONFIRMED
CLASS:PUBLIC
URL:https://www.golnetwork.com/game/v/63635/
X-MICROSOFT-CDO-BUSYSTATUS:BUSY
X-MICROSOFT-CDO-IMPORTANCE:1
END:VEVENT
BEGIN:VEVENT
UID:g6g8c@games.golnetwork.com
LOCATION:Fieldhouse A
GEO:45.10662;-94.578209
CREATED:20150116T205942Z
DTSTART:20150120T233000Z
DTEND:20150121T003000Z
DTSTAMP:20260421T202605Z
SUMMARY:That's What She Set (CRA) vs. I'd Hit That (CRA)
DESCRIPTION:I'd Hit That (CRA) vs. That's What She Set (CRA)Plus d'info : #
	17
X-ALT-DESC;FMTTYPE=text/html:<!DOCTYPE HTML PUBLIC "-//W3C//DTD HTML 3.2//E
	N">\n<HTML>\n<HEAD>\n<TITLE></TITLE>\n</HEAD>\n<BODY>\n<h3>I'd Hit That (CR
	A) vs. That's What She Set (CRA)</h3>Plus d'info : <a href="https://www.gol
	network.com/game/v/63996/">#17</a>\n\n</BODY>\n</HTML>
STATUS:CONFIRMED
CLASS:PUBLIC
URL:https://www.golnetwork.com/game/v/63996/
X-MICROSOFT-CDO-BUSYSTATUS:BUSY
X-MICROSOFT-CDO-IMPORTANCE:1
END:VEVENT
BEGIN:VEVENT
UID:g6g95@games.golnetwork.com
LOCATION:Fieldhouse A
GEO:45.10662;-94.578209
CREATED:20150116T205944Z
DTSTART:20150128T013000Z
DTEND:20150128T023000Z
DTSTAMP:20260421T202605Z
SUMMARY:Sons of Beaches vs. Acetaminowin
DESCRIPTION:Acetaminowin vs. Sons of BeachesPlus d'info : #27
X-ALT-DESC;FMTTYPE=text/html:<!DOCTYPE HTML PUBLIC "-//W3C//DTD HTML 3.2//E
	N">\n<HTML>\n<HEAD>\n<TITLE></TITLE>\n</HEAD>\n<BODY>\n<h3>Acetaminowin vs.
	 Sons of Beaches</h3>Plus d'info : <a href="https://www.golnetwork.com/game
	/v/64006/">#27</a>\n\n</BODY>\n</HTML>
STATUS:CONFIRMED
CLASS:PUBLIC
URL:https://www.golnetwork.com/game/v/64006/
X-MICROSOFT-CDO-BUSYSTATUS:BUSY
X-MICROSOFT-CDO-IMPORTANCE:1
END:VEVENT
BEGIN:VEVENT
UID:g6g97@games.golnetwork.com
LOCATION:Fieldhouse A
GEO:45.10662;-94.578209
CREATED:20150116T205944Z
DTSTART:20150128T023000Z
DTEND:20150128T033000Z
DTSTAMP:20260421T202605Z
SUMMARY:Smashmallows vs. I'd Hit That (CRA)
DESCRIPTION:I'd Hit That (CRA) vs. SmashmallowsPlus d'info : #28
X-ALT-DESC;FMTTYPE=text/html:<!DOCTYPE HTML PUBLIC "-//W3C//DTD HTML 3.2//E
	N">\n<HTML>\n<HEAD>\n<TITLE></TITLE>\n</HEAD>\n<BODY>\n<h3>I'd Hit That (CR
	A) vs. Smashmallows</h3>Plus d'info : <a href="https://www.golnetwork.com/g
	ame/v/64007/">#28</a>\n\n</BODY>\n</HTML>
STATUS:CONFIRMED
CLASS:PUBLIC
URL:https://www.golnetwork.com/game/v/64007/
X-MICROSOFT-CDO-BUSYSTATUS:BUSY
X-MICROSOFT-CDO-IMPORTANCE:1
END:VEVENT
BEGIN:VEVENT
UID:g6g9n@games.golnetwork.com
LOCATION:Fieldhouse A
GEO:45.10662;-94.578209
CREATED:20150116T205944Z
DTSTART:20150130T023000Z
DTEND:20150130T033000Z
DTSTAMP:20260421T202605Z
SUMMARY:Skinny Tipping vs. Set On My Face
DESCRIPTION:Set On My Face vs. Skinny TippingPlus d'info : #36
X-ALT-DESC;FMTTYPE=text/html:<!DOCTYPE HTML PUBLIC "-//W3C//DTD HTML 3.2//E
	N">\n<HTML>\n<HEAD>\n<TITLE></TITLE>\n</HEAD>\n<BODY>\n<h3>Set On My Face v
	s. Skinny Tipping</h3>Plus d'info : <a href="https://www.golnetwork.com/gam
	e/v/64015/">#36</a>\n\n</BODY>\n</HTML>
STATUS:CONFIRMED
CLASS:PUBLIC
URL:https://www.golnetwork.com/game/v/64015/
X-MICROSOFT-CDO-BUSYSTATUS:BUSY
X-MICROSOFT-CDO-IMPORTANCE:1
END:VEVENT
BEGIN:VEVENT
UID:g6gak@games.golnetwork.com
LOCATION:Fieldhouse B
GEO:45.10662;-94.578209
CREATED:20150116T205945Z
DTSTART:20150204T023000Z
DTEND:20150204T033000Z
DTSTAMP:20260421T202605Z
SUMMARY:Set On My Face vs. I'd Hit That (CRA)
DESCRIPTION:I'd Hit That (CRA) vs. Set On My FacePlus d'info : #48
X-ALT-DESC;FMTTYPE=text/html:<!DOCTYPE HTML PUBLIC "-//W3C//DTD HTML 3.2//E
	N">\n<HTML>\n<HEAD>\n<TITLE></TITLE>\n</HEAD>\n<BODY>\n<h3>I'd Hit That (CR
	A) vs. Set On My Face</h3>Plus d'info : <a href="https://www.golnetwork.com
	/game/v/64027/">#48</a>\n\n</BODY>\n</HTML>
STATUS:CONFIRMED
CLASS:PUBLIC
URL:https://www.golnetwork.com/game/v/64027/
X-MICROSOFT-CDO-BUSYSTATUS:BUSY
X-MICROSOFT-CDO-IMPORTANCE:1
END:VEVENT
BEGIN:VEVENT
UID:g6gam@games.golnetwork.com
LOCATION:Fieldhouse A
GEO:45.10662;-94.578209
CREATED:20150116T205945Z
DTSTART:20150205T233000Z
DTEND:20150206T003000Z
DTSTAMP:20260421T202605Z
SUMMARY:Smashmallows vs. That's What She Set (CRA)
DESCRIPTION:That's What She Set (CRA) vs. SmashmallowsPlus d'info : #49
X-ALT-DESC;FMTTYPE=text/html:<!DOCTYPE HTML PUBLIC "-//W3C//DTD HTML 3.2//E
	N">\n<HTML>\n<HEAD>\n<TITLE></TITLE>\n</HEAD>\n<BODY>\n<h3>That's What She 
	Set (CRA) vs. Smashmallows</h3>Plus d'info : <a href="https://www.golnetwor
	k.com/game/v/64028/">#49</a>\n\n</BODY>\n</HTML>
STATUS:CONFIRMED
CLASS:PUBLIC
URL:https://www.golnetwork.com/game/v/64028/
X-MICROSOFT-CDO-BUSYSTATUS:BUSY
X-MICROSOFT-CDO-IMPORTANCE:1
END:VEVENT
BEGIN:VEVENT
UID:g6gao@games.golnetwork.com
LOCATION:Fieldhouse A
GEO:45.10662;-94.578209
CREATED:20150116T205945Z
DTSTART:20150206T003000Z
DTEND:20150206T013000Z
DTSTAMP:20260421T202605Z
SUMMARY:Skinny Tipping vs. Acetaminowin
DESCRIPTION:Acetaminowin vs. Skinny TippingPlus d'info : #50
X-ALT-DESC;FMTTYPE=text/html:<!DOCTYPE HTML PUBLIC "-//W3C//DTD HTML 3.2//E
	N">\n<HTML>\n<HEAD>\n<TITLE></TITLE>\n</HEAD>\n<BODY>\n<h3>Acetaminowin vs.
	 Skinny Tipping</h3>Plus d'info : <a href="https://www.golnetwork.com/game/
	v/64029/">#50</a>\n\n</BODY>\n</HTML>
STATUS:CONFIRMED
CLASS:PUBLIC
URL:https://www.golnetwork.com/game/v/64029/
X-MICROSOFT-CDO-BUSYSTATUS:BUSY
X-MICROSOFT-CDO-IMPORTANCE:1
END:VEVENT
BEGIN:VEVENT
UID:g6gbj@games.golnetwork.com
LOCATION:Fieldhouse B
GEO:45.10662;-94.578209
CREATED:20150116T205945Z
DTSTART:20150210T233000Z
DTEND:20150211T003000Z
DTSTAMP:20260421T202605Z
SUMMARY:I'd Hit That (CRA) vs. Acetaminowin
DESCRIPTION:Acetaminowin vs. I'd Hit That (CRA)Plus d'info : #61
X-ALT-DESC;FMTTYPE=text/html:<!DOCTYPE HTML PUBLIC "-//W3C//DTD HTML 3.2//E
	N">\n<HTML>\n<HEAD>\n<TITLE></TITLE>\n</HEAD>\n<BODY>\n<h3>Acetaminowin vs.
	 I'd Hit That (CRA)</h3>Plus d'info : <a href="https://www.golnetwork.com/g
	ame/v/64040/">#61</a>\n\n</BODY>\n</HTML>
STATUS:CONFIRMED
CLASS:PUBLIC
URL:https://www.golnetwork.com/game/v/64040/
X-MICROSOFT-CDO-BUSYSTATUS:BUSY
X-MICROSOFT-CDO-IMPORTANCE:1
END:VEVENT
BEGIN:VEVENT
UID:g6gce@games.golnetwork.com
LOCATION:Fieldhouse B
GEO:45.10662;-94.578209
CREATED:20150116T205946Z
DTSTART:20150213T023000Z
DTEND:20150213T033000Z
DTSTAMP:20260421T202605Z
SUMMARY:Set On My Face vs. That's What She Set (CRA)
DESCRIPTION:That's What She Set (CRA) vs. Set On My FacePlus d'info : #72
X-ALT-DESC;FMTTYPE=text/html:<!DOCTYPE HTML PUBLIC "-//W3C//DTD HTML 3.2//E
	N">\n<HTML>\n<HEAD>\n<TITLE></TITLE>\n</HEAD>\n<BODY>\n<h3>That's What She 
	Set (CRA) vs. Set On My Face</h3>Plus d'info : <a href="https://www.golnetw
	ork.com/game/v/64051/">#72</a>\n\n</BODY>\n</HTML>
STATUS:CONFIRMED
CLASS:PUBLIC
URL:https://www.golnetwork.com/game/v/64051/
X-MICROSOFT-CDO-BUSYSTATUS:BUSY
X-MICROSOFT-CDO-IMPORTANCE:1
END:VEVENT
BEGIN:VEVENT
UID:g6gck@games.golnetwork.com
LOCATION:Fieldhouse A
GEO:45.10662;-94.578209
CREATED:20150116T205946Z
DTSTART:20150218T013000Z
DTEND:20150218T023000Z
DTSTAMP:20260421T202605Z
SUMMARY:Skinny Tipping vs. Sons of Beaches
DESCRIPTION:Sons of Beaches vs. Skinny TippingPlus d'info : #75
X-ALT-DESC;FMTTYPE=text/html:<!DOCTYPE HTML PUBLIC "-//W3C//DTD HTML 3.2//E
	N">\n<HTML>\n<HEAD>\n<TITLE></TITLE>\n</HEAD>\n<BODY>\n<h3>Sons of Beaches 
	vs. Skinny Tipping</h3>Plus d'info : <a href="https://www.golnetwork.com/ga
	me/v/64054/">#75</a>\n\n</BODY>\n</HTML>
STATUS:CONFIRMED
CLASS:PUBLIC
URL:https://www.golnetwork.com/game/v/64054/
X-MICROSOFT-CDO-BUSYSTATUS:BUSY
X-MICROSOFT-CDO-IMPORTANCE:1
END:VEVENT
BEGIN:VEVENT
UID:g6ge8@games.golnetwork.com
LOCATION:Fieldhouse B
GEO:45.10662;-94.578209
CREATED:20150116T205947Z
DTSTART:20150225T023000Z
DTEND:20150225T033000Z
DTSTAMP:20260421T202605Z
SUMMARY:I'd Hit That (CRA) vs. Sons of Beaches
DESCRIPTION:Sons of Beaches vs. I'd Hit That (CRA)Plus d'info : #97
X-ALT-DESC;FMTTYPE=text/html:<!DOCTYPE HTML PUBLIC "-//W3C//DTD HTML 3.2//E
	N">\n<HTML>\n<HEAD>\n<TITLE></TITLE>\n</HEAD>\n<BODY>\n<h3>Sons of Beaches 
	vs. I'd Hit That (CRA)</h3>Plus d'info : <a href="https://www.golnetwork.co
	m/game/v/64075/">#97</a>\n\n</BODY>\n</HTML>
STATUS:CONFIRMED
CLASS:PUBLIC
URL:https://www.golnetwork.com/game/v/64075/
X-MICROSOFT-CDO-BUSYSTATUS:BUSY
X-MICROSOFT-CDO-IMPORTANCE:1
END:VEVENT
BEGIN:VEVENT
UID:g6gec@games.golnetwork.com
LOCATION:Fieldhouse A
GEO:45.10662;-94.578209
CREATED:20150116T205947Z
DTSTART:20150227T003000Z
DTEND:20150227T013000Z
DTSTAMP:20260421T202605Z
SUMMARY:Set On My Face vs. Smashmallows
DESCRIPTION:Smashmallows vs. Set On My FacePlus d'info : #99
X-ALT-DESC;FMTTYPE=text/html:<!DOCTYPE HTML PUBLIC "-//W3C//DTD HTML 3.2//E
	N">\n<HTML>\n<HEAD>\n<TITLE></TITLE>\n</HEAD>\n<BODY>\n<h3>Smashmallows vs.
	 Set On My Face</h3>Plus d'info : <a href="https://www.golnetwork.com/game/
	v/64077/">#99</a>\n\n</BODY>\n</HTML>
STATUS:CONFIRMED
CLASS:PUBLIC
URL:https://www.golnetwork.com/game/v/64077/
X-MICROSOFT-CDO-BUSYSTATUS:BUSY
X-MICROSOFT-CDO-IMPORTANCE:1
END:VEVENT
BEGIN:VEVENT
UID:g6gee@games.golnetwork.com
LOCATION:Fieldhouse A
GEO:45.10662;-94.578209
CREATED:20150116T205947Z
DTSTART:20150227T023000Z
DTEND:20150227T033000Z
DTSTAMP:20260421T202605Z
SUMMARY:Acetaminowin vs. That's What She Set (CRA)
DESCRIPTION:That's What She Set (CRA) vs. AcetaminowinPlus d'info : #100
X-ALT-DESC;FMTTYPE=text/html:<!DOCTYPE HTML PUBLIC "-//W3C//DTD HTML 3.2//E
	N">\n<HTML>\n<HEAD>\n<TITLE></TITLE>\n</HEAD>\n<BODY>\n<h3>That's What She 
	Set (CRA) vs. Acetaminowin</h3>Plus d'info : <a href="https://www.golnetwor
	k.com/game/v/64078/">#100</a>\n\n</BODY>\n</HTML>
STATUS:CONFIRMED
CLASS:PUBLIC
URL:https://www.golnetwork.com/game/v/64078/
X-MICROSOFT-CDO-BUSYSTATUS:BUSY
X-MICROSOFT-CDO-IMPORTANCE:1
END:VEVENT
BEGIN:VEVENT
UID:g6ggc@games.golnetwork.com
LOCATION:Fieldhouse B
GEO:45.10662;-94.578209
CREATED:20150116T205948Z
DTSTART:20150317T223000Z
DTEND:20150317T233000Z
DTSTAMP:20260421T202605Z
SUMMARY:Acetaminowin vs. Smashmallows
DESCRIPTION:Smashmallows vs. AcetaminowinPlus d'info : #125
X-ALT-DESC;FMTTYPE=text/html:<!DOCTYPE HTML PUBLIC "-//W3C//DTD HTML 3.2//E
	N">\n<HTML>\n<HEAD>\n<TITLE></TITLE>\n</HEAD>\n<BODY>\n<h3>Smashmallows vs.
	 Acetaminowin</h3>Plus d'info : <a href="https://www.golnetwork.com/game/v/
	64104/">#125</a>\n\n</BODY>\n</HTML>
STATUS:CONFIRMED
CLASS:PUBLIC
URL:https://www.golnetwork.com/game/v/64104/
X-MICROSOFT-CDO-BUSYSTATUS:BUSY
X-MICROSOFT-CDO-IMPORTANCE:1
END:VEVENT
BEGIN:VEVENT
UID:g6gg8@games.golnetwork.com
LOCATION:Fieldhouse A
GEO:45.10662;-94.578209
CREATED:20150116T205948Z
DTSTART:20150318T013000Z
DTEND:20150318T023000Z
DTSTAMP:20260421T202605Z
SUMMARY:That's What She Set (CRA) vs. Sons of Beaches
DESCRIPTION:Sons of Beaches vs. That's What She Set (CRA)Plus d'info : #123
X-ALT-DESC;FMTTYPE=text/html:<!DOCTYPE HTML PUBLIC "-//W3C//DTD HTML 3.2//E
	N">\n<HTML>\n<HEAD>\n<TITLE></TITLE>\n</HEAD>\n<BODY>\n<h3>Sons of Beaches 
	vs. That's What She Set (CRA)</h3>Plus d'info : <a href="https://www.golnet
	work.com/game/v/64102/">#123</a>\n\n</BODY>\n</HTML>
STATUS:CONFIRMED
CLASS:PUBLIC
URL:https://www.golnetwork.com/game/v/64102/
X-MICROSOFT-CDO-BUSYSTATUS:BUSY
X-MICROSOFT-CDO-IMPORTANCE:1
END:VEVENT
BEGIN:VEVENT
UID:g6gga@games.golnetwork.com
LOCATION:Fieldhouse A
GEO:45.10662;-94.578209
CREATED:20150116T205948Z
DTSTART:20150318T013000Z
DTEND:20150318T023000Z
DTSTAMP:20260421T202605Z
SUMMARY:I'd Hit That (CRA) vs. Skinny Tipping
DESCRIPTION:Skinny Tipping vs. I'd Hit That (CRA)Plus d'info : #124
X-ALT-DESC;FMTTYPE=text/html:<!DOCTYPE HTML PUBLIC "-//W3C//DTD HTML 3.2//E
	N">\n<HTML>\n<HEAD>\n<TITLE></TITLE>\n</HEAD>\n<BODY>\n<h3>Skinny Tipping v
	s. I'd Hit That (CRA)</h3>Plus d'info : <a href="https://www.golnetwork.com
	/game/v/64103/">#124</a>\n\n</BODY>\n</HTML>
STATUS:RESCHEDULED
CLASS:PUBLIC
URL:https://www.golnetwork.com/game/v/64103/
X-MICROSOFT-CDO-BUSYSTATUS:BUSY
X-MICROSOFT-CDO-IMPORTANCE:1
END:VEVENT
BEGIN:VEVENT
UID:g6idd@games.golnetwork.com
LOCATION:Fieldhouse B
GEO:45.10662;-94.578209
CREATED:20150126T201051Z
DTSTART:20150325T013000Z
DTEND:20150325T023000Z
DTSTAMP:20260421T202605Z
SUMMARY:I'd Hit That (CRA) vs. Skinny Tipping
DESCRIPTION:Skinny Tipping vs. I'd Hit That (CRA)Plus d'info : R#124
X-ALT-DESC;FMTTYPE=text/html:<!DOCTYPE HTML PUBLIC "-//W3C//DTD HTML 3.2//E
	N">\n<HTML>\n<HEAD>\n<TITLE></TITLE>\n</HEAD>\n<BODY>\n<h3>Skinny Tipping v
	s. I'd Hit That (CRA)</h3>Plus d'info : <a href="https://www.golnetwork.com
	/game/v/64793/">R#124</a>\n\n</BODY>\n</HTML>
STATUS:CONFIRMED
CLASS:PUBLIC
URL:https://www.golnetwork.com/game/v/64793/
X-MICROSOFT-CDO-BUSYSTATUS:BUSY
X-MICROSOFT-CDO-IMPORTANCE:1
END:VEVENT
BEGIN:VEVENT
UID:g6gi8@games.golnetwork.com
LOCATION:Fieldhouse B
GEO:45.10662;-94.578209
CREATED:20150116T205949Z
DTSTART:20150326T233000Z
DTEND:20150327T003000Z
DTSTAMP:20260421T202605Z
SUMMARY:That's What She Set (CRA) vs. Skinny Tipping
DESCRIPTION:Skinny Tipping vs. That's What She Set (CRA)Plus d'info : #150
X-ALT-DESC;FMTTYPE=text/html:<!DOCTYPE HTML PUBLIC "-//W3C//DTD HTML 3.2//E
	N">\n<HTML>\n<HEAD>\n<TITLE></TITLE>\n</HEAD>\n<BODY>\n<h3>Skinny Tipping v
	s. That's What She Set (CRA)</h3>Plus d'info : <a href="https://www.golnetw
	ork.com/game/v/64129/">#150</a>\n\n</BODY>\n</HTML>
STATUS:CONFIRMED
CLASS:PUBLIC
URL:https://www.golnetwork.com/game/v/64129/
X-MICROSOFT-CDO-BUSYSTATUS:BUSY
X-MICROSOFT-CDO-IMPORTANCE:1
END:VEVENT
BEGIN:VEVENT
UID:g6gia@games.golnetwork.com
LOCATION:Fieldhouse B
GEO:45.10662;-94.578209
CREATED:20150116T205949Z
DTSTART:20150327T003000Z
DTEND:20150327T013000Z
DTSTAMP:20260421T202605Z
SUMMARY:Sons of Beaches vs. Smashmallows
DESCRIPTION:Smashmallows vs. Sons of BeachesPlus d'info : #151
X-ALT-DESC;FMTTYPE=text/html:<!DOCTYPE HTML PUBLIC "-//W3C//DTD HTML 3.2//E
	N">\n<HTML>\n<HEAD>\n<TITLE></TITLE>\n</HEAD>\n<BODY>\n<h3>Smashmallows vs.
	 Sons of Beaches</h3>Plus d'info : <a href="https://www.golnetwork.com/game
	/v/64130/">#151</a>\n\n</BODY>\n</HTML>
STATUS:CONFIRMED
CLASS:PUBLIC
URL:https://www.golnetwork.com/game/v/64130/
X-MICROSOFT-CDO-BUSYSTATUS:BUSY
X-MICROSOFT-CDO-IMPORTANCE:1
END:VEVENT
BEGIN:VEVENT
UID:g6gic@games.golnetwork.com
LOCATION:Fieldhouse B
GEO:45.10662;-94.578209
CREATED:20150116T205949Z
DTSTART:20150327T013000Z
DTEND:20150327T023000Z
DTSTAMP:20260421T202605Z
SUMMARY:Acetaminowin vs. Set On My Face
DESCRIPTION:Set On My Face vs. AcetaminowinPlus d'info : #152
X-ALT-DESC;FMTTYPE=text/html:<!DOCTYPE HTML PUBLIC "-//W3C//DTD HTML 3.2//E
	N">\n<HTML>\n<HEAD>\n<TITLE></TITLE>\n</HEAD>\n<BODY>\n<h3>Set On My Face v
	s. Acetaminowin</h3>Plus d'info : <a href="https://www.golnetwork.com/game/
	v/64131/">#152</a>\n\n</BODY>\n</HTML>
STATUS:CONFIRMED
CLASS:PUBLIC
URL:https://www.golnetwork.com/game/v/64131/
X-MICROSOFT-CDO-BUSYSTATUS:BUSY
X-MICROSOFT-CDO-IMPORTANCE:1
END:VEVENT
END:VCALENDAR
