BEGIN:VCALENDAR
PRODID:-//gdesolutions.com//MV Framework 1.0.0.1607 Calendar//EN
VERSION:2.0
METHOD:PUBLISH
CALSCALE:GREGORIAN
BEGIN:VEVENT
UID:g6jm1@games.golnetwork.com
LOCATION:Monarch Park Stadium - Field 2
GEO:43.6792789;-79.3234873
CREATED:20150212T133630Z
DTSTART:20150308T230000Z
DTEND:20150309T000000Z
DTSTAMP:20260419T154425Z
SUMMARY:No Bueno FC vs.  Dragon Republic
DESCRIPTION: Dragon Republic vs. No Bueno FCPlus d'info : #1
X-ALT-DESC;FMTTYPE=text/html:<!DOCTYPE HTML PUBLIC "-//W3C//DTD HTML 3.2//E
	N">\n<HTML>\n<HEAD>\n<TITLE></TITLE>\n</HEAD>\n<BODY>\n<h3> Dragon Republic
	 vs. No Bueno FC</h3>Plus d'info : <a href="https://www.golnetwork.com/game
	/v/65273/">#1</a>\n\n</BODY>\n</HTML>
STATUS:CONFIRMED
CLASS:PUBLIC
URL:https://www.golnetwork.com/game/v/65273/
X-MICROSOFT-CDO-BUSYSTATUS:BUSY
X-MICROSOFT-CDO-IMPORTANCE:1
END:VEVENT
BEGIN:VEVENT
UID:g6jlq@games.golnetwork.com
LOCATION:Monarch Park Stadium - Field 2
GEO:43.6792789;-79.3234873
CREATED:20150212T133630Z
DTSTART:20150309T000000Z
DTEND:20150309T010000Z
DTSTAMP:20260419T154425Z
SUMMARY: Dragons vs.  Jogo Bonito
DESCRIPTION: Jogo Bonito vs.  DragonsPlus d'info : #2
X-ALT-DESC;FMTTYPE=text/html:<!DOCTYPE HTML PUBLIC "-//W3C//DTD HTML 3.2//E
	N">\n<HTML>\n<HEAD>\n<TITLE></TITLE>\n</HEAD>\n<BODY>\n<h3> Jogo Bonito vs.
	  Dragons</h3>Plus d'info : <a href="https://www.golnetwork.com/game/v/6527
	2/">#2</a>\n\n</BODY>\n</HTML>
STATUS:CONFIRMED
CLASS:PUBLIC
URL:https://www.golnetwork.com/game/v/65272/
X-MICROSOFT-CDO-BUSYSTATUS:BUSY
X-MICROSOFT-CDO-IMPORTANCE:1
END:VEVENT
BEGIN:VEVENT
UID:g6jlo@games.golnetwork.com
LOCATION:Monarch Park Stadium - Field 1
GEO:43.6792789;-79.3234873
CREATED:20150212T133630Z
DTSTART:20150309T030000Z
DTEND:20150309T040000Z
DTSTAMP:20260419T154425Z
SUMMARY:Bull Turds vs. Wings and Beer
DESCRIPTION:Wings and Beer vs. Bull TurdsPlus d'info : #3
X-ALT-DESC;FMTTYPE=text/html:<!DOCTYPE HTML PUBLIC "-//W3C//DTD HTML 3.2//E
	N">\n<HTML>\n<HEAD>\n<TITLE></TITLE>\n</HEAD>\n<BODY>\n<h3>Wings and Beer v
	s. Bull Turds</h3>Plus d'info : <a href="https://www.golnetwork.com/game/v/
	65271/">#3</a>\n\n</BODY>\n</HTML>
STATUS:CONFIRMED
CLASS:PUBLIC
URL:https://www.golnetwork.com/game/v/65271/
X-MICROSOFT-CDO-BUSYSTATUS:BUSY
X-MICROSOFT-CDO-IMPORTANCE:1
END:VEVENT
BEGIN:VEVENT
UID:g6jm3@games.golnetwork.com
LOCATION:Monarch Park Stadium - Field 2
GEO:43.6792789;-79.3234873
CREATED:20150212T133630Z
DTSTART:20150315T230000Z
DTEND:20150316T000000Z
DTSTAMP:20260419T154425Z
SUMMARY:Wings and Beer vs.  Dragons
DESCRIPTION: Dragons vs. Wings and BeerPlus d'info : #4
X-ALT-DESC;FMTTYPE=text/html:<!DOCTYPE HTML PUBLIC "-//W3C//DTD HTML 3.2//E
	N">\n<HTML>\n<HEAD>\n<TITLE></TITLE>\n</HEAD>\n<BODY>\n<h3> Dragons vs. Win
	gs and Beer</h3>Plus d'info : <a href="https://www.golnetwork.com/game/v/65
	274/">#4</a>\n\n</BODY>\n</HTML>
STATUS:CONFIRMED
CLASS:PUBLIC
URL:https://www.golnetwork.com/game/v/65274/
X-MICROSOFT-CDO-BUSYSTATUS:BUSY
X-MICROSOFT-CDO-IMPORTANCE:1
END:VEVENT
BEGIN:VEVENT
UID:g6jm7@games.golnetwork.com
LOCATION:Monarch Park Stadium - Field 2
GEO:43.6792789;-79.3234873
CREATED:20150212T133630Z
DTSTART:20150316T000000Z
DTEND:20150316T010000Z
DTSTAMP:20260419T154425Z
SUMMARY: Dragon Republic vs.  Jogo Bonito
DESCRIPTION: Jogo Bonito vs.  Dragon RepublicPlus d'info : #5
X-ALT-DESC;FMTTYPE=text/html:<!DOCTYPE HTML PUBLIC "-//W3C//DTD HTML 3.2//E
	N">\n<HTML>\n<HEAD>\n<TITLE></TITLE>\n</HEAD>\n<BODY>\n<h3> Jogo Bonito vs.
	  Dragon Republic</h3>Plus d'info : <a href="https://www.golnetwork.com/gam
	e/v/65276/">#5</a>\n\n</BODY>\n</HTML>
STATUS:CONFIRMED
CLASS:PUBLIC
URL:https://www.golnetwork.com/game/v/65276/
X-MICROSOFT-CDO-BUSYSTATUS:BUSY
X-MICROSOFT-CDO-IMPORTANCE:1
END:VEVENT
BEGIN:VEVENT
UID:g6jm5@games.golnetwork.com
LOCATION:Monarch Park Stadium - Field 1
GEO:43.6792789;-79.3234873
CREATED:20150212T133630Z
DTSTART:20150316T030000Z
DTEND:20150316T040000Z
DTSTAMP:20260419T154425Z
SUMMARY:No Bueno FC vs. Bull Turds
DESCRIPTION:Bull Turds vs. No Bueno FCPlus d'info : #6
X-ALT-DESC;FMTTYPE=text/html:<!DOCTYPE HTML PUBLIC "-//W3C//DTD HTML 3.2//E
	N">\n<HTML>\n<HEAD>\n<TITLE></TITLE>\n</HEAD>\n<BODY>\n<h3>Bull Turds vs. N
	o Bueno FC</h3>Plus d'info : <a href="https://www.golnetwork.com/game/v/652
	75/">#6</a>\n\n</BODY>\n</HTML>
STATUS:CONFIRMED
CLASS:PUBLIC
URL:https://www.golnetwork.com/game/v/65275/
X-MICROSOFT-CDO-BUSYSTATUS:BUSY
X-MICROSOFT-CDO-IMPORTANCE:1
END:VEVENT
BEGIN:VEVENT
UID:g6jm9@games.golnetwork.com
LOCATION:Monarch Park Stadium - Field 2
GEO:43.6792789;-79.3234873
CREATED:20150212T133630Z
DTSTART:20150322T230000Z
DTEND:20150323T000000Z
DTSTAMP:20260419T154425Z
SUMMARY:No Bueno FC vs. Wings and Beer
DESCRIPTION:Wings and Beer vs. No Bueno FCPlus d'info : #7
X-ALT-DESC;FMTTYPE=text/html:<!DOCTYPE HTML PUBLIC "-//W3C//DTD HTML 3.2//E
	N">\n<HTML>\n<HEAD>\n<TITLE></TITLE>\n</HEAD>\n<BODY>\n<h3>Wings and Beer v
	s. No Bueno FC</h3>Plus d'info : <a href="https://www.golnetwork.com/game/v
	/65277/">#7</a>\n\n</BODY>\n</HTML>
STATUS:CONFIRMED
CLASS:PUBLIC
URL:https://www.golnetwork.com/game/v/65277/
X-MICROSOFT-CDO-BUSYSTATUS:BUSY
X-MICROSOFT-CDO-IMPORTANCE:1
END:VEVENT
BEGIN:VEVENT
UID:g6jmd@games.golnetwork.com
LOCATION:Monarch Park Stadium - Field 2
GEO:43.6792789;-79.3234873
CREATED:20150212T133630Z
DTSTART:20150323T000000Z
DTEND:20150323T010000Z
DTSTAMP:20260419T154425Z
SUMMARY: Jogo Bonito vs. Bull Turds
DESCRIPTION:Bull Turds vs.  Jogo BonitoPlus d'info : #8
X-ALT-DESC;FMTTYPE=text/html:<!DOCTYPE HTML PUBLIC "-//W3C//DTD HTML 3.2//E
	N">\n<HTML>\n<HEAD>\n<TITLE></TITLE>\n</HEAD>\n<BODY>\n<h3>Bull Turds vs.  
	Jogo Bonito</h3>Plus d'info : <a href="https://www.golnetwork.com/game/v/65
	279/">#8</a>\n\n</BODY>\n</HTML>
STATUS:CONFIRMED
CLASS:PUBLIC
URL:https://www.golnetwork.com/game/v/65279/
X-MICROSOFT-CDO-BUSYSTATUS:BUSY
X-MICROSOFT-CDO-IMPORTANCE:1
END:VEVENT
BEGIN:VEVENT
UID:g6jmb@games.golnetwork.com
LOCATION:Monarch Park Stadium - Field 1
GEO:43.6792789;-79.3234873
CREATED:20150212T133630Z
DTSTART:20150323T030000Z
DTEND:20150323T040000Z
DTSTAMP:20260419T154425Z
SUMMARY: Dragon Republic vs.  Dragons
DESCRIPTION: Dragons vs.  Dragon RepublicPlus d'info : #9
X-ALT-DESC;FMTTYPE=text/html:<!DOCTYPE HTML PUBLIC "-//W3C//DTD HTML 3.2//E
	N">\n<HTML>\n<HEAD>\n<TITLE></TITLE>\n</HEAD>\n<BODY>\n<h3> Dragons vs.  Dr
	agon Republic</h3>Plus d'info : <a href="https://www.golnetwork.com/game/v/
	65278/">#9</a>\n\n</BODY>\n</HTML>
STATUS:CONFIRMED
CLASS:PUBLIC
URL:https://www.golnetwork.com/game/v/65278/
X-MICROSOFT-CDO-BUSYSTATUS:BUSY
X-MICROSOFT-CDO-IMPORTANCE:1
END:VEVENT
BEGIN:VEVENT
UID:g6jmf@games.golnetwork.com
LOCATION:Monarch Park Stadium - Field 2
GEO:43.6792789;-79.3234873
CREATED:20150212T133630Z
DTSTART:20150329T230000Z
DTEND:20150330T000000Z
DTSTAMP:20260419T154425Z
SUMMARY:Wings and Beer vs.  Dragon Republic
DESCRIPTION: Dragon Republic vs. Wings and BeerPlus d'info : #10
X-ALT-DESC;FMTTYPE=text/html:<!DOCTYPE HTML PUBLIC "-//W3C//DTD HTML 3.2//E
	N">\n<HTML>\n<HEAD>\n<TITLE></TITLE>\n</HEAD>\n<BODY>\n<h3> Dragon Republic
	 vs. Wings and Beer</h3>Plus d'info : <a href="https://www.golnetwork.com/g
	ame/v/65280/">#10</a>\n\n</BODY>\n</HTML>
STATUS:CONFIRMED
CLASS:PUBLIC
URL:https://www.golnetwork.com/game/v/65280/
X-MICROSOFT-CDO-BUSYSTATUS:BUSY
X-MICROSOFT-CDO-IMPORTANCE:1
END:VEVENT
BEGIN:VEVENT
UID:g6jmj@games.golnetwork.com
LOCATION:Monarch Park Stadium - Field 2
GEO:43.6792789;-79.3234873
CREATED:20150212T133630Z
DTSTART:20150330T000000Z
DTEND:20150330T010000Z
DTSTAMP:20260419T154425Z
SUMMARY:Bull Turds vs.  Dragons
DESCRIPTION: Dragons vs. Bull TurdsPlus d'info : #11
X-ALT-DESC;FMTTYPE=text/html:<!DOCTYPE HTML PUBLIC "-//W3C//DTD HTML 3.2//E
	N">\n<HTML>\n<HEAD>\n<TITLE></TITLE>\n</HEAD>\n<BODY>\n<h3> Dragons vs. Bul
	l Turds</h3>Plus d'info : <a href="https://www.golnetwork.com/game/v/65282/
	">#11</a>\n\n</BODY>\n</HTML>
STATUS:CONFIRMED
CLASS:PUBLIC
URL:https://www.golnetwork.com/game/v/65282/
X-MICROSOFT-CDO-BUSYSTATUS:BUSY
X-MICROSOFT-CDO-IMPORTANCE:1
END:VEVENT
BEGIN:VEVENT
UID:g6jmh@games.golnetwork.com
LOCATION:Monarch Park Stadium - Field 1
GEO:43.6792789;-79.3234873
CREATED:20150212T133630Z
DTSTART:20150330T030000Z
DTEND:20150330T040000Z
DTSTAMP:20260419T154425Z
SUMMARY: Jogo Bonito vs. No Bueno FC
DESCRIPTION:No Bueno FC vs.  Jogo BonitoPlus d'info : #12
X-ALT-DESC;FMTTYPE=text/html:<!DOCTYPE HTML PUBLIC "-//W3C//DTD HTML 3.2//E
	N">\n<HTML>\n<HEAD>\n<TITLE></TITLE>\n</HEAD>\n<BODY>\n<h3>No Bueno FC vs. 
	 Jogo Bonito</h3>Plus d'info : <a href="https://www.golnetwork.com/game/v/6
	5281/">#12</a>\n\n</BODY>\n</HTML>
STATUS:CONFIRMED
CLASS:PUBLIC
URL:https://www.golnetwork.com/game/v/65281/
X-MICROSOFT-CDO-BUSYSTATUS:BUSY
X-MICROSOFT-CDO-IMPORTANCE:1
END:VEVENT
BEGIN:VEVENT
UID:g6jmn@games.golnetwork.com
LOCATION:Monarch Park Stadium - Field 2
GEO:43.6792789;-79.3234873
CREATED:20150212T133630Z
DTSTART:20150412T230000Z
DTEND:20150413T000000Z
DTSTAMP:20260419T154425Z
SUMMARY:Wings and Beer vs. Bull Turds
DESCRIPTION:Bull Turds vs. Wings and BeerPlus d'info : #13
X-ALT-DESC;FMTTYPE=text/html:<!DOCTYPE HTML PUBLIC "-//W3C//DTD HTML 3.2//E
	N">\n<HTML>\n<HEAD>\n<TITLE></TITLE>\n</HEAD>\n<BODY>\n<h3>Bull Turds vs. W
	ings and Beer</h3>Plus d'info : <a href="https://www.golnetwork.com/game/v/
	65284/">#13</a>\n\n</BODY>\n</HTML>
STATUS:CONFIRMED
CLASS:PUBLIC
URL:https://www.golnetwork.com/game/v/65284/
X-MICROSOFT-CDO-BUSYSTATUS:BUSY
X-MICROSOFT-CDO-IMPORTANCE:1
END:VEVENT
BEGIN:VEVENT
UID:g6jml@games.golnetwork.com
LOCATION:Monarch Park Stadium - Field 2
GEO:43.6792789;-79.3234873
CREATED:20150212T133630Z
DTSTART:20150413T000000Z
DTEND:20150413T010000Z
DTSTAMP:20260419T154425Z
SUMMARY: Dragon Republic vs. No Bueno FC
DESCRIPTION:No Bueno FC vs.  Dragon RepublicPlus d'info : #14
X-ALT-DESC;FMTTYPE=text/html:<!DOCTYPE HTML PUBLIC "-//W3C//DTD HTML 3.2//E
	N">\n<HTML>\n<HEAD>\n<TITLE></TITLE>\n</HEAD>\n<BODY>\n<h3>No Bueno FC vs. 
	 Dragon Republic</h3>Plus d'info : <a href="https://www.golnetwork.com/game
	/v/65283/">#14</a>\n\n</BODY>\n</HTML>
STATUS:CONFIRMED
CLASS:PUBLIC
URL:https://www.golnetwork.com/game/v/65283/
X-MICROSOFT-CDO-BUSYSTATUS:BUSY
X-MICROSOFT-CDO-IMPORTANCE:1
END:VEVENT
BEGIN:VEVENT
UID:g6jmp@games.golnetwork.com
LOCATION:Monarch Park Stadium - Field 1
GEO:43.6792789;-79.3234873
CREATED:20150212T133630Z
DTSTART:20150413T030000Z
DTEND:20150413T040000Z
DTSTAMP:20260419T154425Z
SUMMARY: Dragons vs.  Jogo Bonito
DESCRIPTION: Jogo Bonito vs.  DragonsPlus d'info : #15
X-ALT-DESC;FMTTYPE=text/html:<!DOCTYPE HTML PUBLIC "-//W3C//DTD HTML 3.2//E
	N">\n<HTML>\n<HEAD>\n<TITLE></TITLE>\n</HEAD>\n<BODY>\n<h3> Jogo Bonito vs.
	  Dragons</h3>Plus d'info : <a href="https://www.golnetwork.com/game/v/6528
	5/">#15</a>\n\n</BODY>\n</HTML>
STATUS:CONFIRMED
CLASS:PUBLIC
URL:https://www.golnetwork.com/game/v/65285/
X-MICROSOFT-CDO-BUSYSTATUS:BUSY
X-MICROSOFT-CDO-IMPORTANCE:1
END:VEVENT
BEGIN:VEVENT
UID:g6jn4@games.golnetwork.com
LOCATION:Monarch Park Stadium - Field 2
GEO:43.6792789;-79.3234873
CREATED:20150212T133630Z
DTSTART:20150419T230000Z
DTEND:20150420T000000Z
DTSTAMP:20260419T154425Z
SUMMARY: Dragon Republic vs. Bull Turds
DESCRIPTION:Bull Turds vs.  Dragon RepublicPlus d'info : #16
X-ALT-DESC;FMTTYPE=text/html:<!DOCTYPE HTML PUBLIC "-//W3C//DTD HTML 3.2//E
	N">\n<HTML>\n<HEAD>\n<TITLE></TITLE>\n</HEAD>\n<BODY>\n<h3>Bull Turds vs.  
	Dragon Republic</h3>Plus d'info : <a href="https://www.golnetwork.com/game/
	v/65288/">#16</a>\n\n</BODY>\n</HTML>
STATUS:CONFIRMED
CLASS:PUBLIC
URL:https://www.golnetwork.com/game/v/65288/
X-MICROSOFT-CDO-BUSYSTATUS:BUSY
X-MICROSOFT-CDO-IMPORTANCE:1
END:VEVENT
BEGIN:VEVENT
UID:g6kbn@games.golnetwork.com
LOCATION:Monarch Park Stadium - Field 2
GEO:43.6792789;-79.3234873
CREATED:20150223T212325Z
DTSTART:20150420T000000Z
DTEND:20150420T010000Z
DTSTAMP:20260419T154425Z
SUMMARY:Wings and Beer vs.  Jogo Bonito
DESCRIPTION: Jogo Bonito vs. Wings and BeerPlus d'info : #17
X-ALT-DESC;FMTTYPE=text/html:<!DOCTYPE HTML PUBLIC "-//W3C//DTD HTML 3.2//E
	N">\n<HTML>\n<HEAD>\n<TITLE></TITLE>\n</HEAD>\n<BODY>\n<h3> Jogo Bonito vs.
	 Wings and Beer</h3>Plus d'info : <a href="https://www.golnetwork.com/game/
	v/65500/">#17</a>\n\n</BODY>\n</HTML>
STATUS:CONFIRMED
CLASS:PUBLIC
URL:https://www.golnetwork.com/game/v/65500/
X-MICROSOFT-CDO-BUSYSTATUS:BUSY
X-MICROSOFT-CDO-IMPORTANCE:1
END:VEVENT
BEGIN:VEVENT
UID:g6kbl@games.golnetwork.com
LOCATION:Monarch Park Stadium - Field 1
GEO:43.6792789;-79.3234873
CREATED:20150223T212321Z
DTSTART:20150420T030000Z
DTEND:20150420T040000Z
DTSTAMP:20260419T154425Z
SUMMARY:No Bueno FC vs.  Dragons
DESCRIPTION: Dragons vs. No Bueno FCPlus d'info : #18
X-ALT-DESC;FMTTYPE=text/html:<!DOCTYPE HTML PUBLIC "-//W3C//DTD HTML 3.2//E
	N">\n<HTML>\n<HEAD>\n<TITLE></TITLE>\n</HEAD>\n<BODY>\n<h3> Dragons vs. No 
	Bueno FC</h3>Plus d'info : <a href="https://www.golnetwork.com/game/v/65499
	/">#18</a>\n\n</BODY>\n</HTML>
STATUS:CONFIRMED
CLASS:PUBLIC
URL:https://www.golnetwork.com/game/v/65499/
X-MICROSOFT-CDO-BUSYSTATUS:BUSY
X-MICROSOFT-CDO-IMPORTANCE:1
END:VEVENT
BEGIN:VEVENT
UID:g6jna@games.golnetwork.com
LOCATION:Monarch Park Stadium - Field 1
GEO:43.6792789;-79.3234873
CREATED:20150212T133630Z
DTSTART:20150427T030000Z
DTEND:20150427T040000Z
DTSTAMP:20260419T154425Z
SUMMARY:Wings and Beer vs.  Dragon Republic
DESCRIPTION: Dragon Republic vs. Wings and BeerPlus d'info : #21
X-ALT-DESC;FMTTYPE=text/html:<!DOCTYPE HTML PUBLIC "-//W3C//DTD HTML 3.2//E
	N">\n<HTML>\n<HEAD>\n<TITLE></TITLE>\n</HEAD>\n<BODY>\n<h3> Dragon Republic
	 vs. Wings and Beer</h3>Plus d'info : <a href="https://www.golnetwork.com/g
	ame/v/65291/">#21</a>\n\n</BODY>\n</HTML>
STATUS:CONFIRMED
CLASS:PUBLIC
URL:https://www.golnetwork.com/game/v/65291/
X-MICROSOFT-CDO-BUSYSTATUS:BUSY
X-MICROSOFT-CDO-IMPORTANCE:1
END:VEVENT
BEGIN:VEVENT
UID:g6kc4@games.golnetwork.com
LOCATION:Monarch Park Stadium - Field 2
GEO:43.6792789;-79.3234873
CREATED:20150223T212406Z
DTSTART:20150504T010000Z
DTEND:20150504T020000Z
DTSTAMP:20260419T154425Z
SUMMARY: Dragon Republic vs.  Jogo Bonito
DESCRIPTION: Jogo Bonito vs.  Dragon RepublicPlus d'info : #23
X-ALT-DESC;FMTTYPE=text/html:<!DOCTYPE HTML PUBLIC "-//W3C//DTD HTML 3.2//E
	N">\n<HTML>\n<HEAD>\n<TITLE></TITLE>\n</HEAD>\n<BODY>\n<h3> Jogo Bonito vs.
	  Dragon Republic</h3>Plus d'info : <a href="https://www.golnetwork.com/gam
	e/v/65504/">#23</a>\n\n</BODY>\n</HTML>
STATUS:CONFIRMED
CLASS:PUBLIC
URL:https://www.golnetwork.com/game/v/65504/
X-MICROSOFT-CDO-BUSYSTATUS:BUSY
X-MICROSOFT-CDO-IMPORTANCE:1
END:VEVENT
BEGIN:VEVENT
UID:g6kc6@games.golnetwork.com
LOCATION:Monarch Park Stadium - Field 2
GEO:43.6792789;-79.3234873
CREATED:20150223T212409Z
DTSTART:20150504T020000Z
DTEND:20150504T030000Z
DTSTAMP:20260419T154425Z
SUMMARY:Wings and Beer vs. No Bueno FC
DESCRIPTION:No Bueno FC vs. Wings and BeerPlus d'info : #24
X-ALT-DESC;FMTTYPE=text/html:<!DOCTYPE HTML PUBLIC "-//W3C//DTD HTML 3.2//E
	N">\n<HTML>\n<HEAD>\n<TITLE></TITLE>\n</HEAD>\n<BODY>\n<h3>No Bueno FC vs. 
	Wings and Beer</h3>Plus d'info : <a href="https://www.golnetwork.com/game/v
	/65505/">#24</a>\n\n</BODY>\n</HTML>
STATUS:CONFIRMED
CLASS:PUBLIC
URL:https://www.golnetwork.com/game/v/65505/
X-MICROSOFT-CDO-BUSYSTATUS:BUSY
X-MICROSOFT-CDO-IMPORTANCE:1
END:VEVENT
END:VCALENDAR
