BEGIN:VCALENDAR
PRODID:-//gdesolutions.com//MV Framework 1.0.0.1607 Calendar//EN
VERSION:2.0
METHOD:PUBLISH
CALSCALE:GREGORIAN
BEGIN:VEVENT
UID:g72gj@games.golnetwork.com
LOCATION:Louis Riel #1
GEO:45.4410208;-75.5715394
CREATED:20150502T220721Z
DTSTART:20150507T230000Z
DTEND:20150507T235000Z
DTSTAMP:20260423T022139Z
SUMMARY:Fm FC vs. Winded FC
DESCRIPTION:Winded FC vs. Fm FCPlus d'info : #91
X-ALT-DESC;FMTTYPE=text/html:<!DOCTYPE HTML PUBLIC "-//W3C//DTD HTML 3.2//E
	N">\n<HTML>\n<HEAD>\n<TITLE></TITLE>\n</HEAD>\n<BODY>\n<h3>Winded FC vs. Fm
	 FC</h3>Plus d'info : <a href="https://www.golnetwork.com/game/v/68846/">#9
	1</a>\n\n</BODY>\n</HTML>
STATUS:CONFIRMED
CLASS:PUBLIC
URL:https://www.golnetwork.com/game/v/68846/
X-MICROSOFT-CDO-BUSYSTATUS:BUSY
X-MICROSOFT-CDO-IMPORTANCE:1
END:VEVENT
BEGIN:VEVENT
UID:g72gf@games.golnetwork.com
LOCATION:Louis Riel #1
GEO:45.4410208;-75.5715394
CREATED:20150502T220640Z
DTSTART:20150508T000000Z
DTEND:20150508T005000Z
DTSTAMP:20260423T022139Z
SUMMARY:Missile-toe vs. Cornerstone FC
DESCRIPTION:Cornerstone FC vs. Missile-toePlus d'info : #94
X-ALT-DESC;FMTTYPE=text/html:<!DOCTYPE HTML PUBLIC "-//W3C//DTD HTML 3.2//E
	N">\n<HTML>\n<HEAD>\n<TITLE></TITLE>\n</HEAD>\n<BODY>\n<h3>Cornerstone FC v
	s. Missile-toe</h3>Plus d'info : <a href="https://www.golnetwork.com/game/v
	/68844/">#94</a>\n\n</BODY>\n</HTML>
STATUS:CONFIRMED
CLASS:PUBLIC
URL:https://www.golnetwork.com/game/v/68844/
X-MICROSOFT-CDO-BUSYSTATUS:BUSY
X-MICROSOFT-CDO-IMPORTANCE:1
END:VEVENT
BEGIN:VEVENT
UID:g72gd@games.golnetwork.com
LOCATION:Hornet's Nest #2
GEO:45.4428309;-75.575268
CREATED:20150502T220800Z
DTSTART:20150508T000000Z
DTEND:20150508T005000Z
DTSTAMP:20260423T022139Z
SUMMARY:Team Doug vs. Fusion
DESCRIPTION:Fusion vs. Team DougPlus d'info : #97
X-ALT-DESC;FMTTYPE=text/html:<!DOCTYPE HTML PUBLIC "-//W3C//DTD HTML 3.2//E
	N">\n<HTML>\n<HEAD>\n<TITLE></TITLE>\n</HEAD>\n<BODY>\n<h3>Fusion vs. Team 
	Doug</h3>Plus d'info : <a href="https://www.golnetwork.com/game/v/68843/">#
	97</a>\n\n</BODY>\n</HTML>
STATUS:CONFIRMED
CLASS:PUBLIC
URL:https://www.golnetwork.com/game/v/68843/
X-MICROSOFT-CDO-BUSYSTATUS:BUSY
X-MICROSOFT-CDO-IMPORTANCE:1
END:VEVENT
BEGIN:VEVENT
UID:g72gh@games.golnetwork.com
LOCATION:Hornet's Nest #3
GEO:45.4428309;-75.575268
CREATED:20150502T220840Z
DTSTART:20150508T000000Z
DTEND:20150508T005000Z
DTSTAMP:20260423T022139Z
SUMMARY:Arsenanal FC vs. Foot Loose FC
DESCRIPTION:Foot Loose FC vs. Arsenanal FCPlus d'info : #98
X-ALT-DESC;FMTTYPE=text/html:<!DOCTYPE HTML PUBLIC "-//W3C//DTD HTML 3.2//E
	N">\n<HTML>\n<HEAD>\n<TITLE></TITLE>\n</HEAD>\n<BODY>\n<h3>Foot Loose FC vs
	. Arsenanal FC</h3>Plus d'info : <a href="https://www.golnetwork.com/game/v
	/68845/">#98</a>\n\n</BODY>\n</HTML>
STATUS:CONFIRMED
CLASS:PUBLIC
URL:https://www.golnetwork.com/game/v/68845/
X-MICROSOFT-CDO-BUSYSTATUS:BUSY
X-MICROSOFT-CDO-IMPORTANCE:1
END:VEVENT
BEGIN:VEVENT
UID:g73ic@games.golnetwork.com
LOCATION:Hornet's Nest #2
GEO:45.4428309;-75.575268
CREATED:20150510T215402Z
DTSTART:20150515T000000Z
DTEND:20150515T005000Z
DTSTAMP:20260423T022139Z
SUMMARY:Missile-toe vs. Team Doug
DESCRIPTION:Team Doug vs. Missile-toePlus d'info : #112
X-ALT-DESC;FMTTYPE=text/html:<!DOCTYPE HTML PUBLIC "-//W3C//DTD HTML 3.2//E
	N">\n<HTML>\n<HEAD>\n<TITLE></TITLE>\n</HEAD>\n<BODY>\n<h3>Team Doug vs. Mi
	ssile-toe</h3>Plus d'info : <a href="https://www.golnetwork.com/game/v/6923
	4/">#112</a>\n\n</BODY>\n</HTML>
STATUS:CONFIRMED
CLASS:PUBLIC
URL:https://www.golnetwork.com/game/v/69234/
X-MICROSOFT-CDO-BUSYSTATUS:BUSY
X-MICROSOFT-CDO-IMPORTANCE:1
END:VEVENT
BEGIN:VEVENT
UID:g73ie@games.golnetwork.com
LOCATION:Hornet's Nest #3
GEO:45.4428309;-75.575268
CREATED:20150510T215601Z
DTSTART:20150515T000000Z
DTEND:20150515T005000Z
DTSTAMP:20260423T022139Z
SUMMARY:Arsenanal FC vs. Winded FC
DESCRIPTION:Winded FC vs. Arsenanal FCPlus d'info : #113
X-ALT-DESC;FMTTYPE=text/html:<!DOCTYPE HTML PUBLIC "-//W3C//DTD HTML 3.2//E
	N">\n<HTML>\n<HEAD>\n<TITLE></TITLE>\n</HEAD>\n<BODY>\n<h3>Winded FC vs. Ar
	senanal FC</h3>Plus d'info : <a href="https://www.golnetwork.com/game/v/692
	35/">#113</a>\n\n</BODY>\n</HTML>
STATUS:CONFIRMED
CLASS:PUBLIC
URL:https://www.golnetwork.com/game/v/69235/
X-MICROSOFT-CDO-BUSYSTATUS:BUSY
X-MICROSOFT-CDO-IMPORTANCE:1
END:VEVENT
BEGIN:VEVENT
UID:g74j6@games.golnetwork.com
LOCATION:Hornet's Nest #1
GEO:45.4428309;-75.575268
CREATED:20150517T184151Z
DTSTART:20150522T000000Z
DTEND:20150522T005000Z
DTSTAMP:20260423T022139Z
SUMMARY:Arsenanal FC vs. Team Doug
DESCRIPTION:Team Doug vs. Arsenanal FCPlus d'info : #123
X-ALT-DESC;FMTTYPE=text/html:<!DOCTYPE HTML PUBLIC "-//W3C//DTD HTML 3.2//E
	N">\n<HTML>\n<HEAD>\n<TITLE></TITLE>\n</HEAD>\n<BODY>\n<h3>Team Doug vs. Ar
	senanal FC</h3>Plus d'info : <a href="https://www.golnetwork.com/game/v/696
	09/">#123</a>\n\n</BODY>\n</HTML>
STATUS:CONFIRMED
CLASS:PUBLIC
URL:https://www.golnetwork.com/game/v/69609/
X-MICROSOFT-CDO-BUSYSTATUS:BUSY
X-MICROSOFT-CDO-IMPORTANCE:1
END:VEVENT
END:VCALENDAR
