BEGIN:VCALENDAR
PRODID:-//gdesolutions.com//MV Framework 1.0.0.1607 Calendar//EN
VERSION:2.0
METHOD:PUBLISH
CALSCALE:GREGORIAN
BEGIN:VEVENT
UID:g6ld6@games.golnetwork.com
LOCATION:Louis Riel #3
GEO:45.4410208;-75.5715394
CREATED:20150316T183550Z
DTSTART:20150320T000000Z
DTEND:20150320T005000Z
DTSTAMP:20260419T154320Z
SUMMARY:Pas l'temps de niaser vs. FC AA
DESCRIPTION:FC AA vs. Pas l'temps de niaserPlus d'info : #6
X-ALT-DESC;FMTTYPE=text/html:<!DOCTYPE HTML PUBLIC "-//W3C//DTD HTML 3.2//E
	N">\n<HTML>\n<HEAD>\n<TITLE></TITLE>\n</HEAD>\n<BODY>\n<h3>FC AA vs. Pas l'
	temps de niaser</h3>Plus d'info : <a href="https://www.golnetwork.com/game/
	v/65883/">#6</a>\n\n</BODY>\n</HTML>
STATUS:CONFIRMED
CLASS:PUBLIC
URL:https://www.golnetwork.com/game/v/65883/
X-MICROSOFT-CDO-BUSYSTATUS:BUSY
X-MICROSOFT-CDO-IMPORTANCE:1
END:VEVENT
BEGIN:VEVENT
UID:g6lda@games.golnetwork.com
LOCATION:Louis Riel #3
GEO:45.4410208;-75.5715394
CREATED:20150316T183550Z
DTSTART:20150320T010000Z
DTEND:20150320T015000Z
DTSTAMP:20260419T154320Z
SUMMARY:Spartans FC vs. Flamingos
DESCRIPTION:Flamingos vs. Spartans FCPlus d'info : #9
X-ALT-DESC;FMTTYPE=text/html:<!DOCTYPE HTML PUBLIC "-//W3C//DTD HTML 3.2//E
	N">\n<HTML>\n<HEAD>\n<TITLE></TITLE>\n</HEAD>\n<BODY>\n<h3>Flamingos vs. Sp
	artans FC</h3>Plus d'info : <a href="https://www.golnetwork.com/game/v/6588
	5/">#9</a>\n\n</BODY>\n</HTML>
STATUS:CONFIRMED
CLASS:PUBLIC
URL:https://www.golnetwork.com/game/v/65885/
X-MICROSOFT-CDO-BUSYSTATUS:BUSY
X-MICROSOFT-CDO-IMPORTANCE:1
END:VEVENT
BEGIN:VEVENT
UID:g6lj2@games.golnetwork.com
LOCATION:Louis Riel #3
GEO:45.4410208;-75.5715394
CREATED:20150319T070520Z
DTSTART:20150327T013000Z
DTEND:20150327T022000Z
DTSTAMP:20260419T154320Z
SUMMARY:Flamingos vs. Pas l'temps de niaser
DESCRIPTION:Pas l'temps de niaser vs. FlamingosPlus d'info : #9
X-ALT-DESC;FMTTYPE=text/html:<!DOCTYPE HTML PUBLIC "-//W3C//DTD HTML 3.2//E
	N">\n<HTML>\n<HEAD>\n<TITLE></TITLE>\n</HEAD>\n<BODY>\n<h3>Pas l'temps de n
	iaser vs. Flamingos</h3>Plus d'info : <a href="https://www.golnetwork.com/g
	ame/v/65962/">#9</a>\n\n</BODY>\n</HTML>
STATUS:CONFIRMED
CLASS:PUBLIC
URL:https://www.golnetwork.com/game/v/65962/
X-MICROSOFT-CDO-BUSYSTATUS:BUSY
X-MICROSOFT-CDO-IMPORTANCE:1
END:VEVENT
BEGIN:VEVENT
UID:g6lj8@games.golnetwork.com
LOCATION:Louis Riel #3
GEO:45.4410208;-75.5715394
CREATED:20150319T070520Z
DTSTART:20150327T023000Z
DTEND:20150327T032000Z
DTSTAMP:20260419T154320Z
SUMMARY:Spartans FC vs. FC AA
DESCRIPTION:FC AA vs. Spartans FCPlus d'info : #12
X-ALT-DESC;FMTTYPE=text/html:<!DOCTYPE HTML PUBLIC "-//W3C//DTD HTML 3.2//E
	N">\n<HTML>\n<HEAD>\n<TITLE></TITLE>\n</HEAD>\n<BODY>\n<h3>FC AA vs. Sparta
	ns FC</h3>Plus d'info : <a href="https://www.golnetwork.com/game/v/65965/">
	#12</a>\n\n</BODY>\n</HTML>
STATUS:CONFIRMED
CLASS:PUBLIC
URL:https://www.golnetwork.com/game/v/65965/
X-MICROSOFT-CDO-BUSYSTATUS:BUSY
X-MICROSOFT-CDO-IMPORTANCE:1
END:VEVENT
BEGIN:VEVENT
UID:g6ljm@games.golnetwork.com
LOCATION:Louis Riel #3
GEO:45.4410208;-75.5715394
CREATED:20150319T070520Z
DTSTART:20150403T003000Z
DTEND:20150403T012000Z
DTSTAMP:20260419T154320Z
SUMMARY:Spartans FC vs. Pas l'temps de niaser
DESCRIPTION:Pas l'temps de niaser vs. Spartans FCPlus d'info : #19
X-ALT-DESC;FMTTYPE=text/html:<!DOCTYPE HTML PUBLIC "-//W3C//DTD HTML 3.2//E
	N">\n<HTML>\n<HEAD>\n<TITLE></TITLE>\n</HEAD>\n<BODY>\n<h3>Pas l'temps de n
	iaser vs. Spartans FC</h3>Plus d'info : <a href="https://www.golnetwork.com
	/game/v/65972/">#19</a>\n\n</BODY>\n</HTML>
STATUS:CONFIRMED
CLASS:PUBLIC
URL:https://www.golnetwork.com/game/v/65972/
X-MICROSOFT-CDO-BUSYSTATUS:BUSY
X-MICROSOFT-CDO-IMPORTANCE:1
END:VEVENT
BEGIN:VEVENT
UID:g6lk1@games.golnetwork.com
LOCATION:Louis Riel #3
GEO:45.4410208;-75.5715394
CREATED:20150319T070520Z
DTSTART:20150403T013000Z
DTEND:20150403T022000Z
DTSTAMP:20260419T154320Z
SUMMARY:Flamingos vs. FC AA
DESCRIPTION:FC AA vs. FlamingosPlus d'info : #22
X-ALT-DESC;FMTTYPE=text/html:<!DOCTYPE HTML PUBLIC "-//W3C//DTD HTML 3.2//E
	N">\n<HTML>\n<HEAD>\n<TITLE></TITLE>\n</HEAD>\n<BODY>\n<h3>FC AA vs. Flamin
	gos</h3>Plus d'info : <a href="https://www.golnetwork.com/game/v/65975/">#2
	2</a>\n\n</BODY>\n</HTML>
STATUS:CONFIRMED
CLASS:PUBLIC
URL:https://www.golnetwork.com/game/v/65975/
X-MICROSOFT-CDO-BUSYSTATUS:BUSY
X-MICROSOFT-CDO-IMPORTANCE:1
END:VEVENT
BEGIN:VEVENT
UID:g6lkh@games.golnetwork.com
LOCATION:Hornet's Nest #1
GEO:45.4428309;-75.575268
CREATED:20150319T070521Z
DTSTART:20150410T020000Z
DTEND:20150410T025000Z
DTSTAMP:20260419T154320Z
SUMMARY:Pas l'temps de niaser vs. Money is not an issue
DESCRIPTION:Money is not an issue vs. Pas l'temps de niaserPlus d'info : #3
X-ALT-DESC;FMTTYPE=text/html:<!DOCTYPE HTML PUBLIC "-//W3C//DTD HTML 3.2//E
	N">\n<HTML>\n<HEAD>\n<TITLE></TITLE>\n</HEAD>\n<BODY>\n<h3>Money is not an 
	issue vs. Pas l'temps de niaser</h3>Plus d'info : <a href="https://www.goln
	etwork.com/game/v/65983/">#30</a>\n\n</BODY>\n</HTML>
STATUS:CONFIRMED
CLASS:PUBLIC
URL:https://www.golnetwork.com/game/v/65983/
X-MICROSOFT-CDO-BUSYSTATUS:BUSY
X-MICROSOFT-CDO-IMPORTANCE:1
END:VEVENT
BEGIN:VEVENT
UID:g6llk@games.golnetwork.com
LOCATION:Louis Riel #3
GEO:45.4410208;-75.5715394
CREATED:20150319T070522Z
DTSTART:20150416T233000Z
DTEND:20150417T002000Z
DTSTAMP:20260419T154320Z
SUMMARY:Pas l'temps de niaser vs. FC AA
DESCRIPTION:FC AA vs. Pas l'temps de niaserPlus d'info : #45
X-ALT-DESC;FMTTYPE=text/html:<!DOCTYPE HTML PUBLIC "-//W3C//DTD HTML 3.2//E
	N">\n<HTML>\n<HEAD>\n<TITLE></TITLE>\n</HEAD>\n<BODY>\n<h3>FC AA vs. Pas l'
	temps de niaser</h3>Plus d'info : <a href="https://www.golnetwork.com/game/
	v/65998/">#45</a>\n\n</BODY>\n</HTML>
STATUS:CONFIRMED
CLASS:PUBLIC
URL:https://www.golnetwork.com/game/v/65998/
X-MICROSOFT-CDO-BUSYSTATUS:BUSY
X-MICROSOFT-CDO-IMPORTANCE:1
END:VEVENT
BEGIN:VEVENT
UID:g6llq@games.golnetwork.com
LOCATION:Louis Riel #3
GEO:45.4410208;-75.5715394
CREATED:20150319T070522Z
DTSTART:20150417T003000Z
DTEND:20150417T012000Z
DTSTAMP:20260419T154320Z
SUMMARY:Spartans FC vs. Flamingos
DESCRIPTION:Flamingos vs. Spartans FCPlus d'info : #48
X-ALT-DESC;FMTTYPE=text/html:<!DOCTYPE HTML PUBLIC "-//W3C//DTD HTML 3.2//E
	N">\n<HTML>\n<HEAD>\n<TITLE></TITLE>\n</HEAD>\n<BODY>\n<h3>Flamingos vs. Sp
	artans FC</h3>Plus d'info : <a href="https://www.golnetwork.com/game/v/6600
	1/">#48</a>\n\n</BODY>\n</HTML>
STATUS:CONFIRMED
CLASS:PUBLIC
URL:https://www.golnetwork.com/game/v/66001/
X-MICROSOFT-CDO-BUSYSTATUS:BUSY
X-MICROSOFT-CDO-IMPORTANCE:1
END:VEVENT
BEGIN:VEVENT
UID:g6lni@games.golnetwork.com
LOCATION:Louis Riel #3
GEO:45.4410208;-75.5715394
CREATED:20150319T070523Z
DTSTART:20150430T233000Z
DTEND:20150501T002000Z
DTSTAMP:20260419T154320Z
SUMMARY:Flamingos vs. FC AA
DESCRIPTION:FC AA vs. FlamingosPlus d'info : #45
X-ALT-DESC;FMTTYPE=text/html:<!DOCTYPE HTML PUBLIC "-//W3C//DTD HTML 3.2//E
	N">\n<HTML>\n<HEAD>\n<TITLE></TITLE>\n</HEAD>\n<BODY>\n<h3>FC AA vs. Flamin
	gos</h3>Plus d'info : <a href="https://www.golnetwork.com/game/v/66024/">#4
	5</a>\n\n</BODY>\n</HTML>
STATUS:CONFIRMED
CLASS:PUBLIC
URL:https://www.golnetwork.com/game/v/66024/
X-MICROSOFT-CDO-BUSYSTATUS:BUSY
X-MICROSOFT-CDO-IMPORTANCE:1
END:VEVENT
BEGIN:VEVENT
UID:g6lno@games.golnetwork.com
LOCATION:Louis Riel #3
GEO:45.4410208;-75.5715394
CREATED:20150319T070524Z
DTSTART:20150501T003000Z
DTEND:20150501T012000Z
DTSTAMP:20260419T154320Z
SUMMARY:Pas l'temps de niaser vs. Spartans FC
DESCRIPTION:Spartans FC vs. Pas l'temps de niaserPlus d'info : #48
X-ALT-DESC;FMTTYPE=text/html:<!DOCTYPE HTML PUBLIC "-//W3C//DTD HTML 3.2//E
	N">\n<HTML>\n<HEAD>\n<TITLE></TITLE>\n</HEAD>\n<BODY>\n<h3>Spartans FC vs. 
	Pas l'temps de niaser</h3>Plus d'info : <a href="https://www.golnetwork.com
	/game/v/66027/">#48</a>\n\n</BODY>\n</HTML>
STATUS:CONFIRMED
CLASS:PUBLIC
URL:https://www.golnetwork.com/game/v/66027/
X-MICROSOFT-CDO-BUSYSTATUS:BUSY
X-MICROSOFT-CDO-IMPORTANCE:1
END:VEVENT
BEGIN:VEVENT
UID:g72ed@games.golnetwork.com
LOCATION:Louis Riel #3
GEO:45.4410208;-75.5715394
CREATED:20150502T220006Z
DTSTART:20150508T000000Z
DTEND:20150508T005000Z
DTSTAMP:20260419T154320Z
SUMMARY:Pas l'temps de niaser vs. Flamingos
DESCRIPTION:Flamingos vs. Pas l'temps de niaserPlus d'info : #96
X-ALT-DESC;FMTTYPE=text/html:<!DOCTYPE HTML PUBLIC "-//W3C//DTD HTML 3.2//E
	N">\n<HTML>\n<HEAD>\n<TITLE></TITLE>\n</HEAD>\n<BODY>\n<h3>Flamingos vs. Pa
	s l'temps de niaser</h3>Plus d'info : <a href="https://www.golnetwork.com/g
	ame/v/68816/">#96</a>\n\n</BODY>\n</HTML>
STATUS:CONFIRMED
CLASS:PUBLIC
URL:https://www.golnetwork.com/game/v/68816/
X-MICROSOFT-CDO-BUSYSTATUS:BUSY
X-MICROSOFT-CDO-IMPORTANCE:1
END:VEVENT
BEGIN:VEVENT
UID:g72eb@games.golnetwork.com
LOCATION:Louis Riel #1
GEO:45.4410208;-75.5715394
CREATED:20150502T215947Z
DTSTART:20150508T020000Z
DTEND:20150508T025000Z
DTSTAMP:20260419T154320Z
SUMMARY:Spartans FC vs. FC AA
DESCRIPTION:FC AA vs. Spartans FCPlus d'info : #103
X-ALT-DESC;FMTTYPE=text/html:<!DOCTYPE HTML PUBLIC "-//W3C//DTD HTML 3.2//E
	N">\n<HTML>\n<HEAD>\n<TITLE></TITLE>\n</HEAD>\n<BODY>\n<h3>FC AA vs. Sparta
	ns FC</h3>Plus d'info : <a href="https://www.golnetwork.com/game/v/68815/">
	#103</a>\n\n</BODY>\n</HTML>
STATUS:CONFIRMED
CLASS:PUBLIC
URL:https://www.golnetwork.com/game/v/68815/
X-MICROSOFT-CDO-BUSYSTATUS:BUSY
X-MICROSOFT-CDO-IMPORTANCE:1
END:VEVENT
BEGIN:VEVENT
UID:g74j4@games.golnetwork.com
LOCATION:Hornet's Nest #3
GEO:45.4428309;-75.575268
CREATED:20150517T184128Z
DTSTART:20150521T230000Z
DTEND:20150521T235000Z
DTSTAMP:20260419T154320Z
SUMMARY:Spartans FC vs. FC AA
DESCRIPTION:FC AA vs. Spartans FCPlus d'info : #122
X-ALT-DESC;FMTTYPE=text/html:<!DOCTYPE HTML PUBLIC "-//W3C//DTD HTML 3.2//E
	N">\n<HTML>\n<HEAD>\n<TITLE></TITLE>\n</HEAD>\n<BODY>\n<h3>FC AA vs. Sparta
	ns FC</h3>Plus d'info : <a href="https://www.golnetwork.com/game/v/69608/">
	#122</a>\n\n</BODY>\n</HTML>
STATUS:CONFIRMED
CLASS:PUBLIC
URL:https://www.golnetwork.com/game/v/69608/
X-MICROSOFT-CDO-BUSYSTATUS:BUSY
X-MICROSOFT-CDO-IMPORTANCE:1
END:VEVENT
END:VCALENDAR
