BEGIN:VCALENDAR
PRODID:-//gdesolutions.com//MV Framework 1.0.0.1607 Calendar//EN
VERSION:2.0
METHOD:PUBLISH
CALSCALE:GREGORIAN
BEGIN:VEVENT
UID:g73b1@games.golnetwork.com
LOCATION:Cherry Beach East 2
CREATED:20150506T231301Z
DTSTART:20150701T010000Z
DTEND:20150701T020000Z
DTSTAMP:20260420T151655Z
SUMMARY:Team Brazil vs. Galacticos FC
DESCRIPTION:Galacticos FC vs. Team BrazilPlus d'info : #406
X-ALT-DESC;FMTTYPE=text/html:<!DOCTYPE HTML PUBLIC "-//W3C//DTD HTML 3.2//E
	N">\n<HTML>\n<HEAD>\n<TITLE></TITLE>\n</HEAD>\n<BODY>\n<h3>Galacticos FC vs
	. Team Brazil</h3>Plus d'info : <a href="https://www.golnetwork.com/game/v/
	69134/">#406</a>\n\n</BODY>\n</HTML>
STATUS:CONFIRMED
CLASS:PUBLIC
URL:https://www.golnetwork.com/game/v/69134/
X-MICROSOFT-CDO-BUSYSTATUS:BUSY
X-MICROSOFT-CDO-IMPORTANCE:1
END:VEVENT
BEGIN:VEVENT
UID:g73aq@games.golnetwork.com
LOCATION:Cherry Beach East 3
CREATED:20150506T231301Z
DTSTART:20150701T010000Z
DTEND:20150701T020000Z
DTSTAMP:20260420T151655Z
SUMMARY:10 After vs. TubeFC
DESCRIPTION:TubeFC vs. 10 AfterPlus d'info : #407
X-ALT-DESC;FMTTYPE=text/html:<!DOCTYPE HTML PUBLIC "-//W3C//DTD HTML 3.2//E
	N">\n<HTML>\n<HEAD>\n<TITLE></TITLE>\n</HEAD>\n<BODY>\n<h3>TubeFC vs. 10 Af
	ter</h3>Plus d'info : <a href="https://www.golnetwork.com/game/v/69133/">#4
	07</a>\n\n</BODY>\n</HTML>
STATUS:CONFIRMED
CLASS:PUBLIC
URL:https://www.golnetwork.com/game/v/69133/
X-MICROSOFT-CDO-BUSYSTATUS:BUSY
X-MICROSOFT-CDO-IMPORTANCE:1
END:VEVENT
BEGIN:VEVENT
UID:g73b3@games.golnetwork.com
LOCATION:Cherry Beach East 3
CREATED:20150506T231301Z
DTSTART:20150708T010000Z
DTEND:20150708T020000Z
DTSTAMP:20260420T151655Z
SUMMARY:Team Brazil vs. TubeFC
DESCRIPTION:TubeFC vs. Team BrazilPlus d'info : #453
X-ALT-DESC;FMTTYPE=text/html:<!DOCTYPE HTML PUBLIC "-//W3C//DTD HTML 3.2//E
	N">\n<HTML>\n<HEAD>\n<TITLE></TITLE>\n</HEAD>\n<BODY>\n<h3>TubeFC vs. Team 
	Brazil</h3>Plus d'info : <a href="https://www.golnetwork.com/game/v/69135/"
	>#453</a>\n\n</BODY>\n</HTML>
STATUS:CONFIRMED
CLASS:PUBLIC
URL:https://www.golnetwork.com/game/v/69135/
X-MICROSOFT-CDO-BUSYSTATUS:BUSY
X-MICROSOFT-CDO-IMPORTANCE:1
END:VEVENT
END:VCALENDAR
