BEGIN:VCALENDAR
PRODID:-//gdesolutions.com//MV Framework 1.0.0.1607 Calendar//EN
VERSION:2.0
METHOD:PUBLISH
CALSCALE:GREGORIAN
BEGIN:VEVENT
UID:g72gl@games.golnetwork.com
LOCATION:North Toronto - Field 1
GEO:43.7098022;-79.3963055
CREATED:20150504T164024Z
DTSTART:20150508T223000Z
DTEND:20150508T233000Z
DTSTAMP:20260421T183427Z
SUMMARY:XTSC Show Stoppers vs. XTSC Gunners
DESCRIPTION:XTSC Gunners vs. XTSC Show StoppersPlus d'info : #41
X-ALT-DESC;FMTTYPE=text/html:<!DOCTYPE HTML PUBLIC "-//W3C//DTD HTML 3.2//E
	N">\n<HTML>\n<HEAD>\n<TITLE></TITLE>\n</HEAD>\n<BODY>\n<h3>XTSC Gunners vs.
	 XTSC Show Stoppers</h3>Plus d'info : <a href="https://www.golnetwork.com/g
	ame/v/68847/">#41</a>\n\n</BODY>\n</HTML>
STATUS:CONFIRMED
CLASS:PUBLIC
URL:https://www.golnetwork.com/game/v/68847/
X-MICROSOFT-CDO-BUSYSTATUS:BUSY
X-MICROSOFT-CDO-IMPORTANCE:1
END:VEVENT
BEGIN:VEVENT
UID:g72gn@games.golnetwork.com
LOCATION:North Toronto - Field 1
GEO:43.7098022;-79.3963055
CREATED:20150504T164036Z
DTSTART:20150508T233000Z
DTEND:20150509T003000Z
DTSTAMP:20260421T183427Z
SUMMARY:Samba Power Demons vs. JDMI FC
DESCRIPTION:JDMI FC vs. Samba Power DemonsPlus d'info : #42
X-ALT-DESC;FMTTYPE=text/html:<!DOCTYPE HTML PUBLIC "-//W3C//DTD HTML 3.2//E
	N">\n<HTML>\n<HEAD>\n<TITLE></TITLE>\n</HEAD>\n<BODY>\n<h3>JDMI FC vs. Samb
	a Power Demons</h3>Plus d'info : <a href="https://www.golnetwork.com/game/v
	/68848/">#42</a>\n\n</BODY>\n</HTML>
STATUS:CONFIRMED
CLASS:PUBLIC
URL:https://www.golnetwork.com/game/v/68848/
X-MICROSOFT-CDO-BUSYSTATUS:BUSY
X-MICROSOFT-CDO-IMPORTANCE:1
END:VEVENT
BEGIN:VEVENT
UID:g72h2@games.golnetwork.com
LOCATION:North Toronto - Field 1
GEO:43.7098022;-79.3963055
CREATED:20150504T164130Z
DTSTART:20150515T223000Z
DTEND:20150515T232000Z
DTSTAMP:20260421T183427Z
SUMMARY:XTSC Show Stoppers vs. Maxus FC
DESCRIPTION:Maxus FC vs. XTSC Show StoppersPlus d'info : #95
X-ALT-DESC;FMTTYPE=text/html:<!DOCTYPE HTML PUBLIC "-//W3C//DTD HTML 3.2//E
	N">\n<HTML>\n<HEAD>\n<TITLE></TITLE>\n</HEAD>\n<BODY>\n<h3>Maxus FC vs. XTS
	C Show Stoppers</h3>Plus d'info : <a href="https://www.golnetwork.com/game/
	v/68851/">#95</a>\n\n</BODY>\n</HTML>
STATUS:CONFIRMED
CLASS:PUBLIC
URL:https://www.golnetwork.com/game/v/68851/
X-MICROSOFT-CDO-BUSYSTATUS:BUSY
X-MICROSOFT-CDO-IMPORTANCE:1
END:VEVENT
BEGIN:VEVENT
UID:g73iq@games.golnetwork.com
LOCATION:North Toronto - Field 2
GEO:43.7098022;-79.3963055
CREATED:20150511T182743Z
DTSTART:20150515T223000Z
DTEND:20150515T233000Z
DTSTAMP:20260421T183427Z
SUMMARY:Samba Power Demons vs. Superman Returns
DESCRIPTION:Superman Returns vs. Samba Power DemonsPlus d'info : #96
X-ALT-DESC;FMTTYPE=text/html:<!DOCTYPE HTML PUBLIC "-//W3C//DTD HTML 3.2//E
	N">\n<HTML>\n<HEAD>\n<TITLE></TITLE>\n</HEAD>\n<BODY>\n<h3>Superman Returns
	 vs. Samba Power Demons</h3>Plus d'info : <a href="https://www.golnetwork.c
	om/game/v/69241/">#96</a>\n\n</BODY>\n</HTML>
STATUS:CONFIRMED
CLASS:PUBLIC
URL:https://www.golnetwork.com/game/v/69241/
X-MICROSOFT-CDO-BUSYSTATUS:BUSY
X-MICROSOFT-CDO-IMPORTANCE:1
END:VEVENT
BEGIN:VEVENT
UID:g72h0@games.golnetwork.com
LOCATION:North Toronto - Field 1
GEO:43.7098022;-79.3963055
CREATED:20150504T164112Z
DTSTART:20150515T233000Z
DTEND:20150516T002000Z
DTSTAMP:20260421T183427Z
SUMMARY:Superman Returns vs. Maxus FC
DESCRIPTION:Maxus FC vs. Superman ReturnsPlus d'info : #97
X-ALT-DESC;FMTTYPE=text/html:<!DOCTYPE HTML PUBLIC "-//W3C//DTD HTML 3.2//E
	N">\n<HTML>\n<HEAD>\n<TITLE></TITLE>\n</HEAD>\n<BODY>\n<h3>Maxus FC vs. Sup
	erman Returns</h3>Plus d'info : <a href="https://www.golnetwork.com/game/v/
	68850/">#97</a>\n\n</BODY>\n</HTML>
STATUS:CONFIRMED
CLASS:PUBLIC
URL:https://www.golnetwork.com/game/v/68850/
X-MICROSOFT-CDO-BUSYSTATUS:BUSY
X-MICROSOFT-CDO-IMPORTANCE:1
END:VEVENT
BEGIN:VEVENT
UID:g72gp@games.golnetwork.com
LOCATION:North Toronto - Field 2
GEO:43.7098022;-79.3963055
CREATED:20150504T164059Z
DTSTART:20150515T233000Z
DTEND:20150516T002000Z
DTSTAMP:20260421T183427Z
SUMMARY:JDMI FC vs. XTSC Gunners
DESCRIPTION:XTSC Gunners vs. JDMI FCPlus d'info : #98
X-ALT-DESC;FMTTYPE=text/html:<!DOCTYPE HTML PUBLIC "-//W3C//DTD HTML 3.2//E
	N">\n<HTML>\n<HEAD>\n<TITLE></TITLE>\n</HEAD>\n<BODY>\n<h3>XTSC Gunners vs.
	 JDMI FC</h3>Plus d'info : <a href="https://www.golnetwork.com/game/v/68849
	/">#98</a>\n\n</BODY>\n</HTML>
STATUS:CONFIRMED
CLASS:PUBLIC
URL:https://www.golnetwork.com/game/v/68849/
X-MICROSOFT-CDO-BUSYSTATUS:BUSY
X-MICROSOFT-CDO-IMPORTANCE:1
END:VEVENT
BEGIN:VEVENT
UID:g72h8@games.golnetwork.com
LOCATION:North Toronto - Field 1
GEO:43.7098022;-79.3963055
CREATED:20150504T164222Z
DTSTART:20150522T222000Z
DTEND:20150522T231000Z
DTSTAMP:20260421T183427Z
SUMMARY:XTSC Show Stoppers vs. Samba Power Demons
DESCRIPTION:Samba Power Demons vs. XTSC Show StoppersPlus d'info : #132
X-ALT-DESC;FMTTYPE=text/html:<!DOCTYPE HTML PUBLIC "-//W3C//DTD HTML 3.2//E
	N">\n<HTML>\n<HEAD>\n<TITLE></TITLE>\n</HEAD>\n<BODY>\n<h3>Samba Power Demo
	ns vs. XTSC Show Stoppers</h3>Plus d'info : <a href="https://www.golnetwork
	.com/game/v/68854/">#132</a>\n\n</BODY>\n</HTML>
STATUS:CONFIRMED
CLASS:PUBLIC
URL:https://www.golnetwork.com/game/v/68854/
X-MICROSOFT-CDO-BUSYSTATUS:BUSY
X-MICROSOFT-CDO-IMPORTANCE:1
END:VEVENT
BEGIN:VEVENT
UID:g72h6@games.golnetwork.com
LOCATION:North Toronto - Field 1
GEO:43.7098022;-79.3963055
CREATED:20150504T164208Z
DTSTART:20150522T231500Z
DTEND:20150523T000500Z
DTSTAMP:20260421T183427Z
SUMMARY:JDMI FC vs. Superman Returns
DESCRIPTION:Superman Returns vs. JDMI FCPlus d'info : #133
X-ALT-DESC;FMTTYPE=text/html:<!DOCTYPE HTML PUBLIC "-//W3C//DTD HTML 3.2//E
	N">\n<HTML>\n<HEAD>\n<TITLE></TITLE>\n</HEAD>\n<BODY>\n<h3>Superman Returns
	 vs. JDMI FC</h3>Plus d'info : <a href="https://www.golnetwork.com/game/v/6
	8853/">#133</a>\n\n</BODY>\n</HTML>
STATUS:CONFIRMED
CLASS:PUBLIC
URL:https://www.golnetwork.com/game/v/68853/
X-MICROSOFT-CDO-BUSYSTATUS:BUSY
X-MICROSOFT-CDO-IMPORTANCE:1
END:VEVENT
BEGIN:VEVENT
UID:g72h4@games.golnetwork.com
LOCATION:North Toronto - Field 1
GEO:43.7098022;-79.3963055
CREATED:20150504T164157Z
DTSTART:20150523T001000Z
DTEND:20150523T010000Z
DTSTAMP:20260421T183427Z
SUMMARY:Maxus FC vs. XTSC Gunners
DESCRIPTION:XTSC Gunners vs. Maxus FCPlus d'info : #134
X-ALT-DESC;FMTTYPE=text/html:<!DOCTYPE HTML PUBLIC "-//W3C//DTD HTML 3.2//E
	N">\n<HTML>\n<HEAD>\n<TITLE></TITLE>\n</HEAD>\n<BODY>\n<h3>XTSC Gunners vs.
	 Maxus FC</h3>Plus d'info : <a href="https://www.golnetwork.com/game/v/6885
	2/">#134</a>\n\n</BODY>\n</HTML>
STATUS:CONFIRMED
CLASS:PUBLIC
URL:https://www.golnetwork.com/game/v/68852/
X-MICROSOFT-CDO-BUSYSTATUS:BUSY
X-MICROSOFT-CDO-IMPORTANCE:1
END:VEVENT
BEGIN:VEVENT
UID:g72ha@games.golnetwork.com
LOCATION:North Toronto - Field 1
GEO:43.7098022;-79.3963055
CREATED:20150504T164250Z
DTSTART:20150529T222000Z
DTEND:20150529T231000Z
DTSTAMP:20260421T183427Z
SUMMARY:Maxus FC vs. Samba Power Demons
DESCRIPTION:Samba Power Demons vs. Maxus FCPlus d'info : #172
X-ALT-DESC;FMTTYPE=text/html:<!DOCTYPE HTML PUBLIC "-//W3C//DTD HTML 3.2//E
	N">\n<HTML>\n<HEAD>\n<TITLE></TITLE>\n</HEAD>\n<BODY>\n<h3>Samba Power Demo
	ns vs. Maxus FC</h3>Plus d'info : <a href="https://www.golnetwork.com/game/
	v/68855/">#172</a>\n\n</BODY>\n</HTML>
STATUS:CONFIRMED
CLASS:PUBLIC
URL:https://www.golnetwork.com/game/v/68855/
X-MICROSOFT-CDO-BUSYSTATUS:BUSY
X-MICROSOFT-CDO-IMPORTANCE:1
END:VEVENT
BEGIN:VEVENT
UID:g72hc@games.golnetwork.com
LOCATION:North Toronto - Field 1
GEO:43.7098022;-79.3963055
CREATED:20150504T164303Z
DTSTART:20150529T231500Z
DTEND:20150530T000500Z
DTSTAMP:20260421T183427Z
SUMMARY:XTSC Gunners vs. Superman Returns
DESCRIPTION:Superman Returns vs. XTSC GunnersPlus d'info : #173
X-ALT-DESC;FMTTYPE=text/html:<!DOCTYPE HTML PUBLIC "-//W3C//DTD HTML 3.2//E
	N">\n<HTML>\n<HEAD>\n<TITLE></TITLE>\n</HEAD>\n<BODY>\n<h3>Superman Returns
	 vs. XTSC Gunners</h3>Plus d'info : <a href="https://www.golnetwork.com/gam
	e/v/68856/">#173</a>\n\n</BODY>\n</HTML>
STATUS:CONFIRMED
CLASS:PUBLIC
URL:https://www.golnetwork.com/game/v/68856/
X-MICROSOFT-CDO-BUSYSTATUS:BUSY
X-MICROSOFT-CDO-IMPORTANCE:1
END:VEVENT
BEGIN:VEVENT
UID:g72he@games.golnetwork.com
LOCATION:North Toronto - Field 1
GEO:43.7098022;-79.3963055
CREATED:20150504T164317Z
DTSTART:20150530T001000Z
DTEND:20150530T010000Z
DTSTAMP:20260421T183427Z
SUMMARY:JDMI FC vs. XTSC Show Stoppers
DESCRIPTION:XTSC Show Stoppers vs. JDMI FCPlus d'info : #177
X-ALT-DESC;FMTTYPE=text/html:<!DOCTYPE HTML PUBLIC "-//W3C//DTD HTML 3.2//E
	N">\n<HTML>\n<HEAD>\n<TITLE></TITLE>\n</HEAD>\n<BODY>\n<h3>XTSC Show Stoppe
	rs vs. JDMI FC</h3>Plus d'info : <a href="https://www.golnetwork.com/game/v
	/68857/">#177</a>\n\n</BODY>\n</HTML>
STATUS:CONFIRMED
CLASS:PUBLIC
URL:https://www.golnetwork.com/game/v/68857/
X-MICROSOFT-CDO-BUSYSTATUS:BUSY
X-MICROSOFT-CDO-IMPORTANCE:1
END:VEVENT
BEGIN:VEVENT
UID:g72hg@games.golnetwork.com
LOCATION:North Toronto - Field 1
GEO:43.7098022;-79.3963055
CREATED:20150504T164338Z
DTSTART:20150605T222000Z
DTEND:20150605T231000Z
DTSTAMP:20260421T183427Z
SUMMARY:Samba Power Demons vs. XTSC Gunners
DESCRIPTION:XTSC Gunners vs. Samba Power DemonsPlus d'info : #227
X-ALT-DESC;FMTTYPE=text/html:<!DOCTYPE HTML PUBLIC "-//W3C//DTD HTML 3.2//E
	N">\n<HTML>\n<HEAD>\n<TITLE></TITLE>\n</HEAD>\n<BODY>\n<h3>XTSC Gunners vs.
	 Samba Power Demons</h3>Plus d'info : <a href="https://www.golnetwork.com/g
	ame/v/68858/">#227</a>\n\n</BODY>\n</HTML>
STATUS:CONFIRMED
CLASS:PUBLIC
URL:https://www.golnetwork.com/game/v/68858/
X-MICROSOFT-CDO-BUSYSTATUS:BUSY
X-MICROSOFT-CDO-IMPORTANCE:1
END:VEVENT
BEGIN:VEVENT
UID:g72hi@games.golnetwork.com
LOCATION:North Toronto - Field 1
GEO:43.7098022;-79.3963055
CREATED:20150504T164357Z
DTSTART:20150605T231500Z
DTEND:20150606T000500Z
DTSTAMP:20260421T183427Z
SUMMARY:JDMI FC vs. Maxus FC
DESCRIPTION:Maxus FC vs. JDMI FCPlus d'info : #228
X-ALT-DESC;FMTTYPE=text/html:<!DOCTYPE HTML PUBLIC "-//W3C//DTD HTML 3.2//E
	N">\n<HTML>\n<HEAD>\n<TITLE></TITLE>\n</HEAD>\n<BODY>\n<h3>Maxus FC vs. JDM
	I FC</h3>Plus d'info : <a href="https://www.golnetwork.com/game/v/68859/">#
	228</a>\n\n</BODY>\n</HTML>
STATUS:CONFIRMED
CLASS:PUBLIC
URL:https://www.golnetwork.com/game/v/68859/
X-MICROSOFT-CDO-BUSYSTATUS:BUSY
X-MICROSOFT-CDO-IMPORTANCE:1
END:VEVENT
BEGIN:VEVENT
UID:g72hk@games.golnetwork.com
LOCATION:North Toronto - Field 1
GEO:43.7098022;-79.3963055
CREATED:20150504T164414Z
DTSTART:20150606T001000Z
DTEND:20150606T010000Z
DTSTAMP:20260421T183427Z
SUMMARY:Superman Returns vs. XTSC Show Stoppers
DESCRIPTION:XTSC Show Stoppers vs. Superman ReturnsPlus d'info : #232
X-ALT-DESC;FMTTYPE=text/html:<!DOCTYPE HTML PUBLIC "-//W3C//DTD HTML 3.2//E
	N">\n<HTML>\n<HEAD>\n<TITLE></TITLE>\n</HEAD>\n<BODY>\n<h3>XTSC Show Stoppe
	rs vs. Superman Returns</h3>Plus d'info : <a href="https://www.golnetwork.c
	om/game/v/68860/">#232</a>\n\n</BODY>\n</HTML>
STATUS:CONFIRMED
CLASS:PUBLIC
URL:https://www.golnetwork.com/game/v/68860/
X-MICROSOFT-CDO-BUSYSTATUS:BUSY
X-MICROSOFT-CDO-IMPORTANCE:1
END:VEVENT
BEGIN:VEVENT
UID:g72hm@games.golnetwork.com
LOCATION:North Toronto - Field 1
GEO:43.7098022;-79.3963055
CREATED:20150504T164449Z
DTSTART:20150612T222000Z
DTEND:20150612T231000Z
DTSTAMP:20260421T183427Z
SUMMARY:Samba Power Demons vs. JDMI FC
DESCRIPTION:JDMI FC vs. Samba Power DemonsPlus d'info : #282
X-ALT-DESC;FMTTYPE=text/html:<!DOCTYPE HTML PUBLIC "-//W3C//DTD HTML 3.2//E
	N">\n<HTML>\n<HEAD>\n<TITLE></TITLE>\n</HEAD>\n<BODY>\n<h3>JDMI FC vs. Samb
	a Power Demons</h3>Plus d'info : <a href="https://www.golnetwork.com/game/v
	/68861/">#282</a>\n\n</BODY>\n</HTML>
STATUS:CONFIRMED
CLASS:PUBLIC
URL:https://www.golnetwork.com/game/v/68861/
X-MICROSOFT-CDO-BUSYSTATUS:BUSY
X-MICROSOFT-CDO-IMPORTANCE:1
END:VEVENT
BEGIN:VEVENT
UID:g72ho@games.golnetwork.com
LOCATION:North Toronto - Field 1
GEO:43.7098022;-79.3963055
CREATED:20150504T164519Z
DTSTART:20150612T231500Z
DTEND:20150613T000500Z
DTSTAMP:20260421T183427Z
SUMMARY:XTSC Show Stoppers vs. XTSC Gunners
DESCRIPTION:XTSC Gunners vs. XTSC Show StoppersPlus d'info : #283
X-ALT-DESC;FMTTYPE=text/html:<!DOCTYPE HTML PUBLIC "-//W3C//DTD HTML 3.2//E
	N">\n<HTML>\n<HEAD>\n<TITLE></TITLE>\n</HEAD>\n<BODY>\n<h3>XTSC Gunners vs.
	 XTSC Show Stoppers</h3>Plus d'info : <a href="https://www.golnetwork.com/g
	ame/v/68862/">#283</a>\n\n</BODY>\n</HTML>
STATUS:CONFIRMED
CLASS:PUBLIC
URL:https://www.golnetwork.com/game/v/68862/
X-MICROSOFT-CDO-BUSYSTATUS:BUSY
X-MICROSOFT-CDO-IMPORTANCE:1
END:VEVENT
BEGIN:VEVENT
UID:g72hq@games.golnetwork.com
LOCATION:North Toronto - Field 1
GEO:43.7098022;-79.3963055
CREATED:20150504T164534Z
DTSTART:20150613T001000Z
DTEND:20150613T010000Z
DTSTAMP:20260421T183427Z
SUMMARY:Superman Returns vs. Maxus FC
DESCRIPTION:Maxus FC vs. Superman ReturnsPlus d'info : #287
X-ALT-DESC;FMTTYPE=text/html:<!DOCTYPE HTML PUBLIC "-//W3C//DTD HTML 3.2//E
	N">\n<HTML>\n<HEAD>\n<TITLE></TITLE>\n</HEAD>\n<BODY>\n<h3>Maxus FC vs. Sup
	erman Returns</h3>Plus d'info : <a href="https://www.golnetwork.com/game/v/
	68863/">#287</a>\n\n</BODY>\n</HTML>
STATUS:CONFIRMED
CLASS:PUBLIC
URL:https://www.golnetwork.com/game/v/68863/
X-MICROSOFT-CDO-BUSYSTATUS:BUSY
X-MICROSOFT-CDO-IMPORTANCE:1
END:VEVENT
BEGIN:VEVENT
UID:g72i3@games.golnetwork.com
LOCATION:North Toronto - Field 1
GEO:43.7098022;-79.3963055
CREATED:20150504T164606Z
DTSTART:20150619T222000Z
DTEND:20150619T231000Z
DTSTAMP:20260421T183427Z
SUMMARY:Samba Power Demons vs. Superman Returns
DESCRIPTION:Superman Returns vs. Samba Power DemonsPlus d'info : #337
X-ALT-DESC;FMTTYPE=text/html:<!DOCTYPE HTML PUBLIC "-//W3C//DTD HTML 3.2//E
	N">\n<HTML>\n<HEAD>\n<TITLE></TITLE>\n</HEAD>\n<BODY>\n<h3>Superman Returns
	 vs. Samba Power Demons</h3>Plus d'info : <a href="https://www.golnetwork.c
	om/game/v/68865/">#337</a>\n\n</BODY>\n</HTML>
STATUS:CONFIRMED
CLASS:PUBLIC
URL:https://www.golnetwork.com/game/v/68865/
X-MICROSOFT-CDO-BUSYSTATUS:BUSY
X-MICROSOFT-CDO-IMPORTANCE:1
END:VEVENT
BEGIN:VEVENT
UID:g72i5@games.golnetwork.com
LOCATION:North Toronto - Field 1
GEO:43.7098022;-79.3963055
CREATED:20150504T164621Z
DTSTART:20150619T231500Z
DTEND:20150620T000500Z
DTSTAMP:20260421T183427Z
SUMMARY:XTSC Show Stoppers vs. Maxus FC
DESCRIPTION:Maxus FC vs. XTSC Show StoppersPlus d'info : #338
X-ALT-DESC;FMTTYPE=text/html:<!DOCTYPE HTML PUBLIC "-//W3C//DTD HTML 3.2//E
	N">\n<HTML>\n<HEAD>\n<TITLE></TITLE>\n</HEAD>\n<BODY>\n<h3>Maxus FC vs. XTS
	C Show Stoppers</h3>Plus d'info : <a href="https://www.golnetwork.com/game/
	v/68866/">#338</a>\n\n</BODY>\n</HTML>
STATUS:CONFIRMED
CLASS:PUBLIC
URL:https://www.golnetwork.com/game/v/68866/
X-MICROSOFT-CDO-BUSYSTATUS:BUSY
X-MICROSOFT-CDO-IMPORTANCE:1
END:VEVENT
BEGIN:VEVENT
UID:g72i1@games.golnetwork.com
LOCATION:North Toronto - Field 1
GEO:43.7098022;-79.3963055
CREATED:20150504T164554Z
DTSTART:20150620T001000Z
DTEND:20150620T010000Z
DTSTAMP:20260421T183427Z
SUMMARY:XTSC Gunners vs. JDMI FC
DESCRIPTION:JDMI FC vs. XTSC GunnersPlus d'info : #342
X-ALT-DESC;FMTTYPE=text/html:<!DOCTYPE HTML PUBLIC "-//W3C//DTD HTML 3.2//E
	N">\n<HTML>\n<HEAD>\n<TITLE></TITLE>\n</HEAD>\n<BODY>\n<h3>JDMI FC vs. XTSC
	 Gunners</h3>Plus d'info : <a href="https://www.golnetwork.com/game/v/68864
	/">#342</a>\n\n</BODY>\n</HTML>
STATUS:CONFIRMED
CLASS:PUBLIC
URL:https://www.golnetwork.com/game/v/68864/
X-MICROSOFT-CDO-BUSYSTATUS:BUSY
X-MICROSOFT-CDO-IMPORTANCE:1
END:VEVENT
BEGIN:VEVENT
UID:g72i7@games.golnetwork.com
LOCATION:North Toronto - Field 1
GEO:43.7098022;-79.3963055
CREATED:20150504T164636Z
DTSTART:20150626T231500Z
DTEND:20150627T000500Z
DTSTAMP:20260421T183427Z
SUMMARY:Superman Returns vs. Maxus FC
DESCRIPTION:Maxus FC vs. Superman ReturnsPlus d'info : #384
X-ALT-DESC;FMTTYPE=text/html:<!DOCTYPE HTML PUBLIC "-//W3C//DTD HTML 3.2//E
	N">\n<HTML>\n<HEAD>\n<TITLE></TITLE>\n</HEAD>\n<BODY>\n<h3>Maxus FC vs. Sup
	erman Returns</h3>Plus d'info : <a href="https://www.golnetwork.com/game/v/
	68867/">#384</a>\n\n</BODY>\n</HTML>
STATUS:CONFIRMED
CLASS:PUBLIC
URL:https://www.golnetwork.com/game/v/68867/
X-MICROSOFT-CDO-BUSYSTATUS:BUSY
X-MICROSOFT-CDO-IMPORTANCE:1
END:VEVENT
BEGIN:VEVENT
UID:g72i9@games.golnetwork.com
LOCATION:North Toronto - Field 1
GEO:43.7098022;-79.3963055
CREATED:20150504T164645Z
DTSTART:20150703T222000Z
DTEND:20150703T231000Z
DTSTAMP:20260421T183427Z
SUMMARY:Superman Returns vs. Samba Power Demons
DESCRIPTION:Samba Power Demons vs. Superman ReturnsPlus d'info : #423
X-ALT-DESC;FMTTYPE=text/html:<!DOCTYPE HTML PUBLIC "-//W3C//DTD HTML 3.2//E
	N">\n<HTML>\n<HEAD>\n<TITLE></TITLE>\n</HEAD>\n<BODY>\n<h3>Samba Power Demo
	ns vs. Superman Returns</h3>Plus d'info : <a href="https://www.golnetwork.c
	om/game/v/68868/">#423</a>\n\n</BODY>\n</HTML>
STATUS:CONFIRMED
CLASS:PUBLIC
URL:https://www.golnetwork.com/game/v/68868/
X-MICROSOFT-CDO-BUSYSTATUS:BUSY
X-MICROSOFT-CDO-IMPORTANCE:1
END:VEVENT
BEGIN:VEVENT
UID:g72ib@games.golnetwork.com
LOCATION:North Toronto - Field 1
GEO:43.7098022;-79.3963055
CREATED:20150504T164652Z
DTSTART:20150704T001000Z
DTEND:20150704T010000Z
DTSTAMP:20260421T183427Z
SUMMARY:XTSC Show Stoppers vs. Maxus FC
DESCRIPTION:Maxus FC vs. XTSC Show StoppersPlus d'info : #428
X-ALT-DESC;FMTTYPE=text/html:<!DOCTYPE HTML PUBLIC "-//W3C//DTD HTML 3.2//E
	N">\n<HTML>\n<HEAD>\n<TITLE></TITLE>\n</HEAD>\n<BODY>\n<h3>Maxus FC vs. XTS
	C Show Stoppers</h3>Plus d'info : <a href="https://www.golnetwork.com/game/
	v/68869/">#428</a>\n\n</BODY>\n</HTML>
STATUS:CONFIRMED
CLASS:PUBLIC
URL:https://www.golnetwork.com/game/v/68869/
X-MICROSOFT-CDO-BUSYSTATUS:BUSY
X-MICROSOFT-CDO-IMPORTANCE:1
END:VEVENT
END:VCALENDAR
