BEGIN:VCALENDAR
PRODID:-//gdesolutions.com//MV Framework 1.0.0.1607 Calendar//EN
VERSION:2.0
METHOD:PUBLISH
CALSCALE:GREGORIAN
BEGIN:VEVENT
UID:g7335@games.golnetwork.com
LOCATION:Cherry Beach West 1
CREATED:20150506T194345Z
DTSTART:20150510T210000Z
DTEND:20150510T220000Z
DTSTAMP:20260422T224540Z
SUMMARY:XTSC Last Minutes vs. BVB Honeybees
DESCRIPTION:BVB Honeybees vs. XTSC Last MinutesPlus d'info : #49
X-ALT-DESC;FMTTYPE=text/html:<!DOCTYPE HTML PUBLIC "-//W3C//DTD HTML 3.2//E
	N">\n<HTML>\n<HEAD>\n<TITLE></TITLE>\n</HEAD>\n<BODY>\n<h3>BVB Honeybees vs
	. XTSC Last Minutes</h3>Plus d'info : <a href="https://www.golnetwork.com/g
	ame/v/69028/">#49</a>\n\n</BODY>\n</HTML>
STATUS:CONFIRMED
CLASS:PUBLIC
URL:https://www.golnetwork.com/game/v/69028/
X-MICROSOFT-CDO-BUSYSTATUS:BUSY
X-MICROSOFT-CDO-IMPORTANCE:1
END:VEVENT
BEGIN:VEVENT
UID:g7337@games.golnetwork.com
LOCATION:Cherry Beach West 2
CREATED:20150506T194355Z
DTSTART:20150510T210000Z
DTEND:20150510T220000Z
DTSTAMP:20260422T224540Z
SUMMARY:Cherry Street FC vs. It's Getting Messi
DESCRIPTION:It's Getting Messi vs. Cherry Street FCPlus d'info : #50
X-ALT-DESC;FMTTYPE=text/html:<!DOCTYPE HTML PUBLIC "-//W3C//DTD HTML 3.2//E
	N">\n<HTML>\n<HEAD>\n<TITLE></TITLE>\n</HEAD>\n<BODY>\n<h3>It's Getting Mes
	si vs. Cherry Street FC</h3>Plus d'info : <a href="https://www.golnetwork.c
	om/game/v/69029/">#50</a>\n\n</BODY>\n</HTML>
STATUS:CONFIRMED
CLASS:PUBLIC
URL:https://www.golnetwork.com/game/v/69029/
X-MICROSOFT-CDO-BUSYSTATUS:BUSY
X-MICROSOFT-CDO-IMPORTANCE:1
END:VEVENT
BEGIN:VEVENT
UID:g7339@games.golnetwork.com
LOCATION:Cherry Beach West 1
CREATED:20150506T194413Z
DTSTART:20150510T220000Z
DTEND:20150510T230000Z
DTSTAMP:20260422T224540Z
SUMMARY:Cherry Street FC vs. Pink Panthers FC
DESCRIPTION:Pink Panthers FC vs. Cherry Street FCPlus d'info : #53
X-ALT-DESC;FMTTYPE=text/html:<!DOCTYPE HTML PUBLIC "-//W3C//DTD HTML 3.2//E
	N">\n<HTML>\n<HEAD>\n<TITLE></TITLE>\n</HEAD>\n<BODY>\n<h3>Pink Panthers FC
	 vs. Cherry Street FC</h3>Plus d'info : <a href="https://www.golnetwork.com
	/game/v/69030/">#53</a>\n\n</BODY>\n</HTML>
STATUS:CONFIRMED
CLASS:PUBLIC
URL:https://www.golnetwork.com/game/v/69030/
X-MICROSOFT-CDO-BUSYSTATUS:BUSY
X-MICROSOFT-CDO-IMPORTANCE:1
END:VEVENT
BEGIN:VEVENT
UID:g733b@games.golnetwork.com
LOCATION:Cherry Beach West 1
CREATED:20150506T194443Z
DTSTART:20150524T210000Z
DTEND:20150524T220000Z
DTSTAMP:20260422T224540Z
SUMMARY:Cherry Street FC vs. Shot In The Dark
DESCRIPTION:Shot In The Dark vs. Cherry Street FCPlus d'info : #135
X-ALT-DESC;FMTTYPE=text/html:<!DOCTYPE HTML PUBLIC "-//W3C//DTD HTML 3.2//E
	N">\n<HTML>\n<HEAD>\n<TITLE></TITLE>\n</HEAD>\n<BODY>\n<h3>Shot In The Dark
	 vs. Cherry Street FC</h3>Plus d'info : <a href="https://www.golnetwork.com
	/game/v/69031/">#135</a>\n\n</BODY>\n</HTML>
STATUS:CONFIRMED
CLASS:PUBLIC
URL:https://www.golnetwork.com/game/v/69031/
X-MICROSOFT-CDO-BUSYSTATUS:BUSY
X-MICROSOFT-CDO-IMPORTANCE:1
END:VEVENT
BEGIN:VEVENT
UID:g733d@games.golnetwork.com
LOCATION:Cherry Beach West 1
CREATED:20150506T194454Z
DTSTART:20150524T220000Z
DTEND:20150524T230000Z
DTSTAMP:20260422T224540Z
SUMMARY:XTSC Last Minutes vs. Pink Panthers FC
DESCRIPTION:Pink Panthers FC vs. XTSC Last MinutesPlus d'info : #139
X-ALT-DESC;FMTTYPE=text/html:<!DOCTYPE HTML PUBLIC "-//W3C//DTD HTML 3.2//E
	N">\n<HTML>\n<HEAD>\n<TITLE></TITLE>\n</HEAD>\n<BODY>\n<h3>Pink Panthers FC
	 vs. XTSC Last Minutes</h3>Plus d'info : <a href="https://www.golnetwork.co
	m/game/v/69032/">#139</a>\n\n</BODY>\n</HTML>
STATUS:CONFIRMED
CLASS:PUBLIC
URL:https://www.golnetwork.com/game/v/69032/
X-MICROSOFT-CDO-BUSYSTATUS:BUSY
X-MICROSOFT-CDO-IMPORTANCE:1
END:VEVENT
BEGIN:VEVENT
UID:g733f@games.golnetwork.com
LOCATION:Cherry Beach West 2
CREATED:20150506T194509Z
DTSTART:20150524T220000Z
DTEND:20150524T230000Z
DTSTAMP:20260422T224540Z
SUMMARY:It's Getting Messi vs. BVB Honeybees
DESCRIPTION:BVB Honeybees vs. It's Getting MessiPlus d'info : #140
X-ALT-DESC;FMTTYPE=text/html:<!DOCTYPE HTML PUBLIC "-//W3C//DTD HTML 3.2//E
	N">\n<HTML>\n<HEAD>\n<TITLE></TITLE>\n</HEAD>\n<BODY>\n<h3>BVB Honeybees vs
	. It's Getting Messi</h3>Plus d'info : <a href="https://www.golnetwork.com/
	game/v/69033/">#140</a>\n\n</BODY>\n</HTML>
STATUS:CONFIRMED
CLASS:PUBLIC
URL:https://www.golnetwork.com/game/v/69033/
X-MICROSOFT-CDO-BUSYSTATUS:BUSY
X-MICROSOFT-CDO-IMPORTANCE:1
END:VEVENT
BEGIN:VEVENT
UID:g733l@games.golnetwork.com
LOCATION:Cherry Beach West 1
CREATED:20150506T194556Z
DTSTART:20150531T210000Z
DTEND:20150531T220000Z
DTSTAMP:20260422T224540Z
SUMMARY:XTSC Last Minutes vs. Cherry Street FC
DESCRIPTION:Cherry Street FC vs. XTSC Last MinutesPlus d'info : #181
X-ALT-DESC;FMTTYPE=text/html:<!DOCTYPE HTML PUBLIC "-//W3C//DTD HTML 3.2//E
	N">\n<HTML>\n<HEAD>\n<TITLE></TITLE>\n</HEAD>\n<BODY>\n<h3>Cherry Street FC
	 vs. XTSC Last Minutes</h3>Plus d'info : <a href="https://www.golnetwork.co
	m/game/v/69036/">#181</a>\n\n</BODY>\n</HTML>
STATUS:CONFIRMED
CLASS:PUBLIC
URL:https://www.golnetwork.com/game/v/69036/
X-MICROSOFT-CDO-BUSYSTATUS:BUSY
X-MICROSOFT-CDO-IMPORTANCE:1
END:VEVENT
BEGIN:VEVENT
UID:g733j@games.golnetwork.com
LOCATION:Cherry Beach West 2
CREATED:20150506T194542Z
DTSTART:20150531T210000Z
DTEND:20150531T220000Z
DTSTAMP:20260422T224540Z
SUMMARY:Pink Panthers FC vs. BVB Honeybees
DESCRIPTION:BVB Honeybees vs. Pink Panthers FCPlus d'info : #182
X-ALT-DESC;FMTTYPE=text/html:<!DOCTYPE HTML PUBLIC "-//W3C//DTD HTML 3.2//E
	N">\n<HTML>\n<HEAD>\n<TITLE></TITLE>\n</HEAD>\n<BODY>\n<h3>BVB Honeybees vs
	. Pink Panthers FC</h3>Plus d'info : <a href="https://www.golnetwork.com/ga
	me/v/69035/">#182</a>\n\n</BODY>\n</HTML>
STATUS:CONFIRMED
CLASS:PUBLIC
URL:https://www.golnetwork.com/game/v/69035/
X-MICROSOFT-CDO-BUSYSTATUS:BUSY
X-MICROSOFT-CDO-IMPORTANCE:1
END:VEVENT
BEGIN:VEVENT
UID:g733h@games.golnetwork.com
LOCATION:Cherry Beach West 1
CREATED:20150506T194531Z
DTSTART:20150531T220000Z
DTEND:20150531T230000Z
DTSTAMP:20260422T224540Z
SUMMARY:It's Getting Messi vs. Shot In The Dark
DESCRIPTION:Shot In The Dark vs. It's Getting MessiPlus d'info : #186
X-ALT-DESC;FMTTYPE=text/html:<!DOCTYPE HTML PUBLIC "-//W3C//DTD HTML 3.2//E
	N">\n<HTML>\n<HEAD>\n<TITLE></TITLE>\n</HEAD>\n<BODY>\n<h3>Shot In The Dark
	 vs. It's Getting Messi</h3>Plus d'info : <a href="https://www.golnetwork.c
	om/game/v/69034/">#186</a>\n\n</BODY>\n</HTML>
STATUS:CONFIRMED
CLASS:PUBLIC
URL:https://www.golnetwork.com/game/v/69034/
X-MICROSOFT-CDO-BUSYSTATUS:BUSY
X-MICROSOFT-CDO-IMPORTANCE:1
END:VEVENT
BEGIN:VEVENT
UID:g733n@games.golnetwork.com
LOCATION:Cherry Beach West 1
CREATED:20150506T194616Z
DTSTART:20150607T210000Z
DTEND:20150607T220000Z
DTSTAMP:20260422T224540Z
SUMMARY:Pink Panthers FC vs. Cherry Street FC
DESCRIPTION:Cherry Street FC vs. Pink Panthers FCPlus d'info : #236
X-ALT-DESC;FMTTYPE=text/html:<!DOCTYPE HTML PUBLIC "-//W3C//DTD HTML 3.2//E
	N">\n<HTML>\n<HEAD>\n<TITLE></TITLE>\n</HEAD>\n<BODY>\n<h3>Cherry Street FC
	 vs. Pink Panthers FC</h3>Plus d'info : <a href="https://www.golnetwork.com
	/game/v/69037/">#236</a>\n\n</BODY>\n</HTML>
STATUS:CONFIRMED
CLASS:PUBLIC
URL:https://www.golnetwork.com/game/v/69037/
X-MICROSOFT-CDO-BUSYSTATUS:BUSY
X-MICROSOFT-CDO-IMPORTANCE:1
END:VEVENT
BEGIN:VEVENT
UID:g733p@games.golnetwork.com
LOCATION:Cherry Beach West 1
CREATED:20150506T194629Z
DTSTART:20150607T220000Z
DTEND:20150607T230000Z
DTSTAMP:20260422T224540Z
SUMMARY:BVB Honeybees vs. Shot In The Dark
DESCRIPTION:Shot In The Dark vs. BVB HoneybeesPlus d'info : #240
X-ALT-DESC;FMTTYPE=text/html:<!DOCTYPE HTML PUBLIC "-//W3C//DTD HTML 3.2//E
	N">\n<HTML>\n<HEAD>\n<TITLE></TITLE>\n</HEAD>\n<BODY>\n<h3>Shot In The Dark
	 vs. BVB Honeybees</h3>Plus d'info : <a href="https://www.golnetwork.com/ga
	me/v/69038/">#240</a>\n\n</BODY>\n</HTML>
STATUS:CONFIRMED
CLASS:PUBLIC
URL:https://www.golnetwork.com/game/v/69038/
X-MICROSOFT-CDO-BUSYSTATUS:BUSY
X-MICROSOFT-CDO-IMPORTANCE:1
END:VEVENT
BEGIN:VEVENT
UID:g7340@games.golnetwork.com
LOCATION:Cherry Beach West 2
CREATED:20150506T194639Z
DTSTART:20150607T220000Z
DTEND:20150607T230000Z
DTSTAMP:20260422T224540Z
SUMMARY:It's Getting Messi vs. XTSC Last Minutes
DESCRIPTION:XTSC Last Minutes vs. It's Getting MessiPlus d'info : #241
X-ALT-DESC;FMTTYPE=text/html:<!DOCTYPE HTML PUBLIC "-//W3C//DTD HTML 3.2//E
	N">\n<HTML>\n<HEAD>\n<TITLE></TITLE>\n</HEAD>\n<BODY>\n<h3>XTSC Last Minute
	s vs. It's Getting Messi</h3>Plus d'info : <a href="https://www.golnetwork.
	com/game/v/69039/">#241</a>\n\n</BODY>\n</HTML>
STATUS:CONFIRMED
CLASS:PUBLIC
URL:https://www.golnetwork.com/game/v/69039/
X-MICROSOFT-CDO-BUSYSTATUS:BUSY
X-MICROSOFT-CDO-IMPORTANCE:1
END:VEVENT
BEGIN:VEVENT
UID:g7342@games.golnetwork.com
LOCATION:Cherry Beach West 1
CREATED:20150506T194700Z
DTSTART:20150614T210000Z
DTEND:20150614T220000Z
DTSTAMP:20260422T224540Z
SUMMARY:Pink Panthers FC vs. It's Getting Messi
DESCRIPTION:It's Getting Messi vs. Pink Panthers FCPlus d'info : #291
X-ALT-DESC;FMTTYPE=text/html:<!DOCTYPE HTML PUBLIC "-//W3C//DTD HTML 3.2//E
	N">\n<HTML>\n<HEAD>\n<TITLE></TITLE>\n</HEAD>\n<BODY>\n<h3>It's Getting Mes
	si vs. Pink Panthers FC</h3>Plus d'info : <a href="https://www.golnetwork.c
	om/game/v/69040/">#291</a>\n\n</BODY>\n</HTML>
STATUS:CONFIRMED
CLASS:PUBLIC
URL:https://www.golnetwork.com/game/v/69040/
X-MICROSOFT-CDO-BUSYSTATUS:BUSY
X-MICROSOFT-CDO-IMPORTANCE:1
END:VEVENT
BEGIN:VEVENT
UID:g7344@games.golnetwork.com
LOCATION:Cherry Beach West 2
CREATED:20150506T194710Z
DTSTART:20150614T210000Z
DTEND:20150614T220000Z
DTSTAMP:20260422T224540Z
SUMMARY:Shot In The Dark vs. XTSC Last Minutes
DESCRIPTION:XTSC Last Minutes vs. Shot In The DarkPlus d'info : #292
X-ALT-DESC;FMTTYPE=text/html:<!DOCTYPE HTML PUBLIC "-//W3C//DTD HTML 3.2//E
	N">\n<HTML>\n<HEAD>\n<TITLE></TITLE>\n</HEAD>\n<BODY>\n<h3>XTSC Last Minute
	s vs. Shot In The Dark</h3>Plus d'info : <a href="https://www.golnetwork.co
	m/game/v/69041/">#292</a>\n\n</BODY>\n</HTML>
STATUS:CONFIRMED
CLASS:PUBLIC
URL:https://www.golnetwork.com/game/v/69041/
X-MICROSOFT-CDO-BUSYSTATUS:BUSY
X-MICROSOFT-CDO-IMPORTANCE:1
END:VEVENT
BEGIN:VEVENT
UID:g7346@games.golnetwork.com
LOCATION:Cherry Beach West 1
CREATED:20150506T194725Z
DTSTART:20150614T220000Z
DTEND:20150614T230000Z
DTSTAMP:20260422T224540Z
SUMMARY:Cherry Street FC vs. BVB Honeybees
DESCRIPTION:BVB Honeybees vs. Cherry Street FCPlus d'info : #295
X-ALT-DESC;FMTTYPE=text/html:<!DOCTYPE HTML PUBLIC "-//W3C//DTD HTML 3.2//E
	N">\n<HTML>\n<HEAD>\n<TITLE></TITLE>\n</HEAD>\n<BODY>\n<h3>BVB Honeybees vs
	. Cherry Street FC</h3>Plus d'info : <a href="https://www.golnetwork.com/ga
	me/v/69042/">#295</a>\n\n</BODY>\n</HTML>
STATUS:CONFIRMED
CLASS:PUBLIC
URL:https://www.golnetwork.com/game/v/69042/
X-MICROSOFT-CDO-BUSYSTATUS:BUSY
X-MICROSOFT-CDO-IMPORTANCE:1
END:VEVENT
BEGIN:VEVENT
UID:g7348@games.golnetwork.com
LOCATION:Cherry Beach West 1
CREATED:20150506T194741Z
DTSTART:20150621T210000Z
DTEND:20150621T220000Z
DTSTAMP:20260422T224540Z
SUMMARY:XTSC Last Minutes vs. BVB Honeybees
DESCRIPTION:BVB Honeybees vs. XTSC Last MinutesPlus d'info : #346
X-ALT-DESC;FMTTYPE=text/html:<!DOCTYPE HTML PUBLIC "-//W3C//DTD HTML 3.2//E
	N">\n<HTML>\n<HEAD>\n<TITLE></TITLE>\n</HEAD>\n<BODY>\n<h3>BVB Honeybees vs
	. XTSC Last Minutes</h3>Plus d'info : <a href="https://www.golnetwork.com/g
	ame/v/69043/">#346</a>\n\n</BODY>\n</HTML>
STATUS:CONFIRMED
CLASS:PUBLIC
URL:https://www.golnetwork.com/game/v/69043/
X-MICROSOFT-CDO-BUSYSTATUS:BUSY
X-MICROSOFT-CDO-IMPORTANCE:1
END:VEVENT
BEGIN:VEVENT
UID:g734a@games.golnetwork.com
LOCATION:Cherry Beach West 1
CREATED:20150506T194750Z
DTSTART:20150621T220000Z
DTEND:20150621T230000Z
DTSTAMP:20260422T224540Z
SUMMARY:Shot In The Dark vs. Pink Panthers FC
DESCRIPTION:Pink Panthers FC vs. Shot In The DarkPlus d'info : #351
X-ALT-DESC;FMTTYPE=text/html:<!DOCTYPE HTML PUBLIC "-//W3C//DTD HTML 3.2//E
	N">\n<HTML>\n<HEAD>\n<TITLE></TITLE>\n</HEAD>\n<BODY>\n<h3>Pink Panthers FC
	 vs. Shot In The Dark</h3>Plus d'info : <a href="https://www.golnetwork.com
	/game/v/69044/">#351</a>\n\n</BODY>\n</HTML>
STATUS:CONFIRMED
CLASS:PUBLIC
URL:https://www.golnetwork.com/game/v/69044/
X-MICROSOFT-CDO-BUSYSTATUS:BUSY
X-MICROSOFT-CDO-IMPORTANCE:1
END:VEVENT
BEGIN:VEVENT
UID:g734c@games.golnetwork.com
LOCATION:Cherry Beach West 2
CREATED:20150506T194800Z
DTSTART:20150621T220000Z
DTEND:20150621T230000Z
DTSTAMP:20260422T224540Z
SUMMARY:Cherry Street FC vs. It's Getting Messi
DESCRIPTION:It's Getting Messi vs. Cherry Street FCPlus d'info : #352
X-ALT-DESC;FMTTYPE=text/html:<!DOCTYPE HTML PUBLIC "-//W3C//DTD HTML 3.2//E
	N">\n<HTML>\n<HEAD>\n<TITLE></TITLE>\n</HEAD>\n<BODY>\n<h3>It's Getting Mes
	si vs. Cherry Street FC</h3>Plus d'info : <a href="https://www.golnetwork.c
	om/game/v/69045/">#352</a>\n\n</BODY>\n</HTML>
STATUS:CONFIRMED
CLASS:PUBLIC
URL:https://www.golnetwork.com/game/v/69045/
X-MICROSOFT-CDO-BUSYSTATUS:BUSY
X-MICROSOFT-CDO-IMPORTANCE:1
END:VEVENT
BEGIN:VEVENT
UID:g734e@games.golnetwork.com
LOCATION:Cherry Beach West 1
CREATED:20150506T194825Z
DTSTART:20150705T210000Z
DTEND:20150705T220000Z
DTSTAMP:20260422T224540Z
SUMMARY:Cherry Street FC vs. Shot In The Dark
DESCRIPTION:Shot In The Dark vs. Cherry Street FCPlus d'info : #432
X-ALT-DESC;FMTTYPE=text/html:<!DOCTYPE HTML PUBLIC "-//W3C//DTD HTML 3.2//E
	N">\n<HTML>\n<HEAD>\n<TITLE></TITLE>\n</HEAD>\n<BODY>\n<h3>Shot In The Dark
	 vs. Cherry Street FC</h3>Plus d'info : <a href="https://www.golnetwork.com
	/game/v/69046/">#432</a>\n\n</BODY>\n</HTML>
STATUS:CONFIRMED
CLASS:PUBLIC
URL:https://www.golnetwork.com/game/v/69046/
X-MICROSOFT-CDO-BUSYSTATUS:BUSY
X-MICROSOFT-CDO-IMPORTANCE:1
END:VEVENT
BEGIN:VEVENT
UID:g734g@games.golnetwork.com
LOCATION:Cherry Beach West 2
CREATED:20150506T194844Z
DTSTART:20150705T210000Z
DTEND:20150705T220000Z
DTSTAMP:20260422T224540Z
SUMMARY:XTSC Last Minutes vs. Pink Panthers FC
DESCRIPTION:Pink Panthers FC vs. XTSC Last MinutesPlus d'info : #433
X-ALT-DESC;FMTTYPE=text/html:<!DOCTYPE HTML PUBLIC "-//W3C//DTD HTML 3.2//E
	N">\n<HTML>\n<HEAD>\n<TITLE></TITLE>\n</HEAD>\n<BODY>\n<h3>Pink Panthers FC
	 vs. XTSC Last Minutes</h3>Plus d'info : <a href="https://www.golnetwork.co
	m/game/v/69047/">#433</a>\n\n</BODY>\n</HTML>
STATUS:CONFIRMED
CLASS:PUBLIC
URL:https://www.golnetwork.com/game/v/69047/
X-MICROSOFT-CDO-BUSYSTATUS:BUSY
X-MICROSOFT-CDO-IMPORTANCE:1
END:VEVENT
BEGIN:VEVENT
UID:g734i@games.golnetwork.com
LOCATION:Cherry Beach West 1
CREATED:20150506T194858Z
DTSTART:20150705T220000Z
DTEND:20150705T230000Z
DTSTAMP:20260422T224540Z
SUMMARY:BVB Honeybees vs. It's Getting Messi
DESCRIPTION:It's Getting Messi vs. BVB HoneybeesPlus d'info : #436
X-ALT-DESC;FMTTYPE=text/html:<!DOCTYPE HTML PUBLIC "-//W3C//DTD HTML 3.2//E
	N">\n<HTML>\n<HEAD>\n<TITLE></TITLE>\n</HEAD>\n<BODY>\n<h3>It's Getting Mes
	si vs. BVB Honeybees</h3>Plus d'info : <a href="https://www.golnetwork.com/
	game/v/69048/">#436</a>\n\n</BODY>\n</HTML>
STATUS:CONFIRMED
CLASS:PUBLIC
URL:https://www.golnetwork.com/game/v/69048/
X-MICROSOFT-CDO-BUSYSTATUS:BUSY
X-MICROSOFT-CDO-IMPORTANCE:1
END:VEVENT
BEGIN:VEVENT
UID:g76lm@games.golnetwork.com
LOCATION:Cherry Beach West 1
CREATED:20150527T164927Z
DTSTART:20150712T210000Z
DTEND:20150712T220000Z
DTSTAMP:20260422T224540Z
SUMMARY:Pink Panthers FC vs. BVB Honeybees
DESCRIPTION:BVB Honeybees vs. Pink Panthers FCPlus d'info : #475
X-ALT-DESC;FMTTYPE=text/html:<!DOCTYPE HTML PUBLIC "-//W3C//DTD HTML 3.2//E
	N">\n<HTML>\n<HEAD>\n<TITLE></TITLE>\n</HEAD>\n<BODY>\n<h3>BVB Honeybees vs
	. Pink Panthers FC</h3>Plus d'info : <a href="https://www.golnetwork.com/ga
	me/v/70373/">#475</a>\n\n</BODY>\n</HTML>
STATUS:CONFIRMED
CLASS:PUBLIC
URL:https://www.golnetwork.com/game/v/70373/
X-MICROSOFT-CDO-BUSYSTATUS:BUSY
X-MICROSOFT-CDO-IMPORTANCE:1
END:VEVENT
BEGIN:VEVENT
UID:g76lo@games.golnetwork.com
LOCATION:Cherry Beach West 1
CREATED:20150527T164940Z
DTSTART:20150712T220000Z
DTEND:20150712T230000Z
DTSTAMP:20260422T224540Z
SUMMARY:It's Getting Messi vs. Shot In The Dark
DESCRIPTION:Shot In The Dark vs. It's Getting MessiPlus d'info : #478
X-ALT-DESC;FMTTYPE=text/html:<!DOCTYPE HTML PUBLIC "-//W3C//DTD HTML 3.2//E
	N">\n<HTML>\n<HEAD>\n<TITLE></TITLE>\n</HEAD>\n<BODY>\n<h3>Shot In The Dark
	 vs. It's Getting Messi</h3>Plus d'info : <a href="https://www.golnetwork.c
	om/game/v/70374/">#478</a>\n\n</BODY>\n</HTML>
STATUS:CONFIRMED
CLASS:PUBLIC
URL:https://www.golnetwork.com/game/v/70374/
X-MICROSOFT-CDO-BUSYSTATUS:BUSY
X-MICROSOFT-CDO-IMPORTANCE:1
END:VEVENT
BEGIN:VEVENT
UID:g76lq@games.golnetwork.com
LOCATION:Cherry Beach West 2
CREATED:20150527T164952Z
DTSTART:20150712T220000Z
DTEND:20150712T230000Z
DTSTAMP:20260422T224540Z
SUMMARY:XTSC Last Minutes vs. Cherry Street FC
DESCRIPTION:Cherry Street FC vs. XTSC Last MinutesPlus d'info : #479
X-ALT-DESC;FMTTYPE=text/html:<!DOCTYPE HTML PUBLIC "-//W3C//DTD HTML 3.2//E
	N">\n<HTML>\n<HEAD>\n<TITLE></TITLE>\n</HEAD>\n<BODY>\n<h3>Cherry Street FC
	 vs. XTSC Last Minutes</h3>Plus d'info : <a href="https://www.golnetwork.co
	m/game/v/70375/">#479</a>\n\n</BODY>\n</HTML>
STATUS:CONFIRMED
CLASS:PUBLIC
URL:https://www.golnetwork.com/game/v/70375/
X-MICROSOFT-CDO-BUSYSTATUS:BUSY
X-MICROSOFT-CDO-IMPORTANCE:1
END:VEVENT
BEGIN:VEVENT
UID:g76m1@games.golnetwork.com
LOCATION:Cherry Beach West 1
CREATED:20150527T165011Z
DTSTART:20150719T210000Z
DTEND:20150719T220000Z
DTSTAMP:20260422T224540Z
SUMMARY:It's Getting Messi vs. XTSC Last Minutes
DESCRIPTION:XTSC Last Minutes vs. It's Getting MessiPlus d'info : #490
X-ALT-DESC;FMTTYPE=text/html:<!DOCTYPE HTML PUBLIC "-//W3C//DTD HTML 3.2//E
	N">\n<HTML>\n<HEAD>\n<TITLE></TITLE>\n</HEAD>\n<BODY>\n<h3>XTSC Last Minute
	s vs. It's Getting Messi</h3>Plus d'info : <a href="https://www.golnetwork.
	com/game/v/70376/">#490</a>\n\n</BODY>\n</HTML>
STATUS:CONFIRMED
CLASS:PUBLIC
URL:https://www.golnetwork.com/game/v/70376/
X-MICROSOFT-CDO-BUSYSTATUS:BUSY
X-MICROSOFT-CDO-IMPORTANCE:1
END:VEVENT
BEGIN:VEVENT
UID:g76m3@games.golnetwork.com
LOCATION:Cherry Beach West 2
CREATED:20150527T165023Z
DTSTART:20150719T210000Z
DTEND:20150719T220000Z
DTSTAMP:20260422T224540Z
SUMMARY:Pink Panthers FC vs. Cherry Street FC
DESCRIPTION:Cherry Street FC vs. Pink Panthers FCPlus d'info : #491
X-ALT-DESC;FMTTYPE=text/html:<!DOCTYPE HTML PUBLIC "-//W3C//DTD HTML 3.2//E
	N">\n<HTML>\n<HEAD>\n<TITLE></TITLE>\n</HEAD>\n<BODY>\n<h3>Cherry Street FC
	 vs. Pink Panthers FC</h3>Plus d'info : <a href="https://www.golnetwork.com
	/game/v/70377/">#491</a>\n\n</BODY>\n</HTML>
STATUS:CONFIRMED
CLASS:PUBLIC
URL:https://www.golnetwork.com/game/v/70377/
X-MICROSOFT-CDO-BUSYSTATUS:BUSY
X-MICROSOFT-CDO-IMPORTANCE:1
END:VEVENT
BEGIN:VEVENT
UID:g76m5@games.golnetwork.com
LOCATION:Cherry Beach West 1
CREATED:20150527T165036Z
DTSTART:20150719T220000Z
DTEND:20150719T230000Z
DTSTAMP:20260422T224540Z
SUMMARY:BVB Honeybees vs. Shot In The Dark
DESCRIPTION:Shot In The Dark vs. BVB HoneybeesPlus d'info : #493
X-ALT-DESC;FMTTYPE=text/html:<!DOCTYPE HTML PUBLIC "-//W3C//DTD HTML 3.2//E
	N">\n<HTML>\n<HEAD>\n<TITLE></TITLE>\n</HEAD>\n<BODY>\n<h3>Shot In The Dark
	 vs. BVB Honeybees</h3>Plus d'info : <a href="https://www.golnetwork.com/ga
	me/v/70378/">#493</a>\n\n</BODY>\n</HTML>
STATUS:CONFIRMED
CLASS:PUBLIC
URL:https://www.golnetwork.com/game/v/70378/
X-MICROSOFT-CDO-BUSYSTATUS:BUSY
X-MICROSOFT-CDO-IMPORTANCE:1
END:VEVENT
BEGIN:VEVENT
UID:g76m7@games.golnetwork.com
LOCATION:Cherry Beach West 1
CREATED:20150527T165057Z
DTSTART:20150726T210000Z
DTEND:20150726T220000Z
DTSTAMP:20260422T224540Z
SUMMARY:Shot In The Dark vs. XTSC Last Minutes
DESCRIPTION:XTSC Last Minutes vs. Shot In The DarkPlus d'info : #496
X-ALT-DESC;FMTTYPE=text/html:<!DOCTYPE HTML PUBLIC "-//W3C//DTD HTML 3.2//E
	N">\n<HTML>\n<HEAD>\n<TITLE></TITLE>\n</HEAD>\n<BODY>\n<h3>XTSC Last Minute
	s vs. Shot In The Dark</h3>Plus d'info : <a href="https://www.golnetwork.co
	m/game/v/70379/">#496</a>\n\n</BODY>\n</HTML>
STATUS:CONFIRMED
CLASS:PUBLIC
URL:https://www.golnetwork.com/game/v/70379/
X-MICROSOFT-CDO-BUSYSTATUS:BUSY
X-MICROSOFT-CDO-IMPORTANCE:1
END:VEVENT
BEGIN:VEVENT
UID:g76m9@games.golnetwork.com
LOCATION:Cherry Beach West 1
CREATED:20150527T165109Z
DTSTART:20150726T220000Z
DTEND:20150726T230000Z
DTSTAMP:20260422T224540Z
SUMMARY:Cherry Street FC vs. BVB Honeybees
DESCRIPTION:BVB Honeybees vs. Cherry Street FCPlus d'info : #499
X-ALT-DESC;FMTTYPE=text/html:<!DOCTYPE HTML PUBLIC "-//W3C//DTD HTML 3.2//E
	N">\n<HTML>\n<HEAD>\n<TITLE></TITLE>\n</HEAD>\n<BODY>\n<h3>BVB Honeybees vs
	. Cherry Street FC</h3>Plus d'info : <a href="https://www.golnetwork.com/ga
	me/v/70380/">#499</a>\n\n</BODY>\n</HTML>
STATUS:CONFIRMED
CLASS:PUBLIC
URL:https://www.golnetwork.com/game/v/70380/
X-MICROSOFT-CDO-BUSYSTATUS:BUSY
X-MICROSOFT-CDO-IMPORTANCE:1
END:VEVENT
BEGIN:VEVENT
UID:g76mb@games.golnetwork.com
LOCATION:Cherry Beach West 2
CREATED:20150527T165120Z
DTSTART:20150726T220000Z
DTEND:20150726T230000Z
DTSTAMP:20260422T224540Z
SUMMARY:Pink Panthers FC vs. It's Getting Messi
DESCRIPTION:It's Getting Messi vs. Pink Panthers FCPlus d'info : #500
X-ALT-DESC;FMTTYPE=text/html:<!DOCTYPE HTML PUBLIC "-//W3C//DTD HTML 3.2//E
	N">\n<HTML>\n<HEAD>\n<TITLE></TITLE>\n</HEAD>\n<BODY>\n<h3>It's Getting Mes
	si vs. Pink Panthers FC</h3>Plus d'info : <a href="https://www.golnetwork.c
	om/game/v/70381/">#500</a>\n\n</BODY>\n</HTML>
STATUS:CONFIRMED
CLASS:PUBLIC
URL:https://www.golnetwork.com/game/v/70381/
X-MICROSOFT-CDO-BUSYSTATUS:BUSY
X-MICROSOFT-CDO-IMPORTANCE:1
END:VEVENT
BEGIN:VEVENT
UID:g7eh2@games.golnetwork.com
LOCATION:Cherry Beach West 1
CREATED:20150727T190736Z
DTSTART:20150809T220000Z
DTEND:20150809T230000Z
DTSTAMP:20260422T224540Z
SUMMARY:BVB Honeybees vs. It's Getting Messi
DESCRIPTION:It's Getting Messi vs. BVB HoneybeesPlus d'info : #505
X-ALT-DESC;FMTTYPE=text/html:<!DOCTYPE HTML PUBLIC "-//W3C//DTD HTML 3.2//E
	N">\n<HTML>\n<HEAD>\n<TITLE></TITLE>\n</HEAD>\n<BODY>\n<h3>It's Getting Mes
	si vs. BVB Honeybees</h3>Plus d'info : <a href="https://www.golnetwork.com/
	game/v/73225/">#505</a>\n\n</BODY>\n</HTML>
STATUS:CONFIRMED
CLASS:PUBLIC
URL:https://www.golnetwork.com/game/v/73225/
X-MICROSOFT-CDO-BUSYSTATUS:BUSY
X-MICROSOFT-CDO-IMPORTANCE:1
END:VEVENT
BEGIN:VEVENT
UID:g76mf@games.golnetwork.com
LOCATION:Cherry Beach West 1
CREATED:20150527T165147Z
DTSTART:20150816T210000Z
DTEND:20150816T220000Z
DTSTAMP:20260422T224540Z
SUMMARY:Shot In The Dark vs. It's Getting Messi
DESCRIPTION:It's Getting Messi vs. Shot In The DarkPlus d'info : #508
X-ALT-DESC;FMTTYPE=text/html:<!DOCTYPE HTML PUBLIC "-//W3C//DTD HTML 3.2//E
	N">\n<HTML>\n<HEAD>\n<TITLE></TITLE>\n</HEAD>\n<BODY>\n<h3>It's Getting Mes
	si vs. Shot In The Dark</h3>Plus d'info : <a href="https://www.golnetwork.c
	om/game/v/70383/">#508</a>\n\n</BODY>\n</HTML>
STATUS:CONFIRMED
CLASS:PUBLIC
URL:https://www.golnetwork.com/game/v/70383/
X-MICROSOFT-CDO-BUSYSTATUS:BUSY
X-MICROSOFT-CDO-IMPORTANCE:1
END:VEVENT
BEGIN:VEVENT
UID:g76mh@games.golnetwork.com
LOCATION:Cherry Beach West 2
CREATED:20150527T165154Z
DTSTART:20150816T220000Z
DTEND:20150816T230000Z
DTSTAMP:20260422T224540Z
SUMMARY:BVB Honeybees vs. XTSC Last Minutes
DESCRIPTION:XTSC Last Minutes vs. BVB HoneybeesPlus d'info : #512
X-ALT-DESC;FMTTYPE=text/html:<!DOCTYPE HTML PUBLIC "-//W3C//DTD HTML 3.2//E
	N">\n<HTML>\n<HEAD>\n<TITLE></TITLE>\n</HEAD>\n<BODY>\n<h3>XTSC Last Minute
	s vs. BVB Honeybees</h3>Plus d'info : <a href="https://www.golnetwork.com/g
	ame/v/70384/">#512</a>\n\n</BODY>\n</HTML>
STATUS:CONFIRMED
CLASS:PUBLIC
URL:https://www.golnetwork.com/game/v/70384/
X-MICROSOFT-CDO-BUSYSTATUS:BUSY
X-MICROSOFT-CDO-IMPORTANCE:1
END:VEVENT
END:VCALENDAR
