BEGIN:VCALENDAR
PRODID:-//gdesolutions.com//MV Framework 1.0.0.1607 Calendar//EN
VERSION:2.0
METHOD:PUBLISH
CALSCALE:GREGORIAN
BEGIN:VEVENT
UID:g71l9@games.golnetwork.com
LOCATION:Lamport Stadium - Field 3
GEO:43.6390028;-79.4232104
CREATED:20150427T190211Z
DTSTART:20150705T220000Z
DTEND:20150705T230000Z
DTSTAMP:20260424T075050Z
SUMMARY: Atlético Español  vs. Las Vacas
DESCRIPTION:Las Vacas vs.  Atlético Español Plus d'info : #440
X-ALT-DESC;FMTTYPE=text/html:<!DOCTYPE HTML PUBLIC "-//W3C//DTD HTML 3.2//E
	N">\n<HTML>\n<HEAD>\n<TITLE></TITLE>\n</HEAD>\n<BODY>\n<h3>Las Vacas vs.  A
	tlético Español </h3>Plus d'info : <a href="https://www.golnetwork.com/ga
	me/v/68544/">#440</a>\n\n</BODY>\n</HTML>
STATUS:CONFIRMED
CLASS:PUBLIC
URL:https://www.golnetwork.com/game/v/68544/
X-MICROSOFT-CDO-BUSYSTATUS:BUSY
X-MICROSOFT-CDO-IMPORTANCE:1
END:VEVENT
BEGIN:VEVENT
UID:g71lb@games.golnetwork.com
LOCATION:Lamport Stadium - Field 3
GEO:43.6390028;-79.4232104
CREATED:20150427T190211Z
DTSTART:20150705T230000Z
DTEND:20150706T000000Z
DTSTAMP:20260424T075050Z
SUMMARY:FC Murricane vs. Magos
DESCRIPTION:Magos vs. FC MurricanePlus d'info : #443
X-ALT-DESC;FMTTYPE=text/html:<!DOCTYPE HTML PUBLIC "-//W3C//DTD HTML 3.2//E
	N">\n<HTML>\n<HEAD>\n<TITLE></TITLE>\n</HEAD>\n<BODY>\n<h3>Magos vs. FC Mur
	ricane</h3>Plus d'info : <a href="https://www.golnetwork.com/game/v/68545/"
	>#443</a>\n\n</BODY>\n</HTML>
STATUS:CONFIRMED
CLASS:PUBLIC
URL:https://www.golnetwork.com/game/v/68545/
X-MICROSOFT-CDO-BUSYSTATUS:BUSY
X-MICROSOFT-CDO-IMPORTANCE:1
END:VEVENT
BEGIN:VEVENT
UID:g71ld@games.golnetwork.com
LOCATION:Lamport Stadium - Field 3
GEO:43.6390028;-79.4232104
CREATED:20150427T190211Z
DTSTART:20150713T010000Z
DTEND:20150713T020000Z
DTSTAMP:20260424T075050Z
SUMMARY:FC Murricane vs. Las Vacas
DESCRIPTION:Las Vacas vs. FC MurricanePlus d'info : #487
X-ALT-DESC;FMTTYPE=text/html:<!DOCTYPE HTML PUBLIC "-//W3C//DTD HTML 3.2//E
	N">\n<HTML>\n<HEAD>\n<TITLE></TITLE>\n</HEAD>\n<BODY>\n<h3>Las Vacas vs. FC
	 Murricane</h3>Plus d'info : <a href="https://www.golnetwork.com/game/v/685
	46/">#487</a>\n\n</BODY>\n</HTML>
STATUS:CONFIRMED
CLASS:PUBLIC
URL:https://www.golnetwork.com/game/v/68546/
X-MICROSOFT-CDO-BUSYSTATUS:BUSY
X-MICROSOFT-CDO-IMPORTANCE:1
END:VEVENT
END:VCALENDAR
