BEGIN:VCALENDAR
PRODID:-//gdesolutions.com//MV Framework 1.0.0.1607 Calendar//EN
VERSION:2.0
METHOD:PUBLISH
CALSCALE:GREGORIAN
BEGIN:VEVENT
UID:g7f77@games.golnetwork.com
LOCATION:McCarthy Park Field #2
GEO:45.3518541;-75.6719009
CREATED:20150803T234538Z
DTSTART:20150806T224500Z
DTEND:20150807T001500Z
DTSTAMP:20260424T052610Z
SUMMARY:Missile-toe vs. Foot Loose FC
DESCRIPTION:Foot Loose FC vs. Missile-toePlus d'info : #148
X-ALT-DESC;FMTTYPE=text/html:<!DOCTYPE HTML PUBLIC "-//W3C//DTD HTML 3.2//E
	N">\n<HTML>\n<HEAD>\n<TITLE></TITLE>\n</HEAD>\n<BODY>\n<h3>Foot Loose FC vs
	. Missile-toe</h3>Plus d'info : <a href="https://www.golnetwork.com/game/v/
	73457/">#148</a>\n\n</BODY>\n</HTML>
STATUS:CONFIRMED
CLASS:PUBLIC
URL:https://www.golnetwork.com/game/v/73457/
X-MICROSOFT-CDO-BUSYSTATUS:BUSY
X-MICROSOFT-CDO-IMPORTANCE:1
END:VEVENT
BEGIN:VEVENT
UID:g7f7b@games.golnetwork.com
LOCATION:Lester B Pearson Field #3
GEO:45.4433016;-75.5957775
CREATED:20150803T234621Z
DTSTART:20150806T224500Z
DTEND:20150807T001500Z
DTSTAMP:20260424T052610Z
SUMMARY:One Kick Wonders FC vs. Manchesthair United
DESCRIPTION:Manchesthair United vs. One Kick Wonders FCPlus d'info : #154
X-ALT-DESC;FMTTYPE=text/html:<!DOCTYPE HTML PUBLIC "-//W3C//DTD HTML 3.2//E
	N">\n<HTML>\n<HEAD>\n<TITLE></TITLE>\n</HEAD>\n<BODY>\n<h3>Manchesthair Uni
	ted vs. One Kick Wonders FC</h3>Plus d'info : <a href="https://www.golnetwo
	rk.com/game/v/73459/">#154</a>\n\n</BODY>\n</HTML>
STATUS:CONFIRMED
CLASS:PUBLIC
URL:https://www.golnetwork.com/game/v/73459/
X-MICROSOFT-CDO-BUSYSTATUS:BUSY
X-MICROSOFT-CDO-IMPORTANCE:1
END:VEVENT
BEGIN:VEVENT
UID:g7f79@games.golnetwork.com
LOCATION:Louis Riel #1
GEO:45.4410208;-75.5715394
CREATED:20150803T234604Z
DTSTART:20150807T000000Z
DTEND:20150807T013000Z
DTSTAMP:20260424T052610Z
SUMMARY:Team Doug vs. Arsenanal FC
DESCRIPTION:Arsenanal FC vs. Team DougPlus d'info : #155
X-ALT-DESC;FMTTYPE=text/html:<!DOCTYPE HTML PUBLIC "-//W3C//DTD HTML 3.2//E
	N">\n<HTML>\n<HEAD>\n<TITLE></TITLE>\n</HEAD>\n<BODY>\n<h3>Arsenanal FC vs.
	 Team Doug</h3>Plus d'info : <a href="https://www.golnetwork.com/game/v/734
	58/">#155</a>\n\n</BODY>\n</HTML>
STATUS:CONFIRMED
CLASS:PUBLIC
URL:https://www.golnetwork.com/game/v/73458/
X-MICROSOFT-CDO-BUSYSTATUS:BUSY
X-MICROSOFT-CDO-IMPORTANCE:1
END:VEVENT
BEGIN:VEVENT
UID:g7f75@games.golnetwork.com
LOCATION:Louis Riel #3
GEO:45.4410208;-75.5715394
CREATED:20150803T234513Z
DTSTART:20150807T000000Z
DTEND:20150807T013000Z
DTSTAMP:20260424T052610Z
SUMMARY:Rec Individuals 1 vs. Cornerstone FC
DESCRIPTION:Cornerstone FC vs. Rec Individuals 1Plus d'info : #157
X-ALT-DESC;FMTTYPE=text/html:<!DOCTYPE HTML PUBLIC "-//W3C//DTD HTML 3.2//E
	N">\n<HTML>\n<HEAD>\n<TITLE></TITLE>\n</HEAD>\n<BODY>\n<h3>Cornerstone FC v
	s. Rec Individuals 1</h3>Plus d'info : <a href="https://www.golnetwork.com/
	game/v/73456/">#157</a>\n\n</BODY>\n</HTML>
STATUS:CONFIRMED
CLASS:PUBLIC
URL:https://www.golnetwork.com/game/v/73456/
X-MICROSOFT-CDO-BUSYSTATUS:BUSY
X-MICROSOFT-CDO-IMPORTANCE:1
END:VEVENT
BEGIN:VEVENT
UID:g7f91@games.golnetwork.com
LOCATION:McCarthy Park Field #1
GEO:45.3518541;-75.6719009
CREATED:20150808T222722Z
DTSTART:20150813T224500Z
DTEND:20150814T001500Z
DTSTAMP:20260424T052610Z
SUMMARY:Picante Pelotas vs. Missile-toe
DESCRIPTION:Missile-toe vs. Picante PelotasPlus d'info : #164
X-ALT-DESC;FMTTYPE=text/html:<!DOCTYPE HTML PUBLIC "-//W3C//DTD HTML 3.2//E
	N">\n<HTML>\n<HEAD>\n<TITLE></TITLE>\n</HEAD>\n<BODY>\n<h3>Missile-toe vs. 
	Picante Pelotas</h3>Plus d'info : <a href="https://www.golnetwork.com/game/
	v/73481/">#164</a>\n\n</BODY>\n</HTML>
STATUS:CONFIRMED
CLASS:PUBLIC
URL:https://www.golnetwork.com/game/v/73481/
X-MICROSOFT-CDO-BUSYSTATUS:BUSY
X-MICROSOFT-CDO-IMPORTANCE:1
END:VEVENT
BEGIN:VEVENT
UID:g7f93@games.golnetwork.com
LOCATION:McCarthy Park Field #2
GEO:45.3518541;-75.6719009
CREATED:20150808T222744Z
DTSTART:20150813T224500Z
DTEND:20150814T001500Z
DTSTAMP:20260424T052610Z
SUMMARY:Team Doug vs. Hooligans United
DESCRIPTION:Hooligans United vs. Team DougPlus d'info : #165
X-ALT-DESC;FMTTYPE=text/html:<!DOCTYPE HTML PUBLIC "-//W3C//DTD HTML 3.2//E
	N">\n<HTML>\n<HEAD>\n<TITLE></TITLE>\n</HEAD>\n<BODY>\n<h3>Hooligans United
	 vs. Team Doug</h3>Plus d'info : <a href="https://www.golnetwork.com/game/v
	/73482/">#165</a>\n\n</BODY>\n</HTML>
STATUS:CONFIRMED
CLASS:PUBLIC
URL:https://www.golnetwork.com/game/v/73482/
X-MICROSOFT-CDO-BUSYSTATUS:BUSY
X-MICROSOFT-CDO-IMPORTANCE:1
END:VEVENT
BEGIN:VEVENT
UID:g7f95@games.golnetwork.com
LOCATION:McCarthy Park Field #5
GEO:45.3517739;-75.6718247
CREATED:20150808T222803Z
DTSTART:20150813T224500Z
DTEND:20150814T001500Z
DTSTAMP:20260424T052610Z
SUMMARY:Manchesthair United vs. Rec Individuals 1
DESCRIPTION:Rec Individuals 1 vs. Manchesthair UnitedPlus d'info : #168
X-ALT-DESC;FMTTYPE=text/html:<!DOCTYPE HTML PUBLIC "-//W3C//DTD HTML 3.2//E
	N">\n<HTML>\n<HEAD>\n<TITLE></TITLE>\n</HEAD>\n<BODY>\n<h3>Rec Individuals 
	1 vs. Manchesthair United</h3>Plus d'info : <a href="https://www.golnetwork
	.com/game/v/73483/">#168</a>\n\n</BODY>\n</HTML>
STATUS:CONFIRMED
CLASS:PUBLIC
URL:https://www.golnetwork.com/game/v/73483/
X-MICROSOFT-CDO-BUSYSTATUS:BUSY
X-MICROSOFT-CDO-IMPORTANCE:1
END:VEVENT
BEGIN:VEVENT
UID:g7f8q@games.golnetwork.com
LOCATION:Lester B. Pearson Field 1
GEO:45.4429892;-75.5963901
CREATED:20150808T222653Z
DTSTART:20150813T224500Z
DTEND:20150814T001500Z
DTSTAMP:20260424T052610Z
SUMMARY:Arsenanal FC vs. Foot Loose FC
DESCRIPTION:Foot Loose FC vs. Arsenanal FCPlus d'info : #169
X-ALT-DESC;FMTTYPE=text/html:<!DOCTYPE HTML PUBLIC "-//W3C//DTD HTML 3.2//E
	N">\n<HTML>\n<HEAD>\n<TITLE></TITLE>\n</HEAD>\n<BODY>\n<h3>Foot Loose FC vs
	. Arsenanal FC</h3>Plus d'info : <a href="https://www.golnetwork.com/game/v
	/73480/">#169</a>\n\n</BODY>\n</HTML>
STATUS:CONFIRMED
CLASS:PUBLIC
URL:https://www.golnetwork.com/game/v/73480/
X-MICROSOFT-CDO-BUSYSTATUS:BUSY
X-MICROSOFT-CDO-IMPORTANCE:1
END:VEVENT
BEGIN:VEVENT
UID:g7fa4@games.golnetwork.com
LOCATION:Louis Riel #1
GEO:45.4410208;-75.5715394
CREATED:20150809T180638Z
DTSTART:20150814T000000Z
DTEND:20150814T013000Z
DTSTAMP:20260424T052610Z
SUMMARY:One Kick Wonders FC vs. Cornerstone FC
DESCRIPTION:Cornerstone FC vs. One Kick Wonders FCPlus d'info : #170
X-ALT-DESC;FMTTYPE=text/html:<!DOCTYPE HTML PUBLIC "-//W3C//DTD HTML 3.2//E
	N">\n<HTML>\n<HEAD>\n<TITLE></TITLE>\n</HEAD>\n<BODY>\n<h3>Cornerstone FC v
	s. One Kick Wonders FC</h3>Plus d'info : <a href="https://www.golnetwork.co
	m/game/v/73496/">#170</a>\n\n</BODY>\n</HTML>
STATUS:CONFIRMED
CLASS:PUBLIC
URL:https://www.golnetwork.com/game/v/73496/
X-MICROSOFT-CDO-BUSYSTATUS:BUSY
X-MICROSOFT-CDO-IMPORTANCE:1
END:VEVENT
BEGIN:VEVENT
UID:g7gid@games.golnetwork.com
LOCATION:Louis Riel #1
GEO:45.4410208;-75.5715394
CREATED:20150817T175558Z
DTSTART:20150820T223000Z
DTEND:20150821T000000Z
DTSTAMP:20260424T052610Z
SUMMARY:Arsenanal FC vs. One Kick Wonders FC
DESCRIPTION:One Kick Wonders FC vs. Arsenanal FCPlus d'info : #176
X-ALT-DESC;FMTTYPE=text/html:<!DOCTYPE HTML PUBLIC "-//W3C//DTD HTML 3.2//E
	N">\n<HTML>\n<HEAD>\n<TITLE></TITLE>\n</HEAD>\n<BODY>\n<h3>One Kick Wonders
	 FC vs. Arsenanal FC</h3>Plus d'info : <a href="https://www.golnetwork.com/
	game/v/73973/">#176</a>\n\n</BODY>\n</HTML>
STATUS:CONFIRMED
CLASS:PUBLIC
URL:https://www.golnetwork.com/game/v/73973/
X-MICROSOFT-CDO-BUSYSTATUS:BUSY
X-MICROSOFT-CDO-IMPORTANCE:1
END:VEVENT
BEGIN:VEVENT
UID:g7gif@games.golnetwork.com
LOCATION:McCarthy Park Field #1
GEO:45.3518541;-75.6719009
CREATED:20150817T175721Z
DTSTART:20150820T224500Z
DTEND:20150821T001500Z
DTSTAMP:20260424T052610Z
SUMMARY:Rec Individuals 1 vs. Hooligans United
DESCRIPTION:Hooligans United vs. Rec Individuals 1Plus d'info : #179
X-ALT-DESC;FMTTYPE=text/html:<!DOCTYPE HTML PUBLIC "-//W3C//DTD HTML 3.2//E
	N">\n<HTML>\n<HEAD>\n<TITLE></TITLE>\n</HEAD>\n<BODY>\n<h3>Hooligans United
	 vs. Rec Individuals 1</h3>Plus d'info : <a href="https://www.golnetwork.co
	m/game/v/73974/">#179</a>\n\n</BODY>\n</HTML>
STATUS:CONFIRMED
CLASS:PUBLIC
URL:https://www.golnetwork.com/game/v/73974/
X-MICROSOFT-CDO-BUSYSTATUS:BUSY
X-MICROSOFT-CDO-IMPORTANCE:1
END:VEVENT
BEGIN:VEVENT
UID:g7gib@games.golnetwork.com
LOCATION:McCarthy Park Field #4
GEO:45.3518541;-75.6719009
CREATED:20150817T175541Z
DTSTART:20150820T224500Z
DTEND:20150821T001500Z
DTSTAMP:20260424T052610Z
SUMMARY:Team Doug vs. Missile-toe
DESCRIPTION:Missile-toe vs. Team DougPlus d'info : #182
X-ALT-DESC;FMTTYPE=text/html:<!DOCTYPE HTML PUBLIC "-//W3C//DTD HTML 3.2//E
	N">\n<HTML>\n<HEAD>\n<TITLE></TITLE>\n</HEAD>\n<BODY>\n<h3>Missile-toe vs. 
	Team Doug</h3>Plus d'info : <a href="https://www.golnetwork.com/game/v/7397
	2/">#182</a>\n\n</BODY>\n</HTML>
STATUS:CONFIRMED
CLASS:PUBLIC
URL:https://www.golnetwork.com/game/v/73972/
X-MICROSOFT-CDO-BUSYSTATUS:BUSY
X-MICROSOFT-CDO-IMPORTANCE:1
END:VEVENT
BEGIN:VEVENT
UID:g7gi9@games.golnetwork.com
LOCATION:Louis Riel #1
GEO:45.4410208;-75.5715394
CREATED:20150817T175514Z
DTSTART:20150821T000000Z
DTEND:20150821T013000Z
DTSTAMP:20260424T052610Z
SUMMARY:Foot Loose FC vs. Cornerstone FC
DESCRIPTION:Cornerstone FC vs. Foot Loose FCPlus d'info : #186
X-ALT-DESC;FMTTYPE=text/html:<!DOCTYPE HTML PUBLIC "-//W3C//DTD HTML 3.2//E
	N">\n<HTML>\n<HEAD>\n<TITLE></TITLE>\n</HEAD>\n<BODY>\n<h3>Cornerstone FC v
	s. Foot Loose FC</h3>Plus d'info : <a href="https://www.golnetwork.com/game
	/v/73971/">#186</a>\n\n</BODY>\n</HTML>
STATUS:CONFIRMED
CLASS:PUBLIC
URL:https://www.golnetwork.com/game/v/73971/
X-MICROSOFT-CDO-BUSYSTATUS:BUSY
X-MICROSOFT-CDO-IMPORTANCE:1
END:VEVENT
END:VCALENDAR
